{"text_format":"1","workbook":"xlsx","n_sheets":2,"sheets":["allgemein","Export"],"not_rendered":{"charts":0,"images":4,"macros":1,"external_links":0,"defined_names":2,"comments":1,"pivot_tables":0},"unopened":[],"bounds":{"document_bytes":16777216,"sheet_cells":100000,"rows_first":2000,"rows_last":500,"rows_between":2000,"halvings":0,"cell_chars":16384,"cell_head_chars":4096},"cells_cut":0,"cells_raw":0,"read":"whole","date_system":"1900"}

{"sheet":"allgemein","index":0,"n_rows":237,"n_cols":21,"rows_kept":237,"cut":false,"hidden":false,"merged":[[4,16,4,17],[15,16,15,19],[7,8,7,11],[3,5,3,6],[4,5,4,6],[5,5,5,6],[6,5,6,6],[7,5,7,6],[3,8,3,11],[4,8,4,11],[5,8,5,11],[6,8,6,11],[15,12,15,15],[9,13,9,18],[10,13,10,18],[3,3,3,4],[4,3,4,4],[5,3,5,4],[6,3,6,4],[7,3,7,4],[9,3,12,3],[15,7,15,11],[11,5,11,6],[12,5,12,6],[9,5,9,6],[10,5,10,6],[15,5,15,6],[9,8,9,11],[10,8,10,11],[11,8,11,11],[12,8,12,11]]}
["Drehbar","DrehbarHomag","Plakb","Elnr","Aufpos","leer","Stärke","Teilbez","Stück","Zuslänge","Zusbreite","leer","Kantevkb","Kantehkb","Kantelkb","Kanterkb","Notiz","ZusInfo","TInfo1","TInfo2","LI"]
[null,null,null,null,null,null,null,null,null,null,null,null,null,null,null,null,null,null,null,null,"DD"]
[null,null,null,null,null,null,null,null,null,null,null,null,null,null,null,null,null,null,null,null,"SB"]
[null,null,null,"Auswahl:",null,"    Anfrage                   Auftrag *",null,"Lieferadresse:",null,null,null,null,null,null,null,null,null,null,null,null,"BE"]
[null,null,null,"Firma:",null,null,null,"(bzw. Vermerk Selbstabholung)",null,null,null,null,null,null,null,null,"Standortauswahl um Teileliste zu versenden"]
[null,null,null,"Anschrift:",null,null,null,"Liefertermin:"]
[null,null,null,"Telefon:",null,null,null,"Datum:"]
[null,null,null,"Kunden.Nr.:",null,null,null,"Objekt/Projekt:"]
[]
[null,null,null,"Kantenart",1,null,null,5,null,null,null,null,null,"Maserrichtung (Länge) = vorne u. hinten"]
[null,null,null,null,2,null,null,6,null,null,null,null,null,"Quer zur Maser (Breite) = links u. rechts"]
[null,null,null,null,3,null,null,7]
[null,null,null,null,4,null,null,8]
[]
[null,null,null,"Version 4.2",null,"* Auftrag auf Basis unserer AGB"]
[null,null,null,null,null,"Material",null,"Zuschnitt (Maße inkl. Kante in mm)",null,null,null,null,"Bekantung",null,null,null,"Kundenspezifische Felder"]
["Panhans","Homag","Materialbezeichnung/ Art.-Nr. + Stärke","Elem.Nr.","Pos.Nr.","Materialbezeichnung/ Art.-Nr.","Stärke","Teilebezeichnung","Stück","Länge","Breite","Drehb.","V","H","L","R","Notiz","Teile-Nr.","Barcode (Code128)","Barcode 2 (Code128)"]
[{"$f":"IF(L18<>0,1,0)","v":0},{"$f":"IF(L18<>0,0,1)","v":1},{"$f":"CONCATENATE(F18,\" \",G18)","v":" "},1]
[{"$f":"IF(L19<>0,1,0)","v":0},{"$f":"IF(L19<>0,0,1)","v":1},{"$f":"CONCATENATE(F19,\" \",G19)","v":" "},2]
[0,1," ",3]
[0,1," ",4]
[0,1," ",5]
[0,1," ",6]
[0,1," ",7]
[0,1," ",8]
[0,1," ",9]
[0,1," ",10]
[0,1," ",11]
[0,1," ",12]
[0,1," ",13]
[0,1," ",14]
[0,1," ",15]
[0,1," ",16]
[0,1," ",17]
[0,1," ",18]
[0,1," ",19]
[0,1," ",20]
[0,1," ",21]
[0,1," ",22]
[0,1," ",23]
[0,1," ",24]
[0,1," ",25]
[0,1," ",26]
[0,1," ",27]
[0,1," ",28]
[0,1," ",29]
[0,1," ",30]
[0,1," ",31]
[0,1," ",32]
[0,1," ",33]
[0,1," ",34]
[0,1," ",35]
[0,1," ",36]
[0,1," ",37]
[0,1," ",38]
[0,1," ",39]
[0,1," ",40]
[0,1," ",41]
[0,1," ",42]
[0,1," ",43]
[0,1," ",44]
[0,1," ",45]
[0,1," ",46]
[0,1," ",47]
[0,1," ",48]
[0,1," ",49]
[0,1," ",50]
[0,1," ",51]
[0,1," ",52]
[0,1," ",53]
[0,1," ",54]
[0,1," ",55]
[0,1," ",56]
[0,1," ",57]
[0,1," ",58]
[0,1," ",59]
[0,1," ",60]
[0,1," ",61]
[0,1," ",62]
[0,1," ",63]
[0,1," ",64]
[0,1," ",65]
[{"$f":"IF(L83<>0,1,0)","v":0},{"$f":"IF(L83<>0,0,1)","v":1},{"$f":"CONCATENATE(F83,\" \",G83)","v":" "},66]
[0,1," ",67]
[0,1," ",68]
[0,1," ",69]
[0,1," ",70]
[0,1," ",71]
[0,1," ",72]
[0,1," ",73]
[0,1," ",74]
[0,1," ",75]
[0,1," ",76]
[0,1," ",77]
[0,1," ",78]
[0,1," ",79]
[0,1," ",80]
[0,1," ",81]
[0,1," ",82]
[0,1," ",83]
[0,1," ",84]
[0,1," ",85]
[0,1," ",86]
[0,1," ",87]
[0,1," ",88]
[0,1," ",89]
[0,1," ",90]
[0,1," ",91]
[0,1," ",92]
[0,1," ",93]
[0,1," ",94]
[0,1," ",95]
[0,1," ",96]
[0,1," ",97]
[0,1," ",98]
[0,1," ",99]
[0,1," ",100]
[0,1," ",101]
[0,1," ",102]
[0,1," ",103]
[0,1," ",104]
[0,1," ",105]
[0,1," ",106]
[0,1," ",107]
[0,1," ",108]
[0,1," ",109]
[0,1," ",110]
[0,1," ",111]
[0,1," ",112]
[0,1," ",113]
[0,1," ",114]
[0,1," ",115]
[0,1," ",116]
[0,1," ",117]
[0,1," ",118]
[0,1," ",119]
[0,1," ",120]
[0,1," ",121]
[0,1," ",122]
[0,1," ",123]
[0,1," ",124]
[0,1," ",125]
[0,1," ",126]
[0,1," ",127]
[0,1," ",128]
[0,1," ",129]
[{"$f":"IF(L147<>0,1,0)","v":0},{"$f":"IF(L147<>0,0,1)","v":1},{"$f":"CONCATENATE(F147,\" \",G147)","v":" "},130]
[0,1," ",131]
[0,1," ",132]
[0,1," ",133]
[0,1," ",134]
[0,1," ",135]
[0,1," ",136]
[0,1," ",137]
[0,1," ",138]
[0,1," ",139]
[0,1," ",140]
[0,1," ",141]
[0,1," ",142]
[0,1," ",143]
[0,1," ",144]
[0,1," ",145]
[0,1," ",146]
[0,1," ",147]
[0,1," ",148]
[0,1," ",149]
[0,1," ",150]
[0,1," ",151]
[0,1," ",152]
[0,1," ",153]
[0,1," ",154]
[0,1," ",155]
[0,1," ",156]
[0,1," ",157]
[0,1," ",158]
[0,1," ",159]
[0,1," ",160]
[0,1," ",161]
[0,1," ",162]
[0,1," ",163]
[0,1," ",164]
[0,1," ",165]
[0,1," ",166]
[0,1," ",167]
[0,1," ",168]
[0,1," ",169]
[0,1," ",170]
[0,1," ",171]
[0,1," ",172]
[0,1," ",173]
[0,1," ",174]
[0,1," ",175]
[0,1," ",176]
[0,1," ",177]
[0,1," ",178]
[0,1," ",179]
[0,1," ",180]
[0,1," ",181]
[0,1," ",182]
[0,1," ",183]
[0,1," ",184]
[0,1," ",185]
[0,1," ",186]
[0,1," ",187]
[0,1," ",188]
[0,1," ",189]
[0,1," ",190]
[0,1," ",191]
[0,1," ",192]
[0,1," ",193]
[{"$f":"IF(L211<>0,1,0)","v":0},{"$f":"IF(L211<>0,0,1)","v":1},{"$f":"CONCATENATE(F211,\" \",G211)","v":" "},194]
[0,1," ",195]
[0,1," ",196]
[0,1," ",197]
[0,1," ",198]
[0,1," ",199]
[0,1," ",200]
[0,1," ",201]
[0,1," ",202]
[0,1," ",203]
[0,1," ",204]
[0,1," ",205]
[0,1," ",206]
[0,1," ",207]
[0,1," ",208]
[0,1," ",209]
[0,1," ",210]
[0,1," ",211]
[0,1," ",212]
[0,1," ",213]
[0,1," ",214]
[0,1," ",215]
[0,1," ",216]
[0,1," ",217]
[0,1," ",218]
[0,1," ",219]
[0,1," ",220]

{"sheet":"Export","index":1,"n_rows":251,"n_cols":16,"rows_kept":251,"cut":false,"hidden":true,"merged":[]}
["Elem.Nr.","Pos.Nr.","Material","Teilebezeichnung","Stück","Länge","Breite","Maserung","V","H","L","R","Notiz","ID Kunde","Barcode Kunde","Barcode 2 Kunde"]
[{"$f":"IF(ISBLANK(allgemein!D18),\"\",allgemein!D18)","v":1},{"$f":"IF(ISBLANK(allgemein!E18),\"\",allgemein!E18)","v":""},{"$f":"IF(ISBLANK(allgemein!C18),\"\",allgemein!C18)","v":" "},{"$f":"IF(ISBLANK(allgemein!H18),\"\",allgemein!H18)","v":""},{"$f":"IF(ISBLANK(allgemein!I18),\"\",allgemein!I18)","v":""},{"$f":"IF(ISBLANK(allgemein!J18),\"\",allgemein!J18)","v":""},{"$f":"IF(ISBLANK(allgemein!K18),\"\",allgemein!K18)","v":""},{"$f":"IF(ISBLANK(allgemein!F18),\"\",IF(ISBLANK(allgemein!L18),1,0))","v":""},{"$f":"_xlfn.SWITCH(allgemein!M18,1,IF(ISBLANK(allgemein!$F$10),allgemein!M18,allgemein!$F$10),2,IF(ISBLANK(allgemein!$F$11),allgemein!M18,allgemein!$F$11),3,IF(ISBLANK(allgemein!$F$12),allgemein!M18,allgemein!$F$12),4,IF(ISBLANK(allgemein!$F$13),allgemein!M18,allgemein!$F$13),5,IF(ISBLANK(allgemein!$I$10),allgemein!M18,allgemein!$I$10),6,IF(ISBLANK(allgemein!$I$11),allgemein!M18,allgemein!$I$11),7,IF(ISBLANK(allgemein!$I$12),allgemein!M18,allgemein!$I$12),8,IF(ISBLANK(allgemein!$I$13),allgemein!M18,allgemein!$I$13),IF(ISBLANK(allgemein!M18),\"\",allgemein!M18))","v":{"$error":"#NAME?"}},{"$f":"_xlfn.SWITCH(allgemein!N18,1,IF(ISBLANK(allgemein!$F$10),allgemein!N18,allgemein!$F$10),2,IF(ISBLANK(allgemein!$F$11),allgemein!N18,allgemein!$F$11),3,IF(ISBLANK(allgemein!$F$12),allgemein!N18,allgemein!$F$12),4,IF(ISBLANK(allgemein!$F$13),allgemein!N18,allgemein!$F$13),5,IF(ISBLANK(allgemein!$I$10),allgemein!N18,allgemein!$I$10),6,IF(ISBLANK(allgemein!$I$11),allgemein!N18,allgemein!$I$11),7,IF(ISBLANK(allgemein!$I$12),allgemein!N18,allgemein!$I$12),8,IF(ISBLANK(allgemein!$I$13),allgemein!N18,allgemein!$I$13),IF(ISBLANK(allgemein!N18),\"\",allgemein!N18))","v":{"$error":"#NAME?"}},{"$f":"_xlfn.SWITCH(allgemein!O18,1,IF(ISBLANK(allgemein!$F$10),allgemein!O18,allgemein!$F$10),2,IF(ISBLANK(allgemein!$F$11),allgemein!O18,allgemein!$F$11),3,IF(ISBLANK(allgemein!$F$12),allgemein!O18,allgemein!$F$12),4,IF(ISBLANK(allgemein!$F$13),allgemein!O18,allgemein!$F$13),5,IF(ISBLANK(allgemein!$I$10),allgemein!O18,allgemein!$I$10),6,IF(ISBLANK(allgemein!$I$11),allgemein!O18,allgemein!$I$11),7,IF(ISBLANK(allgemein!$I$12),allgemein!O18,allgemein!$I$12),8,IF(ISBLANK(allgemein!$I$13),allgemein!O18,allgemein!$I$13),IF(ISBLANK(allgemein!O18),\"\",allgemein!O18))","v":{"$error":"#NAME?"}},{"$f":"_xlfn.SWITCH(allgemein!P18,1,IF(ISBLANK(allgemein!$F$10),allgemein!P18,allgemein!$F$10),2,IF(ISBLANK(allgemein!$F$11),allgemein!P18,allgemein!$F$11),3,IF(ISBLANK(allgemein!$F$12),allgemein!P18,allgemein!$F$12),4,IF(ISBLANK(allgemein!$F$13),allgemein!P18,allgemein!$F$13),5,IF(ISBLANK(allgemein!$I$10),allgemein!P18,allgemein!$I$10),6,IF(ISBLANK(allgemein!$I$11),allgemein!P18,allgemein!$I$11),7,IF(ISBLANK(allgemein!$I$12),allgemein!P18,allgemein!$I$12),8,IF(ISBLANK(allgemein!$I$13),allgemein!P18,allgemein!$I$13),IF(ISBLANK(allgemein!P18),\"\",allgemein!P18))","v":{"$error":"#NAME?"}},{"$f":"IF(ISBLANK(allgemein!Q18),\"\",allgemein!Q18)","v":""},{"$f":"IF(ISBLANK(allgemein!R18),\"\",allgemein!R18)","v":""},{"$f":"IF(ISBLANK(allgemein!S18),\"\",allgemein!S18)","v":""},{"$f":"IF(ISBLANK(allgemein!U18),\"\",allgemein!U18)","v":""}]
[{"$f":"IF(ISBLANK(allgemein!D19),\"\",allgemein!D19)","v":2},{"$f":"IF(ISBLANK(allgemein!E19),\"\",allgemein!E19)","v":""},{"$f":"IF(ISBLANK(allgemein!C19),\"\",allgemein!C19)","v":" "},{"$f":"IF(ISBLANK(allgemein!H19),\"\",allgemein!H19)","v":""},{"$f":"IF(ISBLANK(allgemein!I19),\"\",allgemein!I19)","v":""},{"$f":"IF(ISBLANK(allgemein!J19),\"\",allgemein!J19)","v":""},{"$f":"IF(ISBLANK(allgemein!K19),\"\",allgemein!K19)","v":""},{"$f":"IF(ISBLANK(allgemein!F19),\"\",IF(ISBLANK(allgemein!L19),1,0))","v":""},{"$f":"_xlfn.SWITCH(allgemein!M19,1,IF(ISBLANK(allgemein!$F$10),allgemein!M19,allgemein!$F$10),2,IF(ISBLANK(allgemein!$F$11),allgemein!M19,allgemein!$F$11),3,IF(ISBLANK(allgemein!$F$12),allgemein!M19,allgemein!$F$12),4,IF(ISBLANK(allgemein!$F$13),allgemein!M19,allgemein!$F$13),5,IF(ISBLANK(allgemein!$I$10),allgemein!M19,allgemein!$I$10),6,IF(ISBLANK(allgemein!$I$11),allgemein!M19,allgemein!$I$11),7,IF(ISBLANK(allgemein!$I$12),allgemein!M19,allgemein!$I$12),8,IF(ISBLANK(allgemein!$I$13),allgemein!M19,allgemein!$I$13),IF(ISBLANK(allgemein!M19),\"\",allgemein!M19))","v":{"$error":"#NAME?"}},{"$f":"_xlfn.SWITCH(allgemein!N19,1,IF(ISBLANK(allgemein!$F$10),allgemein!N19,allgemein!$F$10),2,IF(ISBLANK(allgemein!$F$11),allgemein!N19,allgemein!$F$11),3,IF(ISBLANK(allgemein!$F$12),allgemein!N19,allgemein!$F$12),4,IF(ISBLANK(allgemein!$F$13),allgemein!N19,allgemein!$F$13),5,IF(ISBLANK(allgemein!$I$10),allgemein!N19,allgemein!$I$10),6,IF(ISBLANK(allgemein!$I$11),allgemein!N19,allgemein!$I$11),7,IF(ISBLANK(allgemein!$I$12),allgemein!N19,allgemein!$I$12),8,IF(ISBLANK(allgemein!$I$13),allgemein!N19,allgemein!$I$13),IF(ISBLANK(allgemein!N19),\"\",allgemein!N19))","v":{"$error":"#NAME?"}},{"$f":"_xlfn.SWITCH(allgemein!O19,1,IF(ISBLANK(allgemein!$F$10),allgemein!O19,allgemein!$F$10),2,IF(ISBLANK(allgemein!$F$11),allgemein!O19,allgemein!$F$11),3,IF(ISBLANK(allgemein!$F$12),allgemein!O19,allgemein!$F$12),4,IF(ISBLANK(allgemein!$F$13),allgemein!O19,allgemein!$F$13),5,IF(ISBLANK(allgemein!$I$10),allgemein!O19,allgemein!$I$10),6,IF(ISBLANK(allgemein!$I$11),allgemein!O19,allgemein!$I$11),7,IF(ISBLANK(allgemein!$I$12),allgemein!O19,allgemein!$I$12),8,IF(ISBLANK(allgemein!$I$13),allgemein!O19,allgemein!$I$13),IF(ISBLANK(allgemein!O19),\"\",allgemein!O19))","v":{"$error":"#NAME?"}},{"$f":"_xlfn.SWITCH(allgemein!P19,1,IF(ISBLANK(allgemein!$F$10),allgemein!P19,allgemein!$F$10),2,IF(ISBLANK(allgemein!$F$11),allgemein!P19,allgemein!$F$11),3,IF(ISBLANK(allgemein!$F$12),allgemein!P19,allgemein!$F$12),4,IF(ISBLANK(allgemein!$F$13),allgemein!P19,allgemein!$F$13),5,IF(ISBLANK(allgemein!$I$10),allgemein!P19,allgemein!$I$10),6,IF(ISBLANK(allgemein!$I$11),allgemein!P19,allgemein!$I$11),7,IF(ISBLANK(allgemein!$I$12),allgemein!P19,allgemein!$I$12),8,IF(ISBLANK(allgemein!$I$13),allgemein!P19,allgemein!$I$13),IF(ISBLANK(allgemein!P19),\"\",allgemein!P19))","v":{"$error":"#NAME?"}},{"$f":"IF(ISBLANK(allgemein!Q19),\"\",allgemein!Q19)","v":""},{"$f":"IF(ISBLANK(allgemein!R19),\"\",allgemein!R19)","v":""},{"$f":"IF(ISBLANK(allgemein!S19),\"\",allgemein!S19)","v":""},{"$f":"IF(ISBLANK(allgemein!U19),\"\",allgemein!U19)","v":""}]
[{"$f":"IF(ISBLANK(allgemein!D20),\"\",allgemein!D20)","v":3},{"$f":"IF(ISBLANK(allgemein!E20),\"\",allgemein!E20)","v":""},{"$f":"IF(ISBLANK(allgemein!C20),\"\",allgemein!C20)","v":" "},{"$f":"IF(ISBLANK(allgemein!H20),\"\",allgemein!H20)","v":""},{"$f":"IF(ISBLANK(allgemein!I20),\"\",allgemein!I20)","v":""},{"$f":"IF(ISBLANK(allgemein!J20),\"\",allgemein!J20)","v":""},{"$f":"IF(ISBLANK(allgemein!K20),\"\",allgemein!K20)","v":""},{"$f":"IF(ISBLANK(allgemein!F20),\"\",IF(ISBLANK(allgemein!L20),1,0))","v":""},{"$f":"_xlfn.SWITCH(allgemein!M20,1,IF(ISBLANK(allgemein!$F$10),allgemein!M20,allgemein!$F$10),2,IF(ISBLANK(allgemein!$F$11),allgemein!M20,allgemein!$F$11),3,IF(ISBLANK(allgemein!$F$12),allgemein!M20,allgemein!$F$12),4,IF(ISBLANK(allgemein!$F$13),allgemein!M20,allgemein!$F$13),5,IF(ISBLANK(allgemein!$I$10),allgemein!M20,allgemein!$I$10),6,IF(ISBLANK(allgemein!$I$11),allgemein!M20,allgemein!$I$11),7,IF(ISBLANK(allgemein!$I$12),allgemein!M20,allgemein!$I$12),8,IF(ISBLANK(allgemein!$I$13),allgemein!M20,allgemein!$I$13),IF(ISBLANK(allgemein!M20),\"\",allgemein!M20))","v":{"$error":"#NAME?"}},{"$f":"_xlfn.SWITCH(allgemein!N20,1,IF(ISBLANK(allgemein!$F$10),allgemein!N20,allgemein!$F$10),2,IF(ISBLANK(allgemein!$F$11),allgemein!N20,allgemein!$F$11),3,IF(ISBLANK(allgemein!$F$12),allgemein!N20,allgemein!$F$12),4,IF(ISBLANK(allgemein!$F$13),allgemein!N20,allgemein!$F$13),5,IF(ISBLANK(allgemein!$I$10),allgemein!N20,allgemein!$I$10),6,IF(ISBLANK(allgemein!$I$11),allgemein!N20,allgemein!$I$11),7,IF(ISBLANK(allgemein!$I$12),allgemein!N20,allgemein!$I$12),8,IF(ISBLANK(allgemein!$I$13),allgemein!N20,allgemein!$I$13),IF(ISBLANK(allgemein!N20),\"\",allgemein!N20))","v":{"$error":"#NAME?"}},{"$f":"_xlfn.SWITCH(allgemein!O20,1,IF(ISBLANK(allgemein!$F$10),allgemein!O20,allgemein!$F$10),2,IF(ISBLANK(allgemein!$F$11),allgemein!O20,allgemein!$F$11),3,IF(ISBLANK(allgemein!$F$12),allgemein!O20,allgemein!$F$12),4,IF(ISBLANK(allgemein!$F$13),allgemein!O20,allgemein!$F$13),5,IF(ISBLANK(allgemein!$I$10),allgemein!O20,allgemein!$I$10),6,IF(ISBLANK(allgemein!$I$11),allgemein!O20,allgemein!$I$11),7,IF(ISBLANK(allgemein!$I$12),allgemein!O20,allgemein!$I$12),8,IF(ISBLANK(allgemein!$I$13),allgemein!O20,allgemein!$I$13),IF(ISBLANK(allgemein!O20),\"\",allgemein!O20))","v":{"$error":"#NAME?"}},{"$f":"_xlfn.SWITCH(allgemein!P20,1,IF(ISBLANK(allgemein!$F$10),allgemein!P20,allgemein!$F$10),2,IF(ISBLANK(allgemein!$F$11),allgemein!P20,allgemein!$F$11),3,IF(ISBLANK(allgemein!$F$12),allgemein!P20,allgemein!$F$12),4,IF(ISBLANK(allgemein!$F$13),allgemein!P20,allgemein!$F$13),5,IF(ISBLANK(allgemein!$I$10),allgemein!P20,allgemein!$I$10),6,IF(ISBLANK(allgemein!$I$11),allgemein!P20,allgemein!$I$11),7,IF(ISBLANK(allgemein!$I$12),allgemein!P20,allgemein!$I$12),8,IF(ISBLANK(allgemein!$I$13),allgemein!P20,allgemein!$I$13),IF(ISBLANK(allgemein!P20),\"\",allgemein!P20))","v":{"$error":"#NAME?"}},{"$f":"IF(ISBLANK(allgemein!Q20),\"\",allgemein!Q20)","v":""},{"$f":"IF(ISBLANK(allgemein!R20),\"\",allgemein!R20)","v":""},{"$f":"IF(ISBLANK(allgemein!S20),\"\",allgemein!S20)","v":""},{"$f":"IF(ISBLANK(allgemein!U20),\"\",allgemein!U20)","v":""}]
[{"$f":"IF(ISBLANK(allgemein!D21),\"\",allgemein!D21)","v":4},{"$f":"IF(ISBLANK(allgemein!E21),\"\",allgemein!E21)","v":""},{"$f":"IF(ISBLANK(allgemein!C21),\"\",allgemein!C21)","v":" "},{"$f":"IF(ISBLANK(allgemein!H21),\"\",allgemein!H21)","v":""},{"$f":"IF(ISBLANK(allgemein!I21),\"\",allgemein!I21)","v":""},{"$f":"IF(ISBLANK(allgemein!J21),\"\",allgemein!J21)","v":""},{"$f":"IF(ISBLANK(allgemein!K21),\"\",allgemein!K21)","v":""},{"$f":"IF(ISBLANK(allgemein!F21),\"\",IF(ISBLANK(allgemein!L21),1,0))","v":""},{"$f":"_xlfn.SWITCH(allgemein!M21,1,IF(ISBLANK(allgemein!$F$10),allgemein!M21,allgemein!$F$10),2,IF(ISBLANK(allgemein!$F$11),allgemein!M21,allgemein!$F$11),3,IF(ISBLANK(allgemein!$F$12),allgemein!M21,allgemein!$F$12),4,IF(ISBLANK(allgemein!$F$13),allgemein!M21,allgemein!$F$13),5,IF(ISBLANK(allgemein!$I$10),allgemein!M21,allgemein!$I$10),6,IF(ISBLANK(allgemein!$I$11),allgemein!M21,allgemein!$I$11),7,IF(ISBLANK(allgemein!$I$12),allgemein!M21,allgemein!$I$12),8,IF(ISBLANK(allgemein!$I$13),allgemein!M21,allgemein!$I$13),IF(ISBLANK(allgemein!M21),\"\",allgemein!M21))","v":{"$error":"#NAME?"}},{"$f":"_xlfn.SWITCH(allgemein!N21,1,IF(ISBLANK(allgemein!$F$10),allgemein!N21,allgemein!$F$10),2,IF(ISBLANK(allgemein!$F$11),allgemein!N21,allgemein!$F$11),3,IF(ISBLANK(allgemein!$F$12),allgemein!N21,allgemein!$F$12),4,IF(ISBLANK(allgemein!$F$13),allgemein!N21,allgemein!$F$13),5,IF(ISBLANK(allgemein!$I$10),allgemein!N21,allgemein!$I$10),6,IF(ISBLANK(allgemein!$I$11),allgemein!N21,allgemein!$I$11),7,IF(ISBLANK(allgemein!$I$12),allgemein!N21,allgemein!$I$12),8,IF(ISBLANK(allgemein!$I$13),allgemein!N21,allgemein!$I$13),IF(ISBLANK(allgemein!N21),\"\",allgemein!N21))","v":{"$error":"#NAME?"}},{"$f":"_xlfn.SWITCH(allgemein!O21,1,IF(ISBLANK(allgemein!$F$10),allgemein!O21,allgemein!$F$10),2,IF(ISBLANK(allgemein!$F$11),allgemein!O21,allgemein!$F$11),3,IF(ISBLANK(allgemein!$F$12),allgemein!O21,allgemein!$F$12),4,IF(ISBLANK(allgemein!$F$13),allgemein!O21,allgemein!$F$13),5,IF(ISBLANK(allgemein!$I$10),allgemein!O21,allgemein!$I$10),6,IF(ISBLANK(allgemein!$I$11),allgemein!O21,allgemein!$I$11),7,IF(ISBLANK(allgemein!$I$12),allgemein!O21,allgemein!$I$12),8,IF(ISBLANK(allgemein!$I$13),allgemein!O21,allgemein!$I$13),IF(ISBLANK(allgemein!O21),\"\",allgemein!O21))","v":{"$error":"#NAME?"}},{"$f":"_xlfn.SWITCH(allgemein!P21,1,IF(ISBLANK(allgemein!$F$10),allgemein!P21,allgemein!$F$10),2,IF(ISBLANK(allgemein!$F$11),allgemein!P21,allgemein!$F$11),3,IF(ISBLANK(allgemein!$F$12),allgemein!P21,allgemein!$F$12),4,IF(ISBLANK(allgemein!$F$13),allgemein!P21,allgemein!$F$13),5,IF(ISBLANK(allgemein!$I$10),allgemein!P21,allgemein!$I$10),6,IF(ISBLANK(allgemein!$I$11),allgemein!P21,allgemein!$I$11),7,IF(ISBLANK(allgemein!$I$12),allgemein!P21,allgemein!$I$12),8,IF(ISBLANK(allgemein!$I$13),allgemein!P21,allgemein!$I$13),IF(ISBLANK(allgemein!P21),\"\",allgemein!P21))","v":{"$error":"#NAME?"}},{"$f":"IF(ISBLANK(allgemein!Q21),\"\",allgemein!Q21)","v":""},{"$f":"IF(ISBLANK(allgemein!R21),\"\",allgemein!R21)","v":""},{"$f":"IF(ISBLANK(allgemein!S21),\"\",allgemein!S21)","v":""},{"$f":"IF(ISBLANK(allgemein!U21),\"\",allgemein!U21)","v":""}]
[{"$f":"IF(ISBLANK(allgemein!D22),\"\",allgemein!D22)","v":5},{"$f":"IF(ISBLANK(allgemein!E22),\"\",allgemein!E22)","v":""},{"$f":"IF(ISBLANK(allgemein!C22),\"\",allgemein!C22)","v":" "},{"$f":"IF(ISBLANK(allgemein!H22),\"\",allgemein!H22)","v":""},{"$f":"IF(ISBLANK(allgemein!I22),\"\",allgemein!I22)","v":""},{"$f":"IF(ISBLANK(allgemein!J22),\"\",allgemein!J22)","v":""},{"$f":"IF(ISBLANK(allgemein!K22),\"\",allgemein!K22)","v":""},{"$f":"IF(ISBLANK(allgemein!F22),\"\",IF(ISBLANK(allgemein!L22),1,0))","v":""},{"$f":"_xlfn.SWITCH(allgemein!M22,1,IF(ISBLANK(allgemein!$F$10),allgemein!M22,allgemein!$F$10),2,IF(ISBLANK(allgemein!$F$11),allgemein!M22,allgemein!$F$11),3,IF(ISBLANK(allgemein!$F$12),allgemein!M22,allgemein!$F$12),4,IF(ISBLANK(allgemein!$F$13),allgemein!M22,allgemein!$F$13),5,IF(ISBLANK(allgemein!$I$10),allgemein!M22,allgemein!$I$10),6,IF(ISBLANK(allgemein!$I$11),allgemein!M22,allgemein!$I$11),7,IF(ISBLANK(allgemein!$I$12),allgemein!M22,allgemein!$I$12),8,IF(ISBLANK(allgemein!$I$13),allgemein!M22,allgemein!$I$13),IF(ISBLANK(allgemein!M22),\"\",allgemein!M22))","v":{"$error":"#NAME?"}},{"$f":"_xlfn.SWITCH(allgemein!N22,1,IF(ISBLANK(allgemein!$F$10),allgemein!N22,allgemein!$F$10),2,IF(ISBLANK(allgemein!$F$11),allgemein!N22,allgemein!$F$11),3,IF(ISBLANK(allgemein!$F$12),allgemein!N22,allgemein!$F$12),4,IF(ISBLANK(allgemein!$F$13),allgemein!N22,allgemein!$F$13),5,IF(ISBLANK(allgemein!$I$10),allgemein!N22,allgemein!$I$10),6,IF(ISBLANK(allgemein!$I$11),allgemein!N22,allgemein!$I$11),7,IF(ISBLANK(allgemein!$I$12),allgemein!N22,allgemein!$I$12),8,IF(ISBLANK(allgemein!$I$13),allgemein!N22,allgemein!$I$13),IF(ISBLANK(allgemein!N22),\"\",allgemein!N22))","v":{"$error":"#NAME?"}},{"$f":"_xlfn.SWITCH(allgemein!O22,1,IF(ISBLANK(allgemein!$F$10),allgemein!O22,allgemein!$F$10),2,IF(ISBLANK(allgemein!$F$11),allgemein!O22,allgemein!$F$11),3,IF(ISBLANK(allgemein!$F$12),allgemein!O22,allgemein!$F$12),4,IF(ISBLANK(allgemein!$F$13),allgemein!O22,allgemein!$F$13),5,IF(ISBLANK(allgemein!$I$10),allgemein!O22,allgemein!$I$10),6,IF(ISBLANK(allgemein!$I$11),allgemein!O22,allgemein!$I$11),7,IF(ISBLANK(allgemein!$I$12),allgemein!O22,allgemein!$I$12),8,IF(ISBLANK(allgemein!$I$13),allgemein!O22,allgemein!$I$13),IF(ISBLANK(allgemein!O22),\"\",allgemein!O22))","v":{"$error":"#NAME?"}},{"$f":"_xlfn.SWITCH(allgemein!P22,1,IF(ISBLANK(allgemein!$F$10),allgemein!P22,allgemein!$F$10),2,IF(ISBLANK(allgemein!$F$11),allgemein!P22,allgemein!$F$11),3,IF(ISBLANK(allgemein!$F$12),allgemein!P22,allgemein!$F$12),4,IF(ISBLANK(allgemein!$F$13),allgemein!P22,allgemein!$F$13),5,IF(ISBLANK(allgemein!$I$10),allgemein!P22,allgemein!$I$10),6,IF(ISBLANK(allgemein!$I$11),allgemein!P22,allgemein!$I$11),7,IF(ISBLANK(allgemein!$I$12),allgemein!P22,allgemein!$I$12),8,IF(ISBLANK(allgemein!$I$13),allgemein!P22,allgemein!$I$13),IF(ISBLANK(allgemein!P22),\"\",allgemein!P22))","v":{"$error":"#NAME?"}},{"$f":"IF(ISBLANK(allgemein!Q22),\"\",allgemein!Q22)","v":""},{"$f":"IF(ISBLANK(allgemein!R22),\"\",allgemein!R22)","v":""},{"$f":"IF(ISBLANK(allgemein!S22),\"\",allgemein!S22)","v":""},{"$f":"IF(ISBLANK(allgemein!U22),\"\",allgemein!U22)","v":""}]
[{"$f":"IF(ISBLANK(allgemein!D23),\"\",allgemein!D23)","v":6},{"$f":"IF(ISBLANK(allgemein!E23),\"\",allgemein!E23)","v":""},{"$f":"IF(ISBLANK(allgemein!C23),\"\",allgemein!C23)","v":" "},{"$f":"IF(ISBLANK(allgemein!H23),\"\",allgemein!H23)","v":""},{"$f":"IF(ISBLANK(allgemein!I23),\"\",allgemein!I23)","v":""},{"$f":"IF(ISBLANK(allgemein!J23),\"\",allgemein!J23)","v":""},{"$f":"IF(ISBLANK(allgemein!K23),\"\",allgemein!K23)","v":""},{"$f":"IF(ISBLANK(allgemein!F23),\"\",IF(ISBLANK(allgemein!L23),1,0))","v":""},{"$f":"_xlfn.SWITCH(allgemein!M23,1,IF(ISBLANK(allgemein!$F$10),allgemein!M23,allgemein!$F$10),2,IF(ISBLANK(allgemein!$F$11),allgemein!M23,allgemein!$F$11),3,IF(ISBLANK(allgemein!$F$12),allgemein!M23,allgemein!$F$12),4,IF(ISBLANK(allgemein!$F$13),allgemein!M23,allgemein!$F$13),5,IF(ISBLANK(allgemein!$I$10),allgemein!M23,allgemein!$I$10),6,IF(ISBLANK(allgemein!$I$11),allgemein!M23,allgemein!$I$11),7,IF(ISBLANK(allgemein!$I$12),allgemein!M23,allgemein!$I$12),8,IF(ISBLANK(allgemein!$I$13),allgemein!M23,allgemein!$I$13),IF(ISBLANK(allgemein!M23),\"\",allgemein!M23))","v":{"$error":"#NAME?"}},{"$f":"_xlfn.SWITCH(allgemein!N23,1,IF(ISBLANK(allgemein!$F$10),allgemein!N23,allgemein!$F$10),2,IF(ISBLANK(allgemein!$F$11),allgemein!N23,allgemein!$F$11),3,IF(ISBLANK(allgemein!$F$12),allgemein!N23,allgemein!$F$12),4,IF(ISBLANK(allgemein!$F$13),allgemein!N23,allgemein!$F$13),5,IF(ISBLANK(allgemein!$I$10),allgemein!N23,allgemein!$I$10),6,IF(ISBLANK(allgemein!$I$11),allgemein!N23,allgemein!$I$11),7,IF(ISBLANK(allgemein!$I$12),allgemein!N23,allgemein!$I$12),8,IF(ISBLANK(allgemein!$I$13),allgemein!N23,allgemein!$I$13),IF(ISBLANK(allgemein!N23),\"\",allgemein!N23))","v":{"$error":"#NAME?"}},{"$f":"_xlfn.SWITCH(allgemein!O23,1,IF(ISBLANK(allgemein!$F$10),allgemein!O23,allgemein!$F$10),2,IF(ISBLANK(allgemein!$F$11),allgemein!O23,allgemein!$F$11),3,IF(ISBLANK(allgemein!$F$12),allgemein!O23,allgemein!$F$12),4,IF(ISBLANK(allgemein!$F$13),allgemein!O23,allgemein!$F$13),5,IF(ISBLANK(allgemein!$I$10),allgemein!O23,allgemein!$I$10),6,IF(ISBLANK(allgemein!$I$11),allgemein!O23,allgemein!$I$11),7,IF(ISBLANK(allgemein!$I$12),allgemein!O23,allgemein!$I$12),8,IF(ISBLANK(allgemein!$I$13),allgemein!O23,allgemein!$I$13),IF(ISBLANK(allgemein!O23),\"\",allgemein!O23))","v":{"$error":"#NAME?"}},{"$f":"_xlfn.SWITCH(allgemein!P23,1,IF(ISBLANK(allgemein!$F$10),allgemein!P23,allgemein!$F$10),2,IF(ISBLANK(allgemein!$F$11),allgemein!P23,allgemein!$F$11),3,IF(ISBLANK(allgemein!$F$12),allgemein!P23,allgemein!$F$12),4,IF(ISBLANK(allgemein!$F$13),allgemein!P23,allgemein!$F$13),5,IF(ISBLANK(allgemein!$I$10),allgemein!P23,allgemein!$I$10),6,IF(ISBLANK(allgemein!$I$11),allgemein!P23,allgemein!$I$11),7,IF(ISBLANK(allgemein!$I$12),allgemein!P23,allgemein!$I$12),8,IF(ISBLANK(allgemein!$I$13),allgemein!P23,allgemein!$I$13),IF(ISBLANK(allgemein!P23),\"\",allgemein!P23))","v":{"$error":"#NAME?"}},{"$f":"IF(ISBLANK(allgemein!Q23),\"\",allgemein!Q23)","v":""},{"$f":"IF(ISBLANK(allgemein!R23),\"\",allgemein!R23)","v":""},{"$f":"IF(ISBLANK(allgemein!S23),\"\",allgemein!S23)","v":""},{"$f":"IF(ISBLANK(allgemein!U23),\"\",allgemein!U23)","v":""}]
[{"$f":"IF(ISBLANK(allgemein!D24),\"\",allgemein!D24)","v":7},{"$f":"IF(ISBLANK(allgemein!E24),\"\",allgemein!E24)","v":""},{"$f":"IF(ISBLANK(allgemein!C24),\"\",allgemein!C24)","v":" "},{"$f":"IF(ISBLANK(allgemein!H24),\"\",allgemein!H24)","v":""},{"$f":"IF(ISBLANK(allgemein!I24),\"\",allgemein!I24)","v":""},{"$f":"IF(ISBLANK(allgemein!J24),\"\",allgemein!J24)","v":""},{"$f":"IF(ISBLANK(allgemein!K24),\"\",allgemein!K24)","v":""},{"$f":"IF(ISBLANK(allgemein!F24),\"\",IF(ISBLANK(allgemein!L24),1,0))","v":""},{"$f":"_xlfn.SWITCH(allgemein!M24,1,IF(ISBLANK(allgemein!$F$10),allgemein!M24,allgemein!$F$10),2,IF(ISBLANK(allgemein!$F$11),allgemein!M24,allgemein!$F$11),3,IF(ISBLANK(allgemein!$F$12),allgemein!M24,allgemein!$F$12),4,IF(ISBLANK(allgemein!$F$13),allgemein!M24,allgemein!$F$13),5,IF(ISBLANK(allgemein!$I$10),allgemein!M24,allgemein!$I$10),6,IF(ISBLANK(allgemein!$I$11),allgemein!M24,allgemein!$I$11),7,IF(ISBLANK(allgemein!$I$12),allgemein!M24,allgemein!$I$12),8,IF(ISBLANK(allgemein!$I$13),allgemein!M24,allgemein!$I$13),IF(ISBLANK(allgemein!M24),\"\",allgemein!M24))","v":{"$error":"#NAME?"}},{"$f":"_xlfn.SWITCH(allgemein!N24,1,IF(ISBLANK(allgemein!$F$10),allgemein!N24,allgemein!$F$10),2,IF(ISBLANK(allgemein!$F$11),allgemein!N24,allgemein!$F$11),3,IF(ISBLANK(allgemein!$F$12),allgemein!N24,allgemein!$F$12),4,IF(ISBLANK(allgemein!$F$13),allgemein!N24,allgemein!$F$13),5,IF(ISBLANK(allgemein!$I$10),allgemein!N24,allgemein!$I$10),6,IF(ISBLANK(allgemein!$I$11),allgemein!N24,allgemein!$I$11),7,IF(ISBLANK(allgemein!$I$12),allgemein!N24,allgemein!$I$12),8,IF(ISBLANK(allgemein!$I$13),allgemein!N24,allgemein!$I$13),IF(ISBLANK(allgemein!N24),\"\",allgemein!N24))","v":{"$error":"#NAME?"}},{"$f":"_xlfn.SWITCH(allgemein!O24,1,IF(ISBLANK(allgemein!$F$10),allgemein!O24,allgemein!$F$10),2,IF(ISBLANK(allgemein!$F$11),allgemein!O24,allgemein!$F$11),3,IF(ISBLANK(allgemein!$F$12),allgemein!O24,allgemein!$F$12),4,IF(ISBLANK(allgemein!$F$13),allgemein!O24,allgemein!$F$13),5,IF(ISBLANK(allgemein!$I$10),allgemein!O24,allgemein!$I$10),6,IF(ISBLANK(allgemein!$I$11),allgemein!O24,allgemein!$I$11),7,IF(ISBLANK(allgemein!$I$12),allgemein!O24,allgemein!$I$12),8,IF(ISBLANK(allgemein!$I$13),allgemein!O24,allgemein!$I$13),IF(ISBLANK(allgemein!O24),\"\",allgemein!O24))","v":{"$error":"#NAME?"}},{"$f":"_xlfn.SWITCH(allgemein!P24,1,IF(ISBLANK(allgemein!$F$10),allgemein!P24,allgemein!$F$10),2,IF(ISBLANK(allgemein!$F$11),allgemein!P24,allgemein!$F$11),3,IF(ISBLANK(allgemein!$F$12),allgemein!P24,allgemein!$F$12),4,IF(ISBLANK(allgemein!$F$13),allgemein!P24,allgemein!$F$13),5,IF(ISBLANK(allgemein!$I$10),allgemein!P24,allgemein!$I$10),6,IF(ISBLANK(allgemein!$I$11),allgemein!P24,allgemein!$I$11),7,IF(ISBLANK(allgemein!$I$12),allgemein!P24,allgemein!$I$12),8,IF(ISBLANK(allgemein!$I$13),allgemein!P24,allgemein!$I$13),IF(ISBLANK(allgemein!P24),\"\",allgemein!P24))","v":{"$error":"#NAME?"}},{"$f":"IF(ISBLANK(allgemein!Q24),\"\",allgemein!Q24)","v":""},{"$f":"IF(ISBLANK(allgemein!R24),\"\",allgemein!R24)","v":""},{"$f":"IF(ISBLANK(allgemein!S24),\"\",allgemein!S24)","v":""},{"$f":"IF(ISBLANK(allgemein!U24),\"\",allgemein!U24)","v":""}]
[{"$f":"IF(ISBLANK(allgemein!D25),\"\",allgemein!D25)","v":8},{"$f":"IF(ISBLANK(allgemein!E25),\"\",allgemein!E25)","v":""},{"$f":"IF(ISBLANK(allgemein!C25),\"\",allgemein!C25)","v":" "},{"$f":"IF(ISBLANK(allgemein!H25),\"\",allgemein!H25)","v":""},{"$f":"IF(ISBLANK(allgemein!I25),\"\",allgemein!I25)","v":""},{"$f":"IF(ISBLANK(allgemein!J25),\"\",allgemein!J25)","v":""},{"$f":"IF(ISBLANK(allgemein!K25),\"\",allgemein!K25)","v":""},{"$f":"IF(ISBLANK(allgemein!F25),\"\",IF(ISBLANK(allgemein!L25),1,0))","v":""},{"$f":"_xlfn.SWITCH(allgemein!M25,1,IF(ISBLANK(allgemein!$F$10),allgemein!M25,allgemein!$F$10),2,IF(ISBLANK(allgemein!$F$11),allgemein!M25,allgemein!$F$11),3,IF(ISBLANK(allgemein!$F$12),allgemein!M25,allgemein!$F$12),4,IF(ISBLANK(allgemein!$F$13),allgemein!M25,allgemein!$F$13),5,IF(ISBLANK(allgemein!$I$10),allgemein!M25,allgemein!$I$10),6,IF(ISBLANK(allgemein!$I$11),allgemein!M25,allgemein!$I$11),7,IF(ISBLANK(allgemein!$I$12),allgemein!M25,allgemein!$I$12),8,IF(ISBLANK(allgemein!$I$13),allgemein!M25,allgemein!$I$13),IF(ISBLANK(allgemein!M25),\"\",allgemein!M25))","v":{"$error":"#NAME?"}},{"$f":"_xlfn.SWITCH(allgemein!N25,1,IF(ISBLANK(allgemein!$F$10),allgemein!N25,allgemein!$F$10),2,IF(ISBLANK(allgemein!$F$11),allgemein!N25,allgemein!$F$11),3,IF(ISBLANK(allgemein!$F$12),allgemein!N25,allgemein!$F$12),4,IF(ISBLANK(allgemein!$F$13),allgemein!N25,allgemein!$F$13),5,IF(ISBLANK(allgemein!$I$10),allgemein!N25,allgemein!$I$10),6,IF(ISBLANK(allgemein!$I$11),allgemein!N25,allgemein!$I$11),7,IF(ISBLANK(allgemein!$I$12),allgemein!N25,allgemein!$I$12),8,IF(ISBLANK(allgemein!$I$13),allgemein!N25,allgemein!$I$13),IF(ISBLANK(allgemein!N25),\"\",allgemein!N25))","v":{"$error":"#NAME?"}},{"$f":"_xlfn.SWITCH(allgemein!O25,1,IF(ISBLANK(allgemein!$F$10),allgemein!O25,allgemein!$F$10),2,IF(ISBLANK(allgemein!$F$11),allgemein!O25,allgemein!$F$11),3,IF(ISBLANK(allgemein!$F$12),allgemein!O25,allgemein!$F$12),4,IF(ISBLANK(allgemein!$F$13),allgemein!O25,allgemein!$F$13),5,IF(ISBLANK(allgemein!$I$10),allgemein!O25,allgemein!$I$10),6,IF(ISBLANK(allgemein!$I$11),allgemein!O25,allgemein!$I$11),7,IF(ISBLANK(allgemein!$I$12),allgemein!O25,allgemein!$I$12),8,IF(ISBLANK(allgemein!$I$13),allgemein!O25,allgemein!$I$13),IF(ISBLANK(allgemein!O25),\"\",allgemein!O25))","v":{"$error":"#NAME?"}},{"$f":"_xlfn.SWITCH(allgemein!P25,1,IF(ISBLANK(allgemein!$F$10),allgemein!P25,allgemein!$F$10),2,IF(ISBLANK(allgemein!$F$11),allgemein!P25,allgemein!$F$11),3,IF(ISBLANK(allgemein!$F$12),allgemein!P25,allgemein!$F$12),4,IF(ISBLANK(allgemein!$F$13),allgemein!P25,allgemein!$F$13),5,IF(ISBLANK(allgemein!$I$10),allgemein!P25,allgemein!$I$10),6,IF(ISBLANK(allgemein!$I$11),allgemein!P25,allgemein!$I$11),7,IF(ISBLANK(allgemein!$I$12),allgemein!P25,allgemein!$I$12),8,IF(ISBLANK(allgemein!$I$13),allgemein!P25,allgemein!$I$13),IF(ISBLANK(allgemein!P25),\"\",allgemein!P25))","v":{"$error":"#NAME?"}},{"$f":"IF(ISBLANK(allgemein!Q25),\"\",allgemein!Q25)","v":""},{"$f":"IF(ISBLANK(allgemein!R25),\"\",allgemein!R25)","v":""},{"$f":"IF(ISBLANK(allgemein!S25),\"\",allgemein!S25)","v":""},{"$f":"IF(ISBLANK(allgemein!U25),\"\",allgemein!U25)","v":""}]
[{"$f":"IF(ISBLANK(allgemein!D26),\"\",allgemein!D26)","v":9},{"$f":"IF(ISBLANK(allgemein!E26),\"\",allgemein!E26)","v":""},{"$f":"IF(ISBLANK(allgemein!C26),\"\",allgemein!C26)","v":" "},{"$f":"IF(ISBLANK(allgemein!H26),\"\",allgemein!H26)","v":""},{"$f":"IF(ISBLANK(allgemein!I26),\"\",allgemein!I26)","v":""},{"$f":"IF(ISBLANK(allgemein!J26),\"\",allgemein!J26)","v":""},{"$f":"IF(ISBLANK(allgemein!K26),\"\",allgemein!K26)","v":""},{"$f":"IF(ISBLANK(allgemein!F26),\"\",IF(ISBLANK(allgemein!L26),1,0))","v":""},{"$f":"_xlfn.SWITCH(allgemein!M26,1,IF(ISBLANK(allgemein!$F$10),allgemein!M26,allgemein!$F$10),2,IF(ISBLANK(allgemein!$F$11),allgemein!M26,allgemein!$F$11),3,IF(ISBLANK(allgemein!$F$12),allgemein!M26,allgemein!$F$12),4,IF(ISBLANK(allgemein!$F$13),allgemein!M26,allgemein!$F$13),5,IF(ISBLANK(allgemein!$I$10),allgemein!M26,allgemein!$I$10),6,IF(ISBLANK(allgemein!$I$11),allgemein!M26,allgemein!$I$11),7,IF(ISBLANK(allgemein!$I$12),allgemein!M26,allgemein!$I$12),8,IF(ISBLANK(allgemein!$I$13),allgemein!M26,allgemein!$I$13),IF(ISBLANK(allgemein!M26),\"\",allgemein!M26))","v":{"$error":"#NAME?"}},{"$f":"_xlfn.SWITCH(allgemein!N26,1,IF(ISBLANK(allgemein!$F$10),allgemein!N26,allgemein!$F$10),2,IF(ISBLANK(allgemein!$F$11),allgemein!N26,allgemein!$F$11),3,IF(ISBLANK(allgemein!$F$12),allgemein!N26,allgemein!$F$12),4,IF(ISBLANK(allgemein!$F$13),allgemein!N26,allgemein!$F$13),5,IF(ISBLANK(allgemein!$I$10),allgemein!N26,allgemein!$I$10),6,IF(ISBLANK(allgemein!$I$11),allgemein!N26,allgemein!$I$11),7,IF(ISBLANK(allgemein!$I$12),allgemein!N26,allgemein!$I$12),8,IF(ISBLANK(allgemein!$I$13),allgemein!N26,allgemein!$I$13),IF(ISBLANK(allgemein!N26),\"\",allgemein!N26))","v":{"$error":"#NAME?"}},{"$f":"_xlfn.SWITCH(allgemein!O26,1,IF(ISBLANK(allgemein!$F$10),allgemein!O26,allgemein!$F$10),2,IF(ISBLANK(allgemein!$F$11),allgemein!O26,allgemein!$F$11),3,IF(ISBLANK(allgemein!$F$12),allgemein!O26,allgemein!$F$12),4,IF(ISBLANK(allgemein!$F$13),allgemein!O26,allgemein!$F$13),5,IF(ISBLANK(allgemein!$I$10),allgemein!O26,allgemein!$I$10),6,IF(ISBLANK(allgemein!$I$11),allgemein!O26,allgemein!$I$11),7,IF(ISBLANK(allgemein!$I$12),allgemein!O26,allgemein!$I$12),8,IF(ISBLANK(allgemein!$I$13),allgemein!O26,allgemein!$I$13),IF(ISBLANK(allgemein!O26),\"\",allgemein!O26))","v":{"$error":"#NAME?"}},{"$f":"_xlfn.SWITCH(allgemein!P26,1,IF(ISBLANK(allgemein!$F$10),allgemein!P26,allgemein!$F$10),2,IF(ISBLANK(allgemein!$F$11),allgemein!P26,allgemein!$F$11),3,IF(ISBLANK(allgemein!$F$12),allgemein!P26,allgemein!$F$12),4,IF(ISBLANK(allgemein!$F$13),allgemein!P26,allgemein!$F$13),5,IF(ISBLANK(allgemein!$I$10),allgemein!P26,allgemein!$I$10),6,IF(ISBLANK(allgemein!$I$11),allgemein!P26,allgemein!$I$11),7,IF(ISBLANK(allgemein!$I$12),allgemein!P26,allgemein!$I$12),8,IF(ISBLANK(allgemein!$I$13),allgemein!P26,allgemein!$I$13),IF(ISBLANK(allgemein!P26),\"\",allgemein!P26))","v":{"$error":"#NAME?"}},{"$f":"IF(ISBLANK(allgemein!Q26),\"\",allgemein!Q26)","v":""},{"$f":"IF(ISBLANK(allgemein!R26),\"\",allgemein!R26)","v":""},{"$f":"IF(ISBLANK(allgemein!S26),\"\",allgemein!S26)","v":""},{"$f":"IF(ISBLANK(allgemein!U26),\"\",allgemein!U26)","v":""}]
[{"$f":"IF(ISBLANK(allgemein!D27),\"\",allgemein!D27)","v":10},{"$f":"IF(ISBLANK(allgemein!E27),\"\",allgemein!E27)","v":""},{"$f":"IF(ISBLANK(allgemein!C27),\"\",allgemein!C27)","v":" "},{"$f":"IF(ISBLANK(allgemein!H27),\"\",allgemein!H27)","v":""},{"$f":"IF(ISBLANK(allgemein!I27),\"\",allgemein!I27)","v":""},{"$f":"IF(ISBLANK(allgemein!J27),\"\",allgemein!J27)","v":""},{"$f":"IF(ISBLANK(allgemein!K27),\"\",allgemein!K27)","v":""},{"$f":"IF(ISBLANK(allgemein!F27),\"\",IF(ISBLANK(allgemein!L27),1,0))","v":""},{"$f":"_xlfn.SWITCH(allgemein!M27,1,IF(ISBLANK(allgemein!$F$10),allgemein!M27,allgemein!$F$10),2,IF(ISBLANK(allgemein!$F$11),allgemein!M27,allgemein!$F$11),3,IF(ISBLANK(allgemein!$F$12),allgemein!M27,allgemein!$F$12),4,IF(ISBLANK(allgemein!$F$13),allgemein!M27,allgemein!$F$13),5,IF(ISBLANK(allgemein!$I$10),allgemein!M27,allgemein!$I$10),6,IF(ISBLANK(allgemein!$I$11),allgemein!M27,allgemein!$I$11),7,IF(ISBLANK(allgemein!$I$12),allgemein!M27,allgemein!$I$12),8,IF(ISBLANK(allgemein!$I$13),allgemein!M27,allgemein!$I$13),IF(ISBLANK(allgemein!M27),\"\",allgemein!M27))","v":{"$error":"#NAME?"}},{"$f":"_xlfn.SWITCH(allgemein!N27,1,IF(ISBLANK(allgemein!$F$10),allgemein!N27,allgemein!$F$10),2,IF(ISBLANK(allgemein!$F$11),allgemein!N27,allgemein!$F$11),3,IF(ISBLANK(allgemein!$F$12),allgemein!N27,allgemein!$F$12),4,IF(ISBLANK(allgemein!$F$13),allgemein!N27,allgemein!$F$13),5,IF(ISBLANK(allgemein!$I$10),allgemein!N27,allgemein!$I$10),6,IF(ISBLANK(allgemein!$I$11),allgemein!N27,allgemein!$I$11),7,IF(ISBLANK(allgemein!$I$12),allgemein!N27,allgemein!$I$12),8,IF(ISBLANK(allgemein!$I$13),allgemein!N27,allgemein!$I$13),IF(ISBLANK(allgemein!N27),\"\",allgemein!N27))","v":{"$error":"#NAME?"}},{"$f":"_xlfn.SWITCH(allgemein!O27,1,IF(ISBLANK(allgemein!$F$10),allgemein!O27,allgemein!$F$10),2,IF(ISBLANK(allgemein!$F$11),allgemein!O27,allgemein!$F$11),3,IF(ISBLANK(allgemein!$F$12),allgemein!O27,allgemein!$F$12),4,IF(ISBLANK(allgemein!$F$13),allgemein!O27,allgemein!$F$13),5,IF(ISBLANK(allgemein!$I$10),allgemein!O27,allgemein!$I$10),6,IF(ISBLANK(allgemein!$I$11),allgemein!O27,allgemein!$I$11),7,IF(ISBLANK(allgemein!$I$12),allgemein!O27,allgemein!$I$12),8,IF(ISBLANK(allgemein!$I$13),allgemein!O27,allgemein!$I$13),IF(ISBLANK(allgemein!O27),\"\",allgemein!O27))","v":{"$error":"#NAME?"}},{"$f":"_xlfn.SWITCH(allgemein!P27,1,IF(ISBLANK(allgemein!$F$10),allgemein!P27,allgemein!$F$10),2,IF(ISBLANK(allgemein!$F$11),allgemein!P27,allgemein!$F$11),3,IF(ISBLANK(allgemein!$F$12),allgemein!P27,allgemein!$F$12),4,IF(ISBLANK(allgemein!$F$13),allgemein!P27,allgemein!$F$13),5,IF(ISBLANK(allgemein!$I$10),allgemein!P27,allgemein!$I$10),6,IF(ISBLANK(allgemein!$I$11),allgemein!P27,allgemein!$I$11),7,IF(ISBLANK(allgemein!$I$12),allgemein!P27,allgemein!$I$12),8,IF(ISBLANK(allgemein!$I$13),allgemein!P27,allgemein!$I$13),IF(ISBLANK(allgemein!P27),\"\",allgemein!P27))","v":{"$error":"#NAME?"}},{"$f":"IF(ISBLANK(allgemein!Q27),\"\",allgemein!Q27)","v":""},{"$f":"IF(ISBLANK(allgemein!R27),\"\",allgemein!R27)","v":""},{"$f":"IF(ISBLANK(allgemein!S27),\"\",allgemein!S27)","v":""},{"$f":"IF(ISBLANK(allgemein!U27),\"\",allgemein!U27)","v":""}]
[{"$f":"IF(ISBLANK(allgemein!D28),\"\",allgemein!D28)","v":11},{"$f":"IF(ISBLANK(allgemein!E28),\"\",allgemein!E28)","v":""},{"$f":"IF(ISBLANK(allgemein!C28),\"\",allgemein!C28)","v":" "},{"$f":"IF(ISBLANK(allgemein!H28),\"\",allgemein!H28)","v":""},{"$f":"IF(ISBLANK(allgemein!I28),\"\",allgemein!I28)","v":""},{"$f":"IF(ISBLANK(allgemein!J28),\"\",allgemein!J28)","v":""},{"$f":"IF(ISBLANK(allgemein!K28),\"\",allgemein!K28)","v":""},{"$f":"IF(ISBLANK(allgemein!F28),\"\",IF(ISBLANK(allgemein!L28),1,0))","v":""},{"$f":"_xlfn.SWITCH(allgemein!M28,1,IF(ISBLANK(allgemein!$F$10),allgemein!M28,allgemein!$F$10),2,IF(ISBLANK(allgemein!$F$11),allgemein!M28,allgemein!$F$11),3,IF(ISBLANK(allgemein!$F$12),allgemein!M28,allgemein!$F$12),4,IF(ISBLANK(allgemein!$F$13),allgemein!M28,allgemein!$F$13),5,IF(ISBLANK(allgemein!$I$10),allgemein!M28,allgemein!$I$10),6,IF(ISBLANK(allgemein!$I$11),allgemein!M28,allgemein!$I$11),7,IF(ISBLANK(allgemein!$I$12),allgemein!M28,allgemein!$I$12),8,IF(ISBLANK(allgemein!$I$13),allgemein!M28,allgemein!$I$13),IF(ISBLANK(allgemein!M28),\"\",allgemein!M28))","v":{"$error":"#NAME?"}},{"$f":"_xlfn.SWITCH(allgemein!N28,1,IF(ISBLANK(allgemein!$F$10),allgemein!N28,allgemein!$F$10),2,IF(ISBLANK(allgemein!$F$11),allgemein!N28,allgemein!$F$11),3,IF(ISBLANK(allgemein!$F$12),allgemein!N28,allgemein!$F$12),4,IF(ISBLANK(allgemein!$F$13),allgemein!N28,allgemein!$F$13),5,IF(ISBLANK(allgemein!$I$10),allgemein!N28,allgemein!$I$10),6,IF(ISBLANK(allgemein!$I$11),allgemein!N28,allgemein!$I$11),7,IF(ISBLANK(allgemein!$I$12),allgemein!N28,allgemein!$I$12),8,IF(ISBLANK(allgemein!$I$13),allgemein!N28,allgemein!$I$13),IF(ISBLANK(allgemein!N28),\"\",allgemein!N28))","v":{"$error":"#NAME?"}},{"$f":"_xlfn.SWITCH(allgemein!O28,1,IF(ISBLANK(allgemein!$F$10),allgemein!O28,allgemein!$F$10),2,IF(ISBLANK(allgemein!$F$11),allgemein!O28,allgemein!$F$11),3,IF(ISBLANK(allgemein!$F$12),allgemein!O28,allgemein!$F$12),4,IF(ISBLANK(allgemein!$F$13),allgemein!O28,allgemein!$F$13),5,IF(ISBLANK(allgemein!$I$10),allgemein!O28,allgemein!$I$10),6,IF(ISBLANK(allgemein!$I$11),allgemein!O28,allgemein!$I$11),7,IF(ISBLANK(allgemein!$I$12),allgemein!O28,allgemein!$I$12),8,IF(ISBLANK(allgemein!$I$13),allgemein!O28,allgemein!$I$13),IF(ISBLANK(allgemein!O28),\"\",allgemein!O28))","v":{"$error":"#NAME?"}},{"$f":"_xlfn.SWITCH(allgemein!P28,1,IF(ISBLANK(allgemein!$F$10),allgemein!P28,allgemein!$F$10),2,IF(ISBLANK(allgemein!$F$11),allgemein!P28,allgemein!$F$11),3,IF(ISBLANK(allgemein!$F$12),allgemein!P28,allgemein!$F$12),4,IF(ISBLANK(allgemein!$F$13),allgemein!P28,allgemein!$F$13),5,IF(ISBLANK(allgemein!$I$10),allgemein!P28,allgemein!$I$10),6,IF(ISBLANK(allgemein!$I$11),allgemein!P28,allgemein!$I$11),7,IF(ISBLANK(allgemein!$I$12),allgemein!P28,allgemein!$I$12),8,IF(ISBLANK(allgemein!$I$13),allgemein!P28,allgemein!$I$13),IF(ISBLANK(allgemein!P28),\"\",allgemein!P28))","v":{"$error":"#NAME?"}},{"$f":"IF(ISBLANK(allgemein!Q28),\"\",allgemein!Q28)","v":""},{"$f":"IF(ISBLANK(allgemein!R28),\"\",allgemein!R28)","v":""},{"$f":"IF(ISBLANK(allgemein!S28),\"\",allgemein!S28)","v":""},{"$f":"IF(ISBLANK(allgemein!U28),\"\",allgemein!U28)","v":""}]
[{"$f":"IF(ISBLANK(allgemein!D29),\"\",allgemein!D29)","v":12},{"$f":"IF(ISBLANK(allgemein!E29),\"\",allgemein!E29)","v":""},{"$f":"IF(ISBLANK(allgemein!C29),\"\",allgemein!C29)","v":" "},{"$f":"IF(ISBLANK(allgemein!H29),\"\",allgemein!H29)","v":""},{"$f":"IF(ISBLANK(allgemein!I29),\"\",allgemein!I29)","v":""},{"$f":"IF(ISBLANK(allgemein!J29),\"\",allgemein!J29)","v":""},{"$f":"IF(ISBLANK(allgemein!K29),\"\",allgemein!K29)","v":""},{"$f":"IF(ISBLANK(allgemein!F29),\"\",IF(ISBLANK(allgemein!L29),1,0))","v":""},{"$f":"_xlfn.SWITCH(allgemein!M29,1,IF(ISBLANK(allgemein!$F$10),allgemein!M29,allgemein!$F$10),2,IF(ISBLANK(allgemein!$F$11),allgemein!M29,allgemein!$F$11),3,IF(ISBLANK(allgemein!$F$12),allgemein!M29,allgemein!$F$12),4,IF(ISBLANK(allgemein!$F$13),allgemein!M29,allgemein!$F$13),5,IF(ISBLANK(allgemein!$I$10),allgemein!M29,allgemein!$I$10),6,IF(ISBLANK(allgemein!$I$11),allgemein!M29,allgemein!$I$11),7,IF(ISBLANK(allgemein!$I$12),allgemein!M29,allgemein!$I$12),8,IF(ISBLANK(allgemein!$I$13),allgemein!M29,allgemein!$I$13),IF(ISBLANK(allgemein!M29),\"\",allgemein!M29))","v":{"$error":"#NAME?"}},{"$f":"_xlfn.SWITCH(allgemein!N29,1,IF(ISBLANK(allgemein!$F$10),allgemein!N29,allgemein!$F$10),2,IF(ISBLANK(allgemein!$F$11),allgemein!N29,allgemein!$F$11),3,IF(ISBLANK(allgemein!$F$12),allgemein!N29,allgemein!$F$12),4,IF(ISBLANK(allgemein!$F$13),allgemein!N29,allgemein!$F$13),5,IF(ISBLANK(allgemein!$I$10),allgemein!N29,allgemein!$I$10),6,IF(ISBLANK(allgemein!$I$11),allgemein!N29,allgemein!$I$11),7,IF(ISBLANK(allgemein!$I$12),allgemein!N29,allgemein!$I$12),8,IF(ISBLANK(allgemein!$I$13),allgemein!N29,allgemein!$I$13),IF(ISBLANK(allgemein!N29),\"\",allgemein!N29))","v":{"$error":"#NAME?"}},{"$f":"_xlfn.SWITCH(allgemein!O29,1,IF(ISBLANK(allgemein!$F$10),allgemein!O29,allgemein!$F$10),2,IF(ISBLANK(allgemein!$F$11),allgemein!O29,allgemein!$F$11),3,IF(ISBLANK(allgemein!$F$12),allgemein!O29,allgemein!$F$12),4,IF(ISBLANK(allgemein!$F$13),allgemein!O29,allgemein!$F$13),5,IF(ISBLANK(allgemein!$I$10),allgemein!O29,allgemein!$I$10),6,IF(ISBLANK(allgemein!$I$11),allgemein!O29,allgemein!$I$11),7,IF(ISBLANK(allgemein!$I$12),allgemein!O29,allgemein!$I$12),8,IF(ISBLANK(allgemein!$I$13),allgemein!O29,allgemein!$I$13),IF(ISBLANK(allgemein!O29),\"\",allgemein!O29))","v":{"$error":"#NAME?"}},{"$f":"_xlfn.SWITCH(allgemein!P29,1,IF(ISBLANK(allgemein!$F$10),allgemein!P29,allgemein!$F$10),2,IF(ISBLANK(allgemein!$F$11),allgemein!P29,allgemein!$F$11),3,IF(ISBLANK(allgemein!$F$12),allgemein!P29,allgemein!$F$12),4,IF(ISBLANK(allgemein!$F$13),allgemein!P29,allgemein!$F$13),5,IF(ISBLANK(allgemein!$I$10),allgemein!P29,allgemein!$I$10),6,IF(ISBLANK(allgemein!$I$11),allgemein!P29,allgemein!$I$11),7,IF(ISBLANK(allgemein!$I$12),allgemein!P29,allgemein!$I$12),8,IF(ISBLANK(allgemein!$I$13),allgemein!P29,allgemein!$I$13),IF(ISBLANK(allgemein!P29),\"\",allgemein!P29))","v":{"$error":"#NAME?"}},{"$f":"IF(ISBLANK(allgemein!Q29),\"\",allgemein!Q29)","v":""},{"$f":"IF(ISBLANK(allgemein!R29),\"\",allgemein!R29)","v":""},{"$f":"IF(ISBLANK(allgemein!S29),\"\",allgemein!S29)","v":""},{"$f":"IF(ISBLANK(allgemein!U29),\"\",allgemein!U29)","v":""}]
[{"$f":"IF(ISBLANK(allgemein!D30),\"\",allgemein!D30)","v":13},{"$f":"IF(ISBLANK(allgemein!E30),\"\",allgemein!E30)","v":""},{"$f":"IF(ISBLANK(allgemein!C30),\"\",allgemein!C30)","v":" "},{"$f":"IF(ISBLANK(allgemein!H30),\"\",allgemein!H30)","v":""},{"$f":"IF(ISBLANK(allgemein!I30),\"\",allgemein!I30)","v":""},{"$f":"IF(ISBLANK(allgemein!J30),\"\",allgemein!J30)","v":""},{"$f":"IF(ISBLANK(allgemein!K30),\"\",allgemein!K30)","v":""},{"$f":"IF(ISBLANK(allgemein!F30),\"\",IF(ISBLANK(allgemein!L30),1,0))","v":""},{"$f":"_xlfn.SWITCH(allgemein!M30,1,IF(ISBLANK(allgemein!$F$10),allgemein!M30,allgemein!$F$10),2,IF(ISBLANK(allgemein!$F$11),allgemein!M30,allgemein!$F$11),3,IF(ISBLANK(allgemein!$F$12),allgemein!M30,allgemein!$F$12),4,IF(ISBLANK(allgemein!$F$13),allgemein!M30,allgemein!$F$13),5,IF(ISBLANK(allgemein!$I$10),allgemein!M30,allgemein!$I$10),6,IF(ISBLANK(allgemein!$I$11),allgemein!M30,allgemein!$I$11),7,IF(ISBLANK(allgemein!$I$12),allgemein!M30,allgemein!$I$12),8,IF(ISBLANK(allgemein!$I$13),allgemein!M30,allgemein!$I$13),IF(ISBLANK(allgemein!M30),\"\",allgemein!M30))","v":{"$error":"#NAME?"}},{"$f":"_xlfn.SWITCH(allgemein!N30,1,IF(ISBLANK(allgemein!$F$10),allgemein!N30,allgemein!$F$10),2,IF(ISBLANK(allgemein!$F$11),allgemein!N30,allgemein!$F$11),3,IF(ISBLANK(allgemein!$F$12),allgemein!N30,allgemein!$F$12),4,IF(ISBLANK(allgemein!$F$13),allgemein!N30,allgemein!$F$13),5,IF(ISBLANK(allgemein!$I$10),allgemein!N30,allgemein!$I$10),6,IF(ISBLANK(allgemein!$I$11),allgemein!N30,allgemein!$I$11),7,IF(ISBLANK(allgemein!$I$12),allgemein!N30,allgemein!$I$12),8,IF(ISBLANK(allgemein!$I$13),allgemein!N30,allgemein!$I$13),IF(ISBLANK(allgemein!N30),\"\",allgemein!N30))","v":{"$error":"#NAME?"}},{"$f":"_xlfn.SWITCH(allgemein!O30,1,IF(ISBLANK(allgemein!$F$10),allgemein!O30,allgemein!$F$10),2,IF(ISBLANK(allgemein!$F$11),allgemein!O30,allgemein!$F$11),3,IF(ISBLANK(allgemein!$F$12),allgemein!O30,allgemein!$F$12),4,IF(ISBLANK(allgemein!$F$13),allgemein!O30,allgemein!$F$13),5,IF(ISBLANK(allgemein!$I$10),allgemein!O30,allgemein!$I$10),6,IF(ISBLANK(allgemein!$I$11),allgemein!O30,allgemein!$I$11),7,IF(ISBLANK(allgemein!$I$12),allgemein!O30,allgemein!$I$12),8,IF(ISBLANK(allgemein!$I$13),allgemein!O30,allgemein!$I$13),IF(ISBLANK(allgemein!O30),\"\",allgemein!O30))","v":{"$error":"#NAME?"}},{"$f":"_xlfn.SWITCH(allgemein!P30,1,IF(ISBLANK(allgemein!$F$10),allgemein!P30,allgemein!$F$10),2,IF(ISBLANK(allgemein!$F$11),allgemein!P30,allgemein!$F$11),3,IF(ISBLANK(allgemein!$F$12),allgemein!P30,allgemein!$F$12),4,IF(ISBLANK(allgemein!$F$13),allgemein!P30,allgemein!$F$13),5,IF(ISBLANK(allgemein!$I$10),allgemein!P30,allgemein!$I$10),6,IF(ISBLANK(allgemein!$I$11),allgemein!P30,allgemein!$I$11),7,IF(ISBLANK(allgemein!$I$12),allgemein!P30,allgemein!$I$12),8,IF(ISBLANK(allgemein!$I$13),allgemein!P30,allgemein!$I$13),IF(ISBLANK(allgemein!P30),\"\",allgemein!P30))","v":{"$error":"#NAME?"}},{"$f":"IF(ISBLANK(allgemein!Q30),\"\",allgemein!Q30)","v":""},{"$f":"IF(ISBLANK(allgemein!R30),\"\",allgemein!R30)","v":""},{"$f":"IF(ISBLANK(allgemein!S30),\"\",allgemein!S30)","v":""},{"$f":"IF(ISBLANK(allgemein!U30),\"\",allgemein!U30)","v":""}]
[{"$f":"IF(ISBLANK(allgemein!D31),\"\",allgemein!D31)","v":14},{"$f":"IF(ISBLANK(allgemein!E31),\"\",allgemein!E31)","v":""},{"$f":"IF(ISBLANK(allgemein!C31),\"\",allgemein!C31)","v":" "},{"$f":"IF(ISBLANK(allgemein!H31),\"\",allgemein!H31)","v":""},{"$f":"IF(ISBLANK(allgemein!I31),\"\",allgemein!I31)","v":""},{"$f":"IF(ISBLANK(allgemein!J31),\"\",allgemein!J31)","v":""},{"$f":"IF(ISBLANK(allgemein!K31),\"\",allgemein!K31)","v":""},{"$f":"IF(ISBLANK(allgemein!F31),\"\",IF(ISBLANK(allgemein!L31),1,0))","v":""},{"$f":"_xlfn.SWITCH(allgemein!M31,1,IF(ISBLANK(allgemein!$F$10),allgemein!M31,allgemein!$F$10),2,IF(ISBLANK(allgemein!$F$11),allgemein!M31,allgemein!$F$11),3,IF(ISBLANK(allgemein!$F$12),allgemein!M31,allgemein!$F$12),4,IF(ISBLANK(allgemein!$F$13),allgemein!M31,allgemein!$F$13),5,IF(ISBLANK(allgemein!$I$10),allgemein!M31,allgemein!$I$10),6,IF(ISBLANK(allgemein!$I$11),allgemein!M31,allgemein!$I$11),7,IF(ISBLANK(allgemein!$I$12),allgemein!M31,allgemein!$I$12),8,IF(ISBLANK(allgemein!$I$13),allgemein!M31,allgemein!$I$13),IF(ISBLANK(allgemein!M31),\"\",allgemein!M31))","v":{"$error":"#NAME?"}},{"$f":"_xlfn.SWITCH(allgemein!N31,1,IF(ISBLANK(allgemein!$F$10),allgemein!N31,allgemein!$F$10),2,IF(ISBLANK(allgemein!$F$11),allgemein!N31,allgemein!$F$11),3,IF(ISBLANK(allgemein!$F$12),allgemein!N31,allgemein!$F$12),4,IF(ISBLANK(allgemein!$F$13),allgemein!N31,allgemein!$F$13),5,IF(ISBLANK(allgemein!$I$10),allgemein!N31,allgemein!$I$10),6,IF(ISBLANK(allgemein!$I$11),allgemein!N31,allgemein!$I$11),7,IF(ISBLANK(allgemein!$I$12),allgemein!N31,allgemein!$I$12),8,IF(ISBLANK(allgemein!$I$13),allgemein!N31,allgemein!$I$13),IF(ISBLANK(allgemein!N31),\"\",allgemein!N31))","v":{"$error":"#NAME?"}},{"$f":"_xlfn.SWITCH(allgemein!O31,1,IF(ISBLANK(allgemein!$F$10),allgemein!O31,allgemein!$F$10),2,IF(ISBLANK(allgemein!$F$11),allgemein!O31,allgemein!$F$11),3,IF(ISBLANK(allgemein!$F$12),allgemein!O31,allgemein!$F$12),4,IF(ISBLANK(allgemein!$F$13),allgemein!O31,allgemein!$F$13),5,IF(ISBLANK(allgemein!$I$10),allgemein!O31,allgemein!$I$10),6,IF(ISBLANK(allgemein!$I$11),allgemein!O31,allgemein!$I$11),7,IF(ISBLANK(allgemein!$I$12),allgemein!O31,allgemein!$I$12),8,IF(ISBLANK(allgemein!$I$13),allgemein!O31,allgemein!$I$13),IF(ISBLANK(allgemein!O31),\"\",allgemein!O31))","v":{"$error":"#NAME?"}},{"$f":"_xlfn.SWITCH(allgemein!P31,1,IF(ISBLANK(allgemein!$F$10),allgemein!P31,allgemein!$F$10),2,IF(ISBLANK(allgemein!$F$11),allgemein!P31,allgemein!$F$11),3,IF(ISBLANK(allgemein!$F$12),allgemein!P31,allgemein!$F$12),4,IF(ISBLANK(allgemein!$F$13),allgemein!P31,allgemein!$F$13),5,IF(ISBLANK(allgemein!$I$10),allgemein!P31,allgemein!$I$10),6,IF(ISBLANK(allgemein!$I$11),allgemein!P31,allgemein!$I$11),7,IF(ISBLANK(allgemein!$I$12),allgemein!P31,allgemein!$I$12),8,IF(ISBLANK(allgemein!$I$13),allgemein!P31,allgemein!$I$13),IF(ISBLANK(allgemein!P31),\"\",allgemein!P31))","v":{"$error":"#NAME?"}},{"$f":"IF(ISBLANK(allgemein!Q31),\"\",allgemein!Q31)","v":""},{"$f":"IF(ISBLANK(allgemein!R31),\"\",allgemein!R31)","v":""},{"$f":"IF(ISBLANK(allgemein!S31),\"\",allgemein!S31)","v":""},{"$f":"IF(ISBLANK(allgemein!U31),\"\",allgemein!U31)","v":""}]
[{"$f":"IF(ISBLANK(allgemein!D32),\"\",allgemein!D32)","v":15},{"$f":"IF(ISBLANK(allgemein!E32),\"\",allgemein!E32)","v":""},{"$f":"IF(ISBLANK(allgemein!C32),\"\",allgemein!C32)","v":" "},{"$f":"IF(ISBLANK(allgemein!H32),\"\",allgemein!H32)","v":""},{"$f":"IF(ISBLANK(allgemein!I32),\"\",allgemein!I32)","v":""},{"$f":"IF(ISBLANK(allgemein!J32),\"\",allgemein!J32)","v":""},{"$f":"IF(ISBLANK(allgemein!K32),\"\",allgemein!K32)","v":""},{"$f":"IF(ISBLANK(allgemein!F32),\"\",IF(ISBLANK(allgemein!L32),1,0))","v":""},{"$f":"_xlfn.SWITCH(allgemein!M32,1,IF(ISBLANK(allgemein!$F$10),allgemein!M32,allgemein!$F$10),2,IF(ISBLANK(allgemein!$F$11),allgemein!M32,allgemein!$F$11),3,IF(ISBLANK(allgemein!$F$12),allgemein!M32,allgemein!$F$12),4,IF(ISBLANK(allgemein!$F$13),allgemein!M32,allgemein!$F$13),5,IF(ISBLANK(allgemein!$I$10),allgemein!M32,allgemein!$I$10),6,IF(ISBLANK(allgemein!$I$11),allgemein!M32,allgemein!$I$11),7,IF(ISBLANK(allgemein!$I$12),allgemein!M32,allgemein!$I$12),8,IF(ISBLANK(allgemein!$I$13),allgemein!M32,allgemein!$I$13),IF(ISBLANK(allgemein!M32),\"\",allgemein!M32))","v":{"$error":"#NAME?"}},{"$f":"_xlfn.SWITCH(allgemein!N32,1,IF(ISBLANK(allgemein!$F$10),allgemein!N32,allgemein!$F$10),2,IF(ISBLANK(allgemein!$F$11),allgemein!N32,allgemein!$F$11),3,IF(ISBLANK(allgemein!$F$12),allgemein!N32,allgemein!$F$12),4,IF(ISBLANK(allgemein!$F$13),allgemein!N32,allgemein!$F$13),5,IF(ISBLANK(allgemein!$I$10),allgemein!N32,allgemein!$I$10),6,IF(ISBLANK(allgemein!$I$11),allgemein!N32,allgemein!$I$11),7,IF(ISBLANK(allgemein!$I$12),allgemein!N32,allgemein!$I$12),8,IF(ISBLANK(allgemein!$I$13),allgemein!N32,allgemein!$I$13),IF(ISBLANK(allgemein!N32),\"\",allgemein!N32))","v":{"$error":"#NAME?"}},{"$f":"_xlfn.SWITCH(allgemein!O32,1,IF(ISBLANK(allgemein!$F$10),allgemein!O32,allgemein!$F$10),2,IF(ISBLANK(allgemein!$F$11),allgemein!O32,allgemein!$F$11),3,IF(ISBLANK(allgemein!$F$12),allgemein!O32,allgemein!$F$12),4,IF(ISBLANK(allgemein!$F$13),allgemein!O32,allgemein!$F$13),5,IF(ISBLANK(allgemein!$I$10),allgemein!O32,allgemein!$I$10),6,IF(ISBLANK(allgemein!$I$11),allgemein!O32,allgemein!$I$11),7,IF(ISBLANK(allgemein!$I$12),allgemein!O32,allgemein!$I$12),8,IF(ISBLANK(allgemein!$I$13),allgemein!O32,allgemein!$I$13),IF(ISBLANK(allgemein!O32),\"\",allgemein!O32))","v":{"$error":"#NAME?"}},{"$f":"_xlfn.SWITCH(allgemein!P32,1,IF(ISBLANK(allgemein!$F$10),allgemein!P32,allgemein!$F$10),2,IF(ISBLANK(allgemein!$F$11),allgemein!P32,allgemein!$F$11),3,IF(ISBLANK(allgemein!$F$12),allgemein!P32,allgemein!$F$12),4,IF(ISBLANK(allgemein!$F$13),allgemein!P32,allgemein!$F$13),5,IF(ISBLANK(allgemein!$I$10),allgemein!P32,allgemein!$I$10),6,IF(ISBLANK(allgemein!$I$11),allgemein!P32,allgemein!$I$11),7,IF(ISBLANK(allgemein!$I$12),allgemein!P32,allgemein!$I$12),8,IF(ISBLANK(allgemein!$I$13),allgemein!P32,allgemein!$I$13),IF(ISBLANK(allgemein!P32),\"\",allgemein!P32))","v":{"$error":"#NAME?"}},{"$f":"IF(ISBLANK(allgemein!Q32),\"\",allgemein!Q32)","v":""},{"$f":"IF(ISBLANK(allgemein!R32),\"\",allgemein!R32)","v":""},{"$f":"IF(ISBLANK(allgemein!S32),\"\",allgemein!S32)","v":""},{"$f":"IF(ISBLANK(allgemein!U32),\"\",allgemein!U32)","v":""}]
[{"$f":"IF(ISBLANK(allgemein!D33),\"\",allgemein!D33)","v":16},{"$f":"IF(ISBLANK(allgemein!E33),\"\",allgemein!E33)","v":""},{"$f":"IF(ISBLANK(allgemein!C33),\"\",allgemein!C33)","v":" "},{"$f":"IF(ISBLANK(allgemein!H33),\"\",allgemein!H33)","v":""},{"$f":"IF(ISBLANK(allgemein!I33),\"\",allgemein!I33)","v":""},{"$f":"IF(ISBLANK(allgemein!J33),\"\",allgemein!J33)","v":""},{"$f":"IF(ISBLANK(allgemein!K33),\"\",allgemein!K33)","v":""},{"$f":"IF(ISBLANK(allgemein!F33),\"\",IF(ISBLANK(allgemein!L33),1,0))","v":""},{"$f":"_xlfn.SWITCH(allgemein!M33,1,IF(ISBLANK(allgemein!$F$10),allgemein!M33,allgemein!$F$10),2,IF(ISBLANK(allgemein!$F$11),allgemein!M33,allgemein!$F$11),3,IF(ISBLANK(allgemein!$F$12),allgemein!M33,allgemein!$F$12),4,IF(ISBLANK(allgemein!$F$13),allgemein!M33,allgemein!$F$13),5,IF(ISBLANK(allgemein!$I$10),allgemein!M33,allgemein!$I$10),6,IF(ISBLANK(allgemein!$I$11),allgemein!M33,allgemein!$I$11),7,IF(ISBLANK(allgemein!$I$12),allgemein!M33,allgemein!$I$12),8,IF(ISBLANK(allgemein!$I$13),allgemein!M33,allgemein!$I$13),IF(ISBLANK(allgemein!M33),\"\",allgemein!M33))","v":{"$error":"#NAME?"}},{"$f":"_xlfn.SWITCH(allgemein!N33,1,IF(ISBLANK(allgemein!$F$10),allgemein!N33,allgemein!$F$10),2,IF(ISBLANK(allgemein!$F$11),allgemein!N33,allgemein!$F$11),3,IF(ISBLANK(allgemein!$F$12),allgemein!N33,allgemein!$F$12),4,IF(ISBLANK(allgemein!$F$13),allgemein!N33,allgemein!$F$13),5,IF(ISBLANK(allgemein!$I$10),allgemein!N33,allgemein!$I$10),6,IF(ISBLANK(allgemein!$I$11),allgemein!N33,allgemein!$I$11),7,IF(ISBLANK(allgemein!$I$12),allgemein!N33,allgemein!$I$12),8,IF(ISBLANK(allgemein!$I$13),allgemein!N33,allgemein!$I$13),IF(ISBLANK(allgemein!N33),\"\",allgemein!N33))","v":{"$error":"#NAME?"}},{"$f":"_xlfn.SWITCH(allgemein!O33,1,IF(ISBLANK(allgemein!$F$10),allgemein!O33,allgemein!$F$10),2,IF(ISBLANK(allgemein!$F$11),allgemein!O33,allgemein!$F$11),3,IF(ISBLANK(allgemein!$F$12),allgemein!O33,allgemein!$F$12),4,IF(ISBLANK(allgemein!$F$13),allgemein!O33,allgemein!$F$13),5,IF(ISBLANK(allgemein!$I$10),allgemein!O33,allgemein!$I$10),6,IF(ISBLANK(allgemein!$I$11),allgemein!O33,allgemein!$I$11),7,IF(ISBLANK(allgemein!$I$12),allgemein!O33,allgemein!$I$12),8,IF(ISBLANK(allgemein!$I$13),allgemein!O33,allgemein!$I$13),IF(ISBLANK(allgemein!O33),\"\",allgemein!O33))","v":{"$error":"#NAME?"}},{"$f":"_xlfn.SWITCH(allgemein!P33,1,IF(ISBLANK(allgemein!$F$10),allgemein!P33,allgemein!$F$10),2,IF(ISBLANK(allgemein!$F$11),allgemein!P33,allgemein!$F$11),3,IF(ISBLANK(allgemein!$F$12),allgemein!P33,allgemein!$F$12),4,IF(ISBLANK(allgemein!$F$13),allgemein!P33,allgemein!$F$13),5,IF(ISBLANK(allgemein!$I$10),allgemein!P33,allgemein!$I$10),6,IF(ISBLANK(allgemein!$I$11),allgemein!P33,allgemein!$I$11),7,IF(ISBLANK(allgemein!$I$12),allgemein!P33,allgemein!$I$12),8,IF(ISBLANK(allgemein!$I$13),allgemein!P33,allgemein!$I$13),IF(ISBLANK(allgemein!P33),\"\",allgemein!P33))","v":{"$error":"#NAME?"}},{"$f":"IF(ISBLANK(allgemein!Q33),\"\",allgemein!Q33)","v":""},{"$f":"IF(ISBLANK(allgemein!R33),\"\",allgemein!R33)","v":""},{"$f":"IF(ISBLANK(allgemein!S33),\"\",allgemein!S33)","v":""},{"$f":"IF(ISBLANK(allgemein!U33),\"\",allgemein!U33)","v":""}]
[{"$f":"IF(ISBLANK(allgemein!D34),\"\",allgemein!D34)","v":17},{"$f":"IF(ISBLANK(allgemein!E34),\"\",allgemein!E34)","v":""},{"$f":"IF(ISBLANK(allgemein!C34),\"\",allgemein!C34)","v":" "},{"$f":"IF(ISBLANK(allgemein!H34),\"\",allgemein!H34)","v":""},{"$f":"IF(ISBLANK(allgemein!I34),\"\",allgemein!I34)","v":""},{"$f":"IF(ISBLANK(allgemein!J34),\"\",allgemein!J34)","v":""},{"$f":"IF(ISBLANK(allgemein!K34),\"\",allgemein!K34)","v":""},{"$f":"IF(ISBLANK(allgemein!F34),\"\",IF(ISBLANK(allgemein!L34),1,0))","v":""},{"$f":"_xlfn.SWITCH(allgemein!M34,1,IF(ISBLANK(allgemein!$F$10),allgemein!M34,allgemein!$F$10),2,IF(ISBLANK(allgemein!$F$11),allgemein!M34,allgemein!$F$11),3,IF(ISBLANK(allgemein!$F$12),allgemein!M34,allgemein!$F$12),4,IF(ISBLANK(allgemein!$F$13),allgemein!M34,allgemein!$F$13),5,IF(ISBLANK(allgemein!$I$10),allgemein!M34,allgemein!$I$10),6,IF(ISBLANK(allgemein!$I$11),allgemein!M34,allgemein!$I$11),7,IF(ISBLANK(allgemein!$I$12),allgemein!M34,allgemein!$I$12),8,IF(ISBLANK(allgemein!$I$13),allgemein!M34,allgemein!$I$13),IF(ISBLANK(allgemein!M34),\"\",allgemein!M34))","v":{"$error":"#NAME?"}},{"$f":"_xlfn.SWITCH(allgemein!N34,1,IF(ISBLANK(allgemein!$F$10),allgemein!N34,allgemein!$F$10),2,IF(ISBLANK(allgemein!$F$11),allgemein!N34,allgemein!$F$11),3,IF(ISBLANK(allgemein!$F$12),allgemein!N34,allgemein!$F$12),4,IF(ISBLANK(allgemein!$F$13),allgemein!N34,allgemein!$F$13),5,IF(ISBLANK(allgemein!$I$10),allgemein!N34,allgemein!$I$10),6,IF(ISBLANK(allgemein!$I$11),allgemein!N34,allgemein!$I$11),7,IF(ISBLANK(allgemein!$I$12),allgemein!N34,allgemein!$I$12),8,IF(ISBLANK(allgemein!$I$13),allgemein!N34,allgemein!$I$13),IF(ISBLANK(allgemein!N34),\"\",allgemein!N34))","v":{"$error":"#NAME?"}},{"$f":"_xlfn.SWITCH(allgemein!O34,1,IF(ISBLANK(allgemein!$F$10),allgemein!O34,allgemein!$F$10),2,IF(ISBLANK(allgemein!$F$11),allgemein!O34,allgemein!$F$11),3,IF(ISBLANK(allgemein!$F$12),allgemein!O34,allgemein!$F$12),4,IF(ISBLANK(allgemein!$F$13),allgemein!O34,allgemein!$F$13),5,IF(ISBLANK(allgemein!$I$10),allgemein!O34,allgemein!$I$10),6,IF(ISBLANK(allgemein!$I$11),allgemein!O34,allgemein!$I$11),7,IF(ISBLANK(allgemein!$I$12),allgemein!O34,allgemein!$I$12),8,IF(ISBLANK(allgemein!$I$13),allgemein!O34,allgemein!$I$13),IF(ISBLANK(allgemein!O34),\"\",allgemein!O34))","v":{"$error":"#NAME?"}},{"$f":"_xlfn.SWITCH(allgemein!P34,1,IF(ISBLANK(allgemein!$F$10),allgemein!P34,allgemein!$F$10),2,IF(ISBLANK(allgemein!$F$11),allgemein!P34,allgemein!$F$11),3,IF(ISBLANK(allgemein!$F$12),allgemein!P34,allgemein!$F$12),4,IF(ISBLANK(allgemein!$F$13),allgemein!P34,allgemein!$F$13),5,IF(ISBLANK(allgemein!$I$10),allgemein!P34,allgemein!$I$10),6,IF(ISBLANK(allgemein!$I$11),allgemein!P34,allgemein!$I$11),7,IF(ISBLANK(allgemein!$I$12),allgemein!P34,allgemein!$I$12),8,IF(ISBLANK(allgemein!$I$13),allgemein!P34,allgemein!$I$13),IF(ISBLANK(allgemein!P34),\"\",allgemein!P34))","v":{"$error":"#NAME?"}},{"$f":"IF(ISBLANK(allgemein!Q34),\"\",allgemein!Q34)","v":""},{"$f":"IF(ISBLANK(allgemein!R34),\"\",allgemein!R34)","v":""},{"$f":"IF(ISBLANK(allgemein!S34),\"\",allgemein!S34)","v":""},{"$f":"IF(ISBLANK(allgemein!U34),\"\",allgemein!U34)","v":""}]
[{"$f":"IF(ISBLANK(allgemein!D35),\"\",allgemein!D35)","v":18},{"$f":"IF(ISBLANK(allgemein!E35),\"\",allgemein!E35)","v":""},{"$f":"IF(ISBLANK(allgemein!C35),\"\",allgemein!C35)","v":" "},{"$f":"IF(ISBLANK(allgemein!H35),\"\",allgemein!H35)","v":""},{"$f":"IF(ISBLANK(allgemein!I35),\"\",allgemein!I35)","v":""},{"$f":"IF(ISBLANK(allgemein!J35),\"\",allgemein!J35)","v":""},{"$f":"IF(ISBLANK(allgemein!K35),\"\",allgemein!K35)","v":""},{"$f":"IF(ISBLANK(allgemein!F35),\"\",IF(ISBLANK(allgemein!L35),1,0))","v":""},{"$f":"_xlfn.SWITCH(allgemein!M35,1,IF(ISBLANK(allgemein!$F$10),allgemein!M35,allgemein!$F$10),2,IF(ISBLANK(allgemein!$F$11),allgemein!M35,allgemein!$F$11),3,IF(ISBLANK(allgemein!$F$12),allgemein!M35,allgemein!$F$12),4,IF(ISBLANK(allgemein!$F$13),allgemein!M35,allgemein!$F$13),5,IF(ISBLANK(allgemein!$I$10),allgemein!M35,allgemein!$I$10),6,IF(ISBLANK(allgemein!$I$11),allgemein!M35,allgemein!$I$11),7,IF(ISBLANK(allgemein!$I$12),allgemein!M35,allgemein!$I$12),8,IF(ISBLANK(allgemein!$I$13),allgemein!M35,allgemein!$I$13),IF(ISBLANK(allgemein!M35),\"\",allgemein!M35))","v":{"$error":"#NAME?"}},{"$f":"_xlfn.SWITCH(allgemein!N35,1,IF(ISBLANK(allgemein!$F$10),allgemein!N35,allgemein!$F$10),2,IF(ISBLANK(allgemein!$F$11),allgemein!N35,allgemein!$F$11),3,IF(ISBLANK(allgemein!$F$12),allgemein!N35,allgemein!$F$12),4,IF(ISBLANK(allgemein!$F$13),allgemein!N35,allgemein!$F$13),5,IF(ISBLANK(allgemein!$I$10),allgemein!N35,allgemein!$I$10),6,IF(ISBLANK(allgemein!$I$11),allgemein!N35,allgemein!$I$11),7,IF(ISBLANK(allgemein!$I$12),allgemein!N35,allgemein!$I$12),8,IF(ISBLANK(allgemein!$I$13),allgemein!N35,allgemein!$I$13),IF(ISBLANK(allgemein!N35),\"\",allgemein!N35))","v":{"$error":"#NAME?"}},{"$f":"_xlfn.SWITCH(allgemein!O35,1,IF(ISBLANK(allgemein!$F$10),allgemein!O35,allgemein!$F$10),2,IF(ISBLANK(allgemein!$F$11),allgemein!O35,allgemein!$F$11),3,IF(ISBLANK(allgemein!$F$12),allgemein!O35,allgemein!$F$12),4,IF(ISBLANK(allgemein!$F$13),allgemein!O35,allgemein!$F$13),5,IF(ISBLANK(allgemein!$I$10),allgemein!O35,allgemein!$I$10),6,IF(ISBLANK(allgemein!$I$11),allgemein!O35,allgemein!$I$11),7,IF(ISBLANK(allgemein!$I$12),allgemein!O35,allgemein!$I$12),8,IF(ISBLANK(allgemein!$I$13),allgemein!O35,allgemein!$I$13),IF(ISBLANK(allgemein!O35),\"\",allgemein!O35))","v":{"$error":"#NAME?"}},{"$f":"_xlfn.SWITCH(allgemein!P35,1,IF(ISBLANK(allgemein!$F$10),allgemein!P35,allgemein!$F$10),2,IF(ISBLANK(allgemein!$F$11),allgemein!P35,allgemein!$F$11),3,IF(ISBLANK(allgemein!$F$12),allgemein!P35,allgemein!$F$12),4,IF(ISBLANK(allgemein!$F$13),allgemein!P35,allgemein!$F$13),5,IF(ISBLANK(allgemein!$I$10),allgemein!P35,allgemein!$I$10),6,IF(ISBLANK(allgemein!$I$11),allgemein!P35,allgemein!$I$11),7,IF(ISBLANK(allgemein!$I$12),allgemein!P35,allgemein!$I$12),8,IF(ISBLANK(allgemein!$I$13),allgemein!P35,allgemein!$I$13),IF(ISBLANK(allgemein!P35),\"\",allgemein!P35))","v":{"$error":"#NAME?"}},{"$f":"IF(ISBLANK(allgemein!Q35),\"\",allgemein!Q35)","v":""},{"$f":"IF(ISBLANK(allgemein!R35),\"\",allgemein!R35)","v":""},{"$f":"IF(ISBLANK(allgemein!S35),\"\",allgemein!S35)","v":""},{"$f":"IF(ISBLANK(allgemein!U35),\"\",allgemein!U35)","v":""}]
[{"$f":"IF(ISBLANK(allgemein!D36),\"\",allgemein!D36)","v":19},{"$f":"IF(ISBLANK(allgemein!E36),\"\",allgemein!E36)","v":""},{"$f":"IF(ISBLANK(allgemein!C36),\"\",allgemein!C36)","v":" "},{"$f":"IF(ISBLANK(allgemein!H36),\"\",allgemein!H36)","v":""},{"$f":"IF(ISBLANK(allgemein!I36),\"\",allgemein!I36)","v":""},{"$f":"IF(ISBLANK(allgemein!J36),\"\",allgemein!J36)","v":""},{"$f":"IF(ISBLANK(allgemein!K36),\"\",allgemein!K36)","v":""},{"$f":"IF(ISBLANK(allgemein!F36),\"\",IF(ISBLANK(allgemein!L36),1,0))","v":""},{"$f":"_xlfn.SWITCH(allgemein!M36,1,IF(ISBLANK(allgemein!$F$10),allgemein!M36,allgemein!$F$10),2,IF(ISBLANK(allgemein!$F$11),allgemein!M36,allgemein!$F$11),3,IF(ISBLANK(allgemein!$F$12),allgemein!M36,allgemein!$F$12),4,IF(ISBLANK(allgemein!$F$13),allgemein!M36,allgemein!$F$13),5,IF(ISBLANK(allgemein!$I$10),allgemein!M36,allgemein!$I$10),6,IF(ISBLANK(allgemein!$I$11),allgemein!M36,allgemein!$I$11),7,IF(ISBLANK(allgemein!$I$12),allgemein!M36,allgemein!$I$12),8,IF(ISBLANK(allgemein!$I$13),allgemein!M36,allgemein!$I$13),IF(ISBLANK(allgemein!M36),\"\",allgemein!M36))","v":{"$error":"#NAME?"}},{"$f":"_xlfn.SWITCH(allgemein!N36,1,IF(ISBLANK(allgemein!$F$10),allgemein!N36,allgemein!$F$10),2,IF(ISBLANK(allgemein!$F$11),allgemein!N36,allgemein!$F$11),3,IF(ISBLANK(allgemein!$F$12),allgemein!N36,allgemein!$F$12),4,IF(ISBLANK(allgemein!$F$13),allgemein!N36,allgemein!$F$13),5,IF(ISBLANK(allgemein!$I$10),allgemein!N36,allgemein!$I$10),6,IF(ISBLANK(allgemein!$I$11),allgemein!N36,allgemein!$I$11),7,IF(ISBLANK(allgemein!$I$12),allgemein!N36,allgemein!$I$12),8,IF(ISBLANK(allgemein!$I$13),allgemein!N36,allgemein!$I$13),IF(ISBLANK(allgemein!N36),\"\",allgemein!N36))","v":{"$error":"#NAME?"}},{"$f":"_xlfn.SWITCH(allgemein!O36,1,IF(ISBLANK(allgemein!$F$10),allgemein!O36,allgemein!$F$10),2,IF(ISBLANK(allgemein!$F$11),allgemein!O36,allgemein!$F$11),3,IF(ISBLANK(allgemein!$F$12),allgemein!O36,allgemein!$F$12),4,IF(ISBLANK(allgemein!$F$13),allgemein!O36,allgemein!$F$13),5,IF(ISBLANK(allgemein!$I$10),allgemein!O36,allgemein!$I$10),6,IF(ISBLANK(allgemein!$I$11),allgemein!O36,allgemein!$I$11),7,IF(ISBLANK(allgemein!$I$12),allgemein!O36,allgemein!$I$12),8,IF(ISBLANK(allgemein!$I$13),allgemein!O36,allgemein!$I$13),IF(ISBLANK(allgemein!O36),\"\",allgemein!O36))","v":{"$error":"#NAME?"}},{"$f":"_xlfn.SWITCH(allgemein!P36,1,IF(ISBLANK(allgemein!$F$10),allgemein!P36,allgemein!$F$10),2,IF(ISBLANK(allgemein!$F$11),allgemein!P36,allgemein!$F$11),3,IF(ISBLANK(allgemein!$F$12),allgemein!P36,allgemein!$F$12),4,IF(ISBLANK(allgemein!$F$13),allgemein!P36,allgemein!$F$13),5,IF(ISBLANK(allgemein!$I$10),allgemein!P36,allgemein!$I$10),6,IF(ISBLANK(allgemein!$I$11),allgemein!P36,allgemein!$I$11),7,IF(ISBLANK(allgemein!$I$12),allgemein!P36,allgemein!$I$12),8,IF(ISBLANK(allgemein!$I$13),allgemein!P36,allgemein!$I$13),IF(ISBLANK(allgemein!P36),\"\",allgemein!P36))","v":{"$error":"#NAME?"}},{"$f":"IF(ISBLANK(allgemein!Q36),\"\",allgemein!Q36)","v":""},{"$f":"IF(ISBLANK(allgemein!R36),\"\",allgemein!R36)","v":""},{"$f":"IF(ISBLANK(allgemein!S36),\"\",allgemein!S36)","v":""},{"$f":"IF(ISBLANK(allgemein!U36),\"\",allgemein!U36)","v":""}]
[{"$f":"IF(ISBLANK(allgemein!D37),\"\",allgemein!D37)","v":20},{"$f":"IF(ISBLANK(allgemein!E37),\"\",allgemein!E37)","v":""},{"$f":"IF(ISBLANK(allgemein!C37),\"\",allgemein!C37)","v":" "},{"$f":"IF(ISBLANK(allgemein!H37),\"\",allgemein!H37)","v":""},{"$f":"IF(ISBLANK(allgemein!I37),\"\",allgemein!I37)","v":""},{"$f":"IF(ISBLANK(allgemein!J37),\"\",allgemein!J37)","v":""},{"$f":"IF(ISBLANK(allgemein!K37),\"\",allgemein!K37)","v":""},{"$f":"IF(ISBLANK(allgemein!F37),\"\",IF(ISBLANK(allgemein!L37),1,0))","v":""},{"$f":"_xlfn.SWITCH(allgemein!M37,1,IF(ISBLANK(allgemein!$F$10),allgemein!M37,allgemein!$F$10),2,IF(ISBLANK(allgemein!$F$11),allgemein!M37,allgemein!$F$11),3,IF(ISBLANK(allgemein!$F$12),allgemein!M37,allgemein!$F$12),4,IF(ISBLANK(allgemein!$F$13),allgemein!M37,allgemein!$F$13),5,IF(ISBLANK(allgemein!$I$10),allgemein!M37,allgemein!$I$10),6,IF(ISBLANK(allgemein!$I$11),allgemein!M37,allgemein!$I$11),7,IF(ISBLANK(allgemein!$I$12),allgemein!M37,allgemein!$I$12),8,IF(ISBLANK(allgemein!$I$13),allgemein!M37,allgemein!$I$13),IF(ISBLANK(allgemein!M37),\"\",allgemein!M37))","v":{"$error":"#NAME?"}},{"$f":"_xlfn.SWITCH(allgemein!N37,1,IF(ISBLANK(allgemein!$F$10),allgemein!N37,allgemein!$F$10),2,IF(ISBLANK(allgemein!$F$11),allgemein!N37,allgemein!$F$11),3,IF(ISBLANK(allgemein!$F$12),allgemein!N37,allgemein!$F$12),4,IF(ISBLANK(allgemein!$F$13),allgemein!N37,allgemein!$F$13),5,IF(ISBLANK(allgemein!$I$10),allgemein!N37,allgemein!$I$10),6,IF(ISBLANK(allgemein!$I$11),allgemein!N37,allgemein!$I$11),7,IF(ISBLANK(allgemein!$I$12),allgemein!N37,allgemein!$I$12),8,IF(ISBLANK(allgemein!$I$13),allgemein!N37,allgemein!$I$13),IF(ISBLANK(allgemein!N37),\"\",allgemein!N37))","v":{"$error":"#NAME?"}},{"$f":"_xlfn.SWITCH(allgemein!O37,1,IF(ISBLANK(allgemein!$F$10),allgemein!O37,allgemein!$F$10),2,IF(ISBLANK(allgemein!$F$11),allgemein!O37,allgemein!$F$11),3,IF(ISBLANK(allgemein!$F$12),allgemein!O37,allgemein!$F$12),4,IF(ISBLANK(allgemein!$F$13),allgemein!O37,allgemein!$F$13),5,IF(ISBLANK(allgemein!$I$10),allgemein!O37,allgemein!$I$10),6,IF(ISBLANK(allgemein!$I$11),allgemein!O37,allgemein!$I$11),7,IF(ISBLANK(allgemein!$I$12),allgemein!O37,allgemein!$I$12),8,IF(ISBLANK(allgemein!$I$13),allgemein!O37,allgemein!$I$13),IF(ISBLANK(allgemein!O37),\"\",allgemein!O37))","v":{"$error":"#NAME?"}},{"$f":"_xlfn.SWITCH(allgemein!P37,1,IF(ISBLANK(allgemein!$F$10),allgemein!P37,allgemein!$F$10),2,IF(ISBLANK(allgemein!$F$11),allgemein!P37,allgemein!$F$11),3,IF(ISBLANK(allgemein!$F$12),allgemein!P37,allgemein!$F$12),4,IF(ISBLANK(allgemein!$F$13),allgemein!P37,allgemein!$F$13),5,IF(ISBLANK(allgemein!$I$10),allgemein!P37,allgemein!$I$10),6,IF(ISBLANK(allgemein!$I$11),allgemein!P37,allgemein!$I$11),7,IF(ISBLANK(allgemein!$I$12),allgemein!P37,allgemein!$I$12),8,IF(ISBLANK(allgemein!$I$13),allgemein!P37,allgemein!$I$13),IF(ISBLANK(allgemein!P37),\"\",allgemein!P37))","v":{"$error":"#NAME?"}},{"$f":"IF(ISBLANK(allgemein!Q37),\"\",allgemein!Q37)","v":""},{"$f":"IF(ISBLANK(allgemein!R37),\"\",allgemein!R37)","v":""},{"$f":"IF(ISBLANK(allgemein!S37),\"\",allgemein!S37)","v":""},{"$f":"IF(ISBLANK(allgemein!U37),\"\",allgemein!U37)","v":""}]
[{"$f":"IF(ISBLANK(allgemein!D38),\"\",allgemein!D38)","v":21},{"$f":"IF(ISBLANK(allgemein!E38),\"\",allgemein!E38)","v":""},{"$f":"IF(ISBLANK(allgemein!C38),\"\",allgemein!C38)","v":" "},{"$f":"IF(ISBLANK(allgemein!H38),\"\",allgemein!H38)","v":""},{"$f":"IF(ISBLANK(allgemein!I38),\"\",allgemein!I38)","v":""},{"$f":"IF(ISBLANK(allgemein!J38),\"\",allgemein!J38)","v":""},{"$f":"IF(ISBLANK(allgemein!K38),\"\",allgemein!K38)","v":""},{"$f":"IF(ISBLANK(allgemein!F38),\"\",IF(ISBLANK(allgemein!L38),1,0))","v":""},{"$f":"_xlfn.SWITCH(allgemein!M38,1,IF(ISBLANK(allgemein!$F$10),allgemein!M38,allgemein!$F$10),2,IF(ISBLANK(allgemein!$F$11),allgemein!M38,allgemein!$F$11),3,IF(ISBLANK(allgemein!$F$12),allgemein!M38,allgemein!$F$12),4,IF(ISBLANK(allgemein!$F$13),allgemein!M38,allgemein!$F$13),5,IF(ISBLANK(allgemein!$I$10),allgemein!M38,allgemein!$I$10),6,IF(ISBLANK(allgemein!$I$11),allgemein!M38,allgemein!$I$11),7,IF(ISBLANK(allgemein!$I$12),allgemein!M38,allgemein!$I$12),8,IF(ISBLANK(allgemein!$I$13),allgemein!M38,allgemein!$I$13),IF(ISBLANK(allgemein!M38),\"\",allgemein!M38))","v":{"$error":"#NAME?"}},{"$f":"_xlfn.SWITCH(allgemein!N38,1,IF(ISBLANK(allgemein!$F$10),allgemein!N38,allgemein!$F$10),2,IF(ISBLANK(allgemein!$F$11),allgemein!N38,allgemein!$F$11),3,IF(ISBLANK(allgemein!$F$12),allgemein!N38,allgemein!$F$12),4,IF(ISBLANK(allgemein!$F$13),allgemein!N38,allgemein!$F$13),5,IF(ISBLANK(allgemein!$I$10),allgemein!N38,allgemein!$I$10),6,IF(ISBLANK(allgemein!$I$11),allgemein!N38,allgemein!$I$11),7,IF(ISBLANK(allgemein!$I$12),allgemein!N38,allgemein!$I$12),8,IF(ISBLANK(allgemein!$I$13),allgemein!N38,allgemein!$I$13),IF(ISBLANK(allgemein!N38),\"\",allgemein!N38))","v":{"$error":"#NAME?"}},{"$f":"_xlfn.SWITCH(allgemein!O38,1,IF(ISBLANK(allgemein!$F$10),allgemein!O38,allgemein!$F$10),2,IF(ISBLANK(allgemein!$F$11),allgemein!O38,allgemein!$F$11),3,IF(ISBLANK(allgemein!$F$12),allgemein!O38,allgemein!$F$12),4,IF(ISBLANK(allgemein!$F$13),allgemein!O38,allgemein!$F$13),5,IF(ISBLANK(allgemein!$I$10),allgemein!O38,allgemein!$I$10),6,IF(ISBLANK(allgemein!$I$11),allgemein!O38,allgemein!$I$11),7,IF(ISBLANK(allgemein!$I$12),allgemein!O38,allgemein!$I$12),8,IF(ISBLANK(allgemein!$I$13),allgemein!O38,allgemein!$I$13),IF(ISBLANK(allgemein!O38),\"\",allgemein!O38))","v":{"$error":"#NAME?"}},{"$f":"_xlfn.SWITCH(allgemein!P38,1,IF(ISBLANK(allgemein!$F$10),allgemein!P38,allgemein!$F$10),2,IF(ISBLANK(allgemein!$F$11),allgemein!P38,allgemein!$F$11),3,IF(ISBLANK(allgemein!$F$12),allgemein!P38,allgemein!$F$12),4,IF(ISBLANK(allgemein!$F$13),allgemein!P38,allgemein!$F$13),5,IF(ISBLANK(allgemein!$I$10),allgemein!P38,allgemein!$I$10),6,IF(ISBLANK(allgemein!$I$11),allgemein!P38,allgemein!$I$11),7,IF(ISBLANK(allgemein!$I$12),allgemein!P38,allgemein!$I$12),8,IF(ISBLANK(allgemein!$I$13),allgemein!P38,allgemein!$I$13),IF(ISBLANK(allgemein!P38),\"\",allgemein!P38))","v":{"$error":"#NAME?"}},{"$f":"IF(ISBLANK(allgemein!Q38),\"\",allgemein!Q38)","v":""},{"$f":"IF(ISBLANK(allgemein!R38),\"\",allgemein!R38)","v":""},{"$f":"IF(ISBLANK(allgemein!S38),\"\",allgemein!S38)","v":""},{"$f":"IF(ISBLANK(allgemein!U38),\"\",allgemein!U38)","v":""}]
[{"$f":"IF(ISBLANK(allgemein!D39),\"\",allgemein!D39)","v":22},{"$f":"IF(ISBLANK(allgemein!E39),\"\",allgemein!E39)","v":""},{"$f":"IF(ISBLANK(allgemein!C39),\"\",allgemein!C39)","v":" "},{"$f":"IF(ISBLANK(allgemein!H39),\"\",allgemein!H39)","v":""},{"$f":"IF(ISBLANK(allgemein!I39),\"\",allgemein!I39)","v":""},{"$f":"IF(ISBLANK(allgemein!J39),\"\",allgemein!J39)","v":""},{"$f":"IF(ISBLANK(allgemein!K39),\"\",allgemein!K39)","v":""},{"$f":"IF(ISBLANK(allgemein!F39),\"\",IF(ISBLANK(allgemein!L39),1,0))","v":""},{"$f":"_xlfn.SWITCH(allgemein!M39,1,IF(ISBLANK(allgemein!$F$10),allgemein!M39,allgemein!$F$10),2,IF(ISBLANK(allgemein!$F$11),allgemein!M39,allgemein!$F$11),3,IF(ISBLANK(allgemein!$F$12),allgemein!M39,allgemein!$F$12),4,IF(ISBLANK(allgemein!$F$13),allgemein!M39,allgemein!$F$13),5,IF(ISBLANK(allgemein!$I$10),allgemein!M39,allgemein!$I$10),6,IF(ISBLANK(allgemein!$I$11),allgemein!M39,allgemein!$I$11),7,IF(ISBLANK(allgemein!$I$12),allgemein!M39,allgemein!$I$12),8,IF(ISBLANK(allgemein!$I$13),allgemein!M39,allgemein!$I$13),IF(ISBLANK(allgemein!M39),\"\",allgemein!M39))","v":{"$error":"#NAME?"}},{"$f":"_xlfn.SWITCH(allgemein!N39,1,IF(ISBLANK(allgemein!$F$10),allgemein!N39,allgemein!$F$10),2,IF(ISBLANK(allgemein!$F$11),allgemein!N39,allgemein!$F$11),3,IF(ISBLANK(allgemein!$F$12),allgemein!N39,allgemein!$F$12),4,IF(ISBLANK(allgemein!$F$13),allgemein!N39,allgemein!$F$13),5,IF(ISBLANK(allgemein!$I$10),allgemein!N39,allgemein!$I$10),6,IF(ISBLANK(allgemein!$I$11),allgemein!N39,allgemein!$I$11),7,IF(ISBLANK(allgemein!$I$12),allgemein!N39,allgemein!$I$12),8,IF(ISBLANK(allgemein!$I$13),allgemein!N39,allgemein!$I$13),IF(ISBLANK(allgemein!N39),\"\",allgemein!N39))","v":{"$error":"#NAME?"}},{"$f":"_xlfn.SWITCH(allgemein!O39,1,IF(ISBLANK(allgemein!$F$10),allgemein!O39,allgemein!$F$10),2,IF(ISBLANK(allgemein!$F$11),allgemein!O39,allgemein!$F$11),3,IF(ISBLANK(allgemein!$F$12),allgemein!O39,allgemein!$F$12),4,IF(ISBLANK(allgemein!$F$13),allgemein!O39,allgemein!$F$13),5,IF(ISBLANK(allgemein!$I$10),allgemein!O39,allgemein!$I$10),6,IF(ISBLANK(allgemein!$I$11),allgemein!O39,allgemein!$I$11),7,IF(ISBLANK(allgemein!$I$12),allgemein!O39,allgemein!$I$12),8,IF(ISBLANK(allgemein!$I$13),allgemein!O39,allgemein!$I$13),IF(ISBLANK(allgemein!O39),\"\",allgemein!O39))","v":{"$error":"#NAME?"}},{"$f":"_xlfn.SWITCH(allgemein!P39,1,IF(ISBLANK(allgemein!$F$10),allgemein!P39,allgemein!$F$10),2,IF(ISBLANK(allgemein!$F$11),allgemein!P39,allgemein!$F$11),3,IF(ISBLANK(allgemein!$F$12),allgemein!P39,allgemein!$F$12),4,IF(ISBLANK(allgemein!$F$13),allgemein!P39,allgemein!$F$13),5,IF(ISBLANK(allgemein!$I$10),allgemein!P39,allgemein!$I$10),6,IF(ISBLANK(allgemein!$I$11),allgemein!P39,allgemein!$I$11),7,IF(ISBLANK(allgemein!$I$12),allgemein!P39,allgemein!$I$12),8,IF(ISBLANK(allgemein!$I$13),allgemein!P39,allgemein!$I$13),IF(ISBLANK(allgemein!P39),\"\",allgemein!P39))","v":{"$error":"#NAME?"}},{"$f":"IF(ISBLANK(allgemein!Q39),\"\",allgemein!Q39)","v":""},{"$f":"IF(ISBLANK(allgemein!R39),\"\",allgemein!R39)","v":""},{"$f":"IF(ISBLANK(allgemein!S39),\"\",allgemein!S39)","v":""},{"$f":"IF(ISBLANK(allgemein!U39),\"\",allgemein!U39)","v":""}]
[{"$f":"IF(ISBLANK(allgemein!D40),\"\",allgemein!D40)","v":23},{"$f":"IF(ISBLANK(allgemein!E40),\"\",allgemein!E40)","v":""},{"$f":"IF(ISBLANK(allgemein!C40),\"\",allgemein!C40)","v":" "},{"$f":"IF(ISBLANK(allgemein!H40),\"\",allgemein!H40)","v":""},{"$f":"IF(ISBLANK(allgemein!I40),\"\",allgemein!I40)","v":""},{"$f":"IF(ISBLANK(allgemein!J40),\"\",allgemein!J40)","v":""},{"$f":"IF(ISBLANK(allgemein!K40),\"\",allgemein!K40)","v":""},{"$f":"IF(ISBLANK(allgemein!F40),\"\",IF(ISBLANK(allgemein!L40),1,0))","v":""},{"$f":"_xlfn.SWITCH(allgemein!M40,1,IF(ISBLANK(allgemein!$F$10),allgemein!M40,allgemein!$F$10),2,IF(ISBLANK(allgemein!$F$11),allgemein!M40,allgemein!$F$11),3,IF(ISBLANK(allgemein!$F$12),allgemein!M40,allgemein!$F$12),4,IF(ISBLANK(allgemein!$F$13),allgemein!M40,allgemein!$F$13),5,IF(ISBLANK(allgemein!$I$10),allgemein!M40,allgemein!$I$10),6,IF(ISBLANK(allgemein!$I$11),allgemein!M40,allgemein!$I$11),7,IF(ISBLANK(allgemein!$I$12),allgemein!M40,allgemein!$I$12),8,IF(ISBLANK(allgemein!$I$13),allgemein!M40,allgemein!$I$13),IF(ISBLANK(allgemein!M40),\"\",allgemein!M40))","v":{"$error":"#NAME?"}},{"$f":"_xlfn.SWITCH(allgemein!N40,1,IF(ISBLANK(allgemein!$F$10),allgemein!N40,allgemein!$F$10),2,IF(ISBLANK(allgemein!$F$11),allgemein!N40,allgemein!$F$11),3,IF(ISBLANK(allgemein!$F$12),allgemein!N40,allgemein!$F$12),4,IF(ISBLANK(allgemein!$F$13),allgemein!N40,allgemein!$F$13),5,IF(ISBLANK(allgemein!$I$10),allgemein!N40,allgemein!$I$10),6,IF(ISBLANK(allgemein!$I$11),allgemein!N40,allgemein!$I$11),7,IF(ISBLANK(allgemein!$I$12),allgemein!N40,allgemein!$I$12),8,IF(ISBLANK(allgemein!$I$13),allgemein!N40,allgemein!$I$13),IF(ISBLANK(allgemein!N40),\"\",allgemein!N40))","v":{"$error":"#NAME?"}},{"$f":"_xlfn.SWITCH(allgemein!O40,1,IF(ISBLANK(allgemein!$F$10),allgemein!O40,allgemein!$F$10),2,IF(ISBLANK(allgemein!$F$11),allgemein!O40,allgemein!$F$11),3,IF(ISBLANK(allgemein!$F$12),allgemein!O40,allgemein!$F$12),4,IF(ISBLANK(allgemein!$F$13),allgemein!O40,allgemein!$F$13),5,IF(ISBLANK(allgemein!$I$10),allgemein!O40,allgemein!$I$10),6,IF(ISBLANK(allgemein!$I$11),allgemein!O40,allgemein!$I$11),7,IF(ISBLANK(allgemein!$I$12),allgemein!O40,allgemein!$I$12),8,IF(ISBLANK(allgemein!$I$13),allgemein!O40,allgemein!$I$13),IF(ISBLANK(allgemein!O40),\"\",allgemein!O40))","v":{"$error":"#NAME?"}},{"$f":"_xlfn.SWITCH(allgemein!P40,1,IF(ISBLANK(allgemein!$F$10),allgemein!P40,allgemein!$F$10),2,IF(ISBLANK(allgemein!$F$11),allgemein!P40,allgemein!$F$11),3,IF(ISBLANK(allgemein!$F$12),allgemein!P40,allgemein!$F$12),4,IF(ISBLANK(allgemein!$F$13),allgemein!P40,allgemein!$F$13),5,IF(ISBLANK(allgemein!$I$10),allgemein!P40,allgemein!$I$10),6,IF(ISBLANK(allgemein!$I$11),allgemein!P40,allgemein!$I$11),7,IF(ISBLANK(allgemein!$I$12),allgemein!P40,allgemein!$I$12),8,IF(ISBLANK(allgemein!$I$13),allgemein!P40,allgemein!$I$13),IF(ISBLANK(allgemein!P40),\"\",allgemein!P40))","v":{"$error":"#NAME?"}},{"$f":"IF(ISBLANK(allgemein!Q40),\"\",allgemein!Q40)","v":""},{"$f":"IF(ISBLANK(allgemein!R40),\"\",allgemein!R40)","v":""},{"$f":"IF(ISBLANK(allgemein!S40),\"\",allgemein!S40)","v":""},{"$f":"IF(ISBLANK(allgemein!U40),\"\",allgemein!U40)","v":""}]
[{"$f":"IF(ISBLANK(allgemein!D41),\"\",allgemein!D41)","v":24},{"$f":"IF(ISBLANK(allgemein!E41),\"\",allgemein!E41)","v":""},{"$f":"IF(ISBLANK(allgemein!C41),\"\",allgemein!C41)","v":" "},{"$f":"IF(ISBLANK(allgemein!H41),\"\",allgemein!H41)","v":""},{"$f":"IF(ISBLANK(allgemein!I41),\"\",allgemein!I41)","v":""},{"$f":"IF(ISBLANK(allgemein!J41),\"\",allgemein!J41)","v":""},{"$f":"IF(ISBLANK(allgemein!K41),\"\",allgemein!K41)","v":""},{"$f":"IF(ISBLANK(allgemein!F41),\"\",IF(ISBLANK(allgemein!L41),1,0))","v":""},{"$f":"_xlfn.SWITCH(allgemein!M41,1,IF(ISBLANK(allgemein!$F$10),allgemein!M41,allgemein!$F$10),2,IF(ISBLANK(allgemein!$F$11),allgemein!M41,allgemein!$F$11),3,IF(ISBLANK(allgemein!$F$12),allgemein!M41,allgemein!$F$12),4,IF(ISBLANK(allgemein!$F$13),allgemein!M41,allgemein!$F$13),5,IF(ISBLANK(allgemein!$I$10),allgemein!M41,allgemein!$I$10),6,IF(ISBLANK(allgemein!$I$11),allgemein!M41,allgemein!$I$11),7,IF(ISBLANK(allgemein!$I$12),allgemein!M41,allgemein!$I$12),8,IF(ISBLANK(allgemein!$I$13),allgemein!M41,allgemein!$I$13),IF(ISBLANK(allgemein!M41),\"\",allgemein!M41))","v":{"$error":"#NAME?"}},{"$f":"_xlfn.SWITCH(allgemein!N41,1,IF(ISBLANK(allgemein!$F$10),allgemein!N41,allgemein!$F$10),2,IF(ISBLANK(allgemein!$F$11),allgemein!N41,allgemein!$F$11),3,IF(ISBLANK(allgemein!$F$12),allgemein!N41,allgemein!$F$12),4,IF(ISBLANK(allgemein!$F$13),allgemein!N41,allgemein!$F$13),5,IF(ISBLANK(allgemein!$I$10),allgemein!N41,allgemein!$I$10),6,IF(ISBLANK(allgemein!$I$11),allgemein!N41,allgemein!$I$11),7,IF(ISBLANK(allgemein!$I$12),allgemein!N41,allgemein!$I$12),8,IF(ISBLANK(allgemein!$I$13),allgemein!N41,allgemein!$I$13),IF(ISBLANK(allgemein!N41),\"\",allgemein!N41))","v":{"$error":"#NAME?"}},{"$f":"_xlfn.SWITCH(allgemein!O41,1,IF(ISBLANK(allgemein!$F$10),allgemein!O41,allgemein!$F$10),2,IF(ISBLANK(allgemein!$F$11),allgemein!O41,allgemein!$F$11),3,IF(ISBLANK(allgemein!$F$12),allgemein!O41,allgemein!$F$12),4,IF(ISBLANK(allgemein!$F$13),allgemein!O41,allgemein!$F$13),5,IF(ISBLANK(allgemein!$I$10),allgemein!O41,allgemein!$I$10),6,IF(ISBLANK(allgemein!$I$11),allgemein!O41,allgemein!$I$11),7,IF(ISBLANK(allgemein!$I$12),allgemein!O41,allgemein!$I$12),8,IF(ISBLANK(allgemein!$I$13),allgemein!O41,allgemein!$I$13),IF(ISBLANK(allgemein!O41),\"\",allgemein!O41))","v":{"$error":"#NAME?"}},{"$f":"_xlfn.SWITCH(allgemein!P41,1,IF(ISBLANK(allgemein!$F$10),allgemein!P41,allgemein!$F$10),2,IF(ISBLANK(allgemein!$F$11),allgemein!P41,allgemein!$F$11),3,IF(ISBLANK(allgemein!$F$12),allgemein!P41,allgemein!$F$12),4,IF(ISBLANK(allgemein!$F$13),allgemein!P41,allgemein!$F$13),5,IF(ISBLANK(allgemein!$I$10),allgemein!P41,allgemein!$I$10),6,IF(ISBLANK(allgemein!$I$11),allgemein!P41,allgemein!$I$11),7,IF(ISBLANK(allgemein!$I$12),allgemein!P41,allgemein!$I$12),8,IF(ISBLANK(allgemein!$I$13),allgemein!P41,allgemein!$I$13),IF(ISBLANK(allgemein!P41),\"\",allgemein!P41))","v":{"$error":"#NAME?"}},{"$f":"IF(ISBLANK(allgemein!Q41),\"\",allgemein!Q41)","v":""},{"$f":"IF(ISBLANK(allgemein!R41),\"\",allgemein!R41)","v":""},{"$f":"IF(ISBLANK(allgemein!S41),\"\",allgemein!S41)","v":""},{"$f":"IF(ISBLANK(allgemein!U41),\"\",allgemein!U41)","v":""}]
[{"$f":"IF(ISBLANK(allgemein!D42),\"\",allgemein!D42)","v":25},{"$f":"IF(ISBLANK(allgemein!E42),\"\",allgemein!E42)","v":""},{"$f":"IF(ISBLANK(allgemein!C42),\"\",allgemein!C42)","v":" "},{"$f":"IF(ISBLANK(allgemein!H42),\"\",allgemein!H42)","v":""},{"$f":"IF(ISBLANK(allgemein!I42),\"\",allgemein!I42)","v":""},{"$f":"IF(ISBLANK(allgemein!J42),\"\",allgemein!J42)","v":""},{"$f":"IF(ISBLANK(allgemein!K42),\"\",allgemein!K42)","v":""},{"$f":"IF(ISBLANK(allgemein!F42),\"\",IF(ISBLANK(allgemein!L42),1,0))","v":""},{"$f":"_xlfn.SWITCH(allgemein!M42,1,IF(ISBLANK(allgemein!$F$10),allgemein!M42,allgemein!$F$10),2,IF(ISBLANK(allgemein!$F$11),allgemein!M42,allgemein!$F$11),3,IF(ISBLANK(allgemein!$F$12),allgemein!M42,allgemein!$F$12),4,IF(ISBLANK(allgemein!$F$13),allgemein!M42,allgemein!$F$13),5,IF(ISBLANK(allgemein!$I$10),allgemein!M42,allgemein!$I$10),6,IF(ISBLANK(allgemein!$I$11),allgemein!M42,allgemein!$I$11),7,IF(ISBLANK(allgemein!$I$12),allgemein!M42,allgemein!$I$12),8,IF(ISBLANK(allgemein!$I$13),allgemein!M42,allgemein!$I$13),IF(ISBLANK(allgemein!M42),\"\",allgemein!M42))","v":{"$error":"#NAME?"}},{"$f":"_xlfn.SWITCH(allgemein!N42,1,IF(ISBLANK(allgemein!$F$10),allgemein!N42,allgemein!$F$10),2,IF(ISBLANK(allgemein!$F$11),allgemein!N42,allgemein!$F$11),3,IF(ISBLANK(allgemein!$F$12),allgemein!N42,allgemein!$F$12),4,IF(ISBLANK(allgemein!$F$13),allgemein!N42,allgemein!$F$13),5,IF(ISBLANK(allgemein!$I$10),allgemein!N42,allgemein!$I$10),6,IF(ISBLANK(allgemein!$I$11),allgemein!N42,allgemein!$I$11),7,IF(ISBLANK(allgemein!$I$12),allgemein!N42,allgemein!$I$12),8,IF(ISBLANK(allgemein!$I$13),allgemein!N42,allgemein!$I$13),IF(ISBLANK(allgemein!N42),\"\",allgemein!N42))","v":{"$error":"#NAME?"}},{"$f":"_xlfn.SWITCH(allgemein!O42,1,IF(ISBLANK(allgemein!$F$10),allgemein!O42,allgemein!$F$10),2,IF(ISBLANK(allgemein!$F$11),allgemein!O42,allgemein!$F$11),3,IF(ISBLANK(allgemein!$F$12),allgemein!O42,allgemein!$F$12),4,IF(ISBLANK(allgemein!$F$13),allgemein!O42,allgemein!$F$13),5,IF(ISBLANK(allgemein!$I$10),allgemein!O42,allgemein!$I$10),6,IF(ISBLANK(allgemein!$I$11),allgemein!O42,allgemein!$I$11),7,IF(ISBLANK(allgemein!$I$12),allgemein!O42,allgemein!$I$12),8,IF(ISBLANK(allgemein!$I$13),allgemein!O42,allgemein!$I$13),IF(ISBLANK(allgemein!O42),\"\",allgemein!O42))","v":{"$error":"#NAME?"}},{"$f":"_xlfn.SWITCH(allgemein!P42,1,IF(ISBLANK(allgemein!$F$10),allgemein!P42,allgemein!$F$10),2,IF(ISBLANK(allgemein!$F$11),allgemein!P42,allgemein!$F$11),3,IF(ISBLANK(allgemein!$F$12),allgemein!P42,allgemein!$F$12),4,IF(ISBLANK(allgemein!$F$13),allgemein!P42,allgemein!$F$13),5,IF(ISBLANK(allgemein!$I$10),allgemein!P42,allgemein!$I$10),6,IF(ISBLANK(allgemein!$I$11),allgemein!P42,allgemein!$I$11),7,IF(ISBLANK(allgemein!$I$12),allgemein!P42,allgemein!$I$12),8,IF(ISBLANK(allgemein!$I$13),allgemein!P42,allgemein!$I$13),IF(ISBLANK(allgemein!P42),\"\",allgemein!P42))","v":{"$error":"#NAME?"}},{"$f":"IF(ISBLANK(allgemein!Q42),\"\",allgemein!Q42)","v":""},{"$f":"IF(ISBLANK(allgemein!R42),\"\",allgemein!R42)","v":""},{"$f":"IF(ISBLANK(allgemein!S42),\"\",allgemein!S42)","v":""},{"$f":"IF(ISBLANK(allgemein!U42),\"\",allgemein!U42)","v":""}]
[{"$f":"IF(ISBLANK(allgemein!D43),\"\",allgemein!D43)","v":26},{"$f":"IF(ISBLANK(allgemein!E43),\"\",allgemein!E43)","v":""},{"$f":"IF(ISBLANK(allgemein!C43),\"\",allgemein!C43)","v":" "},{"$f":"IF(ISBLANK(allgemein!H43),\"\",allgemein!H43)","v":""},{"$f":"IF(ISBLANK(allgemein!I43),\"\",allgemein!I43)","v":""},{"$f":"IF(ISBLANK(allgemein!J43),\"\",allgemein!J43)","v":""},{"$f":"IF(ISBLANK(allgemein!K43),\"\",allgemein!K43)","v":""},{"$f":"IF(ISBLANK(allgemein!F43),\"\",IF(ISBLANK(allgemein!L43),1,0))","v":""},{"$f":"_xlfn.SWITCH(allgemein!M43,1,IF(ISBLANK(allgemein!$F$10),allgemein!M43,allgemein!$F$10),2,IF(ISBLANK(allgemein!$F$11),allgemein!M43,allgemein!$F$11),3,IF(ISBLANK(allgemein!$F$12),allgemein!M43,allgemein!$F$12),4,IF(ISBLANK(allgemein!$F$13),allgemein!M43,allgemein!$F$13),5,IF(ISBLANK(allgemein!$I$10),allgemein!M43,allgemein!$I$10),6,IF(ISBLANK(allgemein!$I$11),allgemein!M43,allgemein!$I$11),7,IF(ISBLANK(allgemein!$I$12),allgemein!M43,allgemein!$I$12),8,IF(ISBLANK(allgemein!$I$13),allgemein!M43,allgemein!$I$13),IF(ISBLANK(allgemein!M43),\"\",allgemein!M43))","v":{"$error":"#NAME?"}},{"$f":"_xlfn.SWITCH(allgemein!N43,1,IF(ISBLANK(allgemein!$F$10),allgemein!N43,allgemein!$F$10),2,IF(ISBLANK(allgemein!$F$11),allgemein!N43,allgemein!$F$11),3,IF(ISBLANK(allgemein!$F$12),allgemein!N43,allgemein!$F$12),4,IF(ISBLANK(allgemein!$F$13),allgemein!N43,allgemein!$F$13),5,IF(ISBLANK(allgemein!$I$10),allgemein!N43,allgemein!$I$10),6,IF(ISBLANK(allgemein!$I$11),allgemein!N43,allgemein!$I$11),7,IF(ISBLANK(allgemein!$I$12),allgemein!N43,allgemein!$I$12),8,IF(ISBLANK(allgemein!$I$13),allgemein!N43,allgemein!$I$13),IF(ISBLANK(allgemein!N43),\"\",allgemein!N43))","v":{"$error":"#NAME?"}},{"$f":"_xlfn.SWITCH(allgemein!O43,1,IF(ISBLANK(allgemein!$F$10),allgemein!O43,allgemein!$F$10),2,IF(ISBLANK(allgemein!$F$11),allgemein!O43,allgemein!$F$11),3,IF(ISBLANK(allgemein!$F$12),allgemein!O43,allgemein!$F$12),4,IF(ISBLANK(allgemein!$F$13),allgemein!O43,allgemein!$F$13),5,IF(ISBLANK(allgemein!$I$10),allgemein!O43,allgemein!$I$10),6,IF(ISBLANK(allgemein!$I$11),allgemein!O43,allgemein!$I$11),7,IF(ISBLANK(allgemein!$I$12),allgemein!O43,allgemein!$I$12),8,IF(ISBLANK(allgemein!$I$13),allgemein!O43,allgemein!$I$13),IF(ISBLANK(allgemein!O43),\"\",allgemein!O43))","v":{"$error":"#NAME?"}},{"$f":"_xlfn.SWITCH(allgemein!P43,1,IF(ISBLANK(allgemein!$F$10),allgemein!P43,allgemein!$F$10),2,IF(ISBLANK(allgemein!$F$11),allgemein!P43,allgemein!$F$11),3,IF(ISBLANK(allgemein!$F$12),allgemein!P43,allgemein!$F$12),4,IF(ISBLANK(allgemein!$F$13),allgemein!P43,allgemein!$F$13),5,IF(ISBLANK(allgemein!$I$10),allgemein!P43,allgemein!$I$10),6,IF(ISBLANK(allgemein!$I$11),allgemein!P43,allgemein!$I$11),7,IF(ISBLANK(allgemein!$I$12),allgemein!P43,allgemein!$I$12),8,IF(ISBLANK(allgemein!$I$13),allgemein!P43,allgemein!$I$13),IF(ISBLANK(allgemein!P43),\"\",allgemein!P43))","v":{"$error":"#NAME?"}},{"$f":"IF(ISBLANK(allgemein!Q43),\"\",allgemein!Q43)","v":""},{"$f":"IF(ISBLANK(allgemein!R43),\"\",allgemein!R43)","v":""},{"$f":"IF(ISBLANK(allgemein!S43),\"\",allgemein!S43)","v":""},{"$f":"IF(ISBLANK(allgemein!U43),\"\",allgemein!U43)","v":""}]
[{"$f":"IF(ISBLANK(allgemein!D44),\"\",allgemein!D44)","v":27},{"$f":"IF(ISBLANK(allgemein!E44),\"\",allgemein!E44)","v":""},{"$f":"IF(ISBLANK(allgemein!C44),\"\",allgemein!C44)","v":" "},{"$f":"IF(ISBLANK(allgemein!H44),\"\",allgemein!H44)","v":""},{"$f":"IF(ISBLANK(allgemein!I44),\"\",allgemein!I44)","v":""},{"$f":"IF(ISBLANK(allgemein!J44),\"\",allgemein!J44)","v":""},{"$f":"IF(ISBLANK(allgemein!K44),\"\",allgemein!K44)","v":""},{"$f":"IF(ISBLANK(allgemein!F44),\"\",IF(ISBLANK(allgemein!L44),1,0))","v":""},{"$f":"_xlfn.SWITCH(allgemein!M44,1,IF(ISBLANK(allgemein!$F$10),allgemein!M44,allgemein!$F$10),2,IF(ISBLANK(allgemein!$F$11),allgemein!M44,allgemein!$F$11),3,IF(ISBLANK(allgemein!$F$12),allgemein!M44,allgemein!$F$12),4,IF(ISBLANK(allgemein!$F$13),allgemein!M44,allgemein!$F$13),5,IF(ISBLANK(allgemein!$I$10),allgemein!M44,allgemein!$I$10),6,IF(ISBLANK(allgemein!$I$11),allgemein!M44,allgemein!$I$11),7,IF(ISBLANK(allgemein!$I$12),allgemein!M44,allgemein!$I$12),8,IF(ISBLANK(allgemein!$I$13),allgemein!M44,allgemein!$I$13),IF(ISBLANK(allgemein!M44),\"\",allgemein!M44))","v":{"$error":"#NAME?"}},{"$f":"_xlfn.SWITCH(allgemein!N44,1,IF(ISBLANK(allgemein!$F$10),allgemein!N44,allgemein!$F$10),2,IF(ISBLANK(allgemein!$F$11),allgemein!N44,allgemein!$F$11),3,IF(ISBLANK(allgemein!$F$12),allgemein!N44,allgemein!$F$12),4,IF(ISBLANK(allgemein!$F$13),allgemein!N44,allgemein!$F$13),5,IF(ISBLANK(allgemein!$I$10),allgemein!N44,allgemein!$I$10),6,IF(ISBLANK(allgemein!$I$11),allgemein!N44,allgemein!$I$11),7,IF(ISBLANK(allgemein!$I$12),allgemein!N44,allgemein!$I$12),8,IF(ISBLANK(allgemein!$I$13),allgemein!N44,allgemein!$I$13),IF(ISBLANK(allgemein!N44),\"\",allgemein!N44))","v":{"$error":"#NAME?"}},{"$f":"_xlfn.SWITCH(allgemein!O44,1,IF(ISBLANK(allgemein!$F$10),allgemein!O44,allgemein!$F$10),2,IF(ISBLANK(allgemein!$F$11),allgemein!O44,allgemein!$F$11),3,IF(ISBLANK(allgemein!$F$12),allgemein!O44,allgemein!$F$12),4,IF(ISBLANK(allgemein!$F$13),allgemein!O44,allgemein!$F$13),5,IF(ISBLANK(allgemein!$I$10),allgemein!O44,allgemein!$I$10),6,IF(ISBLANK(allgemein!$I$11),allgemein!O44,allgemein!$I$11),7,IF(ISBLANK(allgemein!$I$12),allgemein!O44,allgemein!$I$12),8,IF(ISBLANK(allgemein!$I$13),allgemein!O44,allgemein!$I$13),IF(ISBLANK(allgemein!O44),\"\",allgemein!O44))","v":{"$error":"#NAME?"}},{"$f":"_xlfn.SWITCH(allgemein!P44,1,IF(ISBLANK(allgemein!$F$10),allgemein!P44,allgemein!$F$10),2,IF(ISBLANK(allgemein!$F$11),allgemein!P44,allgemein!$F$11),3,IF(ISBLANK(allgemein!$F$12),allgemein!P44,allgemein!$F$12),4,IF(ISBLANK(allgemein!$F$13),allgemein!P44,allgemein!$F$13),5,IF(ISBLANK(allgemein!$I$10),allgemein!P44,allgemein!$I$10),6,IF(ISBLANK(allgemein!$I$11),allgemein!P44,allgemein!$I$11),7,IF(ISBLANK(allgemein!$I$12),allgemein!P44,allgemein!$I$12),8,IF(ISBLANK(allgemein!$I$13),allgemein!P44,allgemein!$I$13),IF(ISBLANK(allgemein!P44),\"\",allgemein!P44))","v":{"$error":"#NAME?"}},{"$f":"IF(ISBLANK(allgemein!Q44),\"\",allgemein!Q44)","v":""},{"$f":"IF(ISBLANK(allgemein!R44),\"\",allgemein!R44)","v":""},{"$f":"IF(ISBLANK(allgemein!S44),\"\",allgemein!S44)","v":""},{"$f":"IF(ISBLANK(allgemein!U44),\"\",allgemein!U44)","v":""}]
[{"$f":"IF(ISBLANK(allgemein!D45),\"\",allgemein!D45)","v":28},{"$f":"IF(ISBLANK(allgemein!E45),\"\",allgemein!E45)","v":""},{"$f":"IF(ISBLANK(allgemein!C45),\"\",allgemein!C45)","v":" "},{"$f":"IF(ISBLANK(allgemein!H45),\"\",allgemein!H45)","v":""},{"$f":"IF(ISBLANK(allgemein!I45),\"\",allgemein!I45)","v":""},{"$f":"IF(ISBLANK(allgemein!J45),\"\",allgemein!J45)","v":""},{"$f":"IF(ISBLANK(allgemein!K45),\"\",allgemein!K45)","v":""},{"$f":"IF(ISBLANK(allgemein!F45),\"\",IF(ISBLANK(allgemein!L45),1,0))","v":""},{"$f":"_xlfn.SWITCH(allgemein!M45,1,IF(ISBLANK(allgemein!$F$10),allgemein!M45,allgemein!$F$10),2,IF(ISBLANK(allgemein!$F$11),allgemein!M45,allgemein!$F$11),3,IF(ISBLANK(allgemein!$F$12),allgemein!M45,allgemein!$F$12),4,IF(ISBLANK(allgemein!$F$13),allgemein!M45,allgemein!$F$13),5,IF(ISBLANK(allgemein!$I$10),allgemein!M45,allgemein!$I$10),6,IF(ISBLANK(allgemein!$I$11),allgemein!M45,allgemein!$I$11),7,IF(ISBLANK(allgemein!$I$12),allgemein!M45,allgemein!$I$12),8,IF(ISBLANK(allgemein!$I$13),allgemein!M45,allgemein!$I$13),IF(ISBLANK(allgemein!M45),\"\",allgemein!M45))","v":{"$error":"#NAME?"}},{"$f":"_xlfn.SWITCH(allgemein!N45,1,IF(ISBLANK(allgemein!$F$10),allgemein!N45,allgemein!$F$10),2,IF(ISBLANK(allgemein!$F$11),allgemein!N45,allgemein!$F$11),3,IF(ISBLANK(allgemein!$F$12),allgemein!N45,allgemein!$F$12),4,IF(ISBLANK(allgemein!$F$13),allgemein!N45,allgemein!$F$13),5,IF(ISBLANK(allgemein!$I$10),allgemein!N45,allgemein!$I$10),6,IF(ISBLANK(allgemein!$I$11),allgemein!N45,allgemein!$I$11),7,IF(ISBLANK(allgemein!$I$12),allgemein!N45,allgemein!$I$12),8,IF(ISBLANK(allgemein!$I$13),allgemein!N45,allgemein!$I$13),IF(ISBLANK(allgemein!N45),\"\",allgemein!N45))","v":{"$error":"#NAME?"}},{"$f":"_xlfn.SWITCH(allgemein!O45,1,IF(ISBLANK(allgemein!$F$10),allgemein!O45,allgemein!$F$10),2,IF(ISBLANK(allgemein!$F$11),allgemein!O45,allgemein!$F$11),3,IF(ISBLANK(allgemein!$F$12),allgemein!O45,allgemein!$F$12),4,IF(ISBLANK(allgemein!$F$13),allgemein!O45,allgemein!$F$13),5,IF(ISBLANK(allgemein!$I$10),allgemein!O45,allgemein!$I$10),6,IF(ISBLANK(allgemein!$I$11),allgemein!O45,allgemein!$I$11),7,IF(ISBLANK(allgemein!$I$12),allgemein!O45,allgemein!$I$12),8,IF(ISBLANK(allgemein!$I$13),allgemein!O45,allgemein!$I$13),IF(ISBLANK(allgemein!O45),\"\",allgemein!O45))","v":{"$error":"#NAME?"}},{"$f":"_xlfn.SWITCH(allgemein!P45,1,IF(ISBLANK(allgemein!$F$10),allgemein!P45,allgemein!$F$10),2,IF(ISBLANK(allgemein!$F$11),allgemein!P45,allgemein!$F$11),3,IF(ISBLANK(allgemein!$F$12),allgemein!P45,allgemein!$F$12),4,IF(ISBLANK(allgemein!$F$13),allgemein!P45,allgemein!$F$13),5,IF(ISBLANK(allgemein!$I$10),allgemein!P45,allgemein!$I$10),6,IF(ISBLANK(allgemein!$I$11),allgemein!P45,allgemein!$I$11),7,IF(ISBLANK(allgemein!$I$12),allgemein!P45,allgemein!$I$12),8,IF(ISBLANK(allgemein!$I$13),allgemein!P45,allgemein!$I$13),IF(ISBLANK(allgemein!P45),\"\",allgemein!P45))","v":{"$error":"#NAME?"}},{"$f":"IF(ISBLANK(allgemein!Q45),\"\",allgemein!Q45)","v":""},{"$f":"IF(ISBLANK(allgemein!R45),\"\",allgemein!R45)","v":""},{"$f":"IF(ISBLANK(allgemein!S45),\"\",allgemein!S45)","v":""},{"$f":"IF(ISBLANK(allgemein!U45),\"\",allgemein!U45)","v":""}]
[{"$f":"IF(ISBLANK(allgemein!D46),\"\",allgemein!D46)","v":29},{"$f":"IF(ISBLANK(allgemein!E46),\"\",allgemein!E46)","v":""},{"$f":"IF(ISBLANK(allgemein!C46),\"\",allgemein!C46)","v":" "},{"$f":"IF(ISBLANK(allgemein!H46),\"\",allgemein!H46)","v":""},{"$f":"IF(ISBLANK(allgemein!I46),\"\",allgemein!I46)","v":""},{"$f":"IF(ISBLANK(allgemein!J46),\"\",allgemein!J46)","v":""},{"$f":"IF(ISBLANK(allgemein!K46),\"\",allgemein!K46)","v":""},{"$f":"IF(ISBLANK(allgemein!F46),\"\",IF(ISBLANK(allgemein!L46),1,0))","v":""},{"$f":"_xlfn.SWITCH(allgemein!M46,1,IF(ISBLANK(allgemein!$F$10),allgemein!M46,allgemein!$F$10),2,IF(ISBLANK(allgemein!$F$11),allgemein!M46,allgemein!$F$11),3,IF(ISBLANK(allgemein!$F$12),allgemein!M46,allgemein!$F$12),4,IF(ISBLANK(allgemein!$F$13),allgemein!M46,allgemein!$F$13),5,IF(ISBLANK(allgemein!$I$10),allgemein!M46,allgemein!$I$10),6,IF(ISBLANK(allgemein!$I$11),allgemein!M46,allgemein!$I$11),7,IF(ISBLANK(allgemein!$I$12),allgemein!M46,allgemein!$I$12),8,IF(ISBLANK(allgemein!$I$13),allgemein!M46,allgemein!$I$13),IF(ISBLANK(allgemein!M46),\"\",allgemein!M46))","v":{"$error":"#NAME?"}},{"$f":"_xlfn.SWITCH(allgemein!N46,1,IF(ISBLANK(allgemein!$F$10),allgemein!N46,allgemein!$F$10),2,IF(ISBLANK(allgemein!$F$11),allgemein!N46,allgemein!$F$11),3,IF(ISBLANK(allgemein!$F$12),allgemein!N46,allgemein!$F$12),4,IF(ISBLANK(allgemein!$F$13),allgemein!N46,allgemein!$F$13),5,IF(ISBLANK(allgemein!$I$10),allgemein!N46,allgemein!$I$10),6,IF(ISBLANK(allgemein!$I$11),allgemein!N46,allgemein!$I$11),7,IF(ISBLANK(allgemein!$I$12),allgemein!N46,allgemein!$I$12),8,IF(ISBLANK(allgemein!$I$13),allgemein!N46,allgemein!$I$13),IF(ISBLANK(allgemein!N46),\"\",allgemein!N46))","v":{"$error":"#NAME?"}},{"$f":"_xlfn.SWITCH(allgemein!O46,1,IF(ISBLANK(allgemein!$F$10),allgemein!O46,allgemein!$F$10),2,IF(ISBLANK(allgemein!$F$11),allgemein!O46,allgemein!$F$11),3,IF(ISBLANK(allgemein!$F$12),allgemein!O46,allgemein!$F$12),4,IF(ISBLANK(allgemein!$F$13),allgemein!O46,allgemein!$F$13),5,IF(ISBLANK(allgemein!$I$10),allgemein!O46,allgemein!$I$10),6,IF(ISBLANK(allgemein!$I$11),allgemein!O46,allgemein!$I$11),7,IF(ISBLANK(allgemein!$I$12),allgemein!O46,allgemein!$I$12),8,IF(ISBLANK(allgemein!$I$13),allgemein!O46,allgemein!$I$13),IF(ISBLANK(allgemein!O46),\"\",allgemein!O46))","v":{"$error":"#NAME?"}},{"$f":"_xlfn.SWITCH(allgemein!P46,1,IF(ISBLANK(allgemein!$F$10),allgemein!P46,allgemein!$F$10),2,IF(ISBLANK(allgemein!$F$11),allgemein!P46,allgemein!$F$11),3,IF(ISBLANK(allgemein!$F$12),allgemein!P46,allgemein!$F$12),4,IF(ISBLANK(allgemein!$F$13),allgemein!P46,allgemein!$F$13),5,IF(ISBLANK(allgemein!$I$10),allgemein!P46,allgemein!$I$10),6,IF(ISBLANK(allgemein!$I$11),allgemein!P46,allgemein!$I$11),7,IF(ISBLANK(allgemein!$I$12),allgemein!P46,allgemein!$I$12),8,IF(ISBLANK(allgemein!$I$13),allgemein!P46,allgemein!$I$13),IF(ISBLANK(allgemein!P46),\"\",allgemein!P46))","v":{"$error":"#NAME?"}},{"$f":"IF(ISBLANK(allgemein!Q46),\"\",allgemein!Q46)","v":""},{"$f":"IF(ISBLANK(allgemein!R46),\"\",allgemein!R46)","v":""},{"$f":"IF(ISBLANK(allgemein!S46),\"\",allgemein!S46)","v":""},{"$f":"IF(ISBLANK(allgemein!U46),\"\",allgemein!U46)","v":""}]
[{"$f":"IF(ISBLANK(allgemein!D47),\"\",allgemein!D47)","v":30},{"$f":"IF(ISBLANK(allgemein!E47),\"\",allgemein!E47)","v":""},{"$f":"IF(ISBLANK(allgemein!C47),\"\",allgemein!C47)","v":" "},{"$f":"IF(ISBLANK(allgemein!H47),\"\",allgemein!H47)","v":""},{"$f":"IF(ISBLANK(allgemein!I47),\"\",allgemein!I47)","v":""},{"$f":"IF(ISBLANK(allgemein!J47),\"\",allgemein!J47)","v":""},{"$f":"IF(ISBLANK(allgemein!K47),\"\",allgemein!K47)","v":""},{"$f":"IF(ISBLANK(allgemein!F47),\"\",IF(ISBLANK(allgemein!L47),1,0))","v":""},{"$f":"_xlfn.SWITCH(allgemein!M47,1,IF(ISBLANK(allgemein!$F$10),allgemein!M47,allgemein!$F$10),2,IF(ISBLANK(allgemein!$F$11),allgemein!M47,allgemein!$F$11),3,IF(ISBLANK(allgemein!$F$12),allgemein!M47,allgemein!$F$12),4,IF(ISBLANK(allgemein!$F$13),allgemein!M47,allgemein!$F$13),5,IF(ISBLANK(allgemein!$I$10),allgemein!M47,allgemein!$I$10),6,IF(ISBLANK(allgemein!$I$11),allgemein!M47,allgemein!$I$11),7,IF(ISBLANK(allgemein!$I$12),allgemein!M47,allgemein!$I$12),8,IF(ISBLANK(allgemein!$I$13),allgemein!M47,allgemein!$I$13),IF(ISBLANK(allgemein!M47),\"\",allgemein!M47))","v":{"$error":"#NAME?"}},{"$f":"_xlfn.SWITCH(allgemein!N47,1,IF(ISBLANK(allgemein!$F$10),allgemein!N47,allgemein!$F$10),2,IF(ISBLANK(allgemein!$F$11),allgemein!N47,allgemein!$F$11),3,IF(ISBLANK(allgemein!$F$12),allgemein!N47,allgemein!$F$12),4,IF(ISBLANK(allgemein!$F$13),allgemein!N47,allgemein!$F$13),5,IF(ISBLANK(allgemein!$I$10),allgemein!N47,allgemein!$I$10),6,IF(ISBLANK(allgemein!$I$11),allgemein!N47,allgemein!$I$11),7,IF(ISBLANK(allgemein!$I$12),allgemein!N47,allgemein!$I$12),8,IF(ISBLANK(allgemein!$I$13),allgemein!N47,allgemein!$I$13),IF(ISBLANK(allgemein!N47),\"\",allgemein!N47))","v":{"$error":"#NAME?"}},{"$f":"_xlfn.SWITCH(allgemein!O47,1,IF(ISBLANK(allgemein!$F$10),allgemein!O47,allgemein!$F$10),2,IF(ISBLANK(allgemein!$F$11),allgemein!O47,allgemein!$F$11),3,IF(ISBLANK(allgemein!$F$12),allgemein!O47,allgemein!$F$12),4,IF(ISBLANK(allgemein!$F$13),allgemein!O47,allgemein!$F$13),5,IF(ISBLANK(allgemein!$I$10),allgemein!O47,allgemein!$I$10),6,IF(ISBLANK(allgemein!$I$11),allgemein!O47,allgemein!$I$11),7,IF(ISBLANK(allgemein!$I$12),allgemein!O47,allgemein!$I$12),8,IF(ISBLANK(allgemein!$I$13),allgemein!O47,allgemein!$I$13),IF(ISBLANK(allgemein!O47),\"\",allgemein!O47))","v":{"$error":"#NAME?"}},{"$f":"_xlfn.SWITCH(allgemein!P47,1,IF(ISBLANK(allgemein!$F$10),allgemein!P47,allgemein!$F$10),2,IF(ISBLANK(allgemein!$F$11),allgemein!P47,allgemein!$F$11),3,IF(ISBLANK(allgemein!$F$12),allgemein!P47,allgemein!$F$12),4,IF(ISBLANK(allgemein!$F$13),allgemein!P47,allgemein!$F$13),5,IF(ISBLANK(allgemein!$I$10),allgemein!P47,allgemein!$I$10),6,IF(ISBLANK(allgemein!$I$11),allgemein!P47,allgemein!$I$11),7,IF(ISBLANK(allgemein!$I$12),allgemein!P47,allgemein!$I$12),8,IF(ISBLANK(allgemein!$I$13),allgemein!P47,allgemein!$I$13),IF(ISBLANK(allgemein!P47),\"\",allgemein!P47))","v":{"$error":"#NAME?"}},{"$f":"IF(ISBLANK(allgemein!Q47),\"\",allgemein!Q47)","v":""},{"$f":"IF(ISBLANK(allgemein!R47),\"\",allgemein!R47)","v":""},{"$f":"IF(ISBLANK(allgemein!S47),\"\",allgemein!S47)","v":""},{"$f":"IF(ISBLANK(allgemein!U47),\"\",allgemein!U47)","v":""}]
[{"$f":"IF(ISBLANK(allgemein!D48),\"\",allgemein!D48)","v":31},{"$f":"IF(ISBLANK(allgemein!E48),\"\",allgemein!E48)","v":""},{"$f":"IF(ISBLANK(allgemein!C48),\"\",allgemein!C48)","v":" "},{"$f":"IF(ISBLANK(allgemein!H48),\"\",allgemein!H48)","v":""},{"$f":"IF(ISBLANK(allgemein!I48),\"\",allgemein!I48)","v":""},{"$f":"IF(ISBLANK(allgemein!J48),\"\",allgemein!J48)","v":""},{"$f":"IF(ISBLANK(allgemein!K48),\"\",allgemein!K48)","v":""},{"$f":"IF(ISBLANK(allgemein!F48),\"\",IF(ISBLANK(allgemein!L48),1,0))","v":""},{"$f":"_xlfn.SWITCH(allgemein!M48,1,IF(ISBLANK(allgemein!$F$10),allgemein!M48,allgemein!$F$10),2,IF(ISBLANK(allgemein!$F$11),allgemein!M48,allgemein!$F$11),3,IF(ISBLANK(allgemein!$F$12),allgemein!M48,allgemein!$F$12),4,IF(ISBLANK(allgemein!$F$13),allgemein!M48,allgemein!$F$13),5,IF(ISBLANK(allgemein!$I$10),allgemein!M48,allgemein!$I$10),6,IF(ISBLANK(allgemein!$I$11),allgemein!M48,allgemein!$I$11),7,IF(ISBLANK(allgemein!$I$12),allgemein!M48,allgemein!$I$12),8,IF(ISBLANK(allgemein!$I$13),allgemein!M48,allgemein!$I$13),IF(ISBLANK(allgemein!M48),\"\",allgemein!M48))","v":{"$error":"#NAME?"}},{"$f":"_xlfn.SWITCH(allgemein!N48,1,IF(ISBLANK(allgemein!$F$10),allgemein!N48,allgemein!$F$10),2,IF(ISBLANK(allgemein!$F$11),allgemein!N48,allgemein!$F$11),3,IF(ISBLANK(allgemein!$F$12),allgemein!N48,allgemein!$F$12),4,IF(ISBLANK(allgemein!$F$13),allgemein!N48,allgemein!$F$13),5,IF(ISBLANK(allgemein!$I$10),allgemein!N48,allgemein!$I$10),6,IF(ISBLANK(allgemein!$I$11),allgemein!N48,allgemein!$I$11),7,IF(ISBLANK(allgemein!$I$12),allgemein!N48,allgemein!$I$12),8,IF(ISBLANK(allgemein!$I$13),allgemein!N48,allgemein!$I$13),IF(ISBLANK(allgemein!N48),\"\",allgemein!N48))","v":{"$error":"#NAME?"}},{"$f":"_xlfn.SWITCH(allgemein!O48,1,IF(ISBLANK(allgemein!$F$10),allgemein!O48,allgemein!$F$10),2,IF(ISBLANK(allgemein!$F$11),allgemein!O48,allgemein!$F$11),3,IF(ISBLANK(allgemein!$F$12),allgemein!O48,allgemein!$F$12),4,IF(ISBLANK(allgemein!$F$13),allgemein!O48,allgemein!$F$13),5,IF(ISBLANK(allgemein!$I$10),allgemein!O48,allgemein!$I$10),6,IF(ISBLANK(allgemein!$I$11),allgemein!O48,allgemein!$I$11),7,IF(ISBLANK(allgemein!$I$12),allgemein!O48,allgemein!$I$12),8,IF(ISBLANK(allgemein!$I$13),allgemein!O48,allgemein!$I$13),IF(ISBLANK(allgemein!O48),\"\",allgemein!O48))","v":{"$error":"#NAME?"}},{"$f":"_xlfn.SWITCH(allgemein!P48,1,IF(ISBLANK(allgemein!$F$10),allgemein!P48,allgemein!$F$10),2,IF(ISBLANK(allgemein!$F$11),allgemein!P48,allgemein!$F$11),3,IF(ISBLANK(allgemein!$F$12),allgemein!P48,allgemein!$F$12),4,IF(ISBLANK(allgemein!$F$13),allgemein!P48,allgemein!$F$13),5,IF(ISBLANK(allgemein!$I$10),allgemein!P48,allgemein!$I$10),6,IF(ISBLANK(allgemein!$I$11),allgemein!P48,allgemein!$I$11),7,IF(ISBLANK(allgemein!$I$12),allgemein!P48,allgemein!$I$12),8,IF(ISBLANK(allgemein!$I$13),allgemein!P48,allgemein!$I$13),IF(ISBLANK(allgemein!P48),\"\",allgemein!P48))","v":{"$error":"#NAME?"}},{"$f":"IF(ISBLANK(allgemein!Q48),\"\",allgemein!Q48)","v":""},{"$f":"IF(ISBLANK(allgemein!R48),\"\",allgemein!R48)","v":""},{"$f":"IF(ISBLANK(allgemein!S48),\"\",allgemein!S48)","v":""},{"$f":"IF(ISBLANK(allgemein!U48),\"\",allgemein!U48)","v":""}]
[{"$f":"IF(ISBLANK(allgemein!D49),\"\",allgemein!D49)","v":32},{"$f":"IF(ISBLANK(allgemein!E49),\"\",allgemein!E49)","v":""},{"$f":"IF(ISBLANK(allgemein!C49),\"\",allgemein!C49)","v":" "},{"$f":"IF(ISBLANK(allgemein!H49),\"\",allgemein!H49)","v":""},{"$f":"IF(ISBLANK(allgemein!I49),\"\",allgemein!I49)","v":""},{"$f":"IF(ISBLANK(allgemein!J49),\"\",allgemein!J49)","v":""},{"$f":"IF(ISBLANK(allgemein!K49),\"\",allgemein!K49)","v":""},{"$f":"IF(ISBLANK(allgemein!F49),\"\",IF(ISBLANK(allgemein!L49),1,0))","v":""},{"$f":"_xlfn.SWITCH(allgemein!M49,1,IF(ISBLANK(allgemein!$F$10),allgemein!M49,allgemein!$F$10),2,IF(ISBLANK(allgemein!$F$11),allgemein!M49,allgemein!$F$11),3,IF(ISBLANK(allgemein!$F$12),allgemein!M49,allgemein!$F$12),4,IF(ISBLANK(allgemein!$F$13),allgemein!M49,allgemein!$F$13),5,IF(ISBLANK(allgemein!$I$10),allgemein!M49,allgemein!$I$10),6,IF(ISBLANK(allgemein!$I$11),allgemein!M49,allgemein!$I$11),7,IF(ISBLANK(allgemein!$I$12),allgemein!M49,allgemein!$I$12),8,IF(ISBLANK(allgemein!$I$13),allgemein!M49,allgemein!$I$13),IF(ISBLANK(allgemein!M49),\"\",allgemein!M49))","v":{"$error":"#NAME?"}},{"$f":"_xlfn.SWITCH(allgemein!N49,1,IF(ISBLANK(allgemein!$F$10),allgemein!N49,allgemein!$F$10),2,IF(ISBLANK(allgemein!$F$11),allgemein!N49,allgemein!$F$11),3,IF(ISBLANK(allgemein!$F$12),allgemein!N49,allgemein!$F$12),4,IF(ISBLANK(allgemein!$F$13),allgemein!N49,allgemein!$F$13),5,IF(ISBLANK(allgemein!$I$10),allgemein!N49,allgemein!$I$10),6,IF(ISBLANK(allgemein!$I$11),allgemein!N49,allgemein!$I$11),7,IF(ISBLANK(allgemein!$I$12),allgemein!N49,allgemein!$I$12),8,IF(ISBLANK(allgemein!$I$13),allgemein!N49,allgemein!$I$13),IF(ISBLANK(allgemein!N49),\"\",allgemein!N49))","v":{"$error":"#NAME?"}},{"$f":"_xlfn.SWITCH(allgemein!O49,1,IF(ISBLANK(allgemein!$F$10),allgemein!O49,allgemein!$F$10),2,IF(ISBLANK(allgemein!$F$11),allgemein!O49,allgemein!$F$11),3,IF(ISBLANK(allgemein!$F$12),allgemein!O49,allgemein!$F$12),4,IF(ISBLANK(allgemein!$F$13),allgemein!O49,allgemein!$F$13),5,IF(ISBLANK(allgemein!$I$10),allgemein!O49,allgemein!$I$10),6,IF(ISBLANK(allgemein!$I$11),allgemein!O49,allgemein!$I$11),7,IF(ISBLANK(allgemein!$I$12),allgemein!O49,allgemein!$I$12),8,IF(ISBLANK(allgemein!$I$13),allgemein!O49,allgemein!$I$13),IF(ISBLANK(allgemein!O49),\"\",allgemein!O49))","v":{"$error":"#NAME?"}},{"$f":"_xlfn.SWITCH(allgemein!P49,1,IF(ISBLANK(allgemein!$F$10),allgemein!P49,allgemein!$F$10),2,IF(ISBLANK(allgemein!$F$11),allgemein!P49,allgemein!$F$11),3,IF(ISBLANK(allgemein!$F$12),allgemein!P49,allgemein!$F$12),4,IF(ISBLANK(allgemein!$F$13),allgemein!P49,allgemein!$F$13),5,IF(ISBLANK(allgemein!$I$10),allgemein!P49,allgemein!$I$10),6,IF(ISBLANK(allgemein!$I$11),allgemein!P49,allgemein!$I$11),7,IF(ISBLANK(allgemein!$I$12),allgemein!P49,allgemein!$I$12),8,IF(ISBLANK(allgemein!$I$13),allgemein!P49,allgemein!$I$13),IF(ISBLANK(allgemein!P49),\"\",allgemein!P49))","v":{"$error":"#NAME?"}},{"$f":"IF(ISBLANK(allgemein!Q49),\"\",allgemein!Q49)","v":""},{"$f":"IF(ISBLANK(allgemein!R49),\"\",allgemein!R49)","v":""},{"$f":"IF(ISBLANK(allgemein!S49),\"\",allgemein!S49)","v":""},{"$f":"IF(ISBLANK(allgemein!U49),\"\",allgemein!U49)","v":""}]
[{"$f":"IF(ISBLANK(allgemein!D50),\"\",allgemein!D50)","v":33},{"$f":"IF(ISBLANK(allgemein!E50),\"\",allgemein!E50)","v":""},{"$f":"IF(ISBLANK(allgemein!C50),\"\",allgemein!C50)","v":" "},{"$f":"IF(ISBLANK(allgemein!H50),\"\",allgemein!H50)","v":""},{"$f":"IF(ISBLANK(allgemein!I50),\"\",allgemein!I50)","v":""},{"$f":"IF(ISBLANK(allgemein!J50),\"\",allgemein!J50)","v":""},{"$f":"IF(ISBLANK(allgemein!K50),\"\",allgemein!K50)","v":""},{"$f":"IF(ISBLANK(allgemein!F50),\"\",IF(ISBLANK(allgemein!L50),1,0))","v":""},{"$f":"_xlfn.SWITCH(allgemein!M50,1,IF(ISBLANK(allgemein!$F$10),allgemein!M50,allgemein!$F$10),2,IF(ISBLANK(allgemein!$F$11),allgemein!M50,allgemein!$F$11),3,IF(ISBLANK(allgemein!$F$12),allgemein!M50,allgemein!$F$12),4,IF(ISBLANK(allgemein!$F$13),allgemein!M50,allgemein!$F$13),5,IF(ISBLANK(allgemein!$I$10),allgemein!M50,allgemein!$I$10),6,IF(ISBLANK(allgemein!$I$11),allgemein!M50,allgemein!$I$11),7,IF(ISBLANK(allgemein!$I$12),allgemein!M50,allgemein!$I$12),8,IF(ISBLANK(allgemein!$I$13),allgemein!M50,allgemein!$I$13),IF(ISBLANK(allgemein!M50),\"\",allgemein!M50))","v":{"$error":"#NAME?"}},{"$f":"_xlfn.SWITCH(allgemein!N50,1,IF(ISBLANK(allgemein!$F$10),allgemein!N50,allgemein!$F$10),2,IF(ISBLANK(allgemein!$F$11),allgemein!N50,allgemein!$F$11),3,IF(ISBLANK(allgemein!$F$12),allgemein!N50,allgemein!$F$12),4,IF(ISBLANK(allgemein!$F$13),allgemein!N50,allgemein!$F$13),5,IF(ISBLANK(allgemein!$I$10),allgemein!N50,allgemein!$I$10),6,IF(ISBLANK(allgemein!$I$11),allgemein!N50,allgemein!$I$11),7,IF(ISBLANK(allgemein!$I$12),allgemein!N50,allgemein!$I$12),8,IF(ISBLANK(allgemein!$I$13),allgemein!N50,allgemein!$I$13),IF(ISBLANK(allgemein!N50),\"\",allgemein!N50))","v":{"$error":"#NAME?"}},{"$f":"_xlfn.SWITCH(allgemein!O50,1,IF(ISBLANK(allgemein!$F$10),allgemein!O50,allgemein!$F$10),2,IF(ISBLANK(allgemein!$F$11),allgemein!O50,allgemein!$F$11),3,IF(ISBLANK(allgemein!$F$12),allgemein!O50,allgemein!$F$12),4,IF(ISBLANK(allgemein!$F$13),allgemein!O50,allgemein!$F$13),5,IF(ISBLANK(allgemein!$I$10),allgemein!O50,allgemein!$I$10),6,IF(ISBLANK(allgemein!$I$11),allgemein!O50,allgemein!$I$11),7,IF(ISBLANK(allgemein!$I$12),allgemein!O50,allgemein!$I$12),8,IF(ISBLANK(allgemein!$I$13),allgemein!O50,allgemein!$I$13),IF(ISBLANK(allgemein!O50),\"\",allgemein!O50))","v":{"$error":"#NAME?"}},{"$f":"_xlfn.SWITCH(allgemein!P50,1,IF(ISBLANK(allgemein!$F$10),allgemein!P50,allgemein!$F$10),2,IF(ISBLANK(allgemein!$F$11),allgemein!P50,allgemein!$F$11),3,IF(ISBLANK(allgemein!$F$12),allgemein!P50,allgemein!$F$12),4,IF(ISBLANK(allgemein!$F$13),allgemein!P50,allgemein!$F$13),5,IF(ISBLANK(allgemein!$I$10),allgemein!P50,allgemein!$I$10),6,IF(ISBLANK(allgemein!$I$11),allgemein!P50,allgemein!$I$11),7,IF(ISBLANK(allgemein!$I$12),allgemein!P50,allgemein!$I$12),8,IF(ISBLANK(allgemein!$I$13),allgemein!P50,allgemein!$I$13),IF(ISBLANK(allgemein!P50),\"\",allgemein!P50))","v":{"$error":"#NAME?"}},{"$f":"IF(ISBLANK(allgemein!Q50),\"\",allgemein!Q50)","v":""},{"$f":"IF(ISBLANK(allgemein!R50),\"\",allgemein!R50)","v":""},{"$f":"IF(ISBLANK(allgemein!S50),\"\",allgemein!S50)","v":""},{"$f":"IF(ISBLANK(allgemein!U50),\"\",allgemein!U50)","v":""}]
[{"$f":"IF(ISBLANK(allgemein!D51),\"\",allgemein!D51)","v":34},{"$f":"IF(ISBLANK(allgemein!E51),\"\",allgemein!E51)","v":""},{"$f":"IF(ISBLANK(allgemein!C51),\"\",allgemein!C51)","v":" "},{"$f":"IF(ISBLANK(allgemein!H51),\"\",allgemein!H51)","v":""},{"$f":"IF(ISBLANK(allgemein!I51),\"\",allgemein!I51)","v":""},{"$f":"IF(ISBLANK(allgemein!J51),\"\",allgemein!J51)","v":""},{"$f":"IF(ISBLANK(allgemein!K51),\"\",allgemein!K51)","v":""},{"$f":"IF(ISBLANK(allgemein!F51),\"\",IF(ISBLANK(allgemein!L51),1,0))","v":""},{"$f":"_xlfn.SWITCH(allgemein!M51,1,IF(ISBLANK(allgemein!$F$10),allgemein!M51,allgemein!$F$10),2,IF(ISBLANK(allgemein!$F$11),allgemein!M51,allgemein!$F$11),3,IF(ISBLANK(allgemein!$F$12),allgemein!M51,allgemein!$F$12),4,IF(ISBLANK(allgemein!$F$13),allgemein!M51,allgemein!$F$13),5,IF(ISBLANK(allgemein!$I$10),allgemein!M51,allgemein!$I$10),6,IF(ISBLANK(allgemein!$I$11),allgemein!M51,allgemein!$I$11),7,IF(ISBLANK(allgemein!$I$12),allgemein!M51,allgemein!$I$12),8,IF(ISBLANK(allgemein!$I$13),allgemein!M51,allgemein!$I$13),IF(ISBLANK(allgemein!M51),\"\",allgemein!M51))","v":{"$error":"#NAME?"}},{"$f":"_xlfn.SWITCH(allgemein!N51,1,IF(ISBLANK(allgemein!$F$10),allgemein!N51,allgemein!$F$10),2,IF(ISBLANK(allgemein!$F$11),allgemein!N51,allgemein!$F$11),3,IF(ISBLANK(allgemein!$F$12),allgemein!N51,allgemein!$F$12),4,IF(ISBLANK(allgemein!$F$13),allgemein!N51,allgemein!$F$13),5,IF(ISBLANK(allgemein!$I$10),allgemein!N51,allgemein!$I$10),6,IF(ISBLANK(allgemein!$I$11),allgemein!N51,allgemein!$I$11),7,IF(ISBLANK(allgemein!$I$12),allgemein!N51,allgemein!$I$12),8,IF(ISBLANK(allgemein!$I$13),allgemein!N51,allgemein!$I$13),IF(ISBLANK(allgemein!N51),\"\",allgemein!N51))","v":{"$error":"#NAME?"}},{"$f":"_xlfn.SWITCH(allgemein!O51,1,IF(ISBLANK(allgemein!$F$10),allgemein!O51,allgemein!$F$10),2,IF(ISBLANK(allgemein!$F$11),allgemein!O51,allgemein!$F$11),3,IF(ISBLANK(allgemein!$F$12),allgemein!O51,allgemein!$F$12),4,IF(ISBLANK(allgemein!$F$13),allgemein!O51,allgemein!$F$13),5,IF(ISBLANK(allgemein!$I$10),allgemein!O51,allgemein!$I$10),6,IF(ISBLANK(allgemein!$I$11),allgemein!O51,allgemein!$I$11),7,IF(ISBLANK(allgemein!$I$12),allgemein!O51,allgemein!$I$12),8,IF(ISBLANK(allgemein!$I$13),allgemein!O51,allgemein!$I$13),IF(ISBLANK(allgemein!O51),\"\",allgemein!O51))","v":{"$error":"#NAME?"}},{"$f":"_xlfn.SWITCH(allgemein!P51,1,IF(ISBLANK(allgemein!$F$10),allgemein!P51,allgemein!$F$10),2,IF(ISBLANK(allgemein!$F$11),allgemein!P51,allgemein!$F$11),3,IF(ISBLANK(allgemein!$F$12),allgemein!P51,allgemein!$F$12),4,IF(ISBLANK(allgemein!$F$13),allgemein!P51,allgemein!$F$13),5,IF(ISBLANK(allgemein!$I$10),allgemein!P51,allgemein!$I$10),6,IF(ISBLANK(allgemein!$I$11),allgemein!P51,allgemein!$I$11),7,IF(ISBLANK(allgemein!$I$12),allgemein!P51,allgemein!$I$12),8,IF(ISBLANK(allgemein!$I$13),allgemein!P51,allgemein!$I$13),IF(ISBLANK(allgemein!P51),\"\",allgemein!P51))","v":{"$error":"#NAME?"}},{"$f":"IF(ISBLANK(allgemein!Q51),\"\",allgemein!Q51)","v":""},{"$f":"IF(ISBLANK(allgemein!R51),\"\",allgemein!R51)","v":""},{"$f":"IF(ISBLANK(allgemein!S51),\"\",allgemein!S51)","v":""},{"$f":"IF(ISBLANK(allgemein!U51),\"\",allgemein!U51)","v":""}]
[{"$f":"IF(ISBLANK(allgemein!D52),\"\",allgemein!D52)","v":35},{"$f":"IF(ISBLANK(allgemein!E52),\"\",allgemein!E52)","v":""},{"$f":"IF(ISBLANK(allgemein!C52),\"\",allgemein!C52)","v":" "},{"$f":"IF(ISBLANK(allgemein!H52),\"\",allgemein!H52)","v":""},{"$f":"IF(ISBLANK(allgemein!I52),\"\",allgemein!I52)","v":""},{"$f":"IF(ISBLANK(allgemein!J52),\"\",allgemein!J52)","v":""},{"$f":"IF(ISBLANK(allgemein!K52),\"\",allgemein!K52)","v":""},{"$f":"IF(ISBLANK(allgemein!F52),\"\",IF(ISBLANK(allgemein!L52),1,0))","v":""},{"$f":"_xlfn.SWITCH(allgemein!M52,1,IF(ISBLANK(allgemein!$F$10),allgemein!M52,allgemein!$F$10),2,IF(ISBLANK(allgemein!$F$11),allgemein!M52,allgemein!$F$11),3,IF(ISBLANK(allgemein!$F$12),allgemein!M52,allgemein!$F$12),4,IF(ISBLANK(allgemein!$F$13),allgemein!M52,allgemein!$F$13),5,IF(ISBLANK(allgemein!$I$10),allgemein!M52,allgemein!$I$10),6,IF(ISBLANK(allgemein!$I$11),allgemein!M52,allgemein!$I$11),7,IF(ISBLANK(allgemein!$I$12),allgemein!M52,allgemein!$I$12),8,IF(ISBLANK(allgemein!$I$13),allgemein!M52,allgemein!$I$13),IF(ISBLANK(allgemein!M52),\"\",allgemein!M52))","v":{"$error":"#NAME?"}},{"$f":"_xlfn.SWITCH(allgemein!N52,1,IF(ISBLANK(allgemein!$F$10),allgemein!N52,allgemein!$F$10),2,IF(ISBLANK(allgemein!$F$11),allgemein!N52,allgemein!$F$11),3,IF(ISBLANK(allgemein!$F$12),allgemein!N52,allgemein!$F$12),4,IF(ISBLANK(allgemein!$F$13),allgemein!N52,allgemein!$F$13),5,IF(ISBLANK(allgemein!$I$10),allgemein!N52,allgemein!$I$10),6,IF(ISBLANK(allgemein!$I$11),allgemein!N52,allgemein!$I$11),7,IF(ISBLANK(allgemein!$I$12),allgemein!N52,allgemein!$I$12),8,IF(ISBLANK(allgemein!$I$13),allgemein!N52,allgemein!$I$13),IF(ISBLANK(allgemein!N52),\"\",allgemein!N52))","v":{"$error":"#NAME?"}},{"$f":"_xlfn.SWITCH(allgemein!O52,1,IF(ISBLANK(allgemein!$F$10),allgemein!O52,allgemein!$F$10),2,IF(ISBLANK(allgemein!$F$11),allgemein!O52,allgemein!$F$11),3,IF(ISBLANK(allgemein!$F$12),allgemein!O52,allgemein!$F$12),4,IF(ISBLANK(allgemein!$F$13),allgemein!O52,allgemein!$F$13),5,IF(ISBLANK(allgemein!$I$10),allgemein!O52,allgemein!$I$10),6,IF(ISBLANK(allgemein!$I$11),allgemein!O52,allgemein!$I$11),7,IF(ISBLANK(allgemein!$I$12),allgemein!O52,allgemein!$I$12),8,IF(ISBLANK(allgemein!$I$13),allgemein!O52,allgemein!$I$13),IF(ISBLANK(allgemein!O52),\"\",allgemein!O52))","v":{"$error":"#NAME?"}},{"$f":"_xlfn.SWITCH(allgemein!P52,1,IF(ISBLANK(allgemein!$F$10),allgemein!P52,allgemein!$F$10),2,IF(ISBLANK(allgemein!$F$11),allgemein!P52,allgemein!$F$11),3,IF(ISBLANK(allgemein!$F$12),allgemein!P52,allgemein!$F$12),4,IF(ISBLANK(allgemein!$F$13),allgemein!P52,allgemein!$F$13),5,IF(ISBLANK(allgemein!$I$10),allgemein!P52,allgemein!$I$10),6,IF(ISBLANK(allgemein!$I$11),allgemein!P52,allgemein!$I$11),7,IF(ISBLANK(allgemein!$I$12),allgemein!P52,allgemein!$I$12),8,IF(ISBLANK(allgemein!$I$13),allgemein!P52,allgemein!$I$13),IF(ISBLANK(allgemein!P52),\"\",allgemein!P52))","v":{"$error":"#NAME?"}},{"$f":"IF(ISBLANK(allgemein!Q52),\"\",allgemein!Q52)","v":""},{"$f":"IF(ISBLANK(allgemein!R52),\"\",allgemein!R52)","v":""},{"$f":"IF(ISBLANK(allgemein!S52),\"\",allgemein!S52)","v":""},{"$f":"IF(ISBLANK(allgemein!U52),\"\",allgemein!U52)","v":""}]
[{"$f":"IF(ISBLANK(allgemein!D53),\"\",allgemein!D53)","v":36},{"$f":"IF(ISBLANK(allgemein!E53),\"\",allgemein!E53)","v":""},{"$f":"IF(ISBLANK(allgemein!C53),\"\",allgemein!C53)","v":" "},{"$f":"IF(ISBLANK(allgemein!H53),\"\",allgemein!H53)","v":""},{"$f":"IF(ISBLANK(allgemein!I53),\"\",allgemein!I53)","v":""},{"$f":"IF(ISBLANK(allgemein!J53),\"\",allgemein!J53)","v":""},{"$f":"IF(ISBLANK(allgemein!K53),\"\",allgemein!K53)","v":""},{"$f":"IF(ISBLANK(allgemein!F53),\"\",IF(ISBLANK(allgemein!L53),1,0))","v":""},{"$f":"_xlfn.SWITCH(allgemein!M53,1,IF(ISBLANK(allgemein!$F$10),allgemein!M53,allgemein!$F$10),2,IF(ISBLANK(allgemein!$F$11),allgemein!M53,allgemein!$F$11),3,IF(ISBLANK(allgemein!$F$12),allgemein!M53,allgemein!$F$12),4,IF(ISBLANK(allgemein!$F$13),allgemein!M53,allgemein!$F$13),5,IF(ISBLANK(allgemein!$I$10),allgemein!M53,allgemein!$I$10),6,IF(ISBLANK(allgemein!$I$11),allgemein!M53,allgemein!$I$11),7,IF(ISBLANK(allgemein!$I$12),allgemein!M53,allgemein!$I$12),8,IF(ISBLANK(allgemein!$I$13),allgemein!M53,allgemein!$I$13),IF(ISBLANK(allgemein!M53),\"\",allgemein!M53))","v":{"$error":"#NAME?"}},{"$f":"_xlfn.SWITCH(allgemein!N53,1,IF(ISBLANK(allgemein!$F$10),allgemein!N53,allgemein!$F$10),2,IF(ISBLANK(allgemein!$F$11),allgemein!N53,allgemein!$F$11),3,IF(ISBLANK(allgemein!$F$12),allgemein!N53,allgemein!$F$12),4,IF(ISBLANK(allgemein!$F$13),allgemein!N53,allgemein!$F$13),5,IF(ISBLANK(allgemein!$I$10),allgemein!N53,allgemein!$I$10),6,IF(ISBLANK(allgemein!$I$11),allgemein!N53,allgemein!$I$11),7,IF(ISBLANK(allgemein!$I$12),allgemein!N53,allgemein!$I$12),8,IF(ISBLANK(allgemein!$I$13),allgemein!N53,allgemein!$I$13),IF(ISBLANK(allgemein!N53),\"\",allgemein!N53))","v":{"$error":"#NAME?"}},{"$f":"_xlfn.SWITCH(allgemein!O53,1,IF(ISBLANK(allgemein!$F$10),allgemein!O53,allgemein!$F$10),2,IF(ISBLANK(allgemein!$F$11),allgemein!O53,allgemein!$F$11),3,IF(ISBLANK(allgemein!$F$12),allgemein!O53,allgemein!$F$12),4,IF(ISBLANK(allgemein!$F$13),allgemein!O53,allgemein!$F$13),5,IF(ISBLANK(allgemein!$I$10),allgemein!O53,allgemein!$I$10),6,IF(ISBLANK(allgemein!$I$11),allgemein!O53,allgemein!$I$11),7,IF(ISBLANK(allgemein!$I$12),allgemein!O53,allgemein!$I$12),8,IF(ISBLANK(allgemein!$I$13),allgemein!O53,allgemein!$I$13),IF(ISBLANK(allgemein!O53),\"\",allgemein!O53))","v":{"$error":"#NAME?"}},{"$f":"_xlfn.SWITCH(allgemein!P53,1,IF(ISBLANK(allgemein!$F$10),allgemein!P53,allgemein!$F$10),2,IF(ISBLANK(allgemein!$F$11),allgemein!P53,allgemein!$F$11),3,IF(ISBLANK(allgemein!$F$12),allgemein!P53,allgemein!$F$12),4,IF(ISBLANK(allgemein!$F$13),allgemein!P53,allgemein!$F$13),5,IF(ISBLANK(allgemein!$I$10),allgemein!P53,allgemein!$I$10),6,IF(ISBLANK(allgemein!$I$11),allgemein!P53,allgemein!$I$11),7,IF(ISBLANK(allgemein!$I$12),allgemein!P53,allgemein!$I$12),8,IF(ISBLANK(allgemein!$I$13),allgemein!P53,allgemein!$I$13),IF(ISBLANK(allgemein!P53),\"\",allgemein!P53))","v":{"$error":"#NAME?"}},{"$f":"IF(ISBLANK(allgemein!Q53),\"\",allgemein!Q53)","v":""},{"$f":"IF(ISBLANK(allgemein!R53),\"\",allgemein!R53)","v":""},{"$f":"IF(ISBLANK(allgemein!S53),\"\",allgemein!S53)","v":""},{"$f":"IF(ISBLANK(allgemein!U53),\"\",allgemein!U53)","v":""}]
[{"$f":"IF(ISBLANK(allgemein!D54),\"\",allgemein!D54)","v":37},{"$f":"IF(ISBLANK(allgemein!E54),\"\",allgemein!E54)","v":""},{"$f":"IF(ISBLANK(allgemein!C54),\"\",allgemein!C54)","v":" "},{"$f":"IF(ISBLANK(allgemein!H54),\"\",allgemein!H54)","v":""},{"$f":"IF(ISBLANK(allgemein!I54),\"\",allgemein!I54)","v":""},{"$f":"IF(ISBLANK(allgemein!J54),\"\",allgemein!J54)","v":""},{"$f":"IF(ISBLANK(allgemein!K54),\"\",allgemein!K54)","v":""},{"$f":"IF(ISBLANK(allgemein!F54),\"\",IF(ISBLANK(allgemein!L54),1,0))","v":""},{"$f":"_xlfn.SWITCH(allgemein!M54,1,IF(ISBLANK(allgemein!$F$10),allgemein!M54,allgemein!$F$10),2,IF(ISBLANK(allgemein!$F$11),allgemein!M54,allgemein!$F$11),3,IF(ISBLANK(allgemein!$F$12),allgemein!M54,allgemein!$F$12),4,IF(ISBLANK(allgemein!$F$13),allgemein!M54,allgemein!$F$13),5,IF(ISBLANK(allgemein!$I$10),allgemein!M54,allgemein!$I$10),6,IF(ISBLANK(allgemein!$I$11),allgemein!M54,allgemein!$I$11),7,IF(ISBLANK(allgemein!$I$12),allgemein!M54,allgemein!$I$12),8,IF(ISBLANK(allgemein!$I$13),allgemein!M54,allgemein!$I$13),IF(ISBLANK(allgemein!M54),\"\",allgemein!M54))","v":{"$error":"#NAME?"}},{"$f":"_xlfn.SWITCH(allgemein!N54,1,IF(ISBLANK(allgemein!$F$10),allgemein!N54,allgemein!$F$10),2,IF(ISBLANK(allgemein!$F$11),allgemein!N54,allgemein!$F$11),3,IF(ISBLANK(allgemein!$F$12),allgemein!N54,allgemein!$F$12),4,IF(ISBLANK(allgemein!$F$13),allgemein!N54,allgemein!$F$13),5,IF(ISBLANK(allgemein!$I$10),allgemein!N54,allgemein!$I$10),6,IF(ISBLANK(allgemein!$I$11),allgemein!N54,allgemein!$I$11),7,IF(ISBLANK(allgemein!$I$12),allgemein!N54,allgemein!$I$12),8,IF(ISBLANK(allgemein!$I$13),allgemein!N54,allgemein!$I$13),IF(ISBLANK(allgemein!N54),\"\",allgemein!N54))","v":{"$error":"#NAME?"}},{"$f":"_xlfn.SWITCH(allgemein!O54,1,IF(ISBLANK(allgemein!$F$10),allgemein!O54,allgemein!$F$10),2,IF(ISBLANK(allgemein!$F$11),allgemein!O54,allgemein!$F$11),3,IF(ISBLANK(allgemein!$F$12),allgemein!O54,allgemein!$F$12),4,IF(ISBLANK(allgemein!$F$13),allgemein!O54,allgemein!$F$13),5,IF(ISBLANK(allgemein!$I$10),allgemein!O54,allgemein!$I$10),6,IF(ISBLANK(allgemein!$I$11),allgemein!O54,allgemein!$I$11),7,IF(ISBLANK(allgemein!$I$12),allgemein!O54,allgemein!$I$12),8,IF(ISBLANK(allgemein!$I$13),allgemein!O54,allgemein!$I$13),IF(ISBLANK(allgemein!O54),\"\",allgemein!O54))","v":{"$error":"#NAME?"}},{"$f":"_xlfn.SWITCH(allgemein!P54,1,IF(ISBLANK(allgemein!$F$10),allgemein!P54,allgemein!$F$10),2,IF(ISBLANK(allgemein!$F$11),allgemein!P54,allgemein!$F$11),3,IF(ISBLANK(allgemein!$F$12),allgemein!P54,allgemein!$F$12),4,IF(ISBLANK(allgemein!$F$13),allgemein!P54,allgemein!$F$13),5,IF(ISBLANK(allgemein!$I$10),allgemein!P54,allgemein!$I$10),6,IF(ISBLANK(allgemein!$I$11),allgemein!P54,allgemein!$I$11),7,IF(ISBLANK(allgemein!$I$12),allgemein!P54,allgemein!$I$12),8,IF(ISBLANK(allgemein!$I$13),allgemein!P54,allgemein!$I$13),IF(ISBLANK(allgemein!P54),\"\",allgemein!P54))","v":{"$error":"#NAME?"}},{"$f":"IF(ISBLANK(allgemein!Q54),\"\",allgemein!Q54)","v":""},{"$f":"IF(ISBLANK(allgemein!R54),\"\",allgemein!R54)","v":""},{"$f":"IF(ISBLANK(allgemein!S54),\"\",allgemein!S54)","v":""},{"$f":"IF(ISBLANK(allgemein!U54),\"\",allgemein!U54)","v":""}]
[{"$f":"IF(ISBLANK(allgemein!D55),\"\",allgemein!D55)","v":38},{"$f":"IF(ISBLANK(allgemein!E55),\"\",allgemein!E55)","v":""},{"$f":"IF(ISBLANK(allgemein!C55),\"\",allgemein!C55)","v":" "},{"$f":"IF(ISBLANK(allgemein!H55),\"\",allgemein!H55)","v":""},{"$f":"IF(ISBLANK(allgemein!I55),\"\",allgemein!I55)","v":""},{"$f":"IF(ISBLANK(allgemein!J55),\"\",allgemein!J55)","v":""},{"$f":"IF(ISBLANK(allgemein!K55),\"\",allgemein!K55)","v":""},{"$f":"IF(ISBLANK(allgemein!F55),\"\",IF(ISBLANK(allgemein!L55),1,0))","v":""},{"$f":"_xlfn.SWITCH(allgemein!M55,1,IF(ISBLANK(allgemein!$F$10),allgemein!M55,allgemein!$F$10),2,IF(ISBLANK(allgemein!$F$11),allgemein!M55,allgemein!$F$11),3,IF(ISBLANK(allgemein!$F$12),allgemein!M55,allgemein!$F$12),4,IF(ISBLANK(allgemein!$F$13),allgemein!M55,allgemein!$F$13),5,IF(ISBLANK(allgemein!$I$10),allgemein!M55,allgemein!$I$10),6,IF(ISBLANK(allgemein!$I$11),allgemein!M55,allgemein!$I$11),7,IF(ISBLANK(allgemein!$I$12),allgemein!M55,allgemein!$I$12),8,IF(ISBLANK(allgemein!$I$13),allgemein!M55,allgemein!$I$13),IF(ISBLANK(allgemein!M55),\"\",allgemein!M55))","v":{"$error":"#NAME?"}},{"$f":"_xlfn.SWITCH(allgemein!N55,1,IF(ISBLANK(allgemein!$F$10),allgemein!N55,allgemein!$F$10),2,IF(ISBLANK(allgemein!$F$11),allgemein!N55,allgemein!$F$11),3,IF(ISBLANK(allgemein!$F$12),allgemein!N55,allgemein!$F$12),4,IF(ISBLANK(allgemein!$F$13),allgemein!N55,allgemein!$F$13),5,IF(ISBLANK(allgemein!$I$10),allgemein!N55,allgemein!$I$10),6,IF(ISBLANK(allgemein!$I$11),allgemein!N55,allgemein!$I$11),7,IF(ISBLANK(allgemein!$I$12),allgemein!N55,allgemein!$I$12),8,IF(ISBLANK(allgemein!$I$13),allgemein!N55,allgemein!$I$13),IF(ISBLANK(allgemein!N55),\"\",allgemein!N55))","v":{"$error":"#NAME?"}},{"$f":"_xlfn.SWITCH(allgemein!O55,1,IF(ISBLANK(allgemein!$F$10),allgemein!O55,allgemein!$F$10),2,IF(ISBLANK(allgemein!$F$11),allgemein!O55,allgemein!$F$11),3,IF(ISBLANK(allgemein!$F$12),allgemein!O55,allgemein!$F$12),4,IF(ISBLANK(allgemein!$F$13),allgemein!O55,allgemein!$F$13),5,IF(ISBLANK(allgemein!$I$10),allgemein!O55,allgemein!$I$10),6,IF(ISBLANK(allgemein!$I$11),allgemein!O55,allgemein!$I$11),7,IF(ISBLANK(allgemein!$I$12),allgemein!O55,allgemein!$I$12),8,IF(ISBLANK(allgemein!$I$13),allgemein!O55,allgemein!$I$13),IF(ISBLANK(allgemein!O55),\"\",allgemein!O55))","v":{"$error":"#NAME?"}},{"$f":"_xlfn.SWITCH(allgemein!P55,1,IF(ISBLANK(allgemein!$F$10),allgemein!P55,allgemein!$F$10),2,IF(ISBLANK(allgemein!$F$11),allgemein!P55,allgemein!$F$11),3,IF(ISBLANK(allgemein!$F$12),allgemein!P55,allgemein!$F$12),4,IF(ISBLANK(allgemein!$F$13),allgemein!P55,allgemein!$F$13),5,IF(ISBLANK(allgemein!$I$10),allgemein!P55,allgemein!$I$10),6,IF(ISBLANK(allgemein!$I$11),allgemein!P55,allgemein!$I$11),7,IF(ISBLANK(allgemein!$I$12),allgemein!P55,allgemein!$I$12),8,IF(ISBLANK(allgemein!$I$13),allgemein!P55,allgemein!$I$13),IF(ISBLANK(allgemein!P55),\"\",allgemein!P55))","v":{"$error":"#NAME?"}},{"$f":"IF(ISBLANK(allgemein!Q55),\"\",allgemein!Q55)","v":""},{"$f":"IF(ISBLANK(allgemein!R55),\"\",allgemein!R55)","v":""},{"$f":"IF(ISBLANK(allgemein!S55),\"\",allgemein!S55)","v":""},{"$f":"IF(ISBLANK(allgemein!U55),\"\",allgemein!U55)","v":""}]
[{"$f":"IF(ISBLANK(allgemein!D56),\"\",allgemein!D56)","v":39},{"$f":"IF(ISBLANK(allgemein!E56),\"\",allgemein!E56)","v":""},{"$f":"IF(ISBLANK(allgemein!C56),\"\",allgemein!C56)","v":" "},{"$f":"IF(ISBLANK(allgemein!H56),\"\",allgemein!H56)","v":""},{"$f":"IF(ISBLANK(allgemein!I56),\"\",allgemein!I56)","v":""},{"$f":"IF(ISBLANK(allgemein!J56),\"\",allgemein!J56)","v":""},{"$f":"IF(ISBLANK(allgemein!K56),\"\",allgemein!K56)","v":""},{"$f":"IF(ISBLANK(allgemein!F56),\"\",IF(ISBLANK(allgemein!L56),1,0))","v":""},{"$f":"_xlfn.SWITCH(allgemein!M56,1,IF(ISBLANK(allgemein!$F$10),allgemein!M56,allgemein!$F$10),2,IF(ISBLANK(allgemein!$F$11),allgemein!M56,allgemein!$F$11),3,IF(ISBLANK(allgemein!$F$12),allgemein!M56,allgemein!$F$12),4,IF(ISBLANK(allgemein!$F$13),allgemein!M56,allgemein!$F$13),5,IF(ISBLANK(allgemein!$I$10),allgemein!M56,allgemein!$I$10),6,IF(ISBLANK(allgemein!$I$11),allgemein!M56,allgemein!$I$11),7,IF(ISBLANK(allgemein!$I$12),allgemein!M56,allgemein!$I$12),8,IF(ISBLANK(allgemein!$I$13),allgemein!M56,allgemein!$I$13),IF(ISBLANK(allgemein!M56),\"\",allgemein!M56))","v":{"$error":"#NAME?"}},{"$f":"_xlfn.SWITCH(allgemein!N56,1,IF(ISBLANK(allgemein!$F$10),allgemein!N56,allgemein!$F$10),2,IF(ISBLANK(allgemein!$F$11),allgemein!N56,allgemein!$F$11),3,IF(ISBLANK(allgemein!$F$12),allgemein!N56,allgemein!$F$12),4,IF(ISBLANK(allgemein!$F$13),allgemein!N56,allgemein!$F$13),5,IF(ISBLANK(allgemein!$I$10),allgemein!N56,allgemein!$I$10),6,IF(ISBLANK(allgemein!$I$11),allgemein!N56,allgemein!$I$11),7,IF(ISBLANK(allgemein!$I$12),allgemein!N56,allgemein!$I$12),8,IF(ISBLANK(allgemein!$I$13),allgemein!N56,allgemein!$I$13),IF(ISBLANK(allgemein!N56),\"\",allgemein!N56))","v":{"$error":"#NAME?"}},{"$f":"_xlfn.SWITCH(allgemein!O56,1,IF(ISBLANK(allgemein!$F$10),allgemein!O56,allgemein!$F$10),2,IF(ISBLANK(allgemein!$F$11),allgemein!O56,allgemein!$F$11),3,IF(ISBLANK(allgemein!$F$12),allgemein!O56,allgemein!$F$12),4,IF(ISBLANK(allgemein!$F$13),allgemein!O56,allgemein!$F$13),5,IF(ISBLANK(allgemein!$I$10),allgemein!O56,allgemein!$I$10),6,IF(ISBLANK(allgemein!$I$11),allgemein!O56,allgemein!$I$11),7,IF(ISBLANK(allgemein!$I$12),allgemein!O56,allgemein!$I$12),8,IF(ISBLANK(allgemein!$I$13),allgemein!O56,allgemein!$I$13),IF(ISBLANK(allgemein!O56),\"\",allgemein!O56))","v":{"$error":"#NAME?"}},{"$f":"_xlfn.SWITCH(allgemein!P56,1,IF(ISBLANK(allgemein!$F$10),allgemein!P56,allgemein!$F$10),2,IF(ISBLANK(allgemein!$F$11),allgemein!P56,allgemein!$F$11),3,IF(ISBLANK(allgemein!$F$12),allgemein!P56,allgemein!$F$12),4,IF(ISBLANK(allgemein!$F$13),allgemein!P56,allgemein!$F$13),5,IF(ISBLANK(allgemein!$I$10),allgemein!P56,allgemein!$I$10),6,IF(ISBLANK(allgemein!$I$11),allgemein!P56,allgemein!$I$11),7,IF(ISBLANK(allgemein!$I$12),allgemein!P56,allgemein!$I$12),8,IF(ISBLANK(allgemein!$I$13),allgemein!P56,allgemein!$I$13),IF(ISBLANK(allgemein!P56),\"\",allgemein!P56))","v":{"$error":"#NAME?"}},{"$f":"IF(ISBLANK(allgemein!Q56),\"\",allgemein!Q56)","v":""},{"$f":"IF(ISBLANK(allgemein!R56),\"\",allgemein!R56)","v":""},{"$f":"IF(ISBLANK(allgemein!S56),\"\",allgemein!S56)","v":""},{"$f":"IF(ISBLANK(allgemein!U56),\"\",allgemein!U56)","v":""}]
[{"$f":"IF(ISBLANK(allgemein!D57),\"\",allgemein!D57)","v":40},{"$f":"IF(ISBLANK(allgemein!E57),\"\",allgemein!E57)","v":""},{"$f":"IF(ISBLANK(allgemein!C57),\"\",allgemein!C57)","v":" "},{"$f":"IF(ISBLANK(allgemein!H57),\"\",allgemein!H57)","v":""},{"$f":"IF(ISBLANK(allgemein!I57),\"\",allgemein!I57)","v":""},{"$f":"IF(ISBLANK(allgemein!J57),\"\",allgemein!J57)","v":""},{"$f":"IF(ISBLANK(allgemein!K57),\"\",allgemein!K57)","v":""},{"$f":"IF(ISBLANK(allgemein!F57),\"\",IF(ISBLANK(allgemein!L57),1,0))","v":""},{"$f":"_xlfn.SWITCH(allgemein!M57,1,IF(ISBLANK(allgemein!$F$10),allgemein!M57,allgemein!$F$10),2,IF(ISBLANK(allgemein!$F$11),allgemein!M57,allgemein!$F$11),3,IF(ISBLANK(allgemein!$F$12),allgemein!M57,allgemein!$F$12),4,IF(ISBLANK(allgemein!$F$13),allgemein!M57,allgemein!$F$13),5,IF(ISBLANK(allgemein!$I$10),allgemein!M57,allgemein!$I$10),6,IF(ISBLANK(allgemein!$I$11),allgemein!M57,allgemein!$I$11),7,IF(ISBLANK(allgemein!$I$12),allgemein!M57,allgemein!$I$12),8,IF(ISBLANK(allgemein!$I$13),allgemein!M57,allgemein!$I$13),IF(ISBLANK(allgemein!M57),\"\",allgemein!M57))","v":{"$error":"#NAME?"}},{"$f":"_xlfn.SWITCH(allgemein!N57,1,IF(ISBLANK(allgemein!$F$10),allgemein!N57,allgemein!$F$10),2,IF(ISBLANK(allgemein!$F$11),allgemein!N57,allgemein!$F$11),3,IF(ISBLANK(allgemein!$F$12),allgemein!N57,allgemein!$F$12),4,IF(ISBLANK(allgemein!$F$13),allgemein!N57,allgemein!$F$13),5,IF(ISBLANK(allgemein!$I$10),allgemein!N57,allgemein!$I$10),6,IF(ISBLANK(allgemein!$I$11),allgemein!N57,allgemein!$I$11),7,IF(ISBLANK(allgemein!$I$12),allgemein!N57,allgemein!$I$12),8,IF(ISBLANK(allgemein!$I$13),allgemein!N57,allgemein!$I$13),IF(ISBLANK(allgemein!N57),\"\",allgemein!N57))","v":{"$error":"#NAME?"}},{"$f":"_xlfn.SWITCH(allgemein!O57,1,IF(ISBLANK(allgemein!$F$10),allgemein!O57,allgemein!$F$10),2,IF(ISBLANK(allgemein!$F$11),allgemein!O57,allgemein!$F$11),3,IF(ISBLANK(allgemein!$F$12),allgemein!O57,allgemein!$F$12),4,IF(ISBLANK(allgemein!$F$13),allgemein!O57,allgemein!$F$13),5,IF(ISBLANK(allgemein!$I$10),allgemein!O57,allgemein!$I$10),6,IF(ISBLANK(allgemein!$I$11),allgemein!O57,allgemein!$I$11),7,IF(ISBLANK(allgemein!$I$12),allgemein!O57,allgemein!$I$12),8,IF(ISBLANK(allgemein!$I$13),allgemein!O57,allgemein!$I$13),IF(ISBLANK(allgemein!O57),\"\",allgemein!O57))","v":{"$error":"#NAME?"}},{"$f":"_xlfn.SWITCH(allgemein!P57,1,IF(ISBLANK(allgemein!$F$10),allgemein!P57,allgemein!$F$10),2,IF(ISBLANK(allgemein!$F$11),allgemein!P57,allgemein!$F$11),3,IF(ISBLANK(allgemein!$F$12),allgemein!P57,allgemein!$F$12),4,IF(ISBLANK(allgemein!$F$13),allgemein!P57,allgemein!$F$13),5,IF(ISBLANK(allgemein!$I$10),allgemein!P57,allgemein!$I$10),6,IF(ISBLANK(allgemein!$I$11),allgemein!P57,allgemein!$I$11),7,IF(ISBLANK(allgemein!$I$12),allgemein!P57,allgemein!$I$12),8,IF(ISBLANK(allgemein!$I$13),allgemein!P57,allgemein!$I$13),IF(ISBLANK(allgemein!P57),\"\",allgemein!P57))","v":{"$error":"#NAME?"}},{"$f":"IF(ISBLANK(allgemein!Q57),\"\",allgemein!Q57)","v":""},{"$f":"IF(ISBLANK(allgemein!R57),\"\",allgemein!R57)","v":""},{"$f":"IF(ISBLANK(allgemein!S57),\"\",allgemein!S57)","v":""},{"$f":"IF(ISBLANK(allgemein!U57),\"\",allgemein!U57)","v":""}]
[{"$f":"IF(ISBLANK(allgemein!D58),\"\",allgemein!D58)","v":41},{"$f":"IF(ISBLANK(allgemein!E58),\"\",allgemein!E58)","v":""},{"$f":"IF(ISBLANK(allgemein!C58),\"\",allgemein!C58)","v":" "},{"$f":"IF(ISBLANK(allgemein!H58),\"\",allgemein!H58)","v":""},{"$f":"IF(ISBLANK(allgemein!I58),\"\",allgemein!I58)","v":""},{"$f":"IF(ISBLANK(allgemein!J58),\"\",allgemein!J58)","v":""},{"$f":"IF(ISBLANK(allgemein!K58),\"\",allgemein!K58)","v":""},{"$f":"IF(ISBLANK(allgemein!F58),\"\",IF(ISBLANK(allgemein!L58),1,0))","v":""},{"$f":"_xlfn.SWITCH(allgemein!M58,1,IF(ISBLANK(allgemein!$F$10),allgemein!M58,allgemein!$F$10),2,IF(ISBLANK(allgemein!$F$11),allgemein!M58,allgemein!$F$11),3,IF(ISBLANK(allgemein!$F$12),allgemein!M58,allgemein!$F$12),4,IF(ISBLANK(allgemein!$F$13),allgemein!M58,allgemein!$F$13),5,IF(ISBLANK(allgemein!$I$10),allgemein!M58,allgemein!$I$10),6,IF(ISBLANK(allgemein!$I$11),allgemein!M58,allgemein!$I$11),7,IF(ISBLANK(allgemein!$I$12),allgemein!M58,allgemein!$I$12),8,IF(ISBLANK(allgemein!$I$13),allgemein!M58,allgemein!$I$13),IF(ISBLANK(allgemein!M58),\"\",allgemein!M58))","v":{"$error":"#NAME?"}},{"$f":"_xlfn.SWITCH(allgemein!N58,1,IF(ISBLANK(allgemein!$F$10),allgemein!N58,allgemein!$F$10),2,IF(ISBLANK(allgemein!$F$11),allgemein!N58,allgemein!$F$11),3,IF(ISBLANK(allgemein!$F$12),allgemein!N58,allgemein!$F$12),4,IF(ISBLANK(allgemein!$F$13),allgemein!N58,allgemein!$F$13),5,IF(ISBLANK(allgemein!$I$10),allgemein!N58,allgemein!$I$10),6,IF(ISBLANK(allgemein!$I$11),allgemein!N58,allgemein!$I$11),7,IF(ISBLANK(allgemein!$I$12),allgemein!N58,allgemein!$I$12),8,IF(ISBLANK(allgemein!$I$13),allgemein!N58,allgemein!$I$13),IF(ISBLANK(allgemein!N58),\"\",allgemein!N58))","v":{"$error":"#NAME?"}},{"$f":"_xlfn.SWITCH(allgemein!O58,1,IF(ISBLANK(allgemein!$F$10),allgemein!O58,allgemein!$F$10),2,IF(ISBLANK(allgemein!$F$11),allgemein!O58,allgemein!$F$11),3,IF(ISBLANK(allgemein!$F$12),allgemein!O58,allgemein!$F$12),4,IF(ISBLANK(allgemein!$F$13),allgemein!O58,allgemein!$F$13),5,IF(ISBLANK(allgemein!$I$10),allgemein!O58,allgemein!$I$10),6,IF(ISBLANK(allgemein!$I$11),allgemein!O58,allgemein!$I$11),7,IF(ISBLANK(allgemein!$I$12),allgemein!O58,allgemein!$I$12),8,IF(ISBLANK(allgemein!$I$13),allgemein!O58,allgemein!$I$13),IF(ISBLANK(allgemein!O58),\"\",allgemein!O58))","v":{"$error":"#NAME?"}},{"$f":"_xlfn.SWITCH(allgemein!P58,1,IF(ISBLANK(allgemein!$F$10),allgemein!P58,allgemein!$F$10),2,IF(ISBLANK(allgemein!$F$11),allgemein!P58,allgemein!$F$11),3,IF(ISBLANK(allgemein!$F$12),allgemein!P58,allgemein!$F$12),4,IF(ISBLANK(allgemein!$F$13),allgemein!P58,allgemein!$F$13),5,IF(ISBLANK(allgemein!$I$10),allgemein!P58,allgemein!$I$10),6,IF(ISBLANK(allgemein!$I$11),allgemein!P58,allgemein!$I$11),7,IF(ISBLANK(allgemein!$I$12),allgemein!P58,allgemein!$I$12),8,IF(ISBLANK(allgemein!$I$13),allgemein!P58,allgemein!$I$13),IF(ISBLANK(allgemein!P58),\"\",allgemein!P58))","v":{"$error":"#NAME?"}},{"$f":"IF(ISBLANK(allgemein!Q58),\"\",allgemein!Q58)","v":""},{"$f":"IF(ISBLANK(allgemein!R58),\"\",allgemein!R58)","v":""},{"$f":"IF(ISBLANK(allgemein!S58),\"\",allgemein!S58)","v":""},{"$f":"IF(ISBLANK(allgemein!U58),\"\",allgemein!U58)","v":""}]
[{"$f":"IF(ISBLANK(allgemein!D59),\"\",allgemein!D59)","v":42},{"$f":"IF(ISBLANK(allgemein!E59),\"\",allgemein!E59)","v":""},{"$f":"IF(ISBLANK(allgemein!C59),\"\",allgemein!C59)","v":" "},{"$f":"IF(ISBLANK(allgemein!H59),\"\",allgemein!H59)","v":""},{"$f":"IF(ISBLANK(allgemein!I59),\"\",allgemein!I59)","v":""},{"$f":"IF(ISBLANK(allgemein!J59),\"\",allgemein!J59)","v":""},{"$f":"IF(ISBLANK(allgemein!K59),\"\",allgemein!K59)","v":""},{"$f":"IF(ISBLANK(allgemein!F59),\"\",IF(ISBLANK(allgemein!L59),1,0))","v":""},{"$f":"_xlfn.SWITCH(allgemein!M59,1,IF(ISBLANK(allgemein!$F$10),allgemein!M59,allgemein!$F$10),2,IF(ISBLANK(allgemein!$F$11),allgemein!M59,allgemein!$F$11),3,IF(ISBLANK(allgemein!$F$12),allgemein!M59,allgemein!$F$12),4,IF(ISBLANK(allgemein!$F$13),allgemein!M59,allgemein!$F$13),5,IF(ISBLANK(allgemein!$I$10),allgemein!M59,allgemein!$I$10),6,IF(ISBLANK(allgemein!$I$11),allgemein!M59,allgemein!$I$11),7,IF(ISBLANK(allgemein!$I$12),allgemein!M59,allgemein!$I$12),8,IF(ISBLANK(allgemein!$I$13),allgemein!M59,allgemein!$I$13),IF(ISBLANK(allgemein!M59),\"\",allgemein!M59))","v":{"$error":"#NAME?"}},{"$f":"_xlfn.SWITCH(allgemein!N59,1,IF(ISBLANK(allgemein!$F$10),allgemein!N59,allgemein!$F$10),2,IF(ISBLANK(allgemein!$F$11),allgemein!N59,allgemein!$F$11),3,IF(ISBLANK(allgemein!$F$12),allgemein!N59,allgemein!$F$12),4,IF(ISBLANK(allgemein!$F$13),allgemein!N59,allgemein!$F$13),5,IF(ISBLANK(allgemein!$I$10),allgemein!N59,allgemein!$I$10),6,IF(ISBLANK(allgemein!$I$11),allgemein!N59,allgemein!$I$11),7,IF(ISBLANK(allgemein!$I$12),allgemein!N59,allgemein!$I$12),8,IF(ISBLANK(allgemein!$I$13),allgemein!N59,allgemein!$I$13),IF(ISBLANK(allgemein!N59),\"\",allgemein!N59))","v":{"$error":"#NAME?"}},{"$f":"_xlfn.SWITCH(allgemein!O59,1,IF(ISBLANK(allgemein!$F$10),allgemein!O59,allgemein!$F$10),2,IF(ISBLANK(allgemein!$F$11),allgemein!O59,allgemein!$F$11),3,IF(ISBLANK(allgemein!$F$12),allgemein!O59,allgemein!$F$12),4,IF(ISBLANK(allgemein!$F$13),allgemein!O59,allgemein!$F$13),5,IF(ISBLANK(allgemein!$I$10),allgemein!O59,allgemein!$I$10),6,IF(ISBLANK(allgemein!$I$11),allgemein!O59,allgemein!$I$11),7,IF(ISBLANK(allgemein!$I$12),allgemein!O59,allgemein!$I$12),8,IF(ISBLANK(allgemein!$I$13),allgemein!O59,allgemein!$I$13),IF(ISBLANK(allgemein!O59),\"\",allgemein!O59))","v":{"$error":"#NAME?"}},{"$f":"_xlfn.SWITCH(allgemein!P59,1,IF(ISBLANK(allgemein!$F$10),allgemein!P59,allgemein!$F$10),2,IF(ISBLANK(allgemein!$F$11),allgemein!P59,allgemein!$F$11),3,IF(ISBLANK(allgemein!$F$12),allgemein!P59,allgemein!$F$12),4,IF(ISBLANK(allgemein!$F$13),allgemein!P59,allgemein!$F$13),5,IF(ISBLANK(allgemein!$I$10),allgemein!P59,allgemein!$I$10),6,IF(ISBLANK(allgemein!$I$11),allgemein!P59,allgemein!$I$11),7,IF(ISBLANK(allgemein!$I$12),allgemein!P59,allgemein!$I$12),8,IF(ISBLANK(allgemein!$I$13),allgemein!P59,allgemein!$I$13),IF(ISBLANK(allgemein!P59),\"\",allgemein!P59))","v":{"$error":"#NAME?"}},{"$f":"IF(ISBLANK(allgemein!Q59),\"\",allgemein!Q59)","v":""},{"$f":"IF(ISBLANK(allgemein!R59),\"\",allgemein!R59)","v":""},{"$f":"IF(ISBLANK(allgemein!S59),\"\",allgemein!S59)","v":""},{"$f":"IF(ISBLANK(allgemein!U59),\"\",allgemein!U59)","v":""}]
[{"$f":"IF(ISBLANK(allgemein!D60),\"\",allgemein!D60)","v":43},{"$f":"IF(ISBLANK(allgemein!E60),\"\",allgemein!E60)","v":""},{"$f":"IF(ISBLANK(allgemein!C60),\"\",allgemein!C60)","v":" "},{"$f":"IF(ISBLANK(allgemein!H60),\"\",allgemein!H60)","v":""},{"$f":"IF(ISBLANK(allgemein!I60),\"\",allgemein!I60)","v":""},{"$f":"IF(ISBLANK(allgemein!J60),\"\",allgemein!J60)","v":""},{"$f":"IF(ISBLANK(allgemein!K60),\"\",allgemein!K60)","v":""},{"$f":"IF(ISBLANK(allgemein!F60),\"\",IF(ISBLANK(allgemein!L60),1,0))","v":""},{"$f":"_xlfn.SWITCH(allgemein!M60,1,IF(ISBLANK(allgemein!$F$10),allgemein!M60,allgemein!$F$10),2,IF(ISBLANK(allgemein!$F$11),allgemein!M60,allgemein!$F$11),3,IF(ISBLANK(allgemein!$F$12),allgemein!M60,allgemein!$F$12),4,IF(ISBLANK(allgemein!$F$13),allgemein!M60,allgemein!$F$13),5,IF(ISBLANK(allgemein!$I$10),allgemein!M60,allgemein!$I$10),6,IF(ISBLANK(allgemein!$I$11),allgemein!M60,allgemein!$I$11),7,IF(ISBLANK(allgemein!$I$12),allgemein!M60,allgemein!$I$12),8,IF(ISBLANK(allgemein!$I$13),allgemein!M60,allgemein!$I$13),IF(ISBLANK(allgemein!M60),\"\",allgemein!M60))","v":{"$error":"#NAME?"}},{"$f":"_xlfn.SWITCH(allgemein!N60,1,IF(ISBLANK(allgemein!$F$10),allgemein!N60,allgemein!$F$10),2,IF(ISBLANK(allgemein!$F$11),allgemein!N60,allgemein!$F$11),3,IF(ISBLANK(allgemein!$F$12),allgemein!N60,allgemein!$F$12),4,IF(ISBLANK(allgemein!$F$13),allgemein!N60,allgemein!$F$13),5,IF(ISBLANK(allgemein!$I$10),allgemein!N60,allgemein!$I$10),6,IF(ISBLANK(allgemein!$I$11),allgemein!N60,allgemein!$I$11),7,IF(ISBLANK(allgemein!$I$12),allgemein!N60,allgemein!$I$12),8,IF(ISBLANK(allgemein!$I$13),allgemein!N60,allgemein!$I$13),IF(ISBLANK(allgemein!N60),\"\",allgemein!N60))","v":{"$error":"#NAME?"}},{"$f":"_xlfn.SWITCH(allgemein!O60,1,IF(ISBLANK(allgemein!$F$10),allgemein!O60,allgemein!$F$10),2,IF(ISBLANK(allgemein!$F$11),allgemein!O60,allgemein!$F$11),3,IF(ISBLANK(allgemein!$F$12),allgemein!O60,allgemein!$F$12),4,IF(ISBLANK(allgemein!$F$13),allgemein!O60,allgemein!$F$13),5,IF(ISBLANK(allgemein!$I$10),allgemein!O60,allgemein!$I$10),6,IF(ISBLANK(allgemein!$I$11),allgemein!O60,allgemein!$I$11),7,IF(ISBLANK(allgemein!$I$12),allgemein!O60,allgemein!$I$12),8,IF(ISBLANK(allgemein!$I$13),allgemein!O60,allgemein!$I$13),IF(ISBLANK(allgemein!O60),\"\",allgemein!O60))","v":{"$error":"#NAME?"}},{"$f":"_xlfn.SWITCH(allgemein!P60,1,IF(ISBLANK(allgemein!$F$10),allgemein!P60,allgemein!$F$10),2,IF(ISBLANK(allgemein!$F$11),allgemein!P60,allgemein!$F$11),3,IF(ISBLANK(allgemein!$F$12),allgemein!P60,allgemein!$F$12),4,IF(ISBLANK(allgemein!$F$13),allgemein!P60,allgemein!$F$13),5,IF(ISBLANK(allgemein!$I$10),allgemein!P60,allgemein!$I$10),6,IF(ISBLANK(allgemein!$I$11),allgemein!P60,allgemein!$I$11),7,IF(ISBLANK(allgemein!$I$12),allgemein!P60,allgemein!$I$12),8,IF(ISBLANK(allgemein!$I$13),allgemein!P60,allgemein!$I$13),IF(ISBLANK(allgemein!P60),\"\",allgemein!P60))","v":{"$error":"#NAME?"}},{"$f":"IF(ISBLANK(allgemein!Q60),\"\",allgemein!Q60)","v":""},{"$f":"IF(ISBLANK(allgemein!R60),\"\",allgemein!R60)","v":""},{"$f":"IF(ISBLANK(allgemein!S60),\"\",allgemein!S60)","v":""},{"$f":"IF(ISBLANK(allgemein!U60),\"\",allgemein!U60)","v":""}]
[{"$f":"IF(ISBLANK(allgemein!D61),\"\",allgemein!D61)","v":44},{"$f":"IF(ISBLANK(allgemein!E61),\"\",allgemein!E61)","v":""},{"$f":"IF(ISBLANK(allgemein!C61),\"\",allgemein!C61)","v":" "},{"$f":"IF(ISBLANK(allgemein!H61),\"\",allgemein!H61)","v":""},{"$f":"IF(ISBLANK(allgemein!I61),\"\",allgemein!I61)","v":""},{"$f":"IF(ISBLANK(allgemein!J61),\"\",allgemein!J61)","v":""},{"$f":"IF(ISBLANK(allgemein!K61),\"\",allgemein!K61)","v":""},{"$f":"IF(ISBLANK(allgemein!F61),\"\",IF(ISBLANK(allgemein!L61),1,0))","v":""},{"$f":"_xlfn.SWITCH(allgemein!M61,1,IF(ISBLANK(allgemein!$F$10),allgemein!M61,allgemein!$F$10),2,IF(ISBLANK(allgemein!$F$11),allgemein!M61,allgemein!$F$11),3,IF(ISBLANK(allgemein!$F$12),allgemein!M61,allgemein!$F$12),4,IF(ISBLANK(allgemein!$F$13),allgemein!M61,allgemein!$F$13),5,IF(ISBLANK(allgemein!$I$10),allgemein!M61,allgemein!$I$10),6,IF(ISBLANK(allgemein!$I$11),allgemein!M61,allgemein!$I$11),7,IF(ISBLANK(allgemein!$I$12),allgemein!M61,allgemein!$I$12),8,IF(ISBLANK(allgemein!$I$13),allgemein!M61,allgemein!$I$13),IF(ISBLANK(allgemein!M61),\"\",allgemein!M61))","v":{"$error":"#NAME?"}},{"$f":"_xlfn.SWITCH(allgemein!N61,1,IF(ISBLANK(allgemein!$F$10),allgemein!N61,allgemein!$F$10),2,IF(ISBLANK(allgemein!$F$11),allgemein!N61,allgemein!$F$11),3,IF(ISBLANK(allgemein!$F$12),allgemein!N61,allgemein!$F$12),4,IF(ISBLANK(allgemein!$F$13),allgemein!N61,allgemein!$F$13),5,IF(ISBLANK(allgemein!$I$10),allgemein!N61,allgemein!$I$10),6,IF(ISBLANK(allgemein!$I$11),allgemein!N61,allgemein!$I$11),7,IF(ISBLANK(allgemein!$I$12),allgemein!N61,allgemein!$I$12),8,IF(ISBLANK(allgemein!$I$13),allgemein!N61,allgemein!$I$13),IF(ISBLANK(allgemein!N61),\"\",allgemein!N61))","v":{"$error":"#NAME?"}},{"$f":"_xlfn.SWITCH(allgemein!O61,1,IF(ISBLANK(allgemein!$F$10),allgemein!O61,allgemein!$F$10),2,IF(ISBLANK(allgemein!$F$11),allgemein!O61,allgemein!$F$11),3,IF(ISBLANK(allgemein!$F$12),allgemein!O61,allgemein!$F$12),4,IF(ISBLANK(allgemein!$F$13),allgemein!O61,allgemein!$F$13),5,IF(ISBLANK(allgemein!$I$10),allgemein!O61,allgemein!$I$10),6,IF(ISBLANK(allgemein!$I$11),allgemein!O61,allgemein!$I$11),7,IF(ISBLANK(allgemein!$I$12),allgemein!O61,allgemein!$I$12),8,IF(ISBLANK(allgemein!$I$13),allgemein!O61,allgemein!$I$13),IF(ISBLANK(allgemein!O61),\"\",allgemein!O61))","v":{"$error":"#NAME?"}},{"$f":"_xlfn.SWITCH(allgemein!P61,1,IF(ISBLANK(allgemein!$F$10),allgemein!P61,allgemein!$F$10),2,IF(ISBLANK(allgemein!$F$11),allgemein!P61,allgemein!$F$11),3,IF(ISBLANK(allgemein!$F$12),allgemein!P61,allgemein!$F$12),4,IF(ISBLANK(allgemein!$F$13),allgemein!P61,allgemein!$F$13),5,IF(ISBLANK(allgemein!$I$10),allgemein!P61,allgemein!$I$10),6,IF(ISBLANK(allgemein!$I$11),allgemein!P61,allgemein!$I$11),7,IF(ISBLANK(allgemein!$I$12),allgemein!P61,allgemein!$I$12),8,IF(ISBLANK(allgemein!$I$13),allgemein!P61,allgemein!$I$13),IF(ISBLANK(allgemein!P61),\"\",allgemein!P61))","v":{"$error":"#NAME?"}},{"$f":"IF(ISBLANK(allgemein!Q61),\"\",allgemein!Q61)","v":""},{"$f":"IF(ISBLANK(allgemein!R61),\"\",allgemein!R61)","v":""},{"$f":"IF(ISBLANK(allgemein!S61),\"\",allgemein!S61)","v":""},{"$f":"IF(ISBLANK(allgemein!U61),\"\",allgemein!U61)","v":""}]
[{"$f":"IF(ISBLANK(allgemein!D62),\"\",allgemein!D62)","v":45},{"$f":"IF(ISBLANK(allgemein!E62),\"\",allgemein!E62)","v":""},{"$f":"IF(ISBLANK(allgemein!C62),\"\",allgemein!C62)","v":" "},{"$f":"IF(ISBLANK(allgemein!H62),\"\",allgemein!H62)","v":""},{"$f":"IF(ISBLANK(allgemein!I62),\"\",allgemein!I62)","v":""},{"$f":"IF(ISBLANK(allgemein!J62),\"\",allgemein!J62)","v":""},{"$f":"IF(ISBLANK(allgemein!K62),\"\",allgemein!K62)","v":""},{"$f":"IF(ISBLANK(allgemein!F62),\"\",IF(ISBLANK(allgemein!L62),1,0))","v":""},{"$f":"_xlfn.SWITCH(allgemein!M62,1,IF(ISBLANK(allgemein!$F$10),allgemein!M62,allgemein!$F$10),2,IF(ISBLANK(allgemein!$F$11),allgemein!M62,allgemein!$F$11),3,IF(ISBLANK(allgemein!$F$12),allgemein!M62,allgemein!$F$12),4,IF(ISBLANK(allgemein!$F$13),allgemein!M62,allgemein!$F$13),5,IF(ISBLANK(allgemein!$I$10),allgemein!M62,allgemein!$I$10),6,IF(ISBLANK(allgemein!$I$11),allgemein!M62,allgemein!$I$11),7,IF(ISBLANK(allgemein!$I$12),allgemein!M62,allgemein!$I$12),8,IF(ISBLANK(allgemein!$I$13),allgemein!M62,allgemein!$I$13),IF(ISBLANK(allgemein!M62),\"\",allgemein!M62))","v":{"$error":"#NAME?"}},{"$f":"_xlfn.SWITCH(allgemein!N62,1,IF(ISBLANK(allgemein!$F$10),allgemein!N62,allgemein!$F$10),2,IF(ISBLANK(allgemein!$F$11),allgemein!N62,allgemein!$F$11),3,IF(ISBLANK(allgemein!$F$12),allgemein!N62,allgemein!$F$12),4,IF(ISBLANK(allgemein!$F$13),allgemein!N62,allgemein!$F$13),5,IF(ISBLANK(allgemein!$I$10),allgemein!N62,allgemein!$I$10),6,IF(ISBLANK(allgemein!$I$11),allgemein!N62,allgemein!$I$11),7,IF(ISBLANK(allgemein!$I$12),allgemein!N62,allgemein!$I$12),8,IF(ISBLANK(allgemein!$I$13),allgemein!N62,allgemein!$I$13),IF(ISBLANK(allgemein!N62),\"\",allgemein!N62))","v":{"$error":"#NAME?"}},{"$f":"_xlfn.SWITCH(allgemein!O62,1,IF(ISBLANK(allgemein!$F$10),allgemein!O62,allgemein!$F$10),2,IF(ISBLANK(allgemein!$F$11),allgemein!O62,allgemein!$F$11),3,IF(ISBLANK(allgemein!$F$12),allgemein!O62,allgemein!$F$12),4,IF(ISBLANK(allgemein!$F$13),allgemein!O62,allgemein!$F$13),5,IF(ISBLANK(allgemein!$I$10),allgemein!O62,allgemein!$I$10),6,IF(ISBLANK(allgemein!$I$11),allgemein!O62,allgemein!$I$11),7,IF(ISBLANK(allgemein!$I$12),allgemein!O62,allgemein!$I$12),8,IF(ISBLANK(allgemein!$I$13),allgemein!O62,allgemein!$I$13),IF(ISBLANK(allgemein!O62),\"\",allgemein!O62))","v":{"$error":"#NAME?"}},{"$f":"_xlfn.SWITCH(allgemein!P62,1,IF(ISBLANK(allgemein!$F$10),allgemein!P62,allgemein!$F$10),2,IF(ISBLANK(allgemein!$F$11),allgemein!P62,allgemein!$F$11),3,IF(ISBLANK(allgemein!$F$12),allgemein!P62,allgemein!$F$12),4,IF(ISBLANK(allgemein!$F$13),allgemein!P62,allgemein!$F$13),5,IF(ISBLANK(allgemein!$I$10),allgemein!P62,allgemein!$I$10),6,IF(ISBLANK(allgemein!$I$11),allgemein!P62,allgemein!$I$11),7,IF(ISBLANK(allgemein!$I$12),allgemein!P62,allgemein!$I$12),8,IF(ISBLANK(allgemein!$I$13),allgemein!P62,allgemein!$I$13),IF(ISBLANK(allgemein!P62),\"\",allgemein!P62))","v":{"$error":"#NAME?"}},{"$f":"IF(ISBLANK(allgemein!Q62),\"\",allgemein!Q62)","v":""},{"$f":"IF(ISBLANK(allgemein!R62),\"\",allgemein!R62)","v":""},{"$f":"IF(ISBLANK(allgemein!S62),\"\",allgemein!S62)","v":""},{"$f":"IF(ISBLANK(allgemein!U62),\"\",allgemein!U62)","v":""}]
[{"$f":"IF(ISBLANK(allgemein!D63),\"\",allgemein!D63)","v":46},{"$f":"IF(ISBLANK(allgemein!E63),\"\",allgemein!E63)","v":""},{"$f":"IF(ISBLANK(allgemein!C63),\"\",allgemein!C63)","v":" "},{"$f":"IF(ISBLANK(allgemein!H63),\"\",allgemein!H63)","v":""},{"$f":"IF(ISBLANK(allgemein!I63),\"\",allgemein!I63)","v":""},{"$f":"IF(ISBLANK(allgemein!J63),\"\",allgemein!J63)","v":""},{"$f":"IF(ISBLANK(allgemein!K63),\"\",allgemein!K63)","v":""},{"$f":"IF(ISBLANK(allgemein!F63),\"\",IF(ISBLANK(allgemein!L63),1,0))","v":""},{"$f":"_xlfn.SWITCH(allgemein!M63,1,IF(ISBLANK(allgemein!$F$10),allgemein!M63,allgemein!$F$10),2,IF(ISBLANK(allgemein!$F$11),allgemein!M63,allgemein!$F$11),3,IF(ISBLANK(allgemein!$F$12),allgemein!M63,allgemein!$F$12),4,IF(ISBLANK(allgemein!$F$13),allgemein!M63,allgemein!$F$13),5,IF(ISBLANK(allgemein!$I$10),allgemein!M63,allgemein!$I$10),6,IF(ISBLANK(allgemein!$I$11),allgemein!M63,allgemein!$I$11),7,IF(ISBLANK(allgemein!$I$12),allgemein!M63,allgemein!$I$12),8,IF(ISBLANK(allgemein!$I$13),allgemein!M63,allgemein!$I$13),IF(ISBLANK(allgemein!M63),\"\",allgemein!M63))","v":{"$error":"#NAME?"}},{"$f":"_xlfn.SWITCH(allgemein!N63,1,IF(ISBLANK(allgemein!$F$10),allgemein!N63,allgemein!$F$10),2,IF(ISBLANK(allgemein!$F$11),allgemein!N63,allgemein!$F$11),3,IF(ISBLANK(allgemein!$F$12),allgemein!N63,allgemein!$F$12),4,IF(ISBLANK(allgemein!$F$13),allgemein!N63,allgemein!$F$13),5,IF(ISBLANK(allgemein!$I$10),allgemein!N63,allgemein!$I$10),6,IF(ISBLANK(allgemein!$I$11),allgemein!N63,allgemein!$I$11),7,IF(ISBLANK(allgemein!$I$12),allgemein!N63,allgemein!$I$12),8,IF(ISBLANK(allgemein!$I$13),allgemein!N63,allgemein!$I$13),IF(ISBLANK(allgemein!N63),\"\",allgemein!N63))","v":{"$error":"#NAME?"}},{"$f":"_xlfn.SWITCH(allgemein!O63,1,IF(ISBLANK(allgemein!$F$10),allgemein!O63,allgemein!$F$10),2,IF(ISBLANK(allgemein!$F$11),allgemein!O63,allgemein!$F$11),3,IF(ISBLANK(allgemein!$F$12),allgemein!O63,allgemein!$F$12),4,IF(ISBLANK(allgemein!$F$13),allgemein!O63,allgemein!$F$13),5,IF(ISBLANK(allgemein!$I$10),allgemein!O63,allgemein!$I$10),6,IF(ISBLANK(allgemein!$I$11),allgemein!O63,allgemein!$I$11),7,IF(ISBLANK(allgemein!$I$12),allgemein!O63,allgemein!$I$12),8,IF(ISBLANK(allgemein!$I$13),allgemein!O63,allgemein!$I$13),IF(ISBLANK(allgemein!O63),\"\",allgemein!O63))","v":{"$error":"#NAME?"}},{"$f":"_xlfn.SWITCH(allgemein!P63,1,IF(ISBLANK(allgemein!$F$10),allgemein!P63,allgemein!$F$10),2,IF(ISBLANK(allgemein!$F$11),allgemein!P63,allgemein!$F$11),3,IF(ISBLANK(allgemein!$F$12),allgemein!P63,allgemein!$F$12),4,IF(ISBLANK(allgemein!$F$13),allgemein!P63,allgemein!$F$13),5,IF(ISBLANK(allgemein!$I$10),allgemein!P63,allgemein!$I$10),6,IF(ISBLANK(allgemein!$I$11),allgemein!P63,allgemein!$I$11),7,IF(ISBLANK(allgemein!$I$12),allgemein!P63,allgemein!$I$12),8,IF(ISBLANK(allgemein!$I$13),allgemein!P63,allgemein!$I$13),IF(ISBLANK(allgemein!P63),\"\",allgemein!P63))","v":{"$error":"#NAME?"}},{"$f":"IF(ISBLANK(allgemein!Q63),\"\",allgemein!Q63)","v":""},{"$f":"IF(ISBLANK(allgemein!R63),\"\",allgemein!R63)","v":""},{"$f":"IF(ISBLANK(allgemein!S63),\"\",allgemein!S63)","v":""},{"$f":"IF(ISBLANK(allgemein!U63),\"\",allgemein!U63)","v":""}]
[{"$f":"IF(ISBLANK(allgemein!D64),\"\",allgemein!D64)","v":47},{"$f":"IF(ISBLANK(allgemein!E64),\"\",allgemein!E64)","v":""},{"$f":"IF(ISBLANK(allgemein!C64),\"\",allgemein!C64)","v":" "},{"$f":"IF(ISBLANK(allgemein!H64),\"\",allgemein!H64)","v":""},{"$f":"IF(ISBLANK(allgemein!I64),\"\",allgemein!I64)","v":""},{"$f":"IF(ISBLANK(allgemein!J64),\"\",allgemein!J64)","v":""},{"$f":"IF(ISBLANK(allgemein!K64),\"\",allgemein!K64)","v":""},{"$f":"IF(ISBLANK(allgemein!F64),\"\",IF(ISBLANK(allgemein!L64),1,0))","v":""},{"$f":"_xlfn.SWITCH(allgemein!M64,1,IF(ISBLANK(allgemein!$F$10),allgemein!M64,allgemein!$F$10),2,IF(ISBLANK(allgemein!$F$11),allgemein!M64,allgemein!$F$11),3,IF(ISBLANK(allgemein!$F$12),allgemein!M64,allgemein!$F$12),4,IF(ISBLANK(allgemein!$F$13),allgemein!M64,allgemein!$F$13),5,IF(ISBLANK(allgemein!$I$10),allgemein!M64,allgemein!$I$10),6,IF(ISBLANK(allgemein!$I$11),allgemein!M64,allgemein!$I$11),7,IF(ISBLANK(allgemein!$I$12),allgemein!M64,allgemein!$I$12),8,IF(ISBLANK(allgemein!$I$13),allgemein!M64,allgemein!$I$13),IF(ISBLANK(allgemein!M64),\"\",allgemein!M64))","v":{"$error":"#NAME?"}},{"$f":"_xlfn.SWITCH(allgemein!N64,1,IF(ISBLANK(allgemein!$F$10),allgemein!N64,allgemein!$F$10),2,IF(ISBLANK(allgemein!$F$11),allgemein!N64,allgemein!$F$11),3,IF(ISBLANK(allgemein!$F$12),allgemein!N64,allgemein!$F$12),4,IF(ISBLANK(allgemein!$F$13),allgemein!N64,allgemein!$F$13),5,IF(ISBLANK(allgemein!$I$10),allgemein!N64,allgemein!$I$10),6,IF(ISBLANK(allgemein!$I$11),allgemein!N64,allgemein!$I$11),7,IF(ISBLANK(allgemein!$I$12),allgemein!N64,allgemein!$I$12),8,IF(ISBLANK(allgemein!$I$13),allgemein!N64,allgemein!$I$13),IF(ISBLANK(allgemein!N64),\"\",allgemein!N64))","v":{"$error":"#NAME?"}},{"$f":"_xlfn.SWITCH(allgemein!O64,1,IF(ISBLANK(allgemein!$F$10),allgemein!O64,allgemein!$F$10),2,IF(ISBLANK(allgemein!$F$11),allgemein!O64,allgemein!$F$11),3,IF(ISBLANK(allgemein!$F$12),allgemein!O64,allgemein!$F$12),4,IF(ISBLANK(allgemein!$F$13),allgemein!O64,allgemein!$F$13),5,IF(ISBLANK(allgemein!$I$10),allgemein!O64,allgemein!$I$10),6,IF(ISBLANK(allgemein!$I$11),allgemein!O64,allgemein!$I$11),7,IF(ISBLANK(allgemein!$I$12),allgemein!O64,allgemein!$I$12),8,IF(ISBLANK(allgemein!$I$13),allgemein!O64,allgemein!$I$13),IF(ISBLANK(allgemein!O64),\"\",allgemein!O64))","v":{"$error":"#NAME?"}},{"$f":"_xlfn.SWITCH(allgemein!P64,1,IF(ISBLANK(allgemein!$F$10),allgemein!P64,allgemein!$F$10),2,IF(ISBLANK(allgemein!$F$11),allgemein!P64,allgemein!$F$11),3,IF(ISBLANK(allgemein!$F$12),allgemein!P64,allgemein!$F$12),4,IF(ISBLANK(allgemein!$F$13),allgemein!P64,allgemein!$F$13),5,IF(ISBLANK(allgemein!$I$10),allgemein!P64,allgemein!$I$10),6,IF(ISBLANK(allgemein!$I$11),allgemein!P64,allgemein!$I$11),7,IF(ISBLANK(allgemein!$I$12),allgemein!P64,allgemein!$I$12),8,IF(ISBLANK(allgemein!$I$13),allgemein!P64,allgemein!$I$13),IF(ISBLANK(allgemein!P64),\"\",allgemein!P64))","v":{"$error":"#NAME?"}},{"$f":"IF(ISBLANK(allgemein!Q64),\"\",allgemein!Q64)","v":""},{"$f":"IF(ISBLANK(allgemein!R64),\"\",allgemein!R64)","v":""},{"$f":"IF(ISBLANK(allgemein!S64),\"\",allgemein!S64)","v":""},{"$f":"IF(ISBLANK(allgemein!U64),\"\",allgemein!U64)","v":""}]
[{"$f":"IF(ISBLANK(allgemein!D65),\"\",allgemein!D65)","v":48},{"$f":"IF(ISBLANK(allgemein!E65),\"\",allgemein!E65)","v":""},{"$f":"IF(ISBLANK(allgemein!C65),\"\",allgemein!C65)","v":" "},{"$f":"IF(ISBLANK(allgemein!H65),\"\",allgemein!H65)","v":""},{"$f":"IF(ISBLANK(allgemein!I65),\"\",allgemein!I65)","v":""},{"$f":"IF(ISBLANK(allgemein!J65),\"\",allgemein!J65)","v":""},{"$f":"IF(ISBLANK(allgemein!K65),\"\",allgemein!K65)","v":""},{"$f":"IF(ISBLANK(allgemein!F65),\"\",IF(ISBLANK(allgemein!L65),1,0))","v":""},{"$f":"_xlfn.SWITCH(allgemein!M65,1,IF(ISBLANK(allgemein!$F$10),allgemein!M65,allgemein!$F$10),2,IF(ISBLANK(allgemein!$F$11),allgemein!M65,allgemein!$F$11),3,IF(ISBLANK(allgemein!$F$12),allgemein!M65,allgemein!$F$12),4,IF(ISBLANK(allgemein!$F$13),allgemein!M65,allgemein!$F$13),5,IF(ISBLANK(allgemein!$I$10),allgemein!M65,allgemein!$I$10),6,IF(ISBLANK(allgemein!$I$11),allgemein!M65,allgemein!$I$11),7,IF(ISBLANK(allgemein!$I$12),allgemein!M65,allgemein!$I$12),8,IF(ISBLANK(allgemein!$I$13),allgemein!M65,allgemein!$I$13),IF(ISBLANK(allgemein!M65),\"\",allgemein!M65))","v":{"$error":"#NAME?"}},{"$f":"_xlfn.SWITCH(allgemein!N65,1,IF(ISBLANK(allgemein!$F$10),allgemein!N65,allgemein!$F$10),2,IF(ISBLANK(allgemein!$F$11),allgemein!N65,allgemein!$F$11),3,IF(ISBLANK(allgemein!$F$12),allgemein!N65,allgemein!$F$12),4,IF(ISBLANK(allgemein!$F$13),allgemein!N65,allgemein!$F$13),5,IF(ISBLANK(allgemein!$I$10),allgemein!N65,allgemein!$I$10),6,IF(ISBLANK(allgemein!$I$11),allgemein!N65,allgemein!$I$11),7,IF(ISBLANK(allgemein!$I$12),allgemein!N65,allgemein!$I$12),8,IF(ISBLANK(allgemein!$I$13),allgemein!N65,allgemein!$I$13),IF(ISBLANK(allgemein!N65),\"\",allgemein!N65))","v":{"$error":"#NAME?"}},{"$f":"_xlfn.SWITCH(allgemein!O65,1,IF(ISBLANK(allgemein!$F$10),allgemein!O65,allgemein!$F$10),2,IF(ISBLANK(allgemein!$F$11),allgemein!O65,allgemein!$F$11),3,IF(ISBLANK(allgemein!$F$12),allgemein!O65,allgemein!$F$12),4,IF(ISBLANK(allgemein!$F$13),allgemein!O65,allgemein!$F$13),5,IF(ISBLANK(allgemein!$I$10),allgemein!O65,allgemein!$I$10),6,IF(ISBLANK(allgemein!$I$11),allgemein!O65,allgemein!$I$11),7,IF(ISBLANK(allgemein!$I$12),allgemein!O65,allgemein!$I$12),8,IF(ISBLANK(allgemein!$I$13),allgemein!O65,allgemein!$I$13),IF(ISBLANK(allgemein!O65),\"\",allgemein!O65))","v":{"$error":"#NAME?"}},{"$f":"_xlfn.SWITCH(allgemein!P65,1,IF(ISBLANK(allgemein!$F$10),allgemein!P65,allgemein!$F$10),2,IF(ISBLANK(allgemein!$F$11),allgemein!P65,allgemein!$F$11),3,IF(ISBLANK(allgemein!$F$12),allgemein!P65,allgemein!$F$12),4,IF(ISBLANK(allgemein!$F$13),allgemein!P65,allgemein!$F$13),5,IF(ISBLANK(allgemein!$I$10),allgemein!P65,allgemein!$I$10),6,IF(ISBLANK(allgemein!$I$11),allgemein!P65,allgemein!$I$11),7,IF(ISBLANK(allgemein!$I$12),allgemein!P65,allgemein!$I$12),8,IF(ISBLANK(allgemein!$I$13),allgemein!P65,allgemein!$I$13),IF(ISBLANK(allgemein!P65),\"\",allgemein!P65))","v":{"$error":"#NAME?"}},{"$f":"IF(ISBLANK(allgemein!Q65),\"\",allgemein!Q65)","v":""},{"$f":"IF(ISBLANK(allgemein!R65),\"\",allgemein!R65)","v":""},{"$f":"IF(ISBLANK(allgemein!S65),\"\",allgemein!S65)","v":""},{"$f":"IF(ISBLANK(allgemein!U65),\"\",allgemein!U65)","v":""}]
[{"$f":"IF(ISBLANK(allgemein!D66),\"\",allgemein!D66)","v":49},{"$f":"IF(ISBLANK(allgemein!E66),\"\",allgemein!E66)","v":""},{"$f":"IF(ISBLANK(allgemein!C66),\"\",allgemein!C66)","v":" "},{"$f":"IF(ISBLANK(allgemein!H66),\"\",allgemein!H66)","v":""},{"$f":"IF(ISBLANK(allgemein!I66),\"\",allgemein!I66)","v":""},{"$f":"IF(ISBLANK(allgemein!J66),\"\",allgemein!J66)","v":""},{"$f":"IF(ISBLANK(allgemein!K66),\"\",allgemein!K66)","v":""},{"$f":"IF(ISBLANK(allgemein!F66),\"\",IF(ISBLANK(allgemein!L66),1,0))","v":""},{"$f":"_xlfn.SWITCH(allgemein!M66,1,IF(ISBLANK(allgemein!$F$10),allgemein!M66,allgemein!$F$10),2,IF(ISBLANK(allgemein!$F$11),allgemein!M66,allgemein!$F$11),3,IF(ISBLANK(allgemein!$F$12),allgemein!M66,allgemein!$F$12),4,IF(ISBLANK(allgemein!$F$13),allgemein!M66,allgemein!$F$13),5,IF(ISBLANK(allgemein!$I$10),allgemein!M66,allgemein!$I$10),6,IF(ISBLANK(allgemein!$I$11),allgemein!M66,allgemein!$I$11),7,IF(ISBLANK(allgemein!$I$12),allgemein!M66,allgemein!$I$12),8,IF(ISBLANK(allgemein!$I$13),allgemein!M66,allgemein!$I$13),IF(ISBLANK(allgemein!M66),\"\",allgemein!M66))","v":{"$error":"#NAME?"}},{"$f":"_xlfn.SWITCH(allgemein!N66,1,IF(ISBLANK(allgemein!$F$10),allgemein!N66,allgemein!$F$10),2,IF(ISBLANK(allgemein!$F$11),allgemein!N66,allgemein!$F$11),3,IF(ISBLANK(allgemein!$F$12),allgemein!N66,allgemein!$F$12),4,IF(ISBLANK(allgemein!$F$13),allgemein!N66,allgemein!$F$13),5,IF(ISBLANK(allgemein!$I$10),allgemein!N66,allgemein!$I$10),6,IF(ISBLANK(allgemein!$I$11),allgemein!N66,allgemein!$I$11),7,IF(ISBLANK(allgemein!$I$12),allgemein!N66,allgemein!$I$12),8,IF(ISBLANK(allgemein!$I$13),allgemein!N66,allgemein!$I$13),IF(ISBLANK(allgemein!N66),\"\",allgemein!N66))","v":{"$error":"#NAME?"}},{"$f":"_xlfn.SWITCH(allgemein!O66,1,IF(ISBLANK(allgemein!$F$10),allgemein!O66,allgemein!$F$10),2,IF(ISBLANK(allgemein!$F$11),allgemein!O66,allgemein!$F$11),3,IF(ISBLANK(allgemein!$F$12),allgemein!O66,allgemein!$F$12),4,IF(ISBLANK(allgemein!$F$13),allgemein!O66,allgemein!$F$13),5,IF(ISBLANK(allgemein!$I$10),allgemein!O66,allgemein!$I$10),6,IF(ISBLANK(allgemein!$I$11),allgemein!O66,allgemein!$I$11),7,IF(ISBLANK(allgemein!$I$12),allgemein!O66,allgemein!$I$12),8,IF(ISBLANK(allgemein!$I$13),allgemein!O66,allgemein!$I$13),IF(ISBLANK(allgemein!O66),\"\",allgemein!O66))","v":{"$error":"#NAME?"}},{"$f":"_xlfn.SWITCH(allgemein!P66,1,IF(ISBLANK(allgemein!$F$10),allgemein!P66,allgemein!$F$10),2,IF(ISBLANK(allgemein!$F$11),allgemein!P66,allgemein!$F$11),3,IF(ISBLANK(allgemein!$F$12),allgemein!P66,allgemein!$F$12),4,IF(ISBLANK(allgemein!$F$13),allgemein!P66,allgemein!$F$13),5,IF(ISBLANK(allgemein!$I$10),allgemein!P66,allgemein!$I$10),6,IF(ISBLANK(allgemein!$I$11),allgemein!P66,allgemein!$I$11),7,IF(ISBLANK(allgemein!$I$12),allgemein!P66,allgemein!$I$12),8,IF(ISBLANK(allgemein!$I$13),allgemein!P66,allgemein!$I$13),IF(ISBLANK(allgemein!P66),\"\",allgemein!P66))","v":{"$error":"#NAME?"}},{"$f":"IF(ISBLANK(allgemein!Q66),\"\",allgemein!Q66)","v":""},{"$f":"IF(ISBLANK(allgemein!R66),\"\",allgemein!R66)","v":""},{"$f":"IF(ISBLANK(allgemein!S66),\"\",allgemein!S66)","v":""},{"$f":"IF(ISBLANK(allgemein!U66),\"\",allgemein!U66)","v":""}]
[{"$f":"IF(ISBLANK(allgemein!D67),\"\",allgemein!D67)","v":50},{"$f":"IF(ISBLANK(allgemein!E67),\"\",allgemein!E67)","v":""},{"$f":"IF(ISBLANK(allgemein!C67),\"\",allgemein!C67)","v":" "},{"$f":"IF(ISBLANK(allgemein!H67),\"\",allgemein!H67)","v":""},{"$f":"IF(ISBLANK(allgemein!I67),\"\",allgemein!I67)","v":""},{"$f":"IF(ISBLANK(allgemein!J67),\"\",allgemein!J67)","v":""},{"$f":"IF(ISBLANK(allgemein!K67),\"\",allgemein!K67)","v":""},{"$f":"IF(ISBLANK(allgemein!F67),\"\",IF(ISBLANK(allgemein!L67),1,0))","v":""},{"$f":"_xlfn.SWITCH(allgemein!M67,1,IF(ISBLANK(allgemein!$F$10),allgemein!M67,allgemein!$F$10),2,IF(ISBLANK(allgemein!$F$11),allgemein!M67,allgemein!$F$11),3,IF(ISBLANK(allgemein!$F$12),allgemein!M67,allgemein!$F$12),4,IF(ISBLANK(allgemein!$F$13),allgemein!M67,allgemein!$F$13),5,IF(ISBLANK(allgemein!$I$10),allgemein!M67,allgemein!$I$10),6,IF(ISBLANK(allgemein!$I$11),allgemein!M67,allgemein!$I$11),7,IF(ISBLANK(allgemein!$I$12),allgemein!M67,allgemein!$I$12),8,IF(ISBLANK(allgemein!$I$13),allgemein!M67,allgemein!$I$13),IF(ISBLANK(allgemein!M67),\"\",allgemein!M67))","v":{"$error":"#NAME?"}},{"$f":"_xlfn.SWITCH(allgemein!N67,1,IF(ISBLANK(allgemein!$F$10),allgemein!N67,allgemein!$F$10),2,IF(ISBLANK(allgemein!$F$11),allgemein!N67,allgemein!$F$11),3,IF(ISBLANK(allgemein!$F$12),allgemein!N67,allgemein!$F$12),4,IF(ISBLANK(allgemein!$F$13),allgemein!N67,allgemein!$F$13),5,IF(ISBLANK(allgemein!$I$10),allgemein!N67,allgemein!$I$10),6,IF(ISBLANK(allgemein!$I$11),allgemein!N67,allgemein!$I$11),7,IF(ISBLANK(allgemein!$I$12),allgemein!N67,allgemein!$I$12),8,IF(ISBLANK(allgemein!$I$13),allgemein!N67,allgemein!$I$13),IF(ISBLANK(allgemein!N67),\"\",allgemein!N67))","v":{"$error":"#NAME?"}},{"$f":"_xlfn.SWITCH(allgemein!O67,1,IF(ISBLANK(allgemein!$F$10),allgemein!O67,allgemein!$F$10),2,IF(ISBLANK(allgemein!$F$11),allgemein!O67,allgemein!$F$11),3,IF(ISBLANK(allgemein!$F$12),allgemein!O67,allgemein!$F$12),4,IF(ISBLANK(allgemein!$F$13),allgemein!O67,allgemein!$F$13),5,IF(ISBLANK(allgemein!$I$10),allgemein!O67,allgemein!$I$10),6,IF(ISBLANK(allgemein!$I$11),allgemein!O67,allgemein!$I$11),7,IF(ISBLANK(allgemein!$I$12),allgemein!O67,allgemein!$I$12),8,IF(ISBLANK(allgemein!$I$13),allgemein!O67,allgemein!$I$13),IF(ISBLANK(allgemein!O67),\"\",allgemein!O67))","v":{"$error":"#NAME?"}},{"$f":"_xlfn.SWITCH(allgemein!P67,1,IF(ISBLANK(allgemein!$F$10),allgemein!P67,allgemein!$F$10),2,IF(ISBLANK(allgemein!$F$11),allgemein!P67,allgemein!$F$11),3,IF(ISBLANK(allgemein!$F$12),allgemein!P67,allgemein!$F$12),4,IF(ISBLANK(allgemein!$F$13),allgemein!P67,allgemein!$F$13),5,IF(ISBLANK(allgemein!$I$10),allgemein!P67,allgemein!$I$10),6,IF(ISBLANK(allgemein!$I$11),allgemein!P67,allgemein!$I$11),7,IF(ISBLANK(allgemein!$I$12),allgemein!P67,allgemein!$I$12),8,IF(ISBLANK(allgemein!$I$13),allgemein!P67,allgemein!$I$13),IF(ISBLANK(allgemein!P67),\"\",allgemein!P67))","v":{"$error":"#NAME?"}},{"$f":"IF(ISBLANK(allgemein!Q67),\"\",allgemein!Q67)","v":""},{"$f":"IF(ISBLANK(allgemein!R67),\"\",allgemein!R67)","v":""},{"$f":"IF(ISBLANK(allgemein!S67),\"\",allgemein!S67)","v":""},{"$f":"IF(ISBLANK(allgemein!U67),\"\",allgemein!U67)","v":""}]
[{"$f":"IF(ISBLANK(allgemein!D68),\"\",allgemein!D68)","v":51},{"$f":"IF(ISBLANK(allgemein!E68),\"\",allgemein!E68)","v":""},{"$f":"IF(ISBLANK(allgemein!C68),\"\",allgemein!C68)","v":" "},{"$f":"IF(ISBLANK(allgemein!H68),\"\",allgemein!H68)","v":""},{"$f":"IF(ISBLANK(allgemein!I68),\"\",allgemein!I68)","v":""},{"$f":"IF(ISBLANK(allgemein!J68),\"\",allgemein!J68)","v":""},{"$f":"IF(ISBLANK(allgemein!K68),\"\",allgemein!K68)","v":""},{"$f":"IF(ISBLANK(allgemein!F68),\"\",IF(ISBLANK(allgemein!L68),1,0))","v":""},{"$f":"_xlfn.SWITCH(allgemein!M68,1,IF(ISBLANK(allgemein!$F$10),allgemein!M68,allgemein!$F$10),2,IF(ISBLANK(allgemein!$F$11),allgemein!M68,allgemein!$F$11),3,IF(ISBLANK(allgemein!$F$12),allgemein!M68,allgemein!$F$12),4,IF(ISBLANK(allgemein!$F$13),allgemein!M68,allgemein!$F$13),5,IF(ISBLANK(allgemein!$I$10),allgemein!M68,allgemein!$I$10),6,IF(ISBLANK(allgemein!$I$11),allgemein!M68,allgemein!$I$11),7,IF(ISBLANK(allgemein!$I$12),allgemein!M68,allgemein!$I$12),8,IF(ISBLANK(allgemein!$I$13),allgemein!M68,allgemein!$I$13),IF(ISBLANK(allgemein!M68),\"\",allgemein!M68))","v":{"$error":"#NAME?"}},{"$f":"_xlfn.SWITCH(allgemein!N68,1,IF(ISBLANK(allgemein!$F$10),allgemein!N68,allgemein!$F$10),2,IF(ISBLANK(allgemein!$F$11),allgemein!N68,allgemein!$F$11),3,IF(ISBLANK(allgemein!$F$12),allgemein!N68,allgemein!$F$12),4,IF(ISBLANK(allgemein!$F$13),allgemein!N68,allgemein!$F$13),5,IF(ISBLANK(allgemein!$I$10),allgemein!N68,allgemein!$I$10),6,IF(ISBLANK(allgemein!$I$11),allgemein!N68,allgemein!$I$11),7,IF(ISBLANK(allgemein!$I$12),allgemein!N68,allgemein!$I$12),8,IF(ISBLANK(allgemein!$I$13),allgemein!N68,allgemein!$I$13),IF(ISBLANK(allgemein!N68),\"\",allgemein!N68))","v":{"$error":"#NAME?"}},{"$f":"_xlfn.SWITCH(allgemein!O68,1,IF(ISBLANK(allgemein!$F$10),allgemein!O68,allgemein!$F$10),2,IF(ISBLANK(allgemein!$F$11),allgemein!O68,allgemein!$F$11),3,IF(ISBLANK(allgemein!$F$12),allgemein!O68,allgemein!$F$12),4,IF(ISBLANK(allgemein!$F$13),allgemein!O68,allgemein!$F$13),5,IF(ISBLANK(allgemein!$I$10),allgemein!O68,allgemein!$I$10),6,IF(ISBLANK(allgemein!$I$11),allgemein!O68,allgemein!$I$11),7,IF(ISBLANK(allgemein!$I$12),allgemein!O68,allgemein!$I$12),8,IF(ISBLANK(allgemein!$I$13),allgemein!O68,allgemein!$I$13),IF(ISBLANK(allgemein!O68),\"\",allgemein!O68))","v":{"$error":"#NAME?"}},{"$f":"_xlfn.SWITCH(allgemein!P68,1,IF(ISBLANK(allgemein!$F$10),allgemein!P68,allgemein!$F$10),2,IF(ISBLANK(allgemein!$F$11),allgemein!P68,allgemein!$F$11),3,IF(ISBLANK(allgemein!$F$12),allgemein!P68,allgemein!$F$12),4,IF(ISBLANK(allgemein!$F$13),allgemein!P68,allgemein!$F$13),5,IF(ISBLANK(allgemein!$I$10),allgemein!P68,allgemein!$I$10),6,IF(ISBLANK(allgemein!$I$11),allgemein!P68,allgemein!$I$11),7,IF(ISBLANK(allgemein!$I$12),allgemein!P68,allgemein!$I$12),8,IF(ISBLANK(allgemein!$I$13),allgemein!P68,allgemein!$I$13),IF(ISBLANK(allgemein!P68),\"\",allgemein!P68))","v":{"$error":"#NAME?"}},{"$f":"IF(ISBLANK(allgemein!Q68),\"\",allgemein!Q68)","v":""},{"$f":"IF(ISBLANK(allgemein!R68),\"\",allgemein!R68)","v":""},{"$f":"IF(ISBLANK(allgemein!S68),\"\",allgemein!S68)","v":""},{"$f":"IF(ISBLANK(allgemein!U68),\"\",allgemein!U68)","v":""}]
[{"$f":"IF(ISBLANK(allgemein!D69),\"\",allgemein!D69)","v":52},{"$f":"IF(ISBLANK(allgemein!E69),\"\",allgemein!E69)","v":""},{"$f":"IF(ISBLANK(allgemein!C69),\"\",allgemein!C69)","v":" "},{"$f":"IF(ISBLANK(allgemein!H69),\"\",allgemein!H69)","v":""},{"$f":"IF(ISBLANK(allgemein!I69),\"\",allgemein!I69)","v":""},{"$f":"IF(ISBLANK(allgemein!J69),\"\",allgemein!J69)","v":""},{"$f":"IF(ISBLANK(allgemein!K69),\"\",allgemein!K69)","v":""},{"$f":"IF(ISBLANK(allgemein!F69),\"\",IF(ISBLANK(allgemein!L69),1,0))","v":""},{"$f":"_xlfn.SWITCH(allgemein!M69,1,IF(ISBLANK(allgemein!$F$10),allgemein!M69,allgemein!$F$10),2,IF(ISBLANK(allgemein!$F$11),allgemein!M69,allgemein!$F$11),3,IF(ISBLANK(allgemein!$F$12),allgemein!M69,allgemein!$F$12),4,IF(ISBLANK(allgemein!$F$13),allgemein!M69,allgemein!$F$13),5,IF(ISBLANK(allgemein!$I$10),allgemein!M69,allgemein!$I$10),6,IF(ISBLANK(allgemein!$I$11),allgemein!M69,allgemein!$I$11),7,IF(ISBLANK(allgemein!$I$12),allgemein!M69,allgemein!$I$12),8,IF(ISBLANK(allgemein!$I$13),allgemein!M69,allgemein!$I$13),IF(ISBLANK(allgemein!M69),\"\",allgemein!M69))","v":{"$error":"#NAME?"}},{"$f":"_xlfn.SWITCH(allgemein!N69,1,IF(ISBLANK(allgemein!$F$10),allgemein!N69,allgemein!$F$10),2,IF(ISBLANK(allgemein!$F$11),allgemein!N69,allgemein!$F$11),3,IF(ISBLANK(allgemein!$F$12),allgemein!N69,allgemein!$F$12),4,IF(ISBLANK(allgemein!$F$13),allgemein!N69,allgemein!$F$13),5,IF(ISBLANK(allgemein!$I$10),allgemein!N69,allgemein!$I$10),6,IF(ISBLANK(allgemein!$I$11),allgemein!N69,allgemein!$I$11),7,IF(ISBLANK(allgemein!$I$12),allgemein!N69,allgemein!$I$12),8,IF(ISBLANK(allgemein!$I$13),allgemein!N69,allgemein!$I$13),IF(ISBLANK(allgemein!N69),\"\",allgemein!N69))","v":{"$error":"#NAME?"}},{"$f":"_xlfn.SWITCH(allgemein!O69,1,IF(ISBLANK(allgemein!$F$10),allgemein!O69,allgemein!$F$10),2,IF(ISBLANK(allgemein!$F$11),allgemein!O69,allgemein!$F$11),3,IF(ISBLANK(allgemein!$F$12),allgemein!O69,allgemein!$F$12),4,IF(ISBLANK(allgemein!$F$13),allgemein!O69,allgemein!$F$13),5,IF(ISBLANK(allgemein!$I$10),allgemein!O69,allgemein!$I$10),6,IF(ISBLANK(allgemein!$I$11),allgemein!O69,allgemein!$I$11),7,IF(ISBLANK(allgemein!$I$12),allgemein!O69,allgemein!$I$12),8,IF(ISBLANK(allgemein!$I$13),allgemein!O69,allgemein!$I$13),IF(ISBLANK(allgemein!O69),\"\",allgemein!O69))","v":{"$error":"#NAME?"}},{"$f":"_xlfn.SWITCH(allgemein!P69,1,IF(ISBLANK(allgemein!$F$10),allgemein!P69,allgemein!$F$10),2,IF(ISBLANK(allgemein!$F$11),allgemein!P69,allgemein!$F$11),3,IF(ISBLANK(allgemein!$F$12),allgemein!P69,allgemein!$F$12),4,IF(ISBLANK(allgemein!$F$13),allgemein!P69,allgemein!$F$13),5,IF(ISBLANK(allgemein!$I$10),allgemein!P69,allgemein!$I$10),6,IF(ISBLANK(allgemein!$I$11),allgemein!P69,allgemein!$I$11),7,IF(ISBLANK(allgemein!$I$12),allgemein!P69,allgemein!$I$12),8,IF(ISBLANK(allgemein!$I$13),allgemein!P69,allgemein!$I$13),IF(ISBLANK(allgemein!P69),\"\",allgemein!P69))","v":{"$error":"#NAME?"}},{"$f":"IF(ISBLANK(allgemein!Q69),\"\",allgemein!Q69)","v":""},{"$f":"IF(ISBLANK(allgemein!R69),\"\",allgemein!R69)","v":""},{"$f":"IF(ISBLANK(allgemein!S69),\"\",allgemein!S69)","v":""},{"$f":"IF(ISBLANK(allgemein!U69),\"\",allgemein!U69)","v":""}]
[{"$f":"IF(ISBLANK(allgemein!D70),\"\",allgemein!D70)","v":53},{"$f":"IF(ISBLANK(allgemein!E70),\"\",allgemein!E70)","v":""},{"$f":"IF(ISBLANK(allgemein!C70),\"\",allgemein!C70)","v":" "},{"$f":"IF(ISBLANK(allgemein!H70),\"\",allgemein!H70)","v":""},{"$f":"IF(ISBLANK(allgemein!I70),\"\",allgemein!I70)","v":""},{"$f":"IF(ISBLANK(allgemein!J70),\"\",allgemein!J70)","v":""},{"$f":"IF(ISBLANK(allgemein!K70),\"\",allgemein!K70)","v":""},{"$f":"IF(ISBLANK(allgemein!F70),\"\",IF(ISBLANK(allgemein!L70),1,0))","v":""},{"$f":"_xlfn.SWITCH(allgemein!M70,1,IF(ISBLANK(allgemein!$F$10),allgemein!M70,allgemein!$F$10),2,IF(ISBLANK(allgemein!$F$11),allgemein!M70,allgemein!$F$11),3,IF(ISBLANK(allgemein!$F$12),allgemein!M70,allgemein!$F$12),4,IF(ISBLANK(allgemein!$F$13),allgemein!M70,allgemein!$F$13),5,IF(ISBLANK(allgemein!$I$10),allgemein!M70,allgemein!$I$10),6,IF(ISBLANK(allgemein!$I$11),allgemein!M70,allgemein!$I$11),7,IF(ISBLANK(allgemein!$I$12),allgemein!M70,allgemein!$I$12),8,IF(ISBLANK(allgemein!$I$13),allgemein!M70,allgemein!$I$13),IF(ISBLANK(allgemein!M70),\"\",allgemein!M70))","v":{"$error":"#NAME?"}},{"$f":"_xlfn.SWITCH(allgemein!N70,1,IF(ISBLANK(allgemein!$F$10),allgemein!N70,allgemein!$F$10),2,IF(ISBLANK(allgemein!$F$11),allgemein!N70,allgemein!$F$11),3,IF(ISBLANK(allgemein!$F$12),allgemein!N70,allgemein!$F$12),4,IF(ISBLANK(allgemein!$F$13),allgemein!N70,allgemein!$F$13),5,IF(ISBLANK(allgemein!$I$10),allgemein!N70,allgemein!$I$10),6,IF(ISBLANK(allgemein!$I$11),allgemein!N70,allgemein!$I$11),7,IF(ISBLANK(allgemein!$I$12),allgemein!N70,allgemein!$I$12),8,IF(ISBLANK(allgemein!$I$13),allgemein!N70,allgemein!$I$13),IF(ISBLANK(allgemein!N70),\"\",allgemein!N70))","v":{"$error":"#NAME?"}},{"$f":"_xlfn.SWITCH(allgemein!O70,1,IF(ISBLANK(allgemein!$F$10),allgemein!O70,allgemein!$F$10),2,IF(ISBLANK(allgemein!$F$11),allgemein!O70,allgemein!$F$11),3,IF(ISBLANK(allgemein!$F$12),allgemein!O70,allgemein!$F$12),4,IF(ISBLANK(allgemein!$F$13),allgemein!O70,allgemein!$F$13),5,IF(ISBLANK(allgemein!$I$10),allgemein!O70,allgemein!$I$10),6,IF(ISBLANK(allgemein!$I$11),allgemein!O70,allgemein!$I$11),7,IF(ISBLANK(allgemein!$I$12),allgemein!O70,allgemein!$I$12),8,IF(ISBLANK(allgemein!$I$13),allgemein!O70,allgemein!$I$13),IF(ISBLANK(allgemein!O70),\"\",allgemein!O70))","v":{"$error":"#NAME?"}},{"$f":"_xlfn.SWITCH(allgemein!P70,1,IF(ISBLANK(allgemein!$F$10),allgemein!P70,allgemein!$F$10),2,IF(ISBLANK(allgemein!$F$11),allgemein!P70,allgemein!$F$11),3,IF(ISBLANK(allgemein!$F$12),allgemein!P70,allgemein!$F$12),4,IF(ISBLANK(allgemein!$F$13),allgemein!P70,allgemein!$F$13),5,IF(ISBLANK(allgemein!$I$10),allgemein!P70,allgemein!$I$10),6,IF(ISBLANK(allgemein!$I$11),allgemein!P70,allgemein!$I$11),7,IF(ISBLANK(allgemein!$I$12),allgemein!P70,allgemein!$I$12),8,IF(ISBLANK(allgemein!$I$13),allgemein!P70,allgemein!$I$13),IF(ISBLANK(allgemein!P70),\"\",allgemein!P70))","v":{"$error":"#NAME?"}},{"$f":"IF(ISBLANK(allgemein!Q70),\"\",allgemein!Q70)","v":""},{"$f":"IF(ISBLANK(allgemein!R70),\"\",allgemein!R70)","v":""},{"$f":"IF(ISBLANK(allgemein!S70),\"\",allgemein!S70)","v":""},{"$f":"IF(ISBLANK(allgemein!U70),\"\",allgemein!U70)","v":""}]
[{"$f":"IF(ISBLANK(allgemein!D71),\"\",allgemein!D71)","v":54},{"$f":"IF(ISBLANK(allgemein!E71),\"\",allgemein!E71)","v":""},{"$f":"IF(ISBLANK(allgemein!C71),\"\",allgemein!C71)","v":" "},{"$f":"IF(ISBLANK(allgemein!H71),\"\",allgemein!H71)","v":""},{"$f":"IF(ISBLANK(allgemein!I71),\"\",allgemein!I71)","v":""},{"$f":"IF(ISBLANK(allgemein!J71),\"\",allgemein!J71)","v":""},{"$f":"IF(ISBLANK(allgemein!K71),\"\",allgemein!K71)","v":""},{"$f":"IF(ISBLANK(allgemein!F71),\"\",IF(ISBLANK(allgemein!L71),1,0))","v":""},{"$f":"_xlfn.SWITCH(allgemein!M71,1,IF(ISBLANK(allgemein!$F$10),allgemein!M71,allgemein!$F$10),2,IF(ISBLANK(allgemein!$F$11),allgemein!M71,allgemein!$F$11),3,IF(ISBLANK(allgemein!$F$12),allgemein!M71,allgemein!$F$12),4,IF(ISBLANK(allgemein!$F$13),allgemein!M71,allgemein!$F$13),5,IF(ISBLANK(allgemein!$I$10),allgemein!M71,allgemein!$I$10),6,IF(ISBLANK(allgemein!$I$11),allgemein!M71,allgemein!$I$11),7,IF(ISBLANK(allgemein!$I$12),allgemein!M71,allgemein!$I$12),8,IF(ISBLANK(allgemein!$I$13),allgemein!M71,allgemein!$I$13),IF(ISBLANK(allgemein!M71),\"\",allgemein!M71))","v":{"$error":"#NAME?"}},{"$f":"_xlfn.SWITCH(allgemein!N71,1,IF(ISBLANK(allgemein!$F$10),allgemein!N71,allgemein!$F$10),2,IF(ISBLANK(allgemein!$F$11),allgemein!N71,allgemein!$F$11),3,IF(ISBLANK(allgemein!$F$12),allgemein!N71,allgemein!$F$12),4,IF(ISBLANK(allgemein!$F$13),allgemein!N71,allgemein!$F$13),5,IF(ISBLANK(allgemein!$I$10),allgemein!N71,allgemein!$I$10),6,IF(ISBLANK(allgemein!$I$11),allgemein!N71,allgemein!$I$11),7,IF(ISBLANK(allgemein!$I$12),allgemein!N71,allgemein!$I$12),8,IF(ISBLANK(allgemein!$I$13),allgemein!N71,allgemein!$I$13),IF(ISBLANK(allgemein!N71),\"\",allgemein!N71))","v":{"$error":"#NAME?"}},{"$f":"_xlfn.SWITCH(allgemein!O71,1,IF(ISBLANK(allgemein!$F$10),allgemein!O71,allgemein!$F$10),2,IF(ISBLANK(allgemein!$F$11),allgemein!O71,allgemein!$F$11),3,IF(ISBLANK(allgemein!$F$12),allgemein!O71,allgemein!$F$12),4,IF(ISBLANK(allgemein!$F$13),allgemein!O71,allgemein!$F$13),5,IF(ISBLANK(allgemein!$I$10),allgemein!O71,allgemein!$I$10),6,IF(ISBLANK(allgemein!$I$11),allgemein!O71,allgemein!$I$11),7,IF(ISBLANK(allgemein!$I$12),allgemein!O71,allgemein!$I$12),8,IF(ISBLANK(allgemein!$I$13),allgemein!O71,allgemein!$I$13),IF(ISBLANK(allgemein!O71),\"\",allgemein!O71))","v":{"$error":"#NAME?"}},{"$f":"_xlfn.SWITCH(allgemein!P71,1,IF(ISBLANK(allgemein!$F$10),allgemein!P71,allgemein!$F$10),2,IF(ISBLANK(allgemein!$F$11),allgemein!P71,allgemein!$F$11),3,IF(ISBLANK(allgemein!$F$12),allgemein!P71,allgemein!$F$12),4,IF(ISBLANK(allgemein!$F$13),allgemein!P71,allgemein!$F$13),5,IF(ISBLANK(allgemein!$I$10),allgemein!P71,allgemein!$I$10),6,IF(ISBLANK(allgemein!$I$11),allgemein!P71,allgemein!$I$11),7,IF(ISBLANK(allgemein!$I$12),allgemein!P71,allgemein!$I$12),8,IF(ISBLANK(allgemein!$I$13),allgemein!P71,allgemein!$I$13),IF(ISBLANK(allgemein!P71),\"\",allgemein!P71))","v":{"$error":"#NAME?"}},{"$f":"IF(ISBLANK(allgemein!Q71),\"\",allgemein!Q71)","v":""},{"$f":"IF(ISBLANK(allgemein!R71),\"\",allgemein!R71)","v":""},{"$f":"IF(ISBLANK(allgemein!S71),\"\",allgemein!S71)","v":""},{"$f":"IF(ISBLANK(allgemein!U71),\"\",allgemein!U71)","v":""}]
[{"$f":"IF(ISBLANK(allgemein!D72),\"\",allgemein!D72)","v":55},{"$f":"IF(ISBLANK(allgemein!E72),\"\",allgemein!E72)","v":""},{"$f":"IF(ISBLANK(allgemein!C72),\"\",allgemein!C72)","v":" "},{"$f":"IF(ISBLANK(allgemein!H72),\"\",allgemein!H72)","v":""},{"$f":"IF(ISBLANK(allgemein!I72),\"\",allgemein!I72)","v":""},{"$f":"IF(ISBLANK(allgemein!J72),\"\",allgemein!J72)","v":""},{"$f":"IF(ISBLANK(allgemein!K72),\"\",allgemein!K72)","v":""},{"$f":"IF(ISBLANK(allgemein!F72),\"\",IF(ISBLANK(allgemein!L72),1,0))","v":""},{"$f":"_xlfn.SWITCH(allgemein!M72,1,IF(ISBLANK(allgemein!$F$10),allgemein!M72,allgemein!$F$10),2,IF(ISBLANK(allgemein!$F$11),allgemein!M72,allgemein!$F$11),3,IF(ISBLANK(allgemein!$F$12),allgemein!M72,allgemein!$F$12),4,IF(ISBLANK(allgemein!$F$13),allgemein!M72,allgemein!$F$13),5,IF(ISBLANK(allgemein!$I$10),allgemein!M72,allgemein!$I$10),6,IF(ISBLANK(allgemein!$I$11),allgemein!M72,allgemein!$I$11),7,IF(ISBLANK(allgemein!$I$12),allgemein!M72,allgemein!$I$12),8,IF(ISBLANK(allgemein!$I$13),allgemein!M72,allgemein!$I$13),IF(ISBLANK(allgemein!M72),\"\",allgemein!M72))","v":{"$error":"#NAME?"}},{"$f":"_xlfn.SWITCH(allgemein!N72,1,IF(ISBLANK(allgemein!$F$10),allgemein!N72,allgemein!$F$10),2,IF(ISBLANK(allgemein!$F$11),allgemein!N72,allgemein!$F$11),3,IF(ISBLANK(allgemein!$F$12),allgemein!N72,allgemein!$F$12),4,IF(ISBLANK(allgemein!$F$13),allgemein!N72,allgemein!$F$13),5,IF(ISBLANK(allgemein!$I$10),allgemein!N72,allgemein!$I$10),6,IF(ISBLANK(allgemein!$I$11),allgemein!N72,allgemein!$I$11),7,IF(ISBLANK(allgemein!$I$12),allgemein!N72,allgemein!$I$12),8,IF(ISBLANK(allgemein!$I$13),allgemein!N72,allgemein!$I$13),IF(ISBLANK(allgemein!N72),\"\",allgemein!N72))","v":{"$error":"#NAME?"}},{"$f":"_xlfn.SWITCH(allgemein!O72,1,IF(ISBLANK(allgemein!$F$10),allgemein!O72,allgemein!$F$10),2,IF(ISBLANK(allgemein!$F$11),allgemein!O72,allgemein!$F$11),3,IF(ISBLANK(allgemein!$F$12),allgemein!O72,allgemein!$F$12),4,IF(ISBLANK(allgemein!$F$13),allgemein!O72,allgemein!$F$13),5,IF(ISBLANK(allgemein!$I$10),allgemein!O72,allgemein!$I$10),6,IF(ISBLANK(allgemein!$I$11),allgemein!O72,allgemein!$I$11),7,IF(ISBLANK(allgemein!$I$12),allgemein!O72,allgemein!$I$12),8,IF(ISBLANK(allgemein!$I$13),allgemein!O72,allgemein!$I$13),IF(ISBLANK(allgemein!O72),\"\",allgemein!O72))","v":{"$error":"#NAME?"}},{"$f":"_xlfn.SWITCH(allgemein!P72,1,IF(ISBLANK(allgemein!$F$10),allgemein!P72,allgemein!$F$10),2,IF(ISBLANK(allgemein!$F$11),allgemein!P72,allgemein!$F$11),3,IF(ISBLANK(allgemein!$F$12),allgemein!P72,allgemein!$F$12),4,IF(ISBLANK(allgemein!$F$13),allgemein!P72,allgemein!$F$13),5,IF(ISBLANK(allgemein!$I$10),allgemein!P72,allgemein!$I$10),6,IF(ISBLANK(allgemein!$I$11),allgemein!P72,allgemein!$I$11),7,IF(ISBLANK(allgemein!$I$12),allgemein!P72,allgemein!$I$12),8,IF(ISBLANK(allgemein!$I$13),allgemein!P72,allgemein!$I$13),IF(ISBLANK(allgemein!P72),\"\",allgemein!P72))","v":{"$error":"#NAME?"}},{"$f":"IF(ISBLANK(allgemein!Q72),\"\",allgemein!Q72)","v":""},{"$f":"IF(ISBLANK(allgemein!R72),\"\",allgemein!R72)","v":""},{"$f":"IF(ISBLANK(allgemein!S72),\"\",allgemein!S72)","v":""},{"$f":"IF(ISBLANK(allgemein!U72),\"\",allgemein!U72)","v":""}]
[{"$f":"IF(ISBLANK(allgemein!D73),\"\",allgemein!D73)","v":56},{"$f":"IF(ISBLANK(allgemein!E73),\"\",allgemein!E73)","v":""},{"$f":"IF(ISBLANK(allgemein!C73),\"\",allgemein!C73)","v":" "},{"$f":"IF(ISBLANK(allgemein!H73),\"\",allgemein!H73)","v":""},{"$f":"IF(ISBLANK(allgemein!I73),\"\",allgemein!I73)","v":""},{"$f":"IF(ISBLANK(allgemein!J73),\"\",allgemein!J73)","v":""},{"$f":"IF(ISBLANK(allgemein!K73),\"\",allgemein!K73)","v":""},{"$f":"IF(ISBLANK(allgemein!F73),\"\",IF(ISBLANK(allgemein!L73),1,0))","v":""},{"$f":"_xlfn.SWITCH(allgemein!M73,1,IF(ISBLANK(allgemein!$F$10),allgemein!M73,allgemein!$F$10),2,IF(ISBLANK(allgemein!$F$11),allgemein!M73,allgemein!$F$11),3,IF(ISBLANK(allgemein!$F$12),allgemein!M73,allgemein!$F$12),4,IF(ISBLANK(allgemein!$F$13),allgemein!M73,allgemein!$F$13),5,IF(ISBLANK(allgemein!$I$10),allgemein!M73,allgemein!$I$10),6,IF(ISBLANK(allgemein!$I$11),allgemein!M73,allgemein!$I$11),7,IF(ISBLANK(allgemein!$I$12),allgemein!M73,allgemein!$I$12),8,IF(ISBLANK(allgemein!$I$13),allgemein!M73,allgemein!$I$13),IF(ISBLANK(allgemein!M73),\"\",allgemein!M73))","v":{"$error":"#NAME?"}},{"$f":"_xlfn.SWITCH(allgemein!N73,1,IF(ISBLANK(allgemein!$F$10),allgemein!N73,allgemein!$F$10),2,IF(ISBLANK(allgemein!$F$11),allgemein!N73,allgemein!$F$11),3,IF(ISBLANK(allgemein!$F$12),allgemein!N73,allgemein!$F$12),4,IF(ISBLANK(allgemein!$F$13),allgemein!N73,allgemein!$F$13),5,IF(ISBLANK(allgemein!$I$10),allgemein!N73,allgemein!$I$10),6,IF(ISBLANK(allgemein!$I$11),allgemein!N73,allgemein!$I$11),7,IF(ISBLANK(allgemein!$I$12),allgemein!N73,allgemein!$I$12),8,IF(ISBLANK(allgemein!$I$13),allgemein!N73,allgemein!$I$13),IF(ISBLANK(allgemein!N73),\"\",allgemein!N73))","v":{"$error":"#NAME?"}},{"$f":"_xlfn.SWITCH(allgemein!O73,1,IF(ISBLANK(allgemein!$F$10),allgemein!O73,allgemein!$F$10),2,IF(ISBLANK(allgemein!$F$11),allgemein!O73,allgemein!$F$11),3,IF(ISBLANK(allgemein!$F$12),allgemein!O73,allgemein!$F$12),4,IF(ISBLANK(allgemein!$F$13),allgemein!O73,allgemein!$F$13),5,IF(ISBLANK(allgemein!$I$10),allgemein!O73,allgemein!$I$10),6,IF(ISBLANK(allgemein!$I$11),allgemein!O73,allgemein!$I$11),7,IF(ISBLANK(allgemein!$I$12),allgemein!O73,allgemein!$I$12),8,IF(ISBLANK(allgemein!$I$13),allgemein!O73,allgemein!$I$13),IF(ISBLANK(allgemein!O73),\"\",allgemein!O73))","v":{"$error":"#NAME?"}},{"$f":"_xlfn.SWITCH(allgemein!P73,1,IF(ISBLANK(allgemein!$F$10),allgemein!P73,allgemein!$F$10),2,IF(ISBLANK(allgemein!$F$11),allgemein!P73,allgemein!$F$11),3,IF(ISBLANK(allgemein!$F$12),allgemein!P73,allgemein!$F$12),4,IF(ISBLANK(allgemein!$F$13),allgemein!P73,allgemein!$F$13),5,IF(ISBLANK(allgemein!$I$10),allgemein!P73,allgemein!$I$10),6,IF(ISBLANK(allgemein!$I$11),allgemein!P73,allgemein!$I$11),7,IF(ISBLANK(allgemein!$I$12),allgemein!P73,allgemein!$I$12),8,IF(ISBLANK(allgemein!$I$13),allgemein!P73,allgemein!$I$13),IF(ISBLANK(allgemein!P73),\"\",allgemein!P73))","v":{"$error":"#NAME?"}},{"$f":"IF(ISBLANK(allgemein!Q73),\"\",allgemein!Q73)","v":""},{"$f":"IF(ISBLANK(allgemein!R73),\"\",allgemein!R73)","v":""},{"$f":"IF(ISBLANK(allgemein!S73),\"\",allgemein!S73)","v":""},{"$f":"IF(ISBLANK(allgemein!U73),\"\",allgemein!U73)","v":""}]
[{"$f":"IF(ISBLANK(allgemein!D74),\"\",allgemein!D74)","v":57},{"$f":"IF(ISBLANK(allgemein!E74),\"\",allgemein!E74)","v":""},{"$f":"IF(ISBLANK(allgemein!C74),\"\",allgemein!C74)","v":" "},{"$f":"IF(ISBLANK(allgemein!H74),\"\",allgemein!H74)","v":""},{"$f":"IF(ISBLANK(allgemein!I74),\"\",allgemein!I74)","v":""},{"$f":"IF(ISBLANK(allgemein!J74),\"\",allgemein!J74)","v":""},{"$f":"IF(ISBLANK(allgemein!K74),\"\",allgemein!K74)","v":""},{"$f":"IF(ISBLANK(allgemein!F74),\"\",IF(ISBLANK(allgemein!L74),1,0))","v":""},{"$f":"_xlfn.SWITCH(allgemein!M74,1,IF(ISBLANK(allgemein!$F$10),allgemein!M74,allgemein!$F$10),2,IF(ISBLANK(allgemein!$F$11),allgemein!M74,allgemein!$F$11),3,IF(ISBLANK(allgemein!$F$12),allgemein!M74,allgemein!$F$12),4,IF(ISBLANK(allgemein!$F$13),allgemein!M74,allgemein!$F$13),5,IF(ISBLANK(allgemein!$I$10),allgemein!M74,allgemein!$I$10),6,IF(ISBLANK(allgemein!$I$11),allgemein!M74,allgemein!$I$11),7,IF(ISBLANK(allgemein!$I$12),allgemein!M74,allgemein!$I$12),8,IF(ISBLANK(allgemein!$I$13),allgemein!M74,allgemein!$I$13),IF(ISBLANK(allgemein!M74),\"\",allgemein!M74))","v":{"$error":"#NAME?"}},{"$f":"_xlfn.SWITCH(allgemein!N74,1,IF(ISBLANK(allgemein!$F$10),allgemein!N74,allgemein!$F$10),2,IF(ISBLANK(allgemein!$F$11),allgemein!N74,allgemein!$F$11),3,IF(ISBLANK(allgemein!$F$12),allgemein!N74,allgemein!$F$12),4,IF(ISBLANK(allgemein!$F$13),allgemein!N74,allgemein!$F$13),5,IF(ISBLANK(allgemein!$I$10),allgemein!N74,allgemein!$I$10),6,IF(ISBLANK(allgemein!$I$11),allgemein!N74,allgemein!$I$11),7,IF(ISBLANK(allgemein!$I$12),allgemein!N74,allgemein!$I$12),8,IF(ISBLANK(allgemein!$I$13),allgemein!N74,allgemein!$I$13),IF(ISBLANK(allgemein!N74),\"\",allgemein!N74))","v":{"$error":"#NAME?"}},{"$f":"_xlfn.SWITCH(allgemein!O74,1,IF(ISBLANK(allgemein!$F$10),allgemein!O74,allgemein!$F$10),2,IF(ISBLANK(allgemein!$F$11),allgemein!O74,allgemein!$F$11),3,IF(ISBLANK(allgemein!$F$12),allgemein!O74,allgemein!$F$12),4,IF(ISBLANK(allgemein!$F$13),allgemein!O74,allgemein!$F$13),5,IF(ISBLANK(allgemein!$I$10),allgemein!O74,allgemein!$I$10),6,IF(ISBLANK(allgemein!$I$11),allgemein!O74,allgemein!$I$11),7,IF(ISBLANK(allgemein!$I$12),allgemein!O74,allgemein!$I$12),8,IF(ISBLANK(allgemein!$I$13),allgemein!O74,allgemein!$I$13),IF(ISBLANK(allgemein!O74),\"\",allgemein!O74))","v":{"$error":"#NAME?"}},{"$f":"_xlfn.SWITCH(allgemein!P74,1,IF(ISBLANK(allgemein!$F$10),allgemein!P74,allgemein!$F$10),2,IF(ISBLANK(allgemein!$F$11),allgemein!P74,allgemein!$F$11),3,IF(ISBLANK(allgemein!$F$12),allgemein!P74,allgemein!$F$12),4,IF(ISBLANK(allgemein!$F$13),allgemein!P74,allgemein!$F$13),5,IF(ISBLANK(allgemein!$I$10),allgemein!P74,allgemein!$I$10),6,IF(ISBLANK(allgemein!$I$11),allgemein!P74,allgemein!$I$11),7,IF(ISBLANK(allgemein!$I$12),allgemein!P74,allgemein!$I$12),8,IF(ISBLANK(allgemein!$I$13),allgemein!P74,allgemein!$I$13),IF(ISBLANK(allgemein!P74),\"\",allgemein!P74))","v":{"$error":"#NAME?"}},{"$f":"IF(ISBLANK(allgemein!Q74),\"\",allgemein!Q74)","v":""},{"$f":"IF(ISBLANK(allgemein!R74),\"\",allgemein!R74)","v":""},{"$f":"IF(ISBLANK(allgemein!S74),\"\",allgemein!S74)","v":""},{"$f":"IF(ISBLANK(allgemein!U74),\"\",allgemein!U74)","v":""}]
[{"$f":"IF(ISBLANK(allgemein!D75),\"\",allgemein!D75)","v":58},{"$f":"IF(ISBLANK(allgemein!E75),\"\",allgemein!E75)","v":""},{"$f":"IF(ISBLANK(allgemein!C75),\"\",allgemein!C75)","v":" "},{"$f":"IF(ISBLANK(allgemein!H75),\"\",allgemein!H75)","v":""},{"$f":"IF(ISBLANK(allgemein!I75),\"\",allgemein!I75)","v":""},{"$f":"IF(ISBLANK(allgemein!J75),\"\",allgemein!J75)","v":""},{"$f":"IF(ISBLANK(allgemein!K75),\"\",allgemein!K75)","v":""},{"$f":"IF(ISBLANK(allgemein!F75),\"\",IF(ISBLANK(allgemein!L75),1,0))","v":""},{"$f":"_xlfn.SWITCH(allgemein!M75,1,IF(ISBLANK(allgemein!$F$10),allgemein!M75,allgemein!$F$10),2,IF(ISBLANK(allgemein!$F$11),allgemein!M75,allgemein!$F$11),3,IF(ISBLANK(allgemein!$F$12),allgemein!M75,allgemein!$F$12),4,IF(ISBLANK(allgemein!$F$13),allgemein!M75,allgemein!$F$13),5,IF(ISBLANK(allgemein!$I$10),allgemein!M75,allgemein!$I$10),6,IF(ISBLANK(allgemein!$I$11),allgemein!M75,allgemein!$I$11),7,IF(ISBLANK(allgemein!$I$12),allgemein!M75,allgemein!$I$12),8,IF(ISBLANK(allgemein!$I$13),allgemein!M75,allgemein!$I$13),IF(ISBLANK(allgemein!M75),\"\",allgemein!M75))","v":{"$error":"#NAME?"}},{"$f":"_xlfn.SWITCH(allgemein!N75,1,IF(ISBLANK(allgemein!$F$10),allgemein!N75,allgemein!$F$10),2,IF(ISBLANK(allgemein!$F$11),allgemein!N75,allgemein!$F$11),3,IF(ISBLANK(allgemein!$F$12),allgemein!N75,allgemein!$F$12),4,IF(ISBLANK(allgemein!$F$13),allgemein!N75,allgemein!$F$13),5,IF(ISBLANK(allgemein!$I$10),allgemein!N75,allgemein!$I$10),6,IF(ISBLANK(allgemein!$I$11),allgemein!N75,allgemein!$I$11),7,IF(ISBLANK(allgemein!$I$12),allgemein!N75,allgemein!$I$12),8,IF(ISBLANK(allgemein!$I$13),allgemein!N75,allgemein!$I$13),IF(ISBLANK(allgemein!N75),\"\",allgemein!N75))","v":{"$error":"#NAME?"}},{"$f":"_xlfn.SWITCH(allgemein!O75,1,IF(ISBLANK(allgemein!$F$10),allgemein!O75,allgemein!$F$10),2,IF(ISBLANK(allgemein!$F$11),allgemein!O75,allgemein!$F$11),3,IF(ISBLANK(allgemein!$F$12),allgemein!O75,allgemein!$F$12),4,IF(ISBLANK(allgemein!$F$13),allgemein!O75,allgemein!$F$13),5,IF(ISBLANK(allgemein!$I$10),allgemein!O75,allgemein!$I$10),6,IF(ISBLANK(allgemein!$I$11),allgemein!O75,allgemein!$I$11),7,IF(ISBLANK(allgemein!$I$12),allgemein!O75,allgemein!$I$12),8,IF(ISBLANK(allgemein!$I$13),allgemein!O75,allgemein!$I$13),IF(ISBLANK(allgemein!O75),\"\",allgemein!O75))","v":{"$error":"#NAME?"}},{"$f":"_xlfn.SWITCH(allgemein!P75,1,IF(ISBLANK(allgemein!$F$10),allgemein!P75,allgemein!$F$10),2,IF(ISBLANK(allgemein!$F$11),allgemein!P75,allgemein!$F$11),3,IF(ISBLANK(allgemein!$F$12),allgemein!P75,allgemein!$F$12),4,IF(ISBLANK(allgemein!$F$13),allgemein!P75,allgemein!$F$13),5,IF(ISBLANK(allgemein!$I$10),allgemein!P75,allgemein!$I$10),6,IF(ISBLANK(allgemein!$I$11),allgemein!P75,allgemein!$I$11),7,IF(ISBLANK(allgemein!$I$12),allgemein!P75,allgemein!$I$12),8,IF(ISBLANK(allgemein!$I$13),allgemein!P75,allgemein!$I$13),IF(ISBLANK(allgemein!P75),\"\",allgemein!P75))","v":{"$error":"#NAME?"}},{"$f":"IF(ISBLANK(allgemein!Q75),\"\",allgemein!Q75)","v":""},{"$f":"IF(ISBLANK(allgemein!R75),\"\",allgemein!R75)","v":""},{"$f":"IF(ISBLANK(allgemein!S75),\"\",allgemein!S75)","v":""},{"$f":"IF(ISBLANK(allgemein!U75),\"\",allgemein!U75)","v":""}]
[{"$f":"IF(ISBLANK(allgemein!D76),\"\",allgemein!D76)","v":59},{"$f":"IF(ISBLANK(allgemein!E76),\"\",allgemein!E76)","v":""},{"$f":"IF(ISBLANK(allgemein!C76),\"\",allgemein!C76)","v":" "},{"$f":"IF(ISBLANK(allgemein!H76),\"\",allgemein!H76)","v":""},{"$f":"IF(ISBLANK(allgemein!I76),\"\",allgemein!I76)","v":""},{"$f":"IF(ISBLANK(allgemein!J76),\"\",allgemein!J76)","v":""},{"$f":"IF(ISBLANK(allgemein!K76),\"\",allgemein!K76)","v":""},{"$f":"IF(ISBLANK(allgemein!F76),\"\",IF(ISBLANK(allgemein!L76),1,0))","v":""},{"$f":"_xlfn.SWITCH(allgemein!M76,1,IF(ISBLANK(allgemein!$F$10),allgemein!M76,allgemein!$F$10),2,IF(ISBLANK(allgemein!$F$11),allgemein!M76,allgemein!$F$11),3,IF(ISBLANK(allgemein!$F$12),allgemein!M76,allgemein!$F$12),4,IF(ISBLANK(allgemein!$F$13),allgemein!M76,allgemein!$F$13),5,IF(ISBLANK(allgemein!$I$10),allgemein!M76,allgemein!$I$10),6,IF(ISBLANK(allgemein!$I$11),allgemein!M76,allgemein!$I$11),7,IF(ISBLANK(allgemein!$I$12),allgemein!M76,allgemein!$I$12),8,IF(ISBLANK(allgemein!$I$13),allgemein!M76,allgemein!$I$13),IF(ISBLANK(allgemein!M76),\"\",allgemein!M76))","v":{"$error":"#NAME?"}},{"$f":"_xlfn.SWITCH(allgemein!N76,1,IF(ISBLANK(allgemein!$F$10),allgemein!N76,allgemein!$F$10),2,IF(ISBLANK(allgemein!$F$11),allgemein!N76,allgemein!$F$11),3,IF(ISBLANK(allgemein!$F$12),allgemein!N76,allgemein!$F$12),4,IF(ISBLANK(allgemein!$F$13),allgemein!N76,allgemein!$F$13),5,IF(ISBLANK(allgemein!$I$10),allgemein!N76,allgemein!$I$10),6,IF(ISBLANK(allgemein!$I$11),allgemein!N76,allgemein!$I$11),7,IF(ISBLANK(allgemein!$I$12),allgemein!N76,allgemein!$I$12),8,IF(ISBLANK(allgemein!$I$13),allgemein!N76,allgemein!$I$13),IF(ISBLANK(allgemein!N76),\"\",allgemein!N76))","v":{"$error":"#NAME?"}},{"$f":"_xlfn.SWITCH(allgemein!O76,1,IF(ISBLANK(allgemein!$F$10),allgemein!O76,allgemein!$F$10),2,IF(ISBLANK(allgemein!$F$11),allgemein!O76,allgemein!$F$11),3,IF(ISBLANK(allgemein!$F$12),allgemein!O76,allgemein!$F$12),4,IF(ISBLANK(allgemein!$F$13),allgemein!O76,allgemein!$F$13),5,IF(ISBLANK(allgemein!$I$10),allgemein!O76,allgemein!$I$10),6,IF(ISBLANK(allgemein!$I$11),allgemein!O76,allgemein!$I$11),7,IF(ISBLANK(allgemein!$I$12),allgemein!O76,allgemein!$I$12),8,IF(ISBLANK(allgemein!$I$13),allgemein!O76,allgemein!$I$13),IF(ISBLANK(allgemein!O76),\"\",allgemein!O76))","v":{"$error":"#NAME?"}},{"$f":"_xlfn.SWITCH(allgemein!P76,1,IF(ISBLANK(allgemein!$F$10),allgemein!P76,allgemein!$F$10),2,IF(ISBLANK(allgemein!$F$11),allgemein!P76,allgemein!$F$11),3,IF(ISBLANK(allgemein!$F$12),allgemein!P76,allgemein!$F$12),4,IF(ISBLANK(allgemein!$F$13),allgemein!P76,allgemein!$F$13),5,IF(ISBLANK(allgemein!$I$10),allgemein!P76,allgemein!$I$10),6,IF(ISBLANK(allgemein!$I$11),allgemein!P76,allgemein!$I$11),7,IF(ISBLANK(allgemein!$I$12),allgemein!P76,allgemein!$I$12),8,IF(ISBLANK(allgemein!$I$13),allgemein!P76,allgemein!$I$13),IF(ISBLANK(allgemein!P76),\"\",allgemein!P76))","v":{"$error":"#NAME?"}},{"$f":"IF(ISBLANK(allgemein!Q76),\"\",allgemein!Q76)","v":""},{"$f":"IF(ISBLANK(allgemein!R76),\"\",allgemein!R76)","v":""},{"$f":"IF(ISBLANK(allgemein!S76),\"\",allgemein!S76)","v":""},{"$f":"IF(ISBLANK(allgemein!U76),\"\",allgemein!U76)","v":""}]
[{"$f":"IF(ISBLANK(allgemein!D77),\"\",allgemein!D77)","v":60},{"$f":"IF(ISBLANK(allgemein!E77),\"\",allgemein!E77)","v":""},{"$f":"IF(ISBLANK(allgemein!C77),\"\",allgemein!C77)","v":" "},{"$f":"IF(ISBLANK(allgemein!H77),\"\",allgemein!H77)","v":""},{"$f":"IF(ISBLANK(allgemein!I77),\"\",allgemein!I77)","v":""},{"$f":"IF(ISBLANK(allgemein!J77),\"\",allgemein!J77)","v":""},{"$f":"IF(ISBLANK(allgemein!K77),\"\",allgemein!K77)","v":""},{"$f":"IF(ISBLANK(allgemein!F77),\"\",IF(ISBLANK(allgemein!L77),1,0))","v":""},{"$f":"_xlfn.SWITCH(allgemein!M77,1,IF(ISBLANK(allgemein!$F$10),allgemein!M77,allgemein!$F$10),2,IF(ISBLANK(allgemein!$F$11),allgemein!M77,allgemein!$F$11),3,IF(ISBLANK(allgemein!$F$12),allgemein!M77,allgemein!$F$12),4,IF(ISBLANK(allgemein!$F$13),allgemein!M77,allgemein!$F$13),5,IF(ISBLANK(allgemein!$I$10),allgemein!M77,allgemein!$I$10),6,IF(ISBLANK(allgemein!$I$11),allgemein!M77,allgemein!$I$11),7,IF(ISBLANK(allgemein!$I$12),allgemein!M77,allgemein!$I$12),8,IF(ISBLANK(allgemein!$I$13),allgemein!M77,allgemein!$I$13),IF(ISBLANK(allgemein!M77),\"\",allgemein!M77))","v":{"$error":"#NAME?"}},{"$f":"_xlfn.SWITCH(allgemein!N77,1,IF(ISBLANK(allgemein!$F$10),allgemein!N77,allgemein!$F$10),2,IF(ISBLANK(allgemein!$F$11),allgemein!N77,allgemein!$F$11),3,IF(ISBLANK(allgemein!$F$12),allgemein!N77,allgemein!$F$12),4,IF(ISBLANK(allgemein!$F$13),allgemein!N77,allgemein!$F$13),5,IF(ISBLANK(allgemein!$I$10),allgemein!N77,allgemein!$I$10),6,IF(ISBLANK(allgemein!$I$11),allgemein!N77,allgemein!$I$11),7,IF(ISBLANK(allgemein!$I$12),allgemein!N77,allgemein!$I$12),8,IF(ISBLANK(allgemein!$I$13),allgemein!N77,allgemein!$I$13),IF(ISBLANK(allgemein!N77),\"\",allgemein!N77))","v":{"$error":"#NAME?"}},{"$f":"_xlfn.SWITCH(allgemein!O77,1,IF(ISBLANK(allgemein!$F$10),allgemein!O77,allgemein!$F$10),2,IF(ISBLANK(allgemein!$F$11),allgemein!O77,allgemein!$F$11),3,IF(ISBLANK(allgemein!$F$12),allgemein!O77,allgemein!$F$12),4,IF(ISBLANK(allgemein!$F$13),allgemein!O77,allgemein!$F$13),5,IF(ISBLANK(allgemein!$I$10),allgemein!O77,allgemein!$I$10),6,IF(ISBLANK(allgemein!$I$11),allgemein!O77,allgemein!$I$11),7,IF(ISBLANK(allgemein!$I$12),allgemein!O77,allgemein!$I$12),8,IF(ISBLANK(allgemein!$I$13),allgemein!O77,allgemein!$I$13),IF(ISBLANK(allgemein!O77),\"\",allgemein!O77))","v":{"$error":"#NAME?"}},{"$f":"_xlfn.SWITCH(allgemein!P77,1,IF(ISBLANK(allgemein!$F$10),allgemein!P77,allgemein!$F$10),2,IF(ISBLANK(allgemein!$F$11),allgemein!P77,allgemein!$F$11),3,IF(ISBLANK(allgemein!$F$12),allgemein!P77,allgemein!$F$12),4,IF(ISBLANK(allgemein!$F$13),allgemein!P77,allgemein!$F$13),5,IF(ISBLANK(allgemein!$I$10),allgemein!P77,allgemein!$I$10),6,IF(ISBLANK(allgemein!$I$11),allgemein!P77,allgemein!$I$11),7,IF(ISBLANK(allgemein!$I$12),allgemein!P77,allgemein!$I$12),8,IF(ISBLANK(allgemein!$I$13),allgemein!P77,allgemein!$I$13),IF(ISBLANK(allgemein!P77),\"\",allgemein!P77))","v":{"$error":"#NAME?"}},{"$f":"IF(ISBLANK(allgemein!Q77),\"\",allgemein!Q77)","v":""},{"$f":"IF(ISBLANK(allgemein!R77),\"\",allgemein!R77)","v":""},{"$f":"IF(ISBLANK(allgemein!S77),\"\",allgemein!S77)","v":""},{"$f":"IF(ISBLANK(allgemein!U77),\"\",allgemein!U77)","v":""}]
[{"$f":"IF(ISBLANK(allgemein!D78),\"\",allgemein!D78)","v":61},{"$f":"IF(ISBLANK(allgemein!E78),\"\",allgemein!E78)","v":""},{"$f":"IF(ISBLANK(allgemein!C78),\"\",allgemein!C78)","v":" "},{"$f":"IF(ISBLANK(allgemein!H78),\"\",allgemein!H78)","v":""},{"$f":"IF(ISBLANK(allgemein!I78),\"\",allgemein!I78)","v":""},{"$f":"IF(ISBLANK(allgemein!J78),\"\",allgemein!J78)","v":""},{"$f":"IF(ISBLANK(allgemein!K78),\"\",allgemein!K78)","v":""},{"$f":"IF(ISBLANK(allgemein!F78),\"\",IF(ISBLANK(allgemein!L78),1,0))","v":""},{"$f":"_xlfn.SWITCH(allgemein!M78,1,IF(ISBLANK(allgemein!$F$10),allgemein!M78,allgemein!$F$10),2,IF(ISBLANK(allgemein!$F$11),allgemein!M78,allgemein!$F$11),3,IF(ISBLANK(allgemein!$F$12),allgemein!M78,allgemein!$F$12),4,IF(ISBLANK(allgemein!$F$13),allgemein!M78,allgemein!$F$13),5,IF(ISBLANK(allgemein!$I$10),allgemein!M78,allgemein!$I$10),6,IF(ISBLANK(allgemein!$I$11),allgemein!M78,allgemein!$I$11),7,IF(ISBLANK(allgemein!$I$12),allgemein!M78,allgemein!$I$12),8,IF(ISBLANK(allgemein!$I$13),allgemein!M78,allgemein!$I$13),IF(ISBLANK(allgemein!M78),\"\",allgemein!M78))","v":{"$error":"#NAME?"}},{"$f":"_xlfn.SWITCH(allgemein!N78,1,IF(ISBLANK(allgemein!$F$10),allgemein!N78,allgemein!$F$10),2,IF(ISBLANK(allgemein!$F$11),allgemein!N78,allgemein!$F$11),3,IF(ISBLANK(allgemein!$F$12),allgemein!N78,allgemein!$F$12),4,IF(ISBLANK(allgemein!$F$13),allgemein!N78,allgemein!$F$13),5,IF(ISBLANK(allgemein!$I$10),allgemein!N78,allgemein!$I$10),6,IF(ISBLANK(allgemein!$I$11),allgemein!N78,allgemein!$I$11),7,IF(ISBLANK(allgemein!$I$12),allgemein!N78,allgemein!$I$12),8,IF(ISBLANK(allgemein!$I$13),allgemein!N78,allgemein!$I$13),IF(ISBLANK(allgemein!N78),\"\",allgemein!N78))","v":{"$error":"#NAME?"}},{"$f":"_xlfn.SWITCH(allgemein!O78,1,IF(ISBLANK(allgemein!$F$10),allgemein!O78,allgemein!$F$10),2,IF(ISBLANK(allgemein!$F$11),allgemein!O78,allgemein!$F$11),3,IF(ISBLANK(allgemein!$F$12),allgemein!O78,allgemein!$F$12),4,IF(ISBLANK(allgemein!$F$13),allgemein!O78,allgemein!$F$13),5,IF(ISBLANK(allgemein!$I$10),allgemein!O78,allgemein!$I$10),6,IF(ISBLANK(allgemein!$I$11),allgemein!O78,allgemein!$I$11),7,IF(ISBLANK(allgemein!$I$12),allgemein!O78,allgemein!$I$12),8,IF(ISBLANK(allgemein!$I$13),allgemein!O78,allgemein!$I$13),IF(ISBLANK(allgemein!O78),\"\",allgemein!O78))","v":{"$error":"#NAME?"}},{"$f":"_xlfn.SWITCH(allgemein!P78,1,IF(ISBLANK(allgemein!$F$10),allgemein!P78,allgemein!$F$10),2,IF(ISBLANK(allgemein!$F$11),allgemein!P78,allgemein!$F$11),3,IF(ISBLANK(allgemein!$F$12),allgemein!P78,allgemein!$F$12),4,IF(ISBLANK(allgemein!$F$13),allgemein!P78,allgemein!$F$13),5,IF(ISBLANK(allgemein!$I$10),allgemein!P78,allgemein!$I$10),6,IF(ISBLANK(allgemein!$I$11),allgemein!P78,allgemein!$I$11),7,IF(ISBLANK(allgemein!$I$12),allgemein!P78,allgemein!$I$12),8,IF(ISBLANK(allgemein!$I$13),allgemein!P78,allgemein!$I$13),IF(ISBLANK(allgemein!P78),\"\",allgemein!P78))","v":{"$error":"#NAME?"}},{"$f":"IF(ISBLANK(allgemein!Q78),\"\",allgemein!Q78)","v":""},{"$f":"IF(ISBLANK(allgemein!R78),\"\",allgemein!R78)","v":""},{"$f":"IF(ISBLANK(allgemein!S78),\"\",allgemein!S78)","v":""},{"$f":"IF(ISBLANK(allgemein!U78),\"\",allgemein!U78)","v":""}]
[{"$f":"IF(ISBLANK(allgemein!D79),\"\",allgemein!D79)","v":62},{"$f":"IF(ISBLANK(allgemein!E79),\"\",allgemein!E79)","v":""},{"$f":"IF(ISBLANK(allgemein!C79),\"\",allgemein!C79)","v":" "},{"$f":"IF(ISBLANK(allgemein!H79),\"\",allgemein!H79)","v":""},{"$f":"IF(ISBLANK(allgemein!I79),\"\",allgemein!I79)","v":""},{"$f":"IF(ISBLANK(allgemein!J79),\"\",allgemein!J79)","v":""},{"$f":"IF(ISBLANK(allgemein!K79),\"\",allgemein!K79)","v":""},{"$f":"IF(ISBLANK(allgemein!F79),\"\",IF(ISBLANK(allgemein!L79),1,0))","v":""},{"$f":"_xlfn.SWITCH(allgemein!M79,1,IF(ISBLANK(allgemein!$F$10),allgemein!M79,allgemein!$F$10),2,IF(ISBLANK(allgemein!$F$11),allgemein!M79,allgemein!$F$11),3,IF(ISBLANK(allgemein!$F$12),allgemein!M79,allgemein!$F$12),4,IF(ISBLANK(allgemein!$F$13),allgemein!M79,allgemein!$F$13),5,IF(ISBLANK(allgemein!$I$10),allgemein!M79,allgemein!$I$10),6,IF(ISBLANK(allgemein!$I$11),allgemein!M79,allgemein!$I$11),7,IF(ISBLANK(allgemein!$I$12),allgemein!M79,allgemein!$I$12),8,IF(ISBLANK(allgemein!$I$13),allgemein!M79,allgemein!$I$13),IF(ISBLANK(allgemein!M79),\"\",allgemein!M79))","v":{"$error":"#NAME?"}},{"$f":"_xlfn.SWITCH(allgemein!N79,1,IF(ISBLANK(allgemein!$F$10),allgemein!N79,allgemein!$F$10),2,IF(ISBLANK(allgemein!$F$11),allgemein!N79,allgemein!$F$11),3,IF(ISBLANK(allgemein!$F$12),allgemein!N79,allgemein!$F$12),4,IF(ISBLANK(allgemein!$F$13),allgemein!N79,allgemein!$F$13),5,IF(ISBLANK(allgemein!$I$10),allgemein!N79,allgemein!$I$10),6,IF(ISBLANK(allgemein!$I$11),allgemein!N79,allgemein!$I$11),7,IF(ISBLANK(allgemein!$I$12),allgemein!N79,allgemein!$I$12),8,IF(ISBLANK(allgemein!$I$13),allgemein!N79,allgemein!$I$13),IF(ISBLANK(allgemein!N79),\"\",allgemein!N79))","v":{"$error":"#NAME?"}},{"$f":"_xlfn.SWITCH(allgemein!O79,1,IF(ISBLANK(allgemein!$F$10),allgemein!O79,allgemein!$F$10),2,IF(ISBLANK(allgemein!$F$11),allgemein!O79,allgemein!$F$11),3,IF(ISBLANK(allgemein!$F$12),allgemein!O79,allgemein!$F$12),4,IF(ISBLANK(allgemein!$F$13),allgemein!O79,allgemein!$F$13),5,IF(ISBLANK(allgemein!$I$10),allgemein!O79,allgemein!$I$10),6,IF(ISBLANK(allgemein!$I$11),allgemein!O79,allgemein!$I$11),7,IF(ISBLANK(allgemein!$I$12),allgemein!O79,allgemein!$I$12),8,IF(ISBLANK(allgemein!$I$13),allgemein!O79,allgemein!$I$13),IF(ISBLANK(allgemein!O79),\"\",allgemein!O79))","v":{"$error":"#NAME?"}},{"$f":"_xlfn.SWITCH(allgemein!P79,1,IF(ISBLANK(allgemein!$F$10),allgemein!P79,allgemein!$F$10),2,IF(ISBLANK(allgemein!$F$11),allgemein!P79,allgemein!$F$11),3,IF(ISBLANK(allgemein!$F$12),allgemein!P79,allgemein!$F$12),4,IF(ISBLANK(allgemein!$F$13),allgemein!P79,allgemein!$F$13),5,IF(ISBLANK(allgemein!$I$10),allgemein!P79,allgemein!$I$10),6,IF(ISBLANK(allgemein!$I$11),allgemein!P79,allgemein!$I$11),7,IF(ISBLANK(allgemein!$I$12),allgemein!P79,allgemein!$I$12),8,IF(ISBLANK(allgemein!$I$13),allgemein!P79,allgemein!$I$13),IF(ISBLANK(allgemein!P79),\"\",allgemein!P79))","v":{"$error":"#NAME?"}},{"$f":"IF(ISBLANK(allgemein!Q79),\"\",allgemein!Q79)","v":""},{"$f":"IF(ISBLANK(allgemein!R79),\"\",allgemein!R79)","v":""},{"$f":"IF(ISBLANK(allgemein!S79),\"\",allgemein!S79)","v":""},{"$f":"IF(ISBLANK(allgemein!U79),\"\",allgemein!U79)","v":""}]
[{"$f":"IF(ISBLANK(allgemein!D80),\"\",allgemein!D80)","v":63},{"$f":"IF(ISBLANK(allgemein!E80),\"\",allgemein!E80)","v":""},{"$f":"IF(ISBLANK(allgemein!C80),\"\",allgemein!C80)","v":" "},{"$f":"IF(ISBLANK(allgemein!H80),\"\",allgemein!H80)","v":""},{"$f":"IF(ISBLANK(allgemein!I80),\"\",allgemein!I80)","v":""},{"$f":"IF(ISBLANK(allgemein!J80),\"\",allgemein!J80)","v":""},{"$f":"IF(ISBLANK(allgemein!K80),\"\",allgemein!K80)","v":""},{"$f":"IF(ISBLANK(allgemein!F80),\"\",IF(ISBLANK(allgemein!L80),1,0))","v":""},{"$f":"_xlfn.SWITCH(allgemein!M80,1,IF(ISBLANK(allgemein!$F$10),allgemein!M80,allgemein!$F$10),2,IF(ISBLANK(allgemein!$F$11),allgemein!M80,allgemein!$F$11),3,IF(ISBLANK(allgemein!$F$12),allgemein!M80,allgemein!$F$12),4,IF(ISBLANK(allgemein!$F$13),allgemein!M80,allgemein!$F$13),5,IF(ISBLANK(allgemein!$I$10),allgemein!M80,allgemein!$I$10),6,IF(ISBLANK(allgemein!$I$11),allgemein!M80,allgemein!$I$11),7,IF(ISBLANK(allgemein!$I$12),allgemein!M80,allgemein!$I$12),8,IF(ISBLANK(allgemein!$I$13),allgemein!M80,allgemein!$I$13),IF(ISBLANK(allgemein!M80),\"\",allgemein!M80))","v":{"$error":"#NAME?"}},{"$f":"_xlfn.SWITCH(allgemein!N80,1,IF(ISBLANK(allgemein!$F$10),allgemein!N80,allgemein!$F$10),2,IF(ISBLANK(allgemein!$F$11),allgemein!N80,allgemein!$F$11),3,IF(ISBLANK(allgemein!$F$12),allgemein!N80,allgemein!$F$12),4,IF(ISBLANK(allgemein!$F$13),allgemein!N80,allgemein!$F$13),5,IF(ISBLANK(allgemein!$I$10),allgemein!N80,allgemein!$I$10),6,IF(ISBLANK(allgemein!$I$11),allgemein!N80,allgemein!$I$11),7,IF(ISBLANK(allgemein!$I$12),allgemein!N80,allgemein!$I$12),8,IF(ISBLANK(allgemein!$I$13),allgemein!N80,allgemein!$I$13),IF(ISBLANK(allgemein!N80),\"\",allgemein!N80))","v":{"$error":"#NAME?"}},{"$f":"_xlfn.SWITCH(allgemein!O80,1,IF(ISBLANK(allgemein!$F$10),allgemein!O80,allgemein!$F$10),2,IF(ISBLANK(allgemein!$F$11),allgemein!O80,allgemein!$F$11),3,IF(ISBLANK(allgemein!$F$12),allgemein!O80,allgemein!$F$12),4,IF(ISBLANK(allgemein!$F$13),allgemein!O80,allgemein!$F$13),5,IF(ISBLANK(allgemein!$I$10),allgemein!O80,allgemein!$I$10),6,IF(ISBLANK(allgemein!$I$11),allgemein!O80,allgemein!$I$11),7,IF(ISBLANK(allgemein!$I$12),allgemein!O80,allgemein!$I$12),8,IF(ISBLANK(allgemein!$I$13),allgemein!O80,allgemein!$I$13),IF(ISBLANK(allgemein!O80),\"\",allgemein!O80))","v":{"$error":"#NAME?"}},{"$f":"_xlfn.SWITCH(allgemein!P80,1,IF(ISBLANK(allgemein!$F$10),allgemein!P80,allgemein!$F$10),2,IF(ISBLANK(allgemein!$F$11),allgemein!P80,allgemein!$F$11),3,IF(ISBLANK(allgemein!$F$12),allgemein!P80,allgemein!$F$12),4,IF(ISBLANK(allgemein!$F$13),allgemein!P80,allgemein!$F$13),5,IF(ISBLANK(allgemein!$I$10),allgemein!P80,allgemein!$I$10),6,IF(ISBLANK(allgemein!$I$11),allgemein!P80,allgemein!$I$11),7,IF(ISBLANK(allgemein!$I$12),allgemein!P80,allgemein!$I$12),8,IF(ISBLANK(allgemein!$I$13),allgemein!P80,allgemein!$I$13),IF(ISBLANK(allgemein!P80),\"\",allgemein!P80))","v":{"$error":"#NAME?"}},{"$f":"IF(ISBLANK(allgemein!Q80),\"\",allgemein!Q80)","v":""},{"$f":"IF(ISBLANK(allgemein!R80),\"\",allgemein!R80)","v":""},{"$f":"IF(ISBLANK(allgemein!S80),\"\",allgemein!S80)","v":""},{"$f":"IF(ISBLANK(allgemein!U80),\"\",allgemein!U80)","v":""}]
[{"$f":"IF(ISBLANK(allgemein!D81),\"\",allgemein!D81)","v":64},{"$f":"IF(ISBLANK(allgemein!E81),\"\",allgemein!E81)","v":""},{"$f":"IF(ISBLANK(allgemein!C81),\"\",allgemein!C81)","v":" "},{"$f":"IF(ISBLANK(allgemein!H81),\"\",allgemein!H81)","v":""},{"$f":"IF(ISBLANK(allgemein!I81),\"\",allgemein!I81)","v":""},{"$f":"IF(ISBLANK(allgemein!J81),\"\",allgemein!J81)","v":""},{"$f":"IF(ISBLANK(allgemein!K81),\"\",allgemein!K81)","v":""},{"$f":"IF(ISBLANK(allgemein!F81),\"\",IF(ISBLANK(allgemein!L81),1,0))","v":""},{"$f":"_xlfn.SWITCH(allgemein!M81,1,IF(ISBLANK(allgemein!$F$10),allgemein!M81,allgemein!$F$10),2,IF(ISBLANK(allgemein!$F$11),allgemein!M81,allgemein!$F$11),3,IF(ISBLANK(allgemein!$F$12),allgemein!M81,allgemein!$F$12),4,IF(ISBLANK(allgemein!$F$13),allgemein!M81,allgemein!$F$13),5,IF(ISBLANK(allgemein!$I$10),allgemein!M81,allgemein!$I$10),6,IF(ISBLANK(allgemein!$I$11),allgemein!M81,allgemein!$I$11),7,IF(ISBLANK(allgemein!$I$12),allgemein!M81,allgemein!$I$12),8,IF(ISBLANK(allgemein!$I$13),allgemein!M81,allgemein!$I$13),IF(ISBLANK(allgemein!M81),\"\",allgemein!M81))","v":{"$error":"#NAME?"}},{"$f":"_xlfn.SWITCH(allgemein!N81,1,IF(ISBLANK(allgemein!$F$10),allgemein!N81,allgemein!$F$10),2,IF(ISBLANK(allgemein!$F$11),allgemein!N81,allgemein!$F$11),3,IF(ISBLANK(allgemein!$F$12),allgemein!N81,allgemein!$F$12),4,IF(ISBLANK(allgemein!$F$13),allgemein!N81,allgemein!$F$13),5,IF(ISBLANK(allgemein!$I$10),allgemein!N81,allgemein!$I$10),6,IF(ISBLANK(allgemein!$I$11),allgemein!N81,allgemein!$I$11),7,IF(ISBLANK(allgemein!$I$12),allgemein!N81,allgemein!$I$12),8,IF(ISBLANK(allgemein!$I$13),allgemein!N81,allgemein!$I$13),IF(ISBLANK(allgemein!N81),\"\",allgemein!N81))","v":{"$error":"#NAME?"}},{"$f":"_xlfn.SWITCH(allgemein!O81,1,IF(ISBLANK(allgemein!$F$10),allgemein!O81,allgemein!$F$10),2,IF(ISBLANK(allgemein!$F$11),allgemein!O81,allgemein!$F$11),3,IF(ISBLANK(allgemein!$F$12),allgemein!O81,allgemein!$F$12),4,IF(ISBLANK(allgemein!$F$13),allgemein!O81,allgemein!$F$13),5,IF(ISBLANK(allgemein!$I$10),allgemein!O81,allgemein!$I$10),6,IF(ISBLANK(allgemein!$I$11),allgemein!O81,allgemein!$I$11),7,IF(ISBLANK(allgemein!$I$12),allgemein!O81,allgemein!$I$12),8,IF(ISBLANK(allgemein!$I$13),allgemein!O81,allgemein!$I$13),IF(ISBLANK(allgemein!O81),\"\",allgemein!O81))","v":{"$error":"#NAME?"}},{"$f":"_xlfn.SWITCH(allgemein!P81,1,IF(ISBLANK(allgemein!$F$10),allgemein!P81,allgemein!$F$10),2,IF(ISBLANK(allgemein!$F$11),allgemein!P81,allgemein!$F$11),3,IF(ISBLANK(allgemein!$F$12),allgemein!P81,allgemein!$F$12),4,IF(ISBLANK(allgemein!$F$13),allgemein!P81,allgemein!$F$13),5,IF(ISBLANK(allgemein!$I$10),allgemein!P81,allgemein!$I$10),6,IF(ISBLANK(allgemein!$I$11),allgemein!P81,allgemein!$I$11),7,IF(ISBLANK(allgemein!$I$12),allgemein!P81,allgemein!$I$12),8,IF(ISBLANK(allgemein!$I$13),allgemein!P81,allgemein!$I$13),IF(ISBLANK(allgemein!P81),\"\",allgemein!P81))","v":{"$error":"#NAME?"}},{"$f":"IF(ISBLANK(allgemein!Q81),\"\",allgemein!Q81)","v":""},{"$f":"IF(ISBLANK(allgemein!R81),\"\",allgemein!R81)","v":""},{"$f":"IF(ISBLANK(allgemein!S81),\"\",allgemein!S81)","v":""},{"$f":"IF(ISBLANK(allgemein!U81),\"\",allgemein!U81)","v":""}]
[{"$f":"IF(ISBLANK(allgemein!D82),\"\",allgemein!D82)","v":65},{"$f":"IF(ISBLANK(allgemein!E82),\"\",allgemein!E82)","v":""},{"$f":"IF(ISBLANK(allgemein!C82),\"\",allgemein!C82)","v":" "},{"$f":"IF(ISBLANK(allgemein!H82),\"\",allgemein!H82)","v":""},{"$f":"IF(ISBLANK(allgemein!I82),\"\",allgemein!I82)","v":""},{"$f":"IF(ISBLANK(allgemein!J82),\"\",allgemein!J82)","v":""},{"$f":"IF(ISBLANK(allgemein!K82),\"\",allgemein!K82)","v":""},{"$f":"IF(ISBLANK(allgemein!F82),\"\",IF(ISBLANK(allgemein!L82),1,0))","v":""},{"$f":"_xlfn.SWITCH(allgemein!M82,1,IF(ISBLANK(allgemein!$F$10),allgemein!M82,allgemein!$F$10),2,IF(ISBLANK(allgemein!$F$11),allgemein!M82,allgemein!$F$11),3,IF(ISBLANK(allgemein!$F$12),allgemein!M82,allgemein!$F$12),4,IF(ISBLANK(allgemein!$F$13),allgemein!M82,allgemein!$F$13),5,IF(ISBLANK(allgemein!$I$10),allgemein!M82,allgemein!$I$10),6,IF(ISBLANK(allgemein!$I$11),allgemein!M82,allgemein!$I$11),7,IF(ISBLANK(allgemein!$I$12),allgemein!M82,allgemein!$I$12),8,IF(ISBLANK(allgemein!$I$13),allgemein!M82,allgemein!$I$13),IF(ISBLANK(allgemein!M82),\"\",allgemein!M82))","v":{"$error":"#NAME?"}},{"$f":"_xlfn.SWITCH(allgemein!N82,1,IF(ISBLANK(allgemein!$F$10),allgemein!N82,allgemein!$F$10),2,IF(ISBLANK(allgemein!$F$11),allgemein!N82,allgemein!$F$11),3,IF(ISBLANK(allgemein!$F$12),allgemein!N82,allgemein!$F$12),4,IF(ISBLANK(allgemein!$F$13),allgemein!N82,allgemein!$F$13),5,IF(ISBLANK(allgemein!$I$10),allgemein!N82,allgemein!$I$10),6,IF(ISBLANK(allgemein!$I$11),allgemein!N82,allgemein!$I$11),7,IF(ISBLANK(allgemein!$I$12),allgemein!N82,allgemein!$I$12),8,IF(ISBLANK(allgemein!$I$13),allgemein!N82,allgemein!$I$13),IF(ISBLANK(allgemein!N82),\"\",allgemein!N82))","v":{"$error":"#NAME?"}},{"$f":"_xlfn.SWITCH(allgemein!O82,1,IF(ISBLANK(allgemein!$F$10),allgemein!O82,allgemein!$F$10),2,IF(ISBLANK(allgemein!$F$11),allgemein!O82,allgemein!$F$11),3,IF(ISBLANK(allgemein!$F$12),allgemein!O82,allgemein!$F$12),4,IF(ISBLANK(allgemein!$F$13),allgemein!O82,allgemein!$F$13),5,IF(ISBLANK(allgemein!$I$10),allgemein!O82,allgemein!$I$10),6,IF(ISBLANK(allgemein!$I$11),allgemein!O82,allgemein!$I$11),7,IF(ISBLANK(allgemein!$I$12),allgemein!O82,allgemein!$I$12),8,IF(ISBLANK(allgemein!$I$13),allgemein!O82,allgemein!$I$13),IF(ISBLANK(allgemein!O82),\"\",allgemein!O82))","v":{"$error":"#NAME?"}},{"$f":"_xlfn.SWITCH(allgemein!P82,1,IF(ISBLANK(allgemein!$F$10),allgemein!P82,allgemein!$F$10),2,IF(ISBLANK(allgemein!$F$11),allgemein!P82,allgemein!$F$11),3,IF(ISBLANK(allgemein!$F$12),allgemein!P82,allgemein!$F$12),4,IF(ISBLANK(allgemein!$F$13),allgemein!P82,allgemein!$F$13),5,IF(ISBLANK(allgemein!$I$10),allgemein!P82,allgemein!$I$10),6,IF(ISBLANK(allgemein!$I$11),allgemein!P82,allgemein!$I$11),7,IF(ISBLANK(allgemein!$I$12),allgemein!P82,allgemein!$I$12),8,IF(ISBLANK(allgemein!$I$13),allgemein!P82,allgemein!$I$13),IF(ISBLANK(allgemein!P82),\"\",allgemein!P82))","v":{"$error":"#NAME?"}},{"$f":"IF(ISBLANK(allgemein!Q82),\"\",allgemein!Q82)","v":""},{"$f":"IF(ISBLANK(allgemein!R82),\"\",allgemein!R82)","v":""},{"$f":"IF(ISBLANK(allgemein!S82),\"\",allgemein!S82)","v":""},{"$f":"IF(ISBLANK(allgemein!U82),\"\",allgemein!U82)","v":""}]
[{"$f":"IF(ISBLANK(allgemein!D83),\"\",allgemein!D83)","v":66},{"$f":"IF(ISBLANK(allgemein!E83),\"\",allgemein!E83)","v":""},{"$f":"IF(ISBLANK(allgemein!C83),\"\",allgemein!C83)","v":" "},{"$f":"IF(ISBLANK(allgemein!H83),\"\",allgemein!H83)","v":""},{"$f":"IF(ISBLANK(allgemein!I83),\"\",allgemein!I83)","v":""},{"$f":"IF(ISBLANK(allgemein!J83),\"\",allgemein!J83)","v":""},{"$f":"IF(ISBLANK(allgemein!K83),\"\",allgemein!K83)","v":""},{"$f":"IF(ISBLANK(allgemein!F83),\"\",IF(ISBLANK(allgemein!L83),1,0))","v":""},{"$f":"_xlfn.SWITCH(allgemein!M83,1,IF(ISBLANK(allgemein!$F$10),allgemein!M83,allgemein!$F$10),2,IF(ISBLANK(allgemein!$F$11),allgemein!M83,allgemein!$F$11),3,IF(ISBLANK(allgemein!$F$12),allgemein!M83,allgemein!$F$12),4,IF(ISBLANK(allgemein!$F$13),allgemein!M83,allgemein!$F$13),5,IF(ISBLANK(allgemein!$I$10),allgemein!M83,allgemein!$I$10),6,IF(ISBLANK(allgemein!$I$11),allgemein!M83,allgemein!$I$11),7,IF(ISBLANK(allgemein!$I$12),allgemein!M83,allgemein!$I$12),8,IF(ISBLANK(allgemein!$I$13),allgemein!M83,allgemein!$I$13),IF(ISBLANK(allgemein!M83),\"\",allgemein!M83))","v":{"$error":"#NAME?"}},{"$f":"_xlfn.SWITCH(allgemein!N83,1,IF(ISBLANK(allgemein!$F$10),allgemein!N83,allgemein!$F$10),2,IF(ISBLANK(allgemein!$F$11),allgemein!N83,allgemein!$F$11),3,IF(ISBLANK(allgemein!$F$12),allgemein!N83,allgemein!$F$12),4,IF(ISBLANK(allgemein!$F$13),allgemein!N83,allgemein!$F$13),5,IF(ISBLANK(allgemein!$I$10),allgemein!N83,allgemein!$I$10),6,IF(ISBLANK(allgemein!$I$11),allgemein!N83,allgemein!$I$11),7,IF(ISBLANK(allgemein!$I$12),allgemein!N83,allgemein!$I$12),8,IF(ISBLANK(allgemein!$I$13),allgemein!N83,allgemein!$I$13),IF(ISBLANK(allgemein!N83),\"\",allgemein!N83))","v":{"$error":"#NAME?"}},{"$f":"_xlfn.SWITCH(allgemein!O83,1,IF(ISBLANK(allgemein!$F$10),allgemein!O83,allgemein!$F$10),2,IF(ISBLANK(allgemein!$F$11),allgemein!O83,allgemein!$F$11),3,IF(ISBLANK(allgemein!$F$12),allgemein!O83,allgemein!$F$12),4,IF(ISBLANK(allgemein!$F$13),allgemein!O83,allgemein!$F$13),5,IF(ISBLANK(allgemein!$I$10),allgemein!O83,allgemein!$I$10),6,IF(ISBLANK(allgemein!$I$11),allgemein!O83,allgemein!$I$11),7,IF(ISBLANK(allgemein!$I$12),allgemein!O83,allgemein!$I$12),8,IF(ISBLANK(allgemein!$I$13),allgemein!O83,allgemein!$I$13),IF(ISBLANK(allgemein!O83),\"\",allgemein!O83))","v":{"$error":"#NAME?"}},{"$f":"_xlfn.SWITCH(allgemein!P83,1,IF(ISBLANK(allgemein!$F$10),allgemein!P83,allgemein!$F$10),2,IF(ISBLANK(allgemein!$F$11),allgemein!P83,allgemein!$F$11),3,IF(ISBLANK(allgemein!$F$12),allgemein!P83,allgemein!$F$12),4,IF(ISBLANK(allgemein!$F$13),allgemein!P83,allgemein!$F$13),5,IF(ISBLANK(allgemein!$I$10),allgemein!P83,allgemein!$I$10),6,IF(ISBLANK(allgemein!$I$11),allgemein!P83,allgemein!$I$11),7,IF(ISBLANK(allgemein!$I$12),allgemein!P83,allgemein!$I$12),8,IF(ISBLANK(allgemein!$I$13),allgemein!P83,allgemein!$I$13),IF(ISBLANK(allgemein!P83),\"\",allgemein!P83))","v":{"$error":"#NAME?"}},{"$f":"IF(ISBLANK(allgemein!Q83),\"\",allgemein!Q83)","v":""},{"$f":"IF(ISBLANK(allgemein!R83),\"\",allgemein!R83)","v":""},{"$f":"IF(ISBLANK(allgemein!S83),\"\",allgemein!S83)","v":""},{"$f":"IF(ISBLANK(allgemein!U83),\"\",allgemein!U83)","v":""}]
[{"$f":"IF(ISBLANK(allgemein!D84),\"\",allgemein!D84)","v":67},{"$f":"IF(ISBLANK(allgemein!E84),\"\",allgemein!E84)","v":""},{"$f":"IF(ISBLANK(allgemein!C84),\"\",allgemein!C84)","v":" "},{"$f":"IF(ISBLANK(allgemein!H84),\"\",allgemein!H84)","v":""},{"$f":"IF(ISBLANK(allgemein!I84),\"\",allgemein!I84)","v":""},{"$f":"IF(ISBLANK(allgemein!J84),\"\",allgemein!J84)","v":""},{"$f":"IF(ISBLANK(allgemein!K84),\"\",allgemein!K84)","v":""},{"$f":"IF(ISBLANK(allgemein!F84),\"\",IF(ISBLANK(allgemein!L84),1,0))","v":""},{"$f":"_xlfn.SWITCH(allgemein!M84,1,IF(ISBLANK(allgemein!$F$10),allgemein!M84,allgemein!$F$10),2,IF(ISBLANK(allgemein!$F$11),allgemein!M84,allgemein!$F$11),3,IF(ISBLANK(allgemein!$F$12),allgemein!M84,allgemein!$F$12),4,IF(ISBLANK(allgemein!$F$13),allgemein!M84,allgemein!$F$13),5,IF(ISBLANK(allgemein!$I$10),allgemein!M84,allgemein!$I$10),6,IF(ISBLANK(allgemein!$I$11),allgemein!M84,allgemein!$I$11),7,IF(ISBLANK(allgemein!$I$12),allgemein!M84,allgemein!$I$12),8,IF(ISBLANK(allgemein!$I$13),allgemein!M84,allgemein!$I$13),IF(ISBLANK(allgemein!M84),\"\",allgemein!M84))","v":{"$error":"#NAME?"}},{"$f":"_xlfn.SWITCH(allgemein!N84,1,IF(ISBLANK(allgemein!$F$10),allgemein!N84,allgemein!$F$10),2,IF(ISBLANK(allgemein!$F$11),allgemein!N84,allgemein!$F$11),3,IF(ISBLANK(allgemein!$F$12),allgemein!N84,allgemein!$F$12),4,IF(ISBLANK(allgemein!$F$13),allgemein!N84,allgemein!$F$13),5,IF(ISBLANK(allgemein!$I$10),allgemein!N84,allgemein!$I$10),6,IF(ISBLANK(allgemein!$I$11),allgemein!N84,allgemein!$I$11),7,IF(ISBLANK(allgemein!$I$12),allgemein!N84,allgemein!$I$12),8,IF(ISBLANK(allgemein!$I$13),allgemein!N84,allgemein!$I$13),IF(ISBLANK(allgemein!N84),\"\",allgemein!N84))","v":{"$error":"#NAME?"}},{"$f":"_xlfn.SWITCH(allgemein!O84,1,IF(ISBLANK(allgemein!$F$10),allgemein!O84,allgemein!$F$10),2,IF(ISBLANK(allgemein!$F$11),allgemein!O84,allgemein!$F$11),3,IF(ISBLANK(allgemein!$F$12),allgemein!O84,allgemein!$F$12),4,IF(ISBLANK(allgemein!$F$13),allgemein!O84,allgemein!$F$13),5,IF(ISBLANK(allgemein!$I$10),allgemein!O84,allgemein!$I$10),6,IF(ISBLANK(allgemein!$I$11),allgemein!O84,allgemein!$I$11),7,IF(ISBLANK(allgemein!$I$12),allgemein!O84,allgemein!$I$12),8,IF(ISBLANK(allgemein!$I$13),allgemein!O84,allgemein!$I$13),IF(ISBLANK(allgemein!O84),\"\",allgemein!O84))","v":{"$error":"#NAME?"}},{"$f":"_xlfn.SWITCH(allgemein!P84,1,IF(ISBLANK(allgemein!$F$10),allgemein!P84,allgemein!$F$10),2,IF(ISBLANK(allgemein!$F$11),allgemein!P84,allgemein!$F$11),3,IF(ISBLANK(allgemein!$F$12),allgemein!P84,allgemein!$F$12),4,IF(ISBLANK(allgemein!$F$13),allgemein!P84,allgemein!$F$13),5,IF(ISBLANK(allgemein!$I$10),allgemein!P84,allgemein!$I$10),6,IF(ISBLANK(allgemein!$I$11),allgemein!P84,allgemein!$I$11),7,IF(ISBLANK(allgemein!$I$12),allgemein!P84,allgemein!$I$12),8,IF(ISBLANK(allgemein!$I$13),allgemein!P84,allgemein!$I$13),IF(ISBLANK(allgemein!P84),\"\",allgemein!P84))","v":{"$error":"#NAME?"}},{"$f":"IF(ISBLANK(allgemein!Q84),\"\",allgemein!Q84)","v":""},{"$f":"IF(ISBLANK(allgemein!R84),\"\",allgemein!R84)","v":""},{"$f":"IF(ISBLANK(allgemein!S84),\"\",allgemein!S84)","v":""},{"$f":"IF(ISBLANK(allgemein!U84),\"\",allgemein!U84)","v":""}]
[{"$f":"IF(ISBLANK(allgemein!D85),\"\",allgemein!D85)","v":68},{"$f":"IF(ISBLANK(allgemein!E85),\"\",allgemein!E85)","v":""},{"$f":"IF(ISBLANK(allgemein!C85),\"\",allgemein!C85)","v":" "},{"$f":"IF(ISBLANK(allgemein!H85),\"\",allgemein!H85)","v":""},{"$f":"IF(ISBLANK(allgemein!I85),\"\",allgemein!I85)","v":""},{"$f":"IF(ISBLANK(allgemein!J85),\"\",allgemein!J85)","v":""},{"$f":"IF(ISBLANK(allgemein!K85),\"\",allgemein!K85)","v":""},{"$f":"IF(ISBLANK(allgemein!F85),\"\",IF(ISBLANK(allgemein!L85),1,0))","v":""},{"$f":"_xlfn.SWITCH(allgemein!M85,1,IF(ISBLANK(allgemein!$F$10),allgemein!M85,allgemein!$F$10),2,IF(ISBLANK(allgemein!$F$11),allgemein!M85,allgemein!$F$11),3,IF(ISBLANK(allgemein!$F$12),allgemein!M85,allgemein!$F$12),4,IF(ISBLANK(allgemein!$F$13),allgemein!M85,allgemein!$F$13),5,IF(ISBLANK(allgemein!$I$10),allgemein!M85,allgemein!$I$10),6,IF(ISBLANK(allgemein!$I$11),allgemein!M85,allgemein!$I$11),7,IF(ISBLANK(allgemein!$I$12),allgemein!M85,allgemein!$I$12),8,IF(ISBLANK(allgemein!$I$13),allgemein!M85,allgemein!$I$13),IF(ISBLANK(allgemein!M85),\"\",allgemein!M85))","v":{"$error":"#NAME?"}},{"$f":"_xlfn.SWITCH(allgemein!N85,1,IF(ISBLANK(allgemein!$F$10),allgemein!N85,allgemein!$F$10),2,IF(ISBLANK(allgemein!$F$11),allgemein!N85,allgemein!$F$11),3,IF(ISBLANK(allgemein!$F$12),allgemein!N85,allgemein!$F$12),4,IF(ISBLANK(allgemein!$F$13),allgemein!N85,allgemein!$F$13),5,IF(ISBLANK(allgemein!$I$10),allgemein!N85,allgemein!$I$10),6,IF(ISBLANK(allgemein!$I$11),allgemein!N85,allgemein!$I$11),7,IF(ISBLANK(allgemein!$I$12),allgemein!N85,allgemein!$I$12),8,IF(ISBLANK(allgemein!$I$13),allgemein!N85,allgemein!$I$13),IF(ISBLANK(allgemein!N85),\"\",allgemein!N85))","v":{"$error":"#NAME?"}},{"$f":"_xlfn.SWITCH(allgemein!O85,1,IF(ISBLANK(allgemein!$F$10),allgemein!O85,allgemein!$F$10),2,IF(ISBLANK(allgemein!$F$11),allgemein!O85,allgemein!$F$11),3,IF(ISBLANK(allgemein!$F$12),allgemein!O85,allgemein!$F$12),4,IF(ISBLANK(allgemein!$F$13),allgemein!O85,allgemein!$F$13),5,IF(ISBLANK(allgemein!$I$10),allgemein!O85,allgemein!$I$10),6,IF(ISBLANK(allgemein!$I$11),allgemein!O85,allgemein!$I$11),7,IF(ISBLANK(allgemein!$I$12),allgemein!O85,allgemein!$I$12),8,IF(ISBLANK(allgemein!$I$13),allgemein!O85,allgemein!$I$13),IF(ISBLANK(allgemein!O85),\"\",allgemein!O85))","v":{"$error":"#NAME?"}},{"$f":"_xlfn.SWITCH(allgemein!P85,1,IF(ISBLANK(allgemein!$F$10),allgemein!P85,allgemein!$F$10),2,IF(ISBLANK(allgemein!$F$11),allgemein!P85,allgemein!$F$11),3,IF(ISBLANK(allgemein!$F$12),allgemein!P85,allgemein!$F$12),4,IF(ISBLANK(allgemein!$F$13),allgemein!P85,allgemein!$F$13),5,IF(ISBLANK(allgemein!$I$10),allgemein!P85,allgemein!$I$10),6,IF(ISBLANK(allgemein!$I$11),allgemein!P85,allgemein!$I$11),7,IF(ISBLANK(allgemein!$I$12),allgemein!P85,allgemein!$I$12),8,IF(ISBLANK(allgemein!$I$13),allgemein!P85,allgemein!$I$13),IF(ISBLANK(allgemein!P85),\"\",allgemein!P85))","v":{"$error":"#NAME?"}},{"$f":"IF(ISBLANK(allgemein!Q85),\"\",allgemein!Q85)","v":""},{"$f":"IF(ISBLANK(allgemein!R85),\"\",allgemein!R85)","v":""},{"$f":"IF(ISBLANK(allgemein!S85),\"\",allgemein!S85)","v":""},{"$f":"IF(ISBLANK(allgemein!U85),\"\",allgemein!U85)","v":""}]
[{"$f":"IF(ISBLANK(allgemein!D86),\"\",allgemein!D86)","v":69},{"$f":"IF(ISBLANK(allgemein!E86),\"\",allgemein!E86)","v":""},{"$f":"IF(ISBLANK(allgemein!C86),\"\",allgemein!C86)","v":" "},{"$f":"IF(ISBLANK(allgemein!H86),\"\",allgemein!H86)","v":""},{"$f":"IF(ISBLANK(allgemein!I86),\"\",allgemein!I86)","v":""},{"$f":"IF(ISBLANK(allgemein!J86),\"\",allgemein!J86)","v":""},{"$f":"IF(ISBLANK(allgemein!K86),\"\",allgemein!K86)","v":""},{"$f":"IF(ISBLANK(allgemein!F86),\"\",IF(ISBLANK(allgemein!L86),1,0))","v":""},{"$f":"_xlfn.SWITCH(allgemein!M86,1,IF(ISBLANK(allgemein!$F$10),allgemein!M86,allgemein!$F$10),2,IF(ISBLANK(allgemein!$F$11),allgemein!M86,allgemein!$F$11),3,IF(ISBLANK(allgemein!$F$12),allgemein!M86,allgemein!$F$12),4,IF(ISBLANK(allgemein!$F$13),allgemein!M86,allgemein!$F$13),5,IF(ISBLANK(allgemein!$I$10),allgemein!M86,allgemein!$I$10),6,IF(ISBLANK(allgemein!$I$11),allgemein!M86,allgemein!$I$11),7,IF(ISBLANK(allgemein!$I$12),allgemein!M86,allgemein!$I$12),8,IF(ISBLANK(allgemein!$I$13),allgemein!M86,allgemein!$I$13),IF(ISBLANK(allgemein!M86),\"\",allgemein!M86))","v":{"$error":"#NAME?"}},{"$f":"_xlfn.SWITCH(allgemein!N86,1,IF(ISBLANK(allgemein!$F$10),allgemein!N86,allgemein!$F$10),2,IF(ISBLANK(allgemein!$F$11),allgemein!N86,allgemein!$F$11),3,IF(ISBLANK(allgemein!$F$12),allgemein!N86,allgemein!$F$12),4,IF(ISBLANK(allgemein!$F$13),allgemein!N86,allgemein!$F$13),5,IF(ISBLANK(allgemein!$I$10),allgemein!N86,allgemein!$I$10),6,IF(ISBLANK(allgemein!$I$11),allgemein!N86,allgemein!$I$11),7,IF(ISBLANK(allgemein!$I$12),allgemein!N86,allgemein!$I$12),8,IF(ISBLANK(allgemein!$I$13),allgemein!N86,allgemein!$I$13),IF(ISBLANK(allgemein!N86),\"\",allgemein!N86))","v":{"$error":"#NAME?"}},{"$f":"_xlfn.SWITCH(allgemein!O86,1,IF(ISBLANK(allgemein!$F$10),allgemein!O86,allgemein!$F$10),2,IF(ISBLANK(allgemein!$F$11),allgemein!O86,allgemein!$F$11),3,IF(ISBLANK(allgemein!$F$12),allgemein!O86,allgemein!$F$12),4,IF(ISBLANK(allgemein!$F$13),allgemein!O86,allgemein!$F$13),5,IF(ISBLANK(allgemein!$I$10),allgemein!O86,allgemein!$I$10),6,IF(ISBLANK(allgemein!$I$11),allgemein!O86,allgemein!$I$11),7,IF(ISBLANK(allgemein!$I$12),allgemein!O86,allgemein!$I$12),8,IF(ISBLANK(allgemein!$I$13),allgemein!O86,allgemein!$I$13),IF(ISBLANK(allgemein!O86),\"\",allgemein!O86))","v":{"$error":"#NAME?"}},{"$f":"_xlfn.SWITCH(allgemein!P86,1,IF(ISBLANK(allgemein!$F$10),allgemein!P86,allgemein!$F$10),2,IF(ISBLANK(allgemein!$F$11),allgemein!P86,allgemein!$F$11),3,IF(ISBLANK(allgemein!$F$12),allgemein!P86,allgemein!$F$12),4,IF(ISBLANK(allgemein!$F$13),allgemein!P86,allgemein!$F$13),5,IF(ISBLANK(allgemein!$I$10),allgemein!P86,allgemein!$I$10),6,IF(ISBLANK(allgemein!$I$11),allgemein!P86,allgemein!$I$11),7,IF(ISBLANK(allgemein!$I$12),allgemein!P86,allgemein!$I$12),8,IF(ISBLANK(allgemein!$I$13),allgemein!P86,allgemein!$I$13),IF(ISBLANK(allgemein!P86),\"\",allgemein!P86))","v":{"$error":"#NAME?"}},{"$f":"IF(ISBLANK(allgemein!Q86),\"\",allgemein!Q86)","v":""},{"$f":"IF(ISBLANK(allgemein!R86),\"\",allgemein!R86)","v":""},{"$f":"IF(ISBLANK(allgemein!S86),\"\",allgemein!S86)","v":""},{"$f":"IF(ISBLANK(allgemein!U86),\"\",allgemein!U86)","v":""}]
[{"$f":"IF(ISBLANK(allgemein!D87),\"\",allgemein!D87)","v":70},{"$f":"IF(ISBLANK(allgemein!E87),\"\",allgemein!E87)","v":""},{"$f":"IF(ISBLANK(allgemein!C87),\"\",allgemein!C87)","v":" "},{"$f":"IF(ISBLANK(allgemein!H87),\"\",allgemein!H87)","v":""},{"$f":"IF(ISBLANK(allgemein!I87),\"\",allgemein!I87)","v":""},{"$f":"IF(ISBLANK(allgemein!J87),\"\",allgemein!J87)","v":""},{"$f":"IF(ISBLANK(allgemein!K87),\"\",allgemein!K87)","v":""},{"$f":"IF(ISBLANK(allgemein!F87),\"\",IF(ISBLANK(allgemein!L87),1,0))","v":""},{"$f":"_xlfn.SWITCH(allgemein!M87,1,IF(ISBLANK(allgemein!$F$10),allgemein!M87,allgemein!$F$10),2,IF(ISBLANK(allgemein!$F$11),allgemein!M87,allgemein!$F$11),3,IF(ISBLANK(allgemein!$F$12),allgemein!M87,allgemein!$F$12),4,IF(ISBLANK(allgemein!$F$13),allgemein!M87,allgemein!$F$13),5,IF(ISBLANK(allgemein!$I$10),allgemein!M87,allgemein!$I$10),6,IF(ISBLANK(allgemein!$I$11),allgemein!M87,allgemein!$I$11),7,IF(ISBLANK(allgemein!$I$12),allgemein!M87,allgemein!$I$12),8,IF(ISBLANK(allgemein!$I$13),allgemein!M87,allgemein!$I$13),IF(ISBLANK(allgemein!M87),\"\",allgemein!M87))","v":{"$error":"#NAME?"}},{"$f":"_xlfn.SWITCH(allgemein!N87,1,IF(ISBLANK(allgemein!$F$10),allgemein!N87,allgemein!$F$10),2,IF(ISBLANK(allgemein!$F$11),allgemein!N87,allgemein!$F$11),3,IF(ISBLANK(allgemein!$F$12),allgemein!N87,allgemein!$F$12),4,IF(ISBLANK(allgemein!$F$13),allgemein!N87,allgemein!$F$13),5,IF(ISBLANK(allgemein!$I$10),allgemein!N87,allgemein!$I$10),6,IF(ISBLANK(allgemein!$I$11),allgemein!N87,allgemein!$I$11),7,IF(ISBLANK(allgemein!$I$12),allgemein!N87,allgemein!$I$12),8,IF(ISBLANK(allgemein!$I$13),allgemein!N87,allgemein!$I$13),IF(ISBLANK(allgemein!N87),\"\",allgemein!N87))","v":{"$error":"#NAME?"}},{"$f":"_xlfn.SWITCH(allgemein!O87,1,IF(ISBLANK(allgemein!$F$10),allgemein!O87,allgemein!$F$10),2,IF(ISBLANK(allgemein!$F$11),allgemein!O87,allgemein!$F$11),3,IF(ISBLANK(allgemein!$F$12),allgemein!O87,allgemein!$F$12),4,IF(ISBLANK(allgemein!$F$13),allgemein!O87,allgemein!$F$13),5,IF(ISBLANK(allgemein!$I$10),allgemein!O87,allgemein!$I$10),6,IF(ISBLANK(allgemein!$I$11),allgemein!O87,allgemein!$I$11),7,IF(ISBLANK(allgemein!$I$12),allgemein!O87,allgemein!$I$12),8,IF(ISBLANK(allgemein!$I$13),allgemein!O87,allgemein!$I$13),IF(ISBLANK(allgemein!O87),\"\",allgemein!O87))","v":{"$error":"#NAME?"}},{"$f":"_xlfn.SWITCH(allgemein!P87,1,IF(ISBLANK(allgemein!$F$10),allgemein!P87,allgemein!$F$10),2,IF(ISBLANK(allgemein!$F$11),allgemein!P87,allgemein!$F$11),3,IF(ISBLANK(allgemein!$F$12),allgemein!P87,allgemein!$F$12),4,IF(ISBLANK(allgemein!$F$13),allgemein!P87,allgemein!$F$13),5,IF(ISBLANK(allgemein!$I$10),allgemein!P87,allgemein!$I$10),6,IF(ISBLANK(allgemein!$I$11),allgemein!P87,allgemein!$I$11),7,IF(ISBLANK(allgemein!$I$12),allgemein!P87,allgemein!$I$12),8,IF(ISBLANK(allgemein!$I$13),allgemein!P87,allgemein!$I$13),IF(ISBLANK(allgemein!P87),\"\",allgemein!P87))","v":{"$error":"#NAME?"}},{"$f":"IF(ISBLANK(allgemein!Q87),\"\",allgemein!Q87)","v":""},{"$f":"IF(ISBLANK(allgemein!R87),\"\",allgemein!R87)","v":""},{"$f":"IF(ISBLANK(allgemein!S87),\"\",allgemein!S87)","v":""},{"$f":"IF(ISBLANK(allgemein!U87),\"\",allgemein!U87)","v":""}]
[{"$f":"IF(ISBLANK(allgemein!D88),\"\",allgemein!D88)","v":71},{"$f":"IF(ISBLANK(allgemein!E88),\"\",allgemein!E88)","v":""},{"$f":"IF(ISBLANK(allgemein!C88),\"\",allgemein!C88)","v":" "},{"$f":"IF(ISBLANK(allgemein!H88),\"\",allgemein!H88)","v":""},{"$f":"IF(ISBLANK(allgemein!I88),\"\",allgemein!I88)","v":""},{"$f":"IF(ISBLANK(allgemein!J88),\"\",allgemein!J88)","v":""},{"$f":"IF(ISBLANK(allgemein!K88),\"\",allgemein!K88)","v":""},{"$f":"IF(ISBLANK(allgemein!F88),\"\",IF(ISBLANK(allgemein!L88),1,0))","v":""},{"$f":"_xlfn.SWITCH(allgemein!M88,1,IF(ISBLANK(allgemein!$F$10),allgemein!M88,allgemein!$F$10),2,IF(ISBLANK(allgemein!$F$11),allgemein!M88,allgemein!$F$11),3,IF(ISBLANK(allgemein!$F$12),allgemein!M88,allgemein!$F$12),4,IF(ISBLANK(allgemein!$F$13),allgemein!M88,allgemein!$F$13),5,IF(ISBLANK(allgemein!$I$10),allgemein!M88,allgemein!$I$10),6,IF(ISBLANK(allgemein!$I$11),allgemein!M88,allgemein!$I$11),7,IF(ISBLANK(allgemein!$I$12),allgemein!M88,allgemein!$I$12),8,IF(ISBLANK(allgemein!$I$13),allgemein!M88,allgemein!$I$13),IF(ISBLANK(allgemein!M88),\"\",allgemein!M88))","v":{"$error":"#NAME?"}},{"$f":"_xlfn.SWITCH(allgemein!N88,1,IF(ISBLANK(allgemein!$F$10),allgemein!N88,allgemein!$F$10),2,IF(ISBLANK(allgemein!$F$11),allgemein!N88,allgemein!$F$11),3,IF(ISBLANK(allgemein!$F$12),allgemein!N88,allgemein!$F$12),4,IF(ISBLANK(allgemein!$F$13),allgemein!N88,allgemein!$F$13),5,IF(ISBLANK(allgemein!$I$10),allgemein!N88,allgemein!$I$10),6,IF(ISBLANK(allgemein!$I$11),allgemein!N88,allgemein!$I$11),7,IF(ISBLANK(allgemein!$I$12),allgemein!N88,allgemein!$I$12),8,IF(ISBLANK(allgemein!$I$13),allgemein!N88,allgemein!$I$13),IF(ISBLANK(allgemein!N88),\"\",allgemein!N88))","v":{"$error":"#NAME?"}},{"$f":"_xlfn.SWITCH(allgemein!O88,1,IF(ISBLANK(allgemein!$F$10),allgemein!O88,allgemein!$F$10),2,IF(ISBLANK(allgemein!$F$11),allgemein!O88,allgemein!$F$11),3,IF(ISBLANK(allgemein!$F$12),allgemein!O88,allgemein!$F$12),4,IF(ISBLANK(allgemein!$F$13),allgemein!O88,allgemein!$F$13),5,IF(ISBLANK(allgemein!$I$10),allgemein!O88,allgemein!$I$10),6,IF(ISBLANK(allgemein!$I$11),allgemein!O88,allgemein!$I$11),7,IF(ISBLANK(allgemein!$I$12),allgemein!O88,allgemein!$I$12),8,IF(ISBLANK(allgemein!$I$13),allgemein!O88,allgemein!$I$13),IF(ISBLANK(allgemein!O88),\"\",allgemein!O88))","v":{"$error":"#NAME?"}},{"$f":"_xlfn.SWITCH(allgemein!P88,1,IF(ISBLANK(allgemein!$F$10),allgemein!P88,allgemein!$F$10),2,IF(ISBLANK(allgemein!$F$11),allgemein!P88,allgemein!$F$11),3,IF(ISBLANK(allgemein!$F$12),allgemein!P88,allgemein!$F$12),4,IF(ISBLANK(allgemein!$F$13),allgemein!P88,allgemein!$F$13),5,IF(ISBLANK(allgemein!$I$10),allgemein!P88,allgemein!$I$10),6,IF(ISBLANK(allgemein!$I$11),allgemein!P88,allgemein!$I$11),7,IF(ISBLANK(allgemein!$I$12),allgemein!P88,allgemein!$I$12),8,IF(ISBLANK(allgemein!$I$13),allgemein!P88,allgemein!$I$13),IF(ISBLANK(allgemein!P88),\"\",allgemein!P88))","v":{"$error":"#NAME?"}},{"$f":"IF(ISBLANK(allgemein!Q88),\"\",allgemein!Q88)","v":""},{"$f":"IF(ISBLANK(allgemein!R88),\"\",allgemein!R88)","v":""},{"$f":"IF(ISBLANK(allgemein!S88),\"\",allgemein!S88)","v":""},{"$f":"IF(ISBLANK(allgemein!U88),\"\",allgemein!U88)","v":""}]
[{"$f":"IF(ISBLANK(allgemein!D89),\"\",allgemein!D89)","v":72},{"$f":"IF(ISBLANK(allgemein!E89),\"\",allgemein!E89)","v":""},{"$f":"IF(ISBLANK(allgemein!C89),\"\",allgemein!C89)","v":" "},{"$f":"IF(ISBLANK(allgemein!H89),\"\",allgemein!H89)","v":""},{"$f":"IF(ISBLANK(allgemein!I89),\"\",allgemein!I89)","v":""},{"$f":"IF(ISBLANK(allgemein!J89),\"\",allgemein!J89)","v":""},{"$f":"IF(ISBLANK(allgemein!K89),\"\",allgemein!K89)","v":""},{"$f":"IF(ISBLANK(allgemein!F89),\"\",IF(ISBLANK(allgemein!L89),1,0))","v":""},{"$f":"_xlfn.SWITCH(allgemein!M89,1,IF(ISBLANK(allgemein!$F$10),allgemein!M89,allgemein!$F$10),2,IF(ISBLANK(allgemein!$F$11),allgemein!M89,allgemein!$F$11),3,IF(ISBLANK(allgemein!$F$12),allgemein!M89,allgemein!$F$12),4,IF(ISBLANK(allgemein!$F$13),allgemein!M89,allgemein!$F$13),5,IF(ISBLANK(allgemein!$I$10),allgemein!M89,allgemein!$I$10),6,IF(ISBLANK(allgemein!$I$11),allgemein!M89,allgemein!$I$11),7,IF(ISBLANK(allgemein!$I$12),allgemein!M89,allgemein!$I$12),8,IF(ISBLANK(allgemein!$I$13),allgemein!M89,allgemein!$I$13),IF(ISBLANK(allgemein!M89),\"\",allgemein!M89))","v":{"$error":"#NAME?"}},{"$f":"_xlfn.SWITCH(allgemein!N89,1,IF(ISBLANK(allgemein!$F$10),allgemein!N89,allgemein!$F$10),2,IF(ISBLANK(allgemein!$F$11),allgemein!N89,allgemein!$F$11),3,IF(ISBLANK(allgemein!$F$12),allgemein!N89,allgemein!$F$12),4,IF(ISBLANK(allgemein!$F$13),allgemein!N89,allgemein!$F$13),5,IF(ISBLANK(allgemein!$I$10),allgemein!N89,allgemein!$I$10),6,IF(ISBLANK(allgemein!$I$11),allgemein!N89,allgemein!$I$11),7,IF(ISBLANK(allgemein!$I$12),allgemein!N89,allgemein!$I$12),8,IF(ISBLANK(allgemein!$I$13),allgemein!N89,allgemein!$I$13),IF(ISBLANK(allgemein!N89),\"\",allgemein!N89))","v":{"$error":"#NAME?"}},{"$f":"_xlfn.SWITCH(allgemein!O89,1,IF(ISBLANK(allgemein!$F$10),allgemein!O89,allgemein!$F$10),2,IF(ISBLANK(allgemein!$F$11),allgemein!O89,allgemein!$F$11),3,IF(ISBLANK(allgemein!$F$12),allgemein!O89,allgemein!$F$12),4,IF(ISBLANK(allgemein!$F$13),allgemein!O89,allgemein!$F$13),5,IF(ISBLANK(allgemein!$I$10),allgemein!O89,allgemein!$I$10),6,IF(ISBLANK(allgemein!$I$11),allgemein!O89,allgemein!$I$11),7,IF(ISBLANK(allgemein!$I$12),allgemein!O89,allgemein!$I$12),8,IF(ISBLANK(allgemein!$I$13),allgemein!O89,allgemein!$I$13),IF(ISBLANK(allgemein!O89),\"\",allgemein!O89))","v":{"$error":"#NAME?"}},{"$f":"_xlfn.SWITCH(allgemein!P89,1,IF(ISBLANK(allgemein!$F$10),allgemein!P89,allgemein!$F$10),2,IF(ISBLANK(allgemein!$F$11),allgemein!P89,allgemein!$F$11),3,IF(ISBLANK(allgemein!$F$12),allgemein!P89,allgemein!$F$12),4,IF(ISBLANK(allgemein!$F$13),allgemein!P89,allgemein!$F$13),5,IF(ISBLANK(allgemein!$I$10),allgemein!P89,allgemein!$I$10),6,IF(ISBLANK(allgemein!$I$11),allgemein!P89,allgemein!$I$11),7,IF(ISBLANK(allgemein!$I$12),allgemein!P89,allgemein!$I$12),8,IF(ISBLANK(allgemein!$I$13),allgemein!P89,allgemein!$I$13),IF(ISBLANK(allgemein!P89),\"\",allgemein!P89))","v":{"$error":"#NAME?"}},{"$f":"IF(ISBLANK(allgemein!Q89),\"\",allgemein!Q89)","v":""},{"$f":"IF(ISBLANK(allgemein!R89),\"\",allgemein!R89)","v":""},{"$f":"IF(ISBLANK(allgemein!S89),\"\",allgemein!S89)","v":""},{"$f":"IF(ISBLANK(allgemein!U89),\"\",allgemein!U89)","v":""}]
[{"$f":"IF(ISBLANK(allgemein!D90),\"\",allgemein!D90)","v":73},{"$f":"IF(ISBLANK(allgemein!E90),\"\",allgemein!E90)","v":""},{"$f":"IF(ISBLANK(allgemein!C90),\"\",allgemein!C90)","v":" "},{"$f":"IF(ISBLANK(allgemein!H90),\"\",allgemein!H90)","v":""},{"$f":"IF(ISBLANK(allgemein!I90),\"\",allgemein!I90)","v":""},{"$f":"IF(ISBLANK(allgemein!J90),\"\",allgemein!J90)","v":""},{"$f":"IF(ISBLANK(allgemein!K90),\"\",allgemein!K90)","v":""},{"$f":"IF(ISBLANK(allgemein!F90),\"\",IF(ISBLANK(allgemein!L90),1,0))","v":""},{"$f":"_xlfn.SWITCH(allgemein!M90,1,IF(ISBLANK(allgemein!$F$10),allgemein!M90,allgemein!$F$10),2,IF(ISBLANK(allgemein!$F$11),allgemein!M90,allgemein!$F$11),3,IF(ISBLANK(allgemein!$F$12),allgemein!M90,allgemein!$F$12),4,IF(ISBLANK(allgemein!$F$13),allgemein!M90,allgemein!$F$13),5,IF(ISBLANK(allgemein!$I$10),allgemein!M90,allgemein!$I$10),6,IF(ISBLANK(allgemein!$I$11),allgemein!M90,allgemein!$I$11),7,IF(ISBLANK(allgemein!$I$12),allgemein!M90,allgemein!$I$12),8,IF(ISBLANK(allgemein!$I$13),allgemein!M90,allgemein!$I$13),IF(ISBLANK(allgemein!M90),\"\",allgemein!M90))","v":{"$error":"#NAME?"}},{"$f":"_xlfn.SWITCH(allgemein!N90,1,IF(ISBLANK(allgemein!$F$10),allgemein!N90,allgemein!$F$10),2,IF(ISBLANK(allgemein!$F$11),allgemein!N90,allgemein!$F$11),3,IF(ISBLANK(allgemein!$F$12),allgemein!N90,allgemein!$F$12),4,IF(ISBLANK(allgemein!$F$13),allgemein!N90,allgemein!$F$13),5,IF(ISBLANK(allgemein!$I$10),allgemein!N90,allgemein!$I$10),6,IF(ISBLANK(allgemein!$I$11),allgemein!N90,allgemein!$I$11),7,IF(ISBLANK(allgemein!$I$12),allgemein!N90,allgemein!$I$12),8,IF(ISBLANK(allgemein!$I$13),allgemein!N90,allgemein!$I$13),IF(ISBLANK(allgemein!N90),\"\",allgemein!N90))","v":{"$error":"#NAME?"}},{"$f":"_xlfn.SWITCH(allgemein!O90,1,IF(ISBLANK(allgemein!$F$10),allgemein!O90,allgemein!$F$10),2,IF(ISBLANK(allgemein!$F$11),allgemein!O90,allgemein!$F$11),3,IF(ISBLANK(allgemein!$F$12),allgemein!O90,allgemein!$F$12),4,IF(ISBLANK(allgemein!$F$13),allgemein!O90,allgemein!$F$13),5,IF(ISBLANK(allgemein!$I$10),allgemein!O90,allgemein!$I$10),6,IF(ISBLANK(allgemein!$I$11),allgemein!O90,allgemein!$I$11),7,IF(ISBLANK(allgemein!$I$12),allgemein!O90,allgemein!$I$12),8,IF(ISBLANK(allgemein!$I$13),allgemein!O90,allgemein!$I$13),IF(ISBLANK(allgemein!O90),\"\",allgemein!O90))","v":{"$error":"#NAME?"}},{"$f":"_xlfn.SWITCH(allgemein!P90,1,IF(ISBLANK(allgemein!$F$10),allgemein!P90,allgemein!$F$10),2,IF(ISBLANK(allgemein!$F$11),allgemein!P90,allgemein!$F$11),3,IF(ISBLANK(allgemein!$F$12),allgemein!P90,allgemein!$F$12),4,IF(ISBLANK(allgemein!$F$13),allgemein!P90,allgemein!$F$13),5,IF(ISBLANK(allgemein!$I$10),allgemein!P90,allgemein!$I$10),6,IF(ISBLANK(allgemein!$I$11),allgemein!P90,allgemein!$I$11),7,IF(ISBLANK(allgemein!$I$12),allgemein!P90,allgemein!$I$12),8,IF(ISBLANK(allgemein!$I$13),allgemein!P90,allgemein!$I$13),IF(ISBLANK(allgemein!P90),\"\",allgemein!P90))","v":{"$error":"#NAME?"}},{"$f":"IF(ISBLANK(allgemein!Q90),\"\",allgemein!Q90)","v":""},{"$f":"IF(ISBLANK(allgemein!R90),\"\",allgemein!R90)","v":""},{"$f":"IF(ISBLANK(allgemein!S90),\"\",allgemein!S90)","v":""},{"$f":"IF(ISBLANK(allgemein!U90),\"\",allgemein!U90)","v":""}]
[{"$f":"IF(ISBLANK(allgemein!D91),\"\",allgemein!D91)","v":74},{"$f":"IF(ISBLANK(allgemein!E91),\"\",allgemein!E91)","v":""},{"$f":"IF(ISBLANK(allgemein!C91),\"\",allgemein!C91)","v":" "},{"$f":"IF(ISBLANK(allgemein!H91),\"\",allgemein!H91)","v":""},{"$f":"IF(ISBLANK(allgemein!I91),\"\",allgemein!I91)","v":""},{"$f":"IF(ISBLANK(allgemein!J91),\"\",allgemein!J91)","v":""},{"$f":"IF(ISBLANK(allgemein!K91),\"\",allgemein!K91)","v":""},{"$f":"IF(ISBLANK(allgemein!F91),\"\",IF(ISBLANK(allgemein!L91),1,0))","v":""},{"$f":"_xlfn.SWITCH(allgemein!M91,1,IF(ISBLANK(allgemein!$F$10),allgemein!M91,allgemein!$F$10),2,IF(ISBLANK(allgemein!$F$11),allgemein!M91,allgemein!$F$11),3,IF(ISBLANK(allgemein!$F$12),allgemein!M91,allgemein!$F$12),4,IF(ISBLANK(allgemein!$F$13),allgemein!M91,allgemein!$F$13),5,IF(ISBLANK(allgemein!$I$10),allgemein!M91,allgemein!$I$10),6,IF(ISBLANK(allgemein!$I$11),allgemein!M91,allgemein!$I$11),7,IF(ISBLANK(allgemein!$I$12),allgemein!M91,allgemein!$I$12),8,IF(ISBLANK(allgemein!$I$13),allgemein!M91,allgemein!$I$13),IF(ISBLANK(allgemein!M91),\"\",allgemein!M91))","v":{"$error":"#NAME?"}},{"$f":"_xlfn.SWITCH(allgemein!N91,1,IF(ISBLANK(allgemein!$F$10),allgemein!N91,allgemein!$F$10),2,IF(ISBLANK(allgemein!$F$11),allgemein!N91,allgemein!$F$11),3,IF(ISBLANK(allgemein!$F$12),allgemein!N91,allgemein!$F$12),4,IF(ISBLANK(allgemein!$F$13),allgemein!N91,allgemein!$F$13),5,IF(ISBLANK(allgemein!$I$10),allgemein!N91,allgemein!$I$10),6,IF(ISBLANK(allgemein!$I$11),allgemein!N91,allgemein!$I$11),7,IF(ISBLANK(allgemein!$I$12),allgemein!N91,allgemein!$I$12),8,IF(ISBLANK(allgemein!$I$13),allgemein!N91,allgemein!$I$13),IF(ISBLANK(allgemein!N91),\"\",allgemein!N91))","v":{"$error":"#NAME?"}},{"$f":"_xlfn.SWITCH(allgemein!O91,1,IF(ISBLANK(allgemein!$F$10),allgemein!O91,allgemein!$F$10),2,IF(ISBLANK(allgemein!$F$11),allgemein!O91,allgemein!$F$11),3,IF(ISBLANK(allgemein!$F$12),allgemein!O91,allgemein!$F$12),4,IF(ISBLANK(allgemein!$F$13),allgemein!O91,allgemein!$F$13),5,IF(ISBLANK(allgemein!$I$10),allgemein!O91,allgemein!$I$10),6,IF(ISBLANK(allgemein!$I$11),allgemein!O91,allgemein!$I$11),7,IF(ISBLANK(allgemein!$I$12),allgemein!O91,allgemein!$I$12),8,IF(ISBLANK(allgemein!$I$13),allgemein!O91,allgemein!$I$13),IF(ISBLANK(allgemein!O91),\"\",allgemein!O91))","v":{"$error":"#NAME?"}},{"$f":"_xlfn.SWITCH(allgemein!P91,1,IF(ISBLANK(allgemein!$F$10),allgemein!P91,allgemein!$F$10),2,IF(ISBLANK(allgemein!$F$11),allgemein!P91,allgemein!$F$11),3,IF(ISBLANK(allgemein!$F$12),allgemein!P91,allgemein!$F$12),4,IF(ISBLANK(allgemein!$F$13),allgemein!P91,allgemein!$F$13),5,IF(ISBLANK(allgemein!$I$10),allgemein!P91,allgemein!$I$10),6,IF(ISBLANK(allgemein!$I$11),allgemein!P91,allgemein!$I$11),7,IF(ISBLANK(allgemein!$I$12),allgemein!P91,allgemein!$I$12),8,IF(ISBLANK(allgemein!$I$13),allgemein!P91,allgemein!$I$13),IF(ISBLANK(allgemein!P91),\"\",allgemein!P91))","v":{"$error":"#NAME?"}},{"$f":"IF(ISBLANK(allgemein!Q91),\"\",allgemein!Q91)","v":""},{"$f":"IF(ISBLANK(allgemein!R91),\"\",allgemein!R91)","v":""},{"$f":"IF(ISBLANK(allgemein!S91),\"\",allgemein!S91)","v":""},{"$f":"IF(ISBLANK(allgemein!U91),\"\",allgemein!U91)","v":""}]
[{"$f":"IF(ISBLANK(allgemein!D92),\"\",allgemein!D92)","v":75},{"$f":"IF(ISBLANK(allgemein!E92),\"\",allgemein!E92)","v":""},{"$f":"IF(ISBLANK(allgemein!C92),\"\",allgemein!C92)","v":" "},{"$f":"IF(ISBLANK(allgemein!H92),\"\",allgemein!H92)","v":""},{"$f":"IF(ISBLANK(allgemein!I92),\"\",allgemein!I92)","v":""},{"$f":"IF(ISBLANK(allgemein!J92),\"\",allgemein!J92)","v":""},{"$f":"IF(ISBLANK(allgemein!K92),\"\",allgemein!K92)","v":""},{"$f":"IF(ISBLANK(allgemein!F92),\"\",IF(ISBLANK(allgemein!L92),1,0))","v":""},{"$f":"_xlfn.SWITCH(allgemein!M92,1,IF(ISBLANK(allgemein!$F$10),allgemein!M92,allgemein!$F$10),2,IF(ISBLANK(allgemein!$F$11),allgemein!M92,allgemein!$F$11),3,IF(ISBLANK(allgemein!$F$12),allgemein!M92,allgemein!$F$12),4,IF(ISBLANK(allgemein!$F$13),allgemein!M92,allgemein!$F$13),5,IF(ISBLANK(allgemein!$I$10),allgemein!M92,allgemein!$I$10),6,IF(ISBLANK(allgemein!$I$11),allgemein!M92,allgemein!$I$11),7,IF(ISBLANK(allgemein!$I$12),allgemein!M92,allgemein!$I$12),8,IF(ISBLANK(allgemein!$I$13),allgemein!M92,allgemein!$I$13),IF(ISBLANK(allgemein!M92),\"\",allgemein!M92))","v":{"$error":"#NAME?"}},{"$f":"_xlfn.SWITCH(allgemein!N92,1,IF(ISBLANK(allgemein!$F$10),allgemein!N92,allgemein!$F$10),2,IF(ISBLANK(allgemein!$F$11),allgemein!N92,allgemein!$F$11),3,IF(ISBLANK(allgemein!$F$12),allgemein!N92,allgemein!$F$12),4,IF(ISBLANK(allgemein!$F$13),allgemein!N92,allgemein!$F$13),5,IF(ISBLANK(allgemein!$I$10),allgemein!N92,allgemein!$I$10),6,IF(ISBLANK(allgemein!$I$11),allgemein!N92,allgemein!$I$11),7,IF(ISBLANK(allgemein!$I$12),allgemein!N92,allgemein!$I$12),8,IF(ISBLANK(allgemein!$I$13),allgemein!N92,allgemein!$I$13),IF(ISBLANK(allgemein!N92),\"\",allgemein!N92))","v":{"$error":"#NAME?"}},{"$f":"_xlfn.SWITCH(allgemein!O92,1,IF(ISBLANK(allgemein!$F$10),allgemein!O92,allgemein!$F$10),2,IF(ISBLANK(allgemein!$F$11),allgemein!O92,allgemein!$F$11),3,IF(ISBLANK(allgemein!$F$12),allgemein!O92,allgemein!$F$12),4,IF(ISBLANK(allgemein!$F$13),allgemein!O92,allgemein!$F$13),5,IF(ISBLANK(allgemein!$I$10),allgemein!O92,allgemein!$I$10),6,IF(ISBLANK(allgemein!$I$11),allgemein!O92,allgemein!$I$11),7,IF(ISBLANK(allgemein!$I$12),allgemein!O92,allgemein!$I$12),8,IF(ISBLANK(allgemein!$I$13),allgemein!O92,allgemein!$I$13),IF(ISBLANK(allgemein!O92),\"\",allgemein!O92))","v":{"$error":"#NAME?"}},{"$f":"_xlfn.SWITCH(allgemein!P92,1,IF(ISBLANK(allgemein!$F$10),allgemein!P92,allgemein!$F$10),2,IF(ISBLANK(allgemein!$F$11),allgemein!P92,allgemein!$F$11),3,IF(ISBLANK(allgemein!$F$12),allgemein!P92,allgemein!$F$12),4,IF(ISBLANK(allgemein!$F$13),allgemein!P92,allgemein!$F$13),5,IF(ISBLANK(allgemein!$I$10),allgemein!P92,allgemein!$I$10),6,IF(ISBLANK(allgemein!$I$11),allgemein!P92,allgemein!$I$11),7,IF(ISBLANK(allgemein!$I$12),allgemein!P92,allgemein!$I$12),8,IF(ISBLANK(allgemein!$I$13),allgemein!P92,allgemein!$I$13),IF(ISBLANK(allgemein!P92),\"\",allgemein!P92))","v":{"$error":"#NAME?"}},{"$f":"IF(ISBLANK(allgemein!Q92),\"\",allgemein!Q92)","v":""},{"$f":"IF(ISBLANK(allgemein!R92),\"\",allgemein!R92)","v":""},{"$f":"IF(ISBLANK(allgemein!S92),\"\",allgemein!S92)","v":""},{"$f":"IF(ISBLANK(allgemein!U92),\"\",allgemein!U92)","v":""}]
[{"$f":"IF(ISBLANK(allgemein!D93),\"\",allgemein!D93)","v":76},{"$f":"IF(ISBLANK(allgemein!E93),\"\",allgemein!E93)","v":""},{"$f":"IF(ISBLANK(allgemein!C93),\"\",allgemein!C93)","v":" "},{"$f":"IF(ISBLANK(allgemein!H93),\"\",allgemein!H93)","v":""},{"$f":"IF(ISBLANK(allgemein!I93),\"\",allgemein!I93)","v":""},{"$f":"IF(ISBLANK(allgemein!J93),\"\",allgemein!J93)","v":""},{"$f":"IF(ISBLANK(allgemein!K93),\"\",allgemein!K93)","v":""},{"$f":"IF(ISBLANK(allgemein!F93),\"\",IF(ISBLANK(allgemein!L93),1,0))","v":""},{"$f":"_xlfn.SWITCH(allgemein!M93,1,IF(ISBLANK(allgemein!$F$10),allgemein!M93,allgemein!$F$10),2,IF(ISBLANK(allgemein!$F$11),allgemein!M93,allgemein!$F$11),3,IF(ISBLANK(allgemein!$F$12),allgemein!M93,allgemein!$F$12),4,IF(ISBLANK(allgemein!$F$13),allgemein!M93,allgemein!$F$13),5,IF(ISBLANK(allgemein!$I$10),allgemein!M93,allgemein!$I$10),6,IF(ISBLANK(allgemein!$I$11),allgemein!M93,allgemein!$I$11),7,IF(ISBLANK(allgemein!$I$12),allgemein!M93,allgemein!$I$12),8,IF(ISBLANK(allgemein!$I$13),allgemein!M93,allgemein!$I$13),IF(ISBLANK(allgemein!M93),\"\",allgemein!M93))","v":{"$error":"#NAME?"}},{"$f":"_xlfn.SWITCH(allgemein!N93,1,IF(ISBLANK(allgemein!$F$10),allgemein!N93,allgemein!$F$10),2,IF(ISBLANK(allgemein!$F$11),allgemein!N93,allgemein!$F$11),3,IF(ISBLANK(allgemein!$F$12),allgemein!N93,allgemein!$F$12),4,IF(ISBLANK(allgemein!$F$13),allgemein!N93,allgemein!$F$13),5,IF(ISBLANK(allgemein!$I$10),allgemein!N93,allgemein!$I$10),6,IF(ISBLANK(allgemein!$I$11),allgemein!N93,allgemein!$I$11),7,IF(ISBLANK(allgemein!$I$12),allgemein!N93,allgemein!$I$12),8,IF(ISBLANK(allgemein!$I$13),allgemein!N93,allgemein!$I$13),IF(ISBLANK(allgemein!N93),\"\",allgemein!N93))","v":{"$error":"#NAME?"}},{"$f":"_xlfn.SWITCH(allgemein!O93,1,IF(ISBLANK(allgemein!$F$10),allgemein!O93,allgemein!$F$10),2,IF(ISBLANK(allgemein!$F$11),allgemein!O93,allgemein!$F$11),3,IF(ISBLANK(allgemein!$F$12),allgemein!O93,allgemein!$F$12),4,IF(ISBLANK(allgemein!$F$13),allgemein!O93,allgemein!$F$13),5,IF(ISBLANK(allgemein!$I$10),allgemein!O93,allgemein!$I$10),6,IF(ISBLANK(allgemein!$I$11),allgemein!O93,allgemein!$I$11),7,IF(ISBLANK(allgemein!$I$12),allgemein!O93,allgemein!$I$12),8,IF(ISBLANK(allgemein!$I$13),allgemein!O93,allgemein!$I$13),IF(ISBLANK(allgemein!O93),\"\",allgemein!O93))","v":{"$error":"#NAME?"}},{"$f":"_xlfn.SWITCH(allgemein!P93,1,IF(ISBLANK(allgemein!$F$10),allgemein!P93,allgemein!$F$10),2,IF(ISBLANK(allgemein!$F$11),allgemein!P93,allgemein!$F$11),3,IF(ISBLANK(allgemein!$F$12),allgemein!P93,allgemein!$F$12),4,IF(ISBLANK(allgemein!$F$13),allgemein!P93,allgemein!$F$13),5,IF(ISBLANK(allgemein!$I$10),allgemein!P93,allgemein!$I$10),6,IF(ISBLANK(allgemein!$I$11),allgemein!P93,allgemein!$I$11),7,IF(ISBLANK(allgemein!$I$12),allgemein!P93,allgemein!$I$12),8,IF(ISBLANK(allgemein!$I$13),allgemein!P93,allgemein!$I$13),IF(ISBLANK(allgemein!P93),\"\",allgemein!P93))","v":{"$error":"#NAME?"}},{"$f":"IF(ISBLANK(allgemein!Q93),\"\",allgemein!Q93)","v":""},{"$f":"IF(ISBLANK(allgemein!R93),\"\",allgemein!R93)","v":""},{"$f":"IF(ISBLANK(allgemein!S93),\"\",allgemein!S93)","v":""},{"$f":"IF(ISBLANK(allgemein!U93),\"\",allgemein!U93)","v":""}]
[{"$f":"IF(ISBLANK(allgemein!D94),\"\",allgemein!D94)","v":77},{"$f":"IF(ISBLANK(allgemein!E94),\"\",allgemein!E94)","v":""},{"$f":"IF(ISBLANK(allgemein!C94),\"\",allgemein!C94)","v":" "},{"$f":"IF(ISBLANK(allgemein!H94),\"\",allgemein!H94)","v":""},{"$f":"IF(ISBLANK(allgemein!I94),\"\",allgemein!I94)","v":""},{"$f":"IF(ISBLANK(allgemein!J94),\"\",allgemein!J94)","v":""},{"$f":"IF(ISBLANK(allgemein!K94),\"\",allgemein!K94)","v":""},{"$f":"IF(ISBLANK(allgemein!F94),\"\",IF(ISBLANK(allgemein!L94),1,0))","v":""},{"$f":"_xlfn.SWITCH(allgemein!M94,1,IF(ISBLANK(allgemein!$F$10),allgemein!M94,allgemein!$F$10),2,IF(ISBLANK(allgemein!$F$11),allgemein!M94,allgemein!$F$11),3,IF(ISBLANK(allgemein!$F$12),allgemein!M94,allgemein!$F$12),4,IF(ISBLANK(allgemein!$F$13),allgemein!M94,allgemein!$F$13),5,IF(ISBLANK(allgemein!$I$10),allgemein!M94,allgemein!$I$10),6,IF(ISBLANK(allgemein!$I$11),allgemein!M94,allgemein!$I$11),7,IF(ISBLANK(allgemein!$I$12),allgemein!M94,allgemein!$I$12),8,IF(ISBLANK(allgemein!$I$13),allgemein!M94,allgemein!$I$13),IF(ISBLANK(allgemein!M94),\"\",allgemein!M94))","v":{"$error":"#NAME?"}},{"$f":"_xlfn.SWITCH(allgemein!N94,1,IF(ISBLANK(allgemein!$F$10),allgemein!N94,allgemein!$F$10),2,IF(ISBLANK(allgemein!$F$11),allgemein!N94,allgemein!$F$11),3,IF(ISBLANK(allgemein!$F$12),allgemein!N94,allgemein!$F$12),4,IF(ISBLANK(allgemein!$F$13),allgemein!N94,allgemein!$F$13),5,IF(ISBLANK(allgemein!$I$10),allgemein!N94,allgemein!$I$10),6,IF(ISBLANK(allgemein!$I$11),allgemein!N94,allgemein!$I$11),7,IF(ISBLANK(allgemein!$I$12),allgemein!N94,allgemein!$I$12),8,IF(ISBLANK(allgemein!$I$13),allgemein!N94,allgemein!$I$13),IF(ISBLANK(allgemein!N94),\"\",allgemein!N94))","v":{"$error":"#NAME?"}},{"$f":"_xlfn.SWITCH(allgemein!O94,1,IF(ISBLANK(allgemein!$F$10),allgemein!O94,allgemein!$F$10),2,IF(ISBLANK(allgemein!$F$11),allgemein!O94,allgemein!$F$11),3,IF(ISBLANK(allgemein!$F$12),allgemein!O94,allgemein!$F$12),4,IF(ISBLANK(allgemein!$F$13),allgemein!O94,allgemein!$F$13),5,IF(ISBLANK(allgemein!$I$10),allgemein!O94,allgemein!$I$10),6,IF(ISBLANK(allgemein!$I$11),allgemein!O94,allgemein!$I$11),7,IF(ISBLANK(allgemein!$I$12),allgemein!O94,allgemein!$I$12),8,IF(ISBLANK(allgemein!$I$13),allgemein!O94,allgemein!$I$13),IF(ISBLANK(allgemein!O94),\"\",allgemein!O94))","v":{"$error":"#NAME?"}},{"$f":"_xlfn.SWITCH(allgemein!P94,1,IF(ISBLANK(allgemein!$F$10),allgemein!P94,allgemein!$F$10),2,IF(ISBLANK(allgemein!$F$11),allgemein!P94,allgemein!$F$11),3,IF(ISBLANK(allgemein!$F$12),allgemein!P94,allgemein!$F$12),4,IF(ISBLANK(allgemein!$F$13),allgemein!P94,allgemein!$F$13),5,IF(ISBLANK(allgemein!$I$10),allgemein!P94,allgemein!$I$10),6,IF(ISBLANK(allgemein!$I$11),allgemein!P94,allgemein!$I$11),7,IF(ISBLANK(allgemein!$I$12),allgemein!P94,allgemein!$I$12),8,IF(ISBLANK(allgemein!$I$13),allgemein!P94,allgemein!$I$13),IF(ISBLANK(allgemein!P94),\"\",allgemein!P94))","v":{"$error":"#NAME?"}},{"$f":"IF(ISBLANK(allgemein!Q94),\"\",allgemein!Q94)","v":""},{"$f":"IF(ISBLANK(allgemein!R94),\"\",allgemein!R94)","v":""},{"$f":"IF(ISBLANK(allgemein!S94),\"\",allgemein!S94)","v":""},{"$f":"IF(ISBLANK(allgemein!U94),\"\",allgemein!U94)","v":""}]
[{"$f":"IF(ISBLANK(allgemein!D95),\"\",allgemein!D95)","v":78},{"$f":"IF(ISBLANK(allgemein!E95),\"\",allgemein!E95)","v":""},{"$f":"IF(ISBLANK(allgemein!C95),\"\",allgemein!C95)","v":" "},{"$f":"IF(ISBLANK(allgemein!H95),\"\",allgemein!H95)","v":""},{"$f":"IF(ISBLANK(allgemein!I95),\"\",allgemein!I95)","v":""},{"$f":"IF(ISBLANK(allgemein!J95),\"\",allgemein!J95)","v":""},{"$f":"IF(ISBLANK(allgemein!K95),\"\",allgemein!K95)","v":""},{"$f":"IF(ISBLANK(allgemein!F95),\"\",IF(ISBLANK(allgemein!L95),1,0))","v":""},{"$f":"_xlfn.SWITCH(allgemein!M95,1,IF(ISBLANK(allgemein!$F$10),allgemein!M95,allgemein!$F$10),2,IF(ISBLANK(allgemein!$F$11),allgemein!M95,allgemein!$F$11),3,IF(ISBLANK(allgemein!$F$12),allgemein!M95,allgemein!$F$12),4,IF(ISBLANK(allgemein!$F$13),allgemein!M95,allgemein!$F$13),5,IF(ISBLANK(allgemein!$I$10),allgemein!M95,allgemein!$I$10),6,IF(ISBLANK(allgemein!$I$11),allgemein!M95,allgemein!$I$11),7,IF(ISBLANK(allgemein!$I$12),allgemein!M95,allgemein!$I$12),8,IF(ISBLANK(allgemein!$I$13),allgemein!M95,allgemein!$I$13),IF(ISBLANK(allgemein!M95),\"\",allgemein!M95))","v":{"$error":"#NAME?"}},{"$f":"_xlfn.SWITCH(allgemein!N95,1,IF(ISBLANK(allgemein!$F$10),allgemein!N95,allgemein!$F$10),2,IF(ISBLANK(allgemein!$F$11),allgemein!N95,allgemein!$F$11),3,IF(ISBLANK(allgemein!$F$12),allgemein!N95,allgemein!$F$12),4,IF(ISBLANK(allgemein!$F$13),allgemein!N95,allgemein!$F$13),5,IF(ISBLANK(allgemein!$I$10),allgemein!N95,allgemein!$I$10),6,IF(ISBLANK(allgemein!$I$11),allgemein!N95,allgemein!$I$11),7,IF(ISBLANK(allgemein!$I$12),allgemein!N95,allgemein!$I$12),8,IF(ISBLANK(allgemein!$I$13),allgemein!N95,allgemein!$I$13),IF(ISBLANK(allgemein!N95),\"\",allgemein!N95))","v":{"$error":"#NAME?"}},{"$f":"_xlfn.SWITCH(allgemein!O95,1,IF(ISBLANK(allgemein!$F$10),allgemein!O95,allgemein!$F$10),2,IF(ISBLANK(allgemein!$F$11),allgemein!O95,allgemein!$F$11),3,IF(ISBLANK(allgemein!$F$12),allgemein!O95,allgemein!$F$12),4,IF(ISBLANK(allgemein!$F$13),allgemein!O95,allgemein!$F$13),5,IF(ISBLANK(allgemein!$I$10),allgemein!O95,allgemein!$I$10),6,IF(ISBLANK(allgemein!$I$11),allgemein!O95,allgemein!$I$11),7,IF(ISBLANK(allgemein!$I$12),allgemein!O95,allgemein!$I$12),8,IF(ISBLANK(allgemein!$I$13),allgemein!O95,allgemein!$I$13),IF(ISBLANK(allgemein!O95),\"\",allgemein!O95))","v":{"$error":"#NAME?"}},{"$f":"_xlfn.SWITCH(allgemein!P95,1,IF(ISBLANK(allgemein!$F$10),allgemein!P95,allgemein!$F$10),2,IF(ISBLANK(allgemein!$F$11),allgemein!P95,allgemein!$F$11),3,IF(ISBLANK(allgemein!$F$12),allgemein!P95,allgemein!$F$12),4,IF(ISBLANK(allgemein!$F$13),allgemein!P95,allgemein!$F$13),5,IF(ISBLANK(allgemein!$I$10),allgemein!P95,allgemein!$I$10),6,IF(ISBLANK(allgemein!$I$11),allgemein!P95,allgemein!$I$11),7,IF(ISBLANK(allgemein!$I$12),allgemein!P95,allgemein!$I$12),8,IF(ISBLANK(allgemein!$I$13),allgemein!P95,allgemein!$I$13),IF(ISBLANK(allgemein!P95),\"\",allgemein!P95))","v":{"$error":"#NAME?"}},{"$f":"IF(ISBLANK(allgemein!Q95),\"\",allgemein!Q95)","v":""},{"$f":"IF(ISBLANK(allgemein!R95),\"\",allgemein!R95)","v":""},{"$f":"IF(ISBLANK(allgemein!S95),\"\",allgemein!S95)","v":""},{"$f":"IF(ISBLANK(allgemein!U95),\"\",allgemein!U95)","v":""}]
[{"$f":"IF(ISBLANK(allgemein!D96),\"\",allgemein!D96)","v":79},{"$f":"IF(ISBLANK(allgemein!E96),\"\",allgemein!E96)","v":""},{"$f":"IF(ISBLANK(allgemein!C96),\"\",allgemein!C96)","v":" "},{"$f":"IF(ISBLANK(allgemein!H96),\"\",allgemein!H96)","v":""},{"$f":"IF(ISBLANK(allgemein!I96),\"\",allgemein!I96)","v":""},{"$f":"IF(ISBLANK(allgemein!J96),\"\",allgemein!J96)","v":""},{"$f":"IF(ISBLANK(allgemein!K96),\"\",allgemein!K96)","v":""},{"$f":"IF(ISBLANK(allgemein!F96),\"\",IF(ISBLANK(allgemein!L96),1,0))","v":""},{"$f":"_xlfn.SWITCH(allgemein!M96,1,IF(ISBLANK(allgemein!$F$10),allgemein!M96,allgemein!$F$10),2,IF(ISBLANK(allgemein!$F$11),allgemein!M96,allgemein!$F$11),3,IF(ISBLANK(allgemein!$F$12),allgemein!M96,allgemein!$F$12),4,IF(ISBLANK(allgemein!$F$13),allgemein!M96,allgemein!$F$13),5,IF(ISBLANK(allgemein!$I$10),allgemein!M96,allgemein!$I$10),6,IF(ISBLANK(allgemein!$I$11),allgemein!M96,allgemein!$I$11),7,IF(ISBLANK(allgemein!$I$12),allgemein!M96,allgemein!$I$12),8,IF(ISBLANK(allgemein!$I$13),allgemein!M96,allgemein!$I$13),IF(ISBLANK(allgemein!M96),\"\",allgemein!M96))","v":{"$error":"#NAME?"}},{"$f":"_xlfn.SWITCH(allgemein!N96,1,IF(ISBLANK(allgemein!$F$10),allgemein!N96,allgemein!$F$10),2,IF(ISBLANK(allgemein!$F$11),allgemein!N96,allgemein!$F$11),3,IF(ISBLANK(allgemein!$F$12),allgemein!N96,allgemein!$F$12),4,IF(ISBLANK(allgemein!$F$13),allgemein!N96,allgemein!$F$13),5,IF(ISBLANK(allgemein!$I$10),allgemein!N96,allgemein!$I$10),6,IF(ISBLANK(allgemein!$I$11),allgemein!N96,allgemein!$I$11),7,IF(ISBLANK(allgemein!$I$12),allgemein!N96,allgemein!$I$12),8,IF(ISBLANK(allgemein!$I$13),allgemein!N96,allgemein!$I$13),IF(ISBLANK(allgemein!N96),\"\",allgemein!N96))","v":{"$error":"#NAME?"}},{"$f":"_xlfn.SWITCH(allgemein!O96,1,IF(ISBLANK(allgemein!$F$10),allgemein!O96,allgemein!$F$10),2,IF(ISBLANK(allgemein!$F$11),allgemein!O96,allgemein!$F$11),3,IF(ISBLANK(allgemein!$F$12),allgemein!O96,allgemein!$F$12),4,IF(ISBLANK(allgemein!$F$13),allgemein!O96,allgemein!$F$13),5,IF(ISBLANK(allgemein!$I$10),allgemein!O96,allgemein!$I$10),6,IF(ISBLANK(allgemein!$I$11),allgemein!O96,allgemein!$I$11),7,IF(ISBLANK(allgemein!$I$12),allgemein!O96,allgemein!$I$12),8,IF(ISBLANK(allgemein!$I$13),allgemein!O96,allgemein!$I$13),IF(ISBLANK(allgemein!O96),\"\",allgemein!O96))","v":{"$error":"#NAME?"}},{"$f":"_xlfn.SWITCH(allgemein!P96,1,IF(ISBLANK(allgemein!$F$10),allgemein!P96,allgemein!$F$10),2,IF(ISBLANK(allgemein!$F$11),allgemein!P96,allgemein!$F$11),3,IF(ISBLANK(allgemein!$F$12),allgemein!P96,allgemein!$F$12),4,IF(ISBLANK(allgemein!$F$13),allgemein!P96,allgemein!$F$13),5,IF(ISBLANK(allgemein!$I$10),allgemein!P96,allgemein!$I$10),6,IF(ISBLANK(allgemein!$I$11),allgemein!P96,allgemein!$I$11),7,IF(ISBLANK(allgemein!$I$12),allgemein!P96,allgemein!$I$12),8,IF(ISBLANK(allgemein!$I$13),allgemein!P96,allgemein!$I$13),IF(ISBLANK(allgemein!P96),\"\",allgemein!P96))","v":{"$error":"#NAME?"}},{"$f":"IF(ISBLANK(allgemein!Q96),\"\",allgemein!Q96)","v":""},{"$f":"IF(ISBLANK(allgemein!R96),\"\",allgemein!R96)","v":""},{"$f":"IF(ISBLANK(allgemein!S96),\"\",allgemein!S96)","v":""},{"$f":"IF(ISBLANK(allgemein!U96),\"\",allgemein!U96)","v":""}]
[{"$f":"IF(ISBLANK(allgemein!D97),\"\",allgemein!D97)","v":80},{"$f":"IF(ISBLANK(allgemein!E97),\"\",allgemein!E97)","v":""},{"$f":"IF(ISBLANK(allgemein!C97),\"\",allgemein!C97)","v":" "},{"$f":"IF(ISBLANK(allgemein!H97),\"\",allgemein!H97)","v":""},{"$f":"IF(ISBLANK(allgemein!I97),\"\",allgemein!I97)","v":""},{"$f":"IF(ISBLANK(allgemein!J97),\"\",allgemein!J97)","v":""},{"$f":"IF(ISBLANK(allgemein!K97),\"\",allgemein!K97)","v":""},{"$f":"IF(ISBLANK(allgemein!F97),\"\",IF(ISBLANK(allgemein!L97),1,0))","v":""},{"$f":"_xlfn.SWITCH(allgemein!M97,1,IF(ISBLANK(allgemein!$F$10),allgemein!M97,allgemein!$F$10),2,IF(ISBLANK(allgemein!$F$11),allgemein!M97,allgemein!$F$11),3,IF(ISBLANK(allgemein!$F$12),allgemein!M97,allgemein!$F$12),4,IF(ISBLANK(allgemein!$F$13),allgemein!M97,allgemein!$F$13),5,IF(ISBLANK(allgemein!$I$10),allgemein!M97,allgemein!$I$10),6,IF(ISBLANK(allgemein!$I$11),allgemein!M97,allgemein!$I$11),7,IF(ISBLANK(allgemein!$I$12),allgemein!M97,allgemein!$I$12),8,IF(ISBLANK(allgemein!$I$13),allgemein!M97,allgemein!$I$13),IF(ISBLANK(allgemein!M97),\"\",allgemein!M97))","v":{"$error":"#NAME?"}},{"$f":"_xlfn.SWITCH(allgemein!N97,1,IF(ISBLANK(allgemein!$F$10),allgemein!N97,allgemein!$F$10),2,IF(ISBLANK(allgemein!$F$11),allgemein!N97,allgemein!$F$11),3,IF(ISBLANK(allgemein!$F$12),allgemein!N97,allgemein!$F$12),4,IF(ISBLANK(allgemein!$F$13),allgemein!N97,allgemein!$F$13),5,IF(ISBLANK(allgemein!$I$10),allgemein!N97,allgemein!$I$10),6,IF(ISBLANK(allgemein!$I$11),allgemein!N97,allgemein!$I$11),7,IF(ISBLANK(allgemein!$I$12),allgemein!N97,allgemein!$I$12),8,IF(ISBLANK(allgemein!$I$13),allgemein!N97,allgemein!$I$13),IF(ISBLANK(allgemein!N97),\"\",allgemein!N97))","v":{"$error":"#NAME?"}},{"$f":"_xlfn.SWITCH(allgemein!O97,1,IF(ISBLANK(allgemein!$F$10),allgemein!O97,allgemein!$F$10),2,IF(ISBLANK(allgemein!$F$11),allgemein!O97,allgemein!$F$11),3,IF(ISBLANK(allgemein!$F$12),allgemein!O97,allgemein!$F$12),4,IF(ISBLANK(allgemein!$F$13),allgemein!O97,allgemein!$F$13),5,IF(ISBLANK(allgemein!$I$10),allgemein!O97,allgemein!$I$10),6,IF(ISBLANK(allgemein!$I$11),allgemein!O97,allgemein!$I$11),7,IF(ISBLANK(allgemein!$I$12),allgemein!O97,allgemein!$I$12),8,IF(ISBLANK(allgemein!$I$13),allgemein!O97,allgemein!$I$13),IF(ISBLANK(allgemein!O97),\"\",allgemein!O97))","v":{"$error":"#NAME?"}},{"$f":"_xlfn.SWITCH(allgemein!P97,1,IF(ISBLANK(allgemein!$F$10),allgemein!P97,allgemein!$F$10),2,IF(ISBLANK(allgemein!$F$11),allgemein!P97,allgemein!$F$11),3,IF(ISBLANK(allgemein!$F$12),allgemein!P97,allgemein!$F$12),4,IF(ISBLANK(allgemein!$F$13),allgemein!P97,allgemein!$F$13),5,IF(ISBLANK(allgemein!$I$10),allgemein!P97,allgemein!$I$10),6,IF(ISBLANK(allgemein!$I$11),allgemein!P97,allgemein!$I$11),7,IF(ISBLANK(allgemein!$I$12),allgemein!P97,allgemein!$I$12),8,IF(ISBLANK(allgemein!$I$13),allgemein!P97,allgemein!$I$13),IF(ISBLANK(allgemein!P97),\"\",allgemein!P97))","v":{"$error":"#NAME?"}},{"$f":"IF(ISBLANK(allgemein!Q97),\"\",allgemein!Q97)","v":""},{"$f":"IF(ISBLANK(allgemein!R97),\"\",allgemein!R97)","v":""},{"$f":"IF(ISBLANK(allgemein!S97),\"\",allgemein!S97)","v":""},{"$f":"IF(ISBLANK(allgemein!U97),\"\",allgemein!U97)","v":""}]
[{"$f":"IF(ISBLANK(allgemein!D98),\"\",allgemein!D98)","v":81},{"$f":"IF(ISBLANK(allgemein!E98),\"\",allgemein!E98)","v":""},{"$f":"IF(ISBLANK(allgemein!C98),\"\",allgemein!C98)","v":" "},{"$f":"IF(ISBLANK(allgemein!H98),\"\",allgemein!H98)","v":""},{"$f":"IF(ISBLANK(allgemein!I98),\"\",allgemein!I98)","v":""},{"$f":"IF(ISBLANK(allgemein!J98),\"\",allgemein!J98)","v":""},{"$f":"IF(ISBLANK(allgemein!K98),\"\",allgemein!K98)","v":""},{"$f":"IF(ISBLANK(allgemein!F98),\"\",IF(ISBLANK(allgemein!L98),1,0))","v":""},{"$f":"_xlfn.SWITCH(allgemein!M98,1,IF(ISBLANK(allgemein!$F$10),allgemein!M98,allgemein!$F$10),2,IF(ISBLANK(allgemein!$F$11),allgemein!M98,allgemein!$F$11),3,IF(ISBLANK(allgemein!$F$12),allgemein!M98,allgemein!$F$12),4,IF(ISBLANK(allgemein!$F$13),allgemein!M98,allgemein!$F$13),5,IF(ISBLANK(allgemein!$I$10),allgemein!M98,allgemein!$I$10),6,IF(ISBLANK(allgemein!$I$11),allgemein!M98,allgemein!$I$11),7,IF(ISBLANK(allgemein!$I$12),allgemein!M98,allgemein!$I$12),8,IF(ISBLANK(allgemein!$I$13),allgemein!M98,allgemein!$I$13),IF(ISBLANK(allgemein!M98),\"\",allgemein!M98))","v":{"$error":"#NAME?"}},{"$f":"_xlfn.SWITCH(allgemein!N98,1,IF(ISBLANK(allgemein!$F$10),allgemein!N98,allgemein!$F$10),2,IF(ISBLANK(allgemein!$F$11),allgemein!N98,allgemein!$F$11),3,IF(ISBLANK(allgemein!$F$12),allgemein!N98,allgemein!$F$12),4,IF(ISBLANK(allgemein!$F$13),allgemein!N98,allgemein!$F$13),5,IF(ISBLANK(allgemein!$I$10),allgemein!N98,allgemein!$I$10),6,IF(ISBLANK(allgemein!$I$11),allgemein!N98,allgemein!$I$11),7,IF(ISBLANK(allgemein!$I$12),allgemein!N98,allgemein!$I$12),8,IF(ISBLANK(allgemein!$I$13),allgemein!N98,allgemein!$I$13),IF(ISBLANK(allgemein!N98),\"\",allgemein!N98))","v":{"$error":"#NAME?"}},{"$f":"_xlfn.SWITCH(allgemein!O98,1,IF(ISBLANK(allgemein!$F$10),allgemein!O98,allgemein!$F$10),2,IF(ISBLANK(allgemein!$F$11),allgemein!O98,allgemein!$F$11),3,IF(ISBLANK(allgemein!$F$12),allgemein!O98,allgemein!$F$12),4,IF(ISBLANK(allgemein!$F$13),allgemein!O98,allgemein!$F$13),5,IF(ISBLANK(allgemein!$I$10),allgemein!O98,allgemein!$I$10),6,IF(ISBLANK(allgemein!$I$11),allgemein!O98,allgemein!$I$11),7,IF(ISBLANK(allgemein!$I$12),allgemein!O98,allgemein!$I$12),8,IF(ISBLANK(allgemein!$I$13),allgemein!O98,allgemein!$I$13),IF(ISBLANK(allgemein!O98),\"\",allgemein!O98))","v":{"$error":"#NAME?"}},{"$f":"_xlfn.SWITCH(allgemein!P98,1,IF(ISBLANK(allgemein!$F$10),allgemein!P98,allgemein!$F$10),2,IF(ISBLANK(allgemein!$F$11),allgemein!P98,allgemein!$F$11),3,IF(ISBLANK(allgemein!$F$12),allgemein!P98,allgemein!$F$12),4,IF(ISBLANK(allgemein!$F$13),allgemein!P98,allgemein!$F$13),5,IF(ISBLANK(allgemein!$I$10),allgemein!P98,allgemein!$I$10),6,IF(ISBLANK(allgemein!$I$11),allgemein!P98,allgemein!$I$11),7,IF(ISBLANK(allgemein!$I$12),allgemein!P98,allgemein!$I$12),8,IF(ISBLANK(allgemein!$I$13),allgemein!P98,allgemein!$I$13),IF(ISBLANK(allgemein!P98),\"\",allgemein!P98))","v":{"$error":"#NAME?"}},{"$f":"IF(ISBLANK(allgemein!Q98),\"\",allgemein!Q98)","v":""},{"$f":"IF(ISBLANK(allgemein!R98),\"\",allgemein!R98)","v":""},{"$f":"IF(ISBLANK(allgemein!S98),\"\",allgemein!S98)","v":""},{"$f":"IF(ISBLANK(allgemein!U98),\"\",allgemein!U98)","v":""}]
[{"$f":"IF(ISBLANK(allgemein!D99),\"\",allgemein!D99)","v":82},{"$f":"IF(ISBLANK(allgemein!E99),\"\",allgemein!E99)","v":""},{"$f":"IF(ISBLANK(allgemein!C99),\"\",allgemein!C99)","v":" "},{"$f":"IF(ISBLANK(allgemein!H99),\"\",allgemein!H99)","v":""},{"$f":"IF(ISBLANK(allgemein!I99),\"\",allgemein!I99)","v":""},{"$f":"IF(ISBLANK(allgemein!J99),\"\",allgemein!J99)","v":""},{"$f":"IF(ISBLANK(allgemein!K99),\"\",allgemein!K99)","v":""},{"$f":"IF(ISBLANK(allgemein!F99),\"\",IF(ISBLANK(allgemein!L99),1,0))","v":""},{"$f":"_xlfn.SWITCH(allgemein!M99,1,IF(ISBLANK(allgemein!$F$10),allgemein!M99,allgemein!$F$10),2,IF(ISBLANK(allgemein!$F$11),allgemein!M99,allgemein!$F$11),3,IF(ISBLANK(allgemein!$F$12),allgemein!M99,allgemein!$F$12),4,IF(ISBLANK(allgemein!$F$13),allgemein!M99,allgemein!$F$13),5,IF(ISBLANK(allgemein!$I$10),allgemein!M99,allgemein!$I$10),6,IF(ISBLANK(allgemein!$I$11),allgemein!M99,allgemein!$I$11),7,IF(ISBLANK(allgemein!$I$12),allgemein!M99,allgemein!$I$12),8,IF(ISBLANK(allgemein!$I$13),allgemein!M99,allgemein!$I$13),IF(ISBLANK(allgemein!M99),\"\",allgemein!M99))","v":{"$error":"#NAME?"}},{"$f":"_xlfn.SWITCH(allgemein!N99,1,IF(ISBLANK(allgemein!$F$10),allgemein!N99,allgemein!$F$10),2,IF(ISBLANK(allgemein!$F$11),allgemein!N99,allgemein!$F$11),3,IF(ISBLANK(allgemein!$F$12),allgemein!N99,allgemein!$F$12),4,IF(ISBLANK(allgemein!$F$13),allgemein!N99,allgemein!$F$13),5,IF(ISBLANK(allgemein!$I$10),allgemein!N99,allgemein!$I$10),6,IF(ISBLANK(allgemein!$I$11),allgemein!N99,allgemein!$I$11),7,IF(ISBLANK(allgemein!$I$12),allgemein!N99,allgemein!$I$12),8,IF(ISBLANK(allgemein!$I$13),allgemein!N99,allgemein!$I$13),IF(ISBLANK(allgemein!N99),\"\",allgemein!N99))","v":{"$error":"#NAME?"}},{"$f":"_xlfn.SWITCH(allgemein!O99,1,IF(ISBLANK(allgemein!$F$10),allgemein!O99,allgemein!$F$10),2,IF(ISBLANK(allgemein!$F$11),allgemein!O99,allgemein!$F$11),3,IF(ISBLANK(allgemein!$F$12),allgemein!O99,allgemein!$F$12),4,IF(ISBLANK(allgemein!$F$13),allgemein!O99,allgemein!$F$13),5,IF(ISBLANK(allgemein!$I$10),allgemein!O99,allgemein!$I$10),6,IF(ISBLANK(allgemein!$I$11),allgemein!O99,allgemein!$I$11),7,IF(ISBLANK(allgemein!$I$12),allgemein!O99,allgemein!$I$12),8,IF(ISBLANK(allgemein!$I$13),allgemein!O99,allgemein!$I$13),IF(ISBLANK(allgemein!O99),\"\",allgemein!O99))","v":{"$error":"#NAME?"}},{"$f":"_xlfn.SWITCH(allgemein!P99,1,IF(ISBLANK(allgemein!$F$10),allgemein!P99,allgemein!$F$10),2,IF(ISBLANK(allgemein!$F$11),allgemein!P99,allgemein!$F$11),3,IF(ISBLANK(allgemein!$F$12),allgemein!P99,allgemein!$F$12),4,IF(ISBLANK(allgemein!$F$13),allgemein!P99,allgemein!$F$13),5,IF(ISBLANK(allgemein!$I$10),allgemein!P99,allgemein!$I$10),6,IF(ISBLANK(allgemein!$I$11),allgemein!P99,allgemein!$I$11),7,IF(ISBLANK(allgemein!$I$12),allgemein!P99,allgemein!$I$12),8,IF(ISBLANK(allgemein!$I$13),allgemein!P99,allgemein!$I$13),IF(ISBLANK(allgemein!P99),\"\",allgemein!P99))","v":{"$error":"#NAME?"}},{"$f":"IF(ISBLANK(allgemein!Q99),\"\",allgemein!Q99)","v":""},{"$f":"IF(ISBLANK(allgemein!R99),\"\",allgemein!R99)","v":""},{"$f":"IF(ISBLANK(allgemein!S99),\"\",allgemein!S99)","v":""},{"$f":"IF(ISBLANK(allgemein!U99),\"\",allgemein!U99)","v":""}]
[{"$f":"IF(ISBLANK(allgemein!D100),\"\",allgemein!D100)","v":83},{"$f":"IF(ISBLANK(allgemein!E100),\"\",allgemein!E100)","v":""},{"$f":"IF(ISBLANK(allgemein!C100),\"\",allgemein!C100)","v":" "},{"$f":"IF(ISBLANK(allgemein!H100),\"\",allgemein!H100)","v":""},{"$f":"IF(ISBLANK(allgemein!I100),\"\",allgemein!I100)","v":""},{"$f":"IF(ISBLANK(allgemein!J100),\"\",allgemein!J100)","v":""},{"$f":"IF(ISBLANK(allgemein!K100),\"\",allgemein!K100)","v":""},{"$f":"IF(ISBLANK(allgemein!F100),\"\",IF(ISBLANK(allgemein!L100),1,0))","v":""},{"$f":"_xlfn.SWITCH(allgemein!M100,1,IF(ISBLANK(allgemein!$F$10),allgemein!M100,allgemein!$F$10),2,IF(ISBLANK(allgemein!$F$11),allgemein!M100,allgemein!$F$11),3,IF(ISBLANK(allgemein!$F$12),allgemein!M100,allgemein!$F$12),4,IF(ISBLANK(allgemein!$F$13),allgemein!M100,allgemein!$F$13),5,IF(ISBLANK(allgemein!$I$10),allgemein!M100,allgemein!$I$10),6,IF(ISBLANK(allgemein!$I$11),allgemein!M100,allgemein!$I$11),7,IF(ISBLANK(allgemein!$I$12),allgemein!M100,allgemein!$I$12),8,IF(ISBLANK(allgemein!$I$13),allgemein!M100,allgemein!$I$13),IF(ISBLANK(allgemein!M100),\"\",allgemein!M100))","v":{"$error":"#NAME?"}},{"$f":"_xlfn.SWITCH(allgemein!N100,1,IF(ISBLANK(allgemein!$F$10),allgemein!N100,allgemein!$F$10),2,IF(ISBLANK(allgemein!$F$11),allgemein!N100,allgemein!$F$11),3,IF(ISBLANK(allgemein!$F$12),allgemein!N100,allgemein!$F$12),4,IF(ISBLANK(allgemein!$F$13),allgemein!N100,allgemein!$F$13),5,IF(ISBLANK(allgemein!$I$10),allgemein!N100,allgemein!$I$10),6,IF(ISBLANK(allgemein!$I$11),allgemein!N100,allgemein!$I$11),7,IF(ISBLANK(allgemein!$I$12),allgemein!N100,allgemein!$I$12),8,IF(ISBLANK(allgemein!$I$13),allgemein!N100,allgemein!$I$13),IF(ISBLANK(allgemein!N100),\"\",allgemein!N100))","v":{"$error":"#NAME?"}},{"$f":"_xlfn.SWITCH(allgemein!O100,1,IF(ISBLANK(allgemein!$F$10),allgemein!O100,allgemein!$F$10),2,IF(ISBLANK(allgemein!$F$11),allgemein!O100,allgemein!$F$11),3,IF(ISBLANK(allgemein!$F$12),allgemein!O100,allgemein!$F$12),4,IF(ISBLANK(allgemein!$F$13),allgemein!O100,allgemein!$F$13),5,IF(ISBLANK(allgemein!$I$10),allgemein!O100,allgemein!$I$10),6,IF(ISBLANK(allgemein!$I$11),allgemein!O100,allgemein!$I$11),7,IF(ISBLANK(allgemein!$I$12),allgemein!O100,allgemein!$I$12),8,IF(ISBLANK(allgemein!$I$13),allgemein!O100,allgemein!$I$13),IF(ISBLANK(allgemein!O100),\"\",allgemein!O100))","v":{"$error":"#NAME?"}},{"$f":"_xlfn.SWITCH(allgemein!P100,1,IF(ISBLANK(allgemein!$F$10),allgemein!P100,allgemein!$F$10),2,IF(ISBLANK(allgemein!$F$11),allgemein!P100,allgemein!$F$11),3,IF(ISBLANK(allgemein!$F$12),allgemein!P100,allgemein!$F$12),4,IF(ISBLANK(allgemein!$F$13),allgemein!P100,allgemein!$F$13),5,IF(ISBLANK(allgemein!$I$10),allgemein!P100,allgemein!$I$10),6,IF(ISBLANK(allgemein!$I$11),allgemein!P100,allgemein!$I$11),7,IF(ISBLANK(allgemein!$I$12),allgemein!P100,allgemein!$I$12),8,IF(ISBLANK(allgemein!$I$13),allgemein!P100,allgemein!$I$13),IF(ISBLANK(allgemein!P100),\"\",allgemein!P100))","v":{"$error":"#NAME?"}},{"$f":"IF(ISBLANK(allgemein!Q100),\"\",allgemein!Q100)","v":""},{"$f":"IF(ISBLANK(allgemein!R100),\"\",allgemein!R100)","v":""},{"$f":"IF(ISBLANK(allgemein!S100),\"\",allgemein!S100)","v":""},{"$f":"IF(ISBLANK(allgemein!U100),\"\",allgemein!U100)","v":""}]
[{"$f":"IF(ISBLANK(allgemein!D101),\"\",allgemein!D101)","v":84},{"$f":"IF(ISBLANK(allgemein!E101),\"\",allgemein!E101)","v":""},{"$f":"IF(ISBLANK(allgemein!C101),\"\",allgemein!C101)","v":" "},{"$f":"IF(ISBLANK(allgemein!H101),\"\",allgemein!H101)","v":""},{"$f":"IF(ISBLANK(allgemein!I101),\"\",allgemein!I101)","v":""},{"$f":"IF(ISBLANK(allgemein!J101),\"\",allgemein!J101)","v":""},{"$f":"IF(ISBLANK(allgemein!K101),\"\",allgemein!K101)","v":""},{"$f":"IF(ISBLANK(allgemein!F101),\"\",IF(ISBLANK(allgemein!L101),1,0))","v":""},{"$f":"_xlfn.SWITCH(allgemein!M101,1,IF(ISBLANK(allgemein!$F$10),allgemein!M101,allgemein!$F$10),2,IF(ISBLANK(allgemein!$F$11),allgemein!M101,allgemein!$F$11),3,IF(ISBLANK(allgemein!$F$12),allgemein!M101,allgemein!$F$12),4,IF(ISBLANK(allgemein!$F$13),allgemein!M101,allgemein!$F$13),5,IF(ISBLANK(allgemein!$I$10),allgemein!M101,allgemein!$I$10),6,IF(ISBLANK(allgemein!$I$11),allgemein!M101,allgemein!$I$11),7,IF(ISBLANK(allgemein!$I$12),allgemein!M101,allgemein!$I$12),8,IF(ISBLANK(allgemein!$I$13),allgemein!M101,allgemein!$I$13),IF(ISBLANK(allgemein!M101),\"\",allgemein!M101))","v":{"$error":"#NAME?"}},{"$f":"_xlfn.SWITCH(allgemein!N101,1,IF(ISBLANK(allgemein!$F$10),allgemein!N101,allgemein!$F$10),2,IF(ISBLANK(allgemein!$F$11),allgemein!N101,allgemein!$F$11),3,IF(ISBLANK(allgemein!$F$12),allgemein!N101,allgemein!$F$12),4,IF(ISBLANK(allgemein!$F$13),allgemein!N101,allgemein!$F$13),5,IF(ISBLANK(allgemein!$I$10),allgemein!N101,allgemein!$I$10),6,IF(ISBLANK(allgemein!$I$11),allgemein!N101,allgemein!$I$11),7,IF(ISBLANK(allgemein!$I$12),allgemein!N101,allgemein!$I$12),8,IF(ISBLANK(allgemein!$I$13),allgemein!N101,allgemein!$I$13),IF(ISBLANK(allgemein!N101),\"\",allgemein!N101))","v":{"$error":"#NAME?"}},{"$f":"_xlfn.SWITCH(allgemein!O101,1,IF(ISBLANK(allgemein!$F$10),allgemein!O101,allgemein!$F$10),2,IF(ISBLANK(allgemein!$F$11),allgemein!O101,allgemein!$F$11),3,IF(ISBLANK(allgemein!$F$12),allgemein!O101,allgemein!$F$12),4,IF(ISBLANK(allgemein!$F$13),allgemein!O101,allgemein!$F$13),5,IF(ISBLANK(allgemein!$I$10),allgemein!O101,allgemein!$I$10),6,IF(ISBLANK(allgemein!$I$11),allgemein!O101,allgemein!$I$11),7,IF(ISBLANK(allgemein!$I$12),allgemein!O101,allgemein!$I$12),8,IF(ISBLANK(allgemein!$I$13),allgemein!O101,allgemein!$I$13),IF(ISBLANK(allgemein!O101),\"\",allgemein!O101))","v":{"$error":"#NAME?"}},{"$f":"_xlfn.SWITCH(allgemein!P101,1,IF(ISBLANK(allgemein!$F$10),allgemein!P101,allgemein!$F$10),2,IF(ISBLANK(allgemein!$F$11),allgemein!P101,allgemein!$F$11),3,IF(ISBLANK(allgemein!$F$12),allgemein!P101,allgemein!$F$12),4,IF(ISBLANK(allgemein!$F$13),allgemein!P101,allgemein!$F$13),5,IF(ISBLANK(allgemein!$I$10),allgemein!P101,allgemein!$I$10),6,IF(ISBLANK(allgemein!$I$11),allgemein!P101,allgemein!$I$11),7,IF(ISBLANK(allgemein!$I$12),allgemein!P101,allgemein!$I$12),8,IF(ISBLANK(allgemein!$I$13),allgemein!P101,allgemein!$I$13),IF(ISBLANK(allgemein!P101),\"\",allgemein!P101))","v":{"$error":"#NAME?"}},{"$f":"IF(ISBLANK(allgemein!Q101),\"\",allgemein!Q101)","v":""},{"$f":"IF(ISBLANK(allgemein!R101),\"\",allgemein!R101)","v":""},{"$f":"IF(ISBLANK(allgemein!S101),\"\",allgemein!S101)","v":""},{"$f":"IF(ISBLANK(allgemein!U101),\"\",allgemein!U101)","v":""}]
[{"$f":"IF(ISBLANK(allgemein!D102),\"\",allgemein!D102)","v":85},{"$f":"IF(ISBLANK(allgemein!E102),\"\",allgemein!E102)","v":""},{"$f":"IF(ISBLANK(allgemein!C102),\"\",allgemein!C102)","v":" "},{"$f":"IF(ISBLANK(allgemein!H102),\"\",allgemein!H102)","v":""},{"$f":"IF(ISBLANK(allgemein!I102),\"\",allgemein!I102)","v":""},{"$f":"IF(ISBLANK(allgemein!J102),\"\",allgemein!J102)","v":""},{"$f":"IF(ISBLANK(allgemein!K102),\"\",allgemein!K102)","v":""},{"$f":"IF(ISBLANK(allgemein!F102),\"\",IF(ISBLANK(allgemein!L102),1,0))","v":""},{"$f":"_xlfn.SWITCH(allgemein!M102,1,IF(ISBLANK(allgemein!$F$10),allgemein!M102,allgemein!$F$10),2,IF(ISBLANK(allgemein!$F$11),allgemein!M102,allgemein!$F$11),3,IF(ISBLANK(allgemein!$F$12),allgemein!M102,allgemein!$F$12),4,IF(ISBLANK(allgemein!$F$13),allgemein!M102,allgemein!$F$13),5,IF(ISBLANK(allgemein!$I$10),allgemein!M102,allgemein!$I$10),6,IF(ISBLANK(allgemein!$I$11),allgemein!M102,allgemein!$I$11),7,IF(ISBLANK(allgemein!$I$12),allgemein!M102,allgemein!$I$12),8,IF(ISBLANK(allgemein!$I$13),allgemein!M102,allgemein!$I$13),IF(ISBLANK(allgemein!M102),\"\",allgemein!M102))","v":{"$error":"#NAME?"}},{"$f":"_xlfn.SWITCH(allgemein!N102,1,IF(ISBLANK(allgemein!$F$10),allgemein!N102,allgemein!$F$10),2,IF(ISBLANK(allgemein!$F$11),allgemein!N102,allgemein!$F$11),3,IF(ISBLANK(allgemein!$F$12),allgemein!N102,allgemein!$F$12),4,IF(ISBLANK(allgemein!$F$13),allgemein!N102,allgemein!$F$13),5,IF(ISBLANK(allgemein!$I$10),allgemein!N102,allgemein!$I$10),6,IF(ISBLANK(allgemein!$I$11),allgemein!N102,allgemein!$I$11),7,IF(ISBLANK(allgemein!$I$12),allgemein!N102,allgemein!$I$12),8,IF(ISBLANK(allgemein!$I$13),allgemein!N102,allgemein!$I$13),IF(ISBLANK(allgemein!N102),\"\",allgemein!N102))","v":{"$error":"#NAME?"}},{"$f":"_xlfn.SWITCH(allgemein!O102,1,IF(ISBLANK(allgemein!$F$10),allgemein!O102,allgemein!$F$10),2,IF(ISBLANK(allgemein!$F$11),allgemein!O102,allgemein!$F$11),3,IF(ISBLANK(allgemein!$F$12),allgemein!O102,allgemein!$F$12),4,IF(ISBLANK(allgemein!$F$13),allgemein!O102,allgemein!$F$13),5,IF(ISBLANK(allgemein!$I$10),allgemein!O102,allgemein!$I$10),6,IF(ISBLANK(allgemein!$I$11),allgemein!O102,allgemein!$I$11),7,IF(ISBLANK(allgemein!$I$12),allgemein!O102,allgemein!$I$12),8,IF(ISBLANK(allgemein!$I$13),allgemein!O102,allgemein!$I$13),IF(ISBLANK(allgemein!O102),\"\",allgemein!O102))","v":{"$error":"#NAME?"}},{"$f":"_xlfn.SWITCH(allgemein!P102,1,IF(ISBLANK(allgemein!$F$10),allgemein!P102,allgemein!$F$10),2,IF(ISBLANK(allgemein!$F$11),allgemein!P102,allgemein!$F$11),3,IF(ISBLANK(allgemein!$F$12),allgemein!P102,allgemein!$F$12),4,IF(ISBLANK(allgemein!$F$13),allgemein!P102,allgemein!$F$13),5,IF(ISBLANK(allgemein!$I$10),allgemein!P102,allgemein!$I$10),6,IF(ISBLANK(allgemein!$I$11),allgemein!P102,allgemein!$I$11),7,IF(ISBLANK(allgemein!$I$12),allgemein!P102,allgemein!$I$12),8,IF(ISBLANK(allgemein!$I$13),allgemein!P102,allgemein!$I$13),IF(ISBLANK(allgemein!P102),\"\",allgemein!P102))","v":{"$error":"#NAME?"}},{"$f":"IF(ISBLANK(allgemein!Q102),\"\",allgemein!Q102)","v":""},{"$f":"IF(ISBLANK(allgemein!R102),\"\",allgemein!R102)","v":""},{"$f":"IF(ISBLANK(allgemein!S102),\"\",allgemein!S102)","v":""},{"$f":"IF(ISBLANK(allgemein!U102),\"\",allgemein!U102)","v":""}]
[{"$f":"IF(ISBLANK(allgemein!D103),\"\",allgemein!D103)","v":86},{"$f":"IF(ISBLANK(allgemein!E103),\"\",allgemein!E103)","v":""},{"$f":"IF(ISBLANK(allgemein!C103),\"\",allgemein!C103)","v":" "},{"$f":"IF(ISBLANK(allgemein!H103),\"\",allgemein!H103)","v":""},{"$f":"IF(ISBLANK(allgemein!I103),\"\",allgemein!I103)","v":""},{"$f":"IF(ISBLANK(allgemein!J103),\"\",allgemein!J103)","v":""},{"$f":"IF(ISBLANK(allgemein!K103),\"\",allgemein!K103)","v":""},{"$f":"IF(ISBLANK(allgemein!F103),\"\",IF(ISBLANK(allgemein!L103),1,0))","v":""},{"$f":"_xlfn.SWITCH(allgemein!M103,1,IF(ISBLANK(allgemein!$F$10),allgemein!M103,allgemein!$F$10),2,IF(ISBLANK(allgemein!$F$11),allgemein!M103,allgemein!$F$11),3,IF(ISBLANK(allgemein!$F$12),allgemein!M103,allgemein!$F$12),4,IF(ISBLANK(allgemein!$F$13),allgemein!M103,allgemein!$F$13),5,IF(ISBLANK(allgemein!$I$10),allgemein!M103,allgemein!$I$10),6,IF(ISBLANK(allgemein!$I$11),allgemein!M103,allgemein!$I$11),7,IF(ISBLANK(allgemein!$I$12),allgemein!M103,allgemein!$I$12),8,IF(ISBLANK(allgemein!$I$13),allgemein!M103,allgemein!$I$13),IF(ISBLANK(allgemein!M103),\"\",allgemein!M103))","v":{"$error":"#NAME?"}},{"$f":"_xlfn.SWITCH(allgemein!N103,1,IF(ISBLANK(allgemein!$F$10),allgemein!N103,allgemein!$F$10),2,IF(ISBLANK(allgemein!$F$11),allgemein!N103,allgemein!$F$11),3,IF(ISBLANK(allgemein!$F$12),allgemein!N103,allgemein!$F$12),4,IF(ISBLANK(allgemein!$F$13),allgemein!N103,allgemein!$F$13),5,IF(ISBLANK(allgemein!$I$10),allgemein!N103,allgemein!$I$10),6,IF(ISBLANK(allgemein!$I$11),allgemein!N103,allgemein!$I$11),7,IF(ISBLANK(allgemein!$I$12),allgemein!N103,allgemein!$I$12),8,IF(ISBLANK(allgemein!$I$13),allgemein!N103,allgemein!$I$13),IF(ISBLANK(allgemein!N103),\"\",allgemein!N103))","v":{"$error":"#NAME?"}},{"$f":"_xlfn.SWITCH(allgemein!O103,1,IF(ISBLANK(allgemein!$F$10),allgemein!O103,allgemein!$F$10),2,IF(ISBLANK(allgemein!$F$11),allgemein!O103,allgemein!$F$11),3,IF(ISBLANK(allgemein!$F$12),allgemein!O103,allgemein!$F$12),4,IF(ISBLANK(allgemein!$F$13),allgemein!O103,allgemein!$F$13),5,IF(ISBLANK(allgemein!$I$10),allgemein!O103,allgemein!$I$10),6,IF(ISBLANK(allgemein!$I$11),allgemein!O103,allgemein!$I$11),7,IF(ISBLANK(allgemein!$I$12),allgemein!O103,allgemein!$I$12),8,IF(ISBLANK(allgemein!$I$13),allgemein!O103,allgemein!$I$13),IF(ISBLANK(allgemein!O103),\"\",allgemein!O103))","v":{"$error":"#NAME?"}},{"$f":"_xlfn.SWITCH(allgemein!P103,1,IF(ISBLANK(allgemein!$F$10),allgemein!P103,allgemein!$F$10),2,IF(ISBLANK(allgemein!$F$11),allgemein!P103,allgemein!$F$11),3,IF(ISBLANK(allgemein!$F$12),allgemein!P103,allgemein!$F$12),4,IF(ISBLANK(allgemein!$F$13),allgemein!P103,allgemein!$F$13),5,IF(ISBLANK(allgemein!$I$10),allgemein!P103,allgemein!$I$10),6,IF(ISBLANK(allgemein!$I$11),allgemein!P103,allgemein!$I$11),7,IF(ISBLANK(allgemein!$I$12),allgemein!P103,allgemein!$I$12),8,IF(ISBLANK(allgemein!$I$13),allgemein!P103,allgemein!$I$13),IF(ISBLANK(allgemein!P103),\"\",allgemein!P103))","v":{"$error":"#NAME?"}},{"$f":"IF(ISBLANK(allgemein!Q103),\"\",allgemein!Q103)","v":""},{"$f":"IF(ISBLANK(allgemein!R103),\"\",allgemein!R103)","v":""},{"$f":"IF(ISBLANK(allgemein!S103),\"\",allgemein!S103)","v":""},{"$f":"IF(ISBLANK(allgemein!U103),\"\",allgemein!U103)","v":""}]
[{"$f":"IF(ISBLANK(allgemein!D104),\"\",allgemein!D104)","v":87},{"$f":"IF(ISBLANK(allgemein!E104),\"\",allgemein!E104)","v":""},{"$f":"IF(ISBLANK(allgemein!C104),\"\",allgemein!C104)","v":" "},{"$f":"IF(ISBLANK(allgemein!H104),\"\",allgemein!H104)","v":""},{"$f":"IF(ISBLANK(allgemein!I104),\"\",allgemein!I104)","v":""},{"$f":"IF(ISBLANK(allgemein!J104),\"\",allgemein!J104)","v":""},{"$f":"IF(ISBLANK(allgemein!K104),\"\",allgemein!K104)","v":""},{"$f":"IF(ISBLANK(allgemein!F104),\"\",IF(ISBLANK(allgemein!L104),1,0))","v":""},{"$f":"_xlfn.SWITCH(allgemein!M104,1,IF(ISBLANK(allgemein!$F$10),allgemein!M104,allgemein!$F$10),2,IF(ISBLANK(allgemein!$F$11),allgemein!M104,allgemein!$F$11),3,IF(ISBLANK(allgemein!$F$12),allgemein!M104,allgemein!$F$12),4,IF(ISBLANK(allgemein!$F$13),allgemein!M104,allgemein!$F$13),5,IF(ISBLANK(allgemein!$I$10),allgemein!M104,allgemein!$I$10),6,IF(ISBLANK(allgemein!$I$11),allgemein!M104,allgemein!$I$11),7,IF(ISBLANK(allgemein!$I$12),allgemein!M104,allgemein!$I$12),8,IF(ISBLANK(allgemein!$I$13),allgemein!M104,allgemein!$I$13),IF(ISBLANK(allgemein!M104),\"\",allgemein!M104))","v":{"$error":"#NAME?"}},{"$f":"_xlfn.SWITCH(allgemein!N104,1,IF(ISBLANK(allgemein!$F$10),allgemein!N104,allgemein!$F$10),2,IF(ISBLANK(allgemein!$F$11),allgemein!N104,allgemein!$F$11),3,IF(ISBLANK(allgemein!$F$12),allgemein!N104,allgemein!$F$12),4,IF(ISBLANK(allgemein!$F$13),allgemein!N104,allgemein!$F$13),5,IF(ISBLANK(allgemein!$I$10),allgemein!N104,allgemein!$I$10),6,IF(ISBLANK(allgemein!$I$11),allgemein!N104,allgemein!$I$11),7,IF(ISBLANK(allgemein!$I$12),allgemein!N104,allgemein!$I$12),8,IF(ISBLANK(allgemein!$I$13),allgemein!N104,allgemein!$I$13),IF(ISBLANK(allgemein!N104),\"\",allgemein!N104))","v":{"$error":"#NAME?"}},{"$f":"_xlfn.SWITCH(allgemein!O104,1,IF(ISBLANK(allgemein!$F$10),allgemein!O104,allgemein!$F$10),2,IF(ISBLANK(allgemein!$F$11),allgemein!O104,allgemein!$F$11),3,IF(ISBLANK(allgemein!$F$12),allgemein!O104,allgemein!$F$12),4,IF(ISBLANK(allgemein!$F$13),allgemein!O104,allgemein!$F$13),5,IF(ISBLANK(allgemein!$I$10),allgemein!O104,allgemein!$I$10),6,IF(ISBLANK(allgemein!$I$11),allgemein!O104,allgemein!$I$11),7,IF(ISBLANK(allgemein!$I$12),allgemein!O104,allgemein!$I$12),8,IF(ISBLANK(allgemein!$I$13),allgemein!O104,allgemein!$I$13),IF(ISBLANK(allgemein!O104),\"\",allgemein!O104))","v":{"$error":"#NAME?"}},{"$f":"_xlfn.SWITCH(allgemein!P104,1,IF(ISBLANK(allgemein!$F$10),allgemein!P104,allgemein!$F$10),2,IF(ISBLANK(allgemein!$F$11),allgemein!P104,allgemein!$F$11),3,IF(ISBLANK(allgemein!$F$12),allgemein!P104,allgemein!$F$12),4,IF(ISBLANK(allgemein!$F$13),allgemein!P104,allgemein!$F$13),5,IF(ISBLANK(allgemein!$I$10),allgemein!P104,allgemein!$I$10),6,IF(ISBLANK(allgemein!$I$11),allgemein!P104,allgemein!$I$11),7,IF(ISBLANK(allgemein!$I$12),allgemein!P104,allgemein!$I$12),8,IF(ISBLANK(allgemein!$I$13),allgemein!P104,allgemein!$I$13),IF(ISBLANK(allgemein!P104),\"\",allgemein!P104))","v":{"$error":"#NAME?"}},{"$f":"IF(ISBLANK(allgemein!Q104),\"\",allgemein!Q104)","v":""},{"$f":"IF(ISBLANK(allgemein!R104),\"\",allgemein!R104)","v":""},{"$f":"IF(ISBLANK(allgemein!S104),\"\",allgemein!S104)","v":""},{"$f":"IF(ISBLANK(allgemein!U104),\"\",allgemein!U104)","v":""}]
[{"$f":"IF(ISBLANK(allgemein!D105),\"\",allgemein!D105)","v":88},{"$f":"IF(ISBLANK(allgemein!E105),\"\",allgemein!E105)","v":""},{"$f":"IF(ISBLANK(allgemein!C105),\"\",allgemein!C105)","v":" "},{"$f":"IF(ISBLANK(allgemein!H105),\"\",allgemein!H105)","v":""},{"$f":"IF(ISBLANK(allgemein!I105),\"\",allgemein!I105)","v":""},{"$f":"IF(ISBLANK(allgemein!J105),\"\",allgemein!J105)","v":""},{"$f":"IF(ISBLANK(allgemein!K105),\"\",allgemein!K105)","v":""},{"$f":"IF(ISBLANK(allgemein!F105),\"\",IF(ISBLANK(allgemein!L105),1,0))","v":""},{"$f":"_xlfn.SWITCH(allgemein!M105,1,IF(ISBLANK(allgemein!$F$10),allgemein!M105,allgemein!$F$10),2,IF(ISBLANK(allgemein!$F$11),allgemein!M105,allgemein!$F$11),3,IF(ISBLANK(allgemein!$F$12),allgemein!M105,allgemein!$F$12),4,IF(ISBLANK(allgemein!$F$13),allgemein!M105,allgemein!$F$13),5,IF(ISBLANK(allgemein!$I$10),allgemein!M105,allgemein!$I$10),6,IF(ISBLANK(allgemein!$I$11),allgemein!M105,allgemein!$I$11),7,IF(ISBLANK(allgemein!$I$12),allgemein!M105,allgemein!$I$12),8,IF(ISBLANK(allgemein!$I$13),allgemein!M105,allgemein!$I$13),IF(ISBLANK(allgemein!M105),\"\",allgemein!M105))","v":{"$error":"#NAME?"}},{"$f":"_xlfn.SWITCH(allgemein!N105,1,IF(ISBLANK(allgemein!$F$10),allgemein!N105,allgemein!$F$10),2,IF(ISBLANK(allgemein!$F$11),allgemein!N105,allgemein!$F$11),3,IF(ISBLANK(allgemein!$F$12),allgemein!N105,allgemein!$F$12),4,IF(ISBLANK(allgemein!$F$13),allgemein!N105,allgemein!$F$13),5,IF(ISBLANK(allgemein!$I$10),allgemein!N105,allgemein!$I$10),6,IF(ISBLANK(allgemein!$I$11),allgemein!N105,allgemein!$I$11),7,IF(ISBLANK(allgemein!$I$12),allgemein!N105,allgemein!$I$12),8,IF(ISBLANK(allgemein!$I$13),allgemein!N105,allgemein!$I$13),IF(ISBLANK(allgemein!N105),\"\",allgemein!N105))","v":{"$error":"#NAME?"}},{"$f":"_xlfn.SWITCH(allgemein!O105,1,IF(ISBLANK(allgemein!$F$10),allgemein!O105,allgemein!$F$10),2,IF(ISBLANK(allgemein!$F$11),allgemein!O105,allgemein!$F$11),3,IF(ISBLANK(allgemein!$F$12),allgemein!O105,allgemein!$F$12),4,IF(ISBLANK(allgemein!$F$13),allgemein!O105,allgemein!$F$13),5,IF(ISBLANK(allgemein!$I$10),allgemein!O105,allgemein!$I$10),6,IF(ISBLANK(allgemein!$I$11),allgemein!O105,allgemein!$I$11),7,IF(ISBLANK(allgemein!$I$12),allgemein!O105,allgemein!$I$12),8,IF(ISBLANK(allgemein!$I$13),allgemein!O105,allgemein!$I$13),IF(ISBLANK(allgemein!O105),\"\",allgemein!O105))","v":{"$error":"#NAME?"}},{"$f":"_xlfn.SWITCH(allgemein!P105,1,IF(ISBLANK(allgemein!$F$10),allgemein!P105,allgemein!$F$10),2,IF(ISBLANK(allgemein!$F$11),allgemein!P105,allgemein!$F$11),3,IF(ISBLANK(allgemein!$F$12),allgemein!P105,allgemein!$F$12),4,IF(ISBLANK(allgemein!$F$13),allgemein!P105,allgemein!$F$13),5,IF(ISBLANK(allgemein!$I$10),allgemein!P105,allgemein!$I$10),6,IF(ISBLANK(allgemein!$I$11),allgemein!P105,allgemein!$I$11),7,IF(ISBLANK(allgemein!$I$12),allgemein!P105,allgemein!$I$12),8,IF(ISBLANK(allgemein!$I$13),allgemein!P105,allgemein!$I$13),IF(ISBLANK(allgemein!P105),\"\",allgemein!P105))","v":{"$error":"#NAME?"}},{"$f":"IF(ISBLANK(allgemein!Q105),\"\",allgemein!Q105)","v":""},{"$f":"IF(ISBLANK(allgemein!R105),\"\",allgemein!R105)","v":""},{"$f":"IF(ISBLANK(allgemein!S105),\"\",allgemein!S105)","v":""},{"$f":"IF(ISBLANK(allgemein!U105),\"\",allgemein!U105)","v":""}]
[{"$f":"IF(ISBLANK(allgemein!D106),\"\",allgemein!D106)","v":89},{"$f":"IF(ISBLANK(allgemein!E106),\"\",allgemein!E106)","v":""},{"$f":"IF(ISBLANK(allgemein!C106),\"\",allgemein!C106)","v":" "},{"$f":"IF(ISBLANK(allgemein!H106),\"\",allgemein!H106)","v":""},{"$f":"IF(ISBLANK(allgemein!I106),\"\",allgemein!I106)","v":""},{"$f":"IF(ISBLANK(allgemein!J106),\"\",allgemein!J106)","v":""},{"$f":"IF(ISBLANK(allgemein!K106),\"\",allgemein!K106)","v":""},{"$f":"IF(ISBLANK(allgemein!F106),\"\",IF(ISBLANK(allgemein!L106),1,0))","v":""},{"$f":"_xlfn.SWITCH(allgemein!M106,1,IF(ISBLANK(allgemein!$F$10),allgemein!M106,allgemein!$F$10),2,IF(ISBLANK(allgemein!$F$11),allgemein!M106,allgemein!$F$11),3,IF(ISBLANK(allgemein!$F$12),allgemein!M106,allgemein!$F$12),4,IF(ISBLANK(allgemein!$F$13),allgemein!M106,allgemein!$F$13),5,IF(ISBLANK(allgemein!$I$10),allgemein!M106,allgemein!$I$10),6,IF(ISBLANK(allgemein!$I$11),allgemein!M106,allgemein!$I$11),7,IF(ISBLANK(allgemein!$I$12),allgemein!M106,allgemein!$I$12),8,IF(ISBLANK(allgemein!$I$13),allgemein!M106,allgemein!$I$13),IF(ISBLANK(allgemein!M106),\"\",allgemein!M106))","v":{"$error":"#NAME?"}},{"$f":"_xlfn.SWITCH(allgemein!N106,1,IF(ISBLANK(allgemein!$F$10),allgemein!N106,allgemein!$F$10),2,IF(ISBLANK(allgemein!$F$11),allgemein!N106,allgemein!$F$11),3,IF(ISBLANK(allgemein!$F$12),allgemein!N106,allgemein!$F$12),4,IF(ISBLANK(allgemein!$F$13),allgemein!N106,allgemein!$F$13),5,IF(ISBLANK(allgemein!$I$10),allgemein!N106,allgemein!$I$10),6,IF(ISBLANK(allgemein!$I$11),allgemein!N106,allgemein!$I$11),7,IF(ISBLANK(allgemein!$I$12),allgemein!N106,allgemein!$I$12),8,IF(ISBLANK(allgemein!$I$13),allgemein!N106,allgemein!$I$13),IF(ISBLANK(allgemein!N106),\"\",allgemein!N106))","v":{"$error":"#NAME?"}},{"$f":"_xlfn.SWITCH(allgemein!O106,1,IF(ISBLANK(allgemein!$F$10),allgemein!O106,allgemein!$F$10),2,IF(ISBLANK(allgemein!$F$11),allgemein!O106,allgemein!$F$11),3,IF(ISBLANK(allgemein!$F$12),allgemein!O106,allgemein!$F$12),4,IF(ISBLANK(allgemein!$F$13),allgemein!O106,allgemein!$F$13),5,IF(ISBLANK(allgemein!$I$10),allgemein!O106,allgemein!$I$10),6,IF(ISBLANK(allgemein!$I$11),allgemein!O106,allgemein!$I$11),7,IF(ISBLANK(allgemein!$I$12),allgemein!O106,allgemein!$I$12),8,IF(ISBLANK(allgemein!$I$13),allgemein!O106,allgemein!$I$13),IF(ISBLANK(allgemein!O106),\"\",allgemein!O106))","v":{"$error":"#NAME?"}},{"$f":"_xlfn.SWITCH(allgemein!P106,1,IF(ISBLANK(allgemein!$F$10),allgemein!P106,allgemein!$F$10),2,IF(ISBLANK(allgemein!$F$11),allgemein!P106,allgemein!$F$11),3,IF(ISBLANK(allgemein!$F$12),allgemein!P106,allgemein!$F$12),4,IF(ISBLANK(allgemein!$F$13),allgemein!P106,allgemein!$F$13),5,IF(ISBLANK(allgemein!$I$10),allgemein!P106,allgemein!$I$10),6,IF(ISBLANK(allgemein!$I$11),allgemein!P106,allgemein!$I$11),7,IF(ISBLANK(allgemein!$I$12),allgemein!P106,allgemein!$I$12),8,IF(ISBLANK(allgemein!$I$13),allgemein!P106,allgemein!$I$13),IF(ISBLANK(allgemein!P106),\"\",allgemein!P106))","v":{"$error":"#NAME?"}},{"$f":"IF(ISBLANK(allgemein!Q106),\"\",allgemein!Q106)","v":""},{"$f":"IF(ISBLANK(allgemein!R106),\"\",allgemein!R106)","v":""},{"$f":"IF(ISBLANK(allgemein!S106),\"\",allgemein!S106)","v":""},{"$f":"IF(ISBLANK(allgemein!U106),\"\",allgemein!U106)","v":""}]
[{"$f":"IF(ISBLANK(allgemein!D107),\"\",allgemein!D107)","v":90},{"$f":"IF(ISBLANK(allgemein!E107),\"\",allgemein!E107)","v":""},{"$f":"IF(ISBLANK(allgemein!C107),\"\",allgemein!C107)","v":" "},{"$f":"IF(ISBLANK(allgemein!H107),\"\",allgemein!H107)","v":""},{"$f":"IF(ISBLANK(allgemein!I107),\"\",allgemein!I107)","v":""},{"$f":"IF(ISBLANK(allgemein!J107),\"\",allgemein!J107)","v":""},{"$f":"IF(ISBLANK(allgemein!K107),\"\",allgemein!K107)","v":""},{"$f":"IF(ISBLANK(allgemein!F107),\"\",IF(ISBLANK(allgemein!L107),1,0))","v":""},{"$f":"_xlfn.SWITCH(allgemein!M107,1,IF(ISBLANK(allgemein!$F$10),allgemein!M107,allgemein!$F$10),2,IF(ISBLANK(allgemein!$F$11),allgemein!M107,allgemein!$F$11),3,IF(ISBLANK(allgemein!$F$12),allgemein!M107,allgemein!$F$12),4,IF(ISBLANK(allgemein!$F$13),allgemein!M107,allgemein!$F$13),5,IF(ISBLANK(allgemein!$I$10),allgemein!M107,allgemein!$I$10),6,IF(ISBLANK(allgemein!$I$11),allgemein!M107,allgemein!$I$11),7,IF(ISBLANK(allgemein!$I$12),allgemein!M107,allgemein!$I$12),8,IF(ISBLANK(allgemein!$I$13),allgemein!M107,allgemein!$I$13),IF(ISBLANK(allgemein!M107),\"\",allgemein!M107))","v":{"$error":"#NAME?"}},{"$f":"_xlfn.SWITCH(allgemein!N107,1,IF(ISBLANK(allgemein!$F$10),allgemein!N107,allgemein!$F$10),2,IF(ISBLANK(allgemein!$F$11),allgemein!N107,allgemein!$F$11),3,IF(ISBLANK(allgemein!$F$12),allgemein!N107,allgemein!$F$12),4,IF(ISBLANK(allgemein!$F$13),allgemein!N107,allgemein!$F$13),5,IF(ISBLANK(allgemein!$I$10),allgemein!N107,allgemein!$I$10),6,IF(ISBLANK(allgemein!$I$11),allgemein!N107,allgemein!$I$11),7,IF(ISBLANK(allgemein!$I$12),allgemein!N107,allgemein!$I$12),8,IF(ISBLANK(allgemein!$I$13),allgemein!N107,allgemein!$I$13),IF(ISBLANK(allgemein!N107),\"\",allgemein!N107))","v":{"$error":"#NAME?"}},{"$f":"_xlfn.SWITCH(allgemein!O107,1,IF(ISBLANK(allgemein!$F$10),allgemein!O107,allgemein!$F$10),2,IF(ISBLANK(allgemein!$F$11),allgemein!O107,allgemein!$F$11),3,IF(ISBLANK(allgemein!$F$12),allgemein!O107,allgemein!$F$12),4,IF(ISBLANK(allgemein!$F$13),allgemein!O107,allgemein!$F$13),5,IF(ISBLANK(allgemein!$I$10),allgemein!O107,allgemein!$I$10),6,IF(ISBLANK(allgemein!$I$11),allgemein!O107,allgemein!$I$11),7,IF(ISBLANK(allgemein!$I$12),allgemein!O107,allgemein!$I$12),8,IF(ISBLANK(allgemein!$I$13),allgemein!O107,allgemein!$I$13),IF(ISBLANK(allgemein!O107),\"\",allgemein!O107))","v":{"$error":"#NAME?"}},{"$f":"_xlfn.SWITCH(allgemein!P107,1,IF(ISBLANK(allgemein!$F$10),allgemein!P107,allgemein!$F$10),2,IF(ISBLANK(allgemein!$F$11),allgemein!P107,allgemein!$F$11),3,IF(ISBLANK(allgemein!$F$12),allgemein!P107,allgemein!$F$12),4,IF(ISBLANK(allgemein!$F$13),allgemein!P107,allgemein!$F$13),5,IF(ISBLANK(allgemein!$I$10),allgemein!P107,allgemein!$I$10),6,IF(ISBLANK(allgemein!$I$11),allgemein!P107,allgemein!$I$11),7,IF(ISBLANK(allgemein!$I$12),allgemein!P107,allgemein!$I$12),8,IF(ISBLANK(allgemein!$I$13),allgemein!P107,allgemein!$I$13),IF(ISBLANK(allgemein!P107),\"\",allgemein!P107))","v":{"$error":"#NAME?"}},{"$f":"IF(ISBLANK(allgemein!Q107),\"\",allgemein!Q107)","v":""},{"$f":"IF(ISBLANK(allgemein!R107),\"\",allgemein!R107)","v":""},{"$f":"IF(ISBLANK(allgemein!S107),\"\",allgemein!S107)","v":""},{"$f":"IF(ISBLANK(allgemein!U107),\"\",allgemein!U107)","v":""}]
[{"$f":"IF(ISBLANK(allgemein!D108),\"\",allgemein!D108)","v":91},{"$f":"IF(ISBLANK(allgemein!E108),\"\",allgemein!E108)","v":""},{"$f":"IF(ISBLANK(allgemein!C108),\"\",allgemein!C108)","v":" "},{"$f":"IF(ISBLANK(allgemein!H108),\"\",allgemein!H108)","v":""},{"$f":"IF(ISBLANK(allgemein!I108),\"\",allgemein!I108)","v":""},{"$f":"IF(ISBLANK(allgemein!J108),\"\",allgemein!J108)","v":""},{"$f":"IF(ISBLANK(allgemein!K108),\"\",allgemein!K108)","v":""},{"$f":"IF(ISBLANK(allgemein!F108),\"\",IF(ISBLANK(allgemein!L108),1,0))","v":""},{"$f":"_xlfn.SWITCH(allgemein!M108,1,IF(ISBLANK(allgemein!$F$10),allgemein!M108,allgemein!$F$10),2,IF(ISBLANK(allgemein!$F$11),allgemein!M108,allgemein!$F$11),3,IF(ISBLANK(allgemein!$F$12),allgemein!M108,allgemein!$F$12),4,IF(ISBLANK(allgemein!$F$13),allgemein!M108,allgemein!$F$13),5,IF(ISBLANK(allgemein!$I$10),allgemein!M108,allgemein!$I$10),6,IF(ISBLANK(allgemein!$I$11),allgemein!M108,allgemein!$I$11),7,IF(ISBLANK(allgemein!$I$12),allgemein!M108,allgemein!$I$12),8,IF(ISBLANK(allgemein!$I$13),allgemein!M108,allgemein!$I$13),IF(ISBLANK(allgemein!M108),\"\",allgemein!M108))","v":{"$error":"#NAME?"}},{"$f":"_xlfn.SWITCH(allgemein!N108,1,IF(ISBLANK(allgemein!$F$10),allgemein!N108,allgemein!$F$10),2,IF(ISBLANK(allgemein!$F$11),allgemein!N108,allgemein!$F$11),3,IF(ISBLANK(allgemein!$F$12),allgemein!N108,allgemein!$F$12),4,IF(ISBLANK(allgemein!$F$13),allgemein!N108,allgemein!$F$13),5,IF(ISBLANK(allgemein!$I$10),allgemein!N108,allgemein!$I$10),6,IF(ISBLANK(allgemein!$I$11),allgemein!N108,allgemein!$I$11),7,IF(ISBLANK(allgemein!$I$12),allgemein!N108,allgemein!$I$12),8,IF(ISBLANK(allgemein!$I$13),allgemein!N108,allgemein!$I$13),IF(ISBLANK(allgemein!N108),\"\",allgemein!N108))","v":{"$error":"#NAME?"}},{"$f":"_xlfn.SWITCH(allgemein!O108,1,IF(ISBLANK(allgemein!$F$10),allgemein!O108,allgemein!$F$10),2,IF(ISBLANK(allgemein!$F$11),allgemein!O108,allgemein!$F$11),3,IF(ISBLANK(allgemein!$F$12),allgemein!O108,allgemein!$F$12),4,IF(ISBLANK(allgemein!$F$13),allgemein!O108,allgemein!$F$13),5,IF(ISBLANK(allgemein!$I$10),allgemein!O108,allgemein!$I$10),6,IF(ISBLANK(allgemein!$I$11),allgemein!O108,allgemein!$I$11),7,IF(ISBLANK(allgemein!$I$12),allgemein!O108,allgemein!$I$12),8,IF(ISBLANK(allgemein!$I$13),allgemein!O108,allgemein!$I$13),IF(ISBLANK(allgemein!O108),\"\",allgemein!O108))","v":{"$error":"#NAME?"}},{"$f":"_xlfn.SWITCH(allgemein!P108,1,IF(ISBLANK(allgemein!$F$10),allgemein!P108,allgemein!$F$10),2,IF(ISBLANK(allgemein!$F$11),allgemein!P108,allgemein!$F$11),3,IF(ISBLANK(allgemein!$F$12),allgemein!P108,allgemein!$F$12),4,IF(ISBLANK(allgemein!$F$13),allgemein!P108,allgemein!$F$13),5,IF(ISBLANK(allgemein!$I$10),allgemein!P108,allgemein!$I$10),6,IF(ISBLANK(allgemein!$I$11),allgemein!P108,allgemein!$I$11),7,IF(ISBLANK(allgemein!$I$12),allgemein!P108,allgemein!$I$12),8,IF(ISBLANK(allgemein!$I$13),allgemein!P108,allgemein!$I$13),IF(ISBLANK(allgemein!P108),\"\",allgemein!P108))","v":{"$error":"#NAME?"}},{"$f":"IF(ISBLANK(allgemein!Q108),\"\",allgemein!Q108)","v":""},{"$f":"IF(ISBLANK(allgemein!R108),\"\",allgemein!R108)","v":""},{"$f":"IF(ISBLANK(allgemein!S108),\"\",allgemein!S108)","v":""},{"$f":"IF(ISBLANK(allgemein!U108),\"\",allgemein!U108)","v":""}]
[{"$f":"IF(ISBLANK(allgemein!D109),\"\",allgemein!D109)","v":92},{"$f":"IF(ISBLANK(allgemein!E109),\"\",allgemein!E109)","v":""},{"$f":"IF(ISBLANK(allgemein!C109),\"\",allgemein!C109)","v":" "},{"$f":"IF(ISBLANK(allgemein!H109),\"\",allgemein!H109)","v":""},{"$f":"IF(ISBLANK(allgemein!I109),\"\",allgemein!I109)","v":""},{"$f":"IF(ISBLANK(allgemein!J109),\"\",allgemein!J109)","v":""},{"$f":"IF(ISBLANK(allgemein!K109),\"\",allgemein!K109)","v":""},{"$f":"IF(ISBLANK(allgemein!F109),\"\",IF(ISBLANK(allgemein!L109),1,0))","v":""},{"$f":"_xlfn.SWITCH(allgemein!M109,1,IF(ISBLANK(allgemein!$F$10),allgemein!M109,allgemein!$F$10),2,IF(ISBLANK(allgemein!$F$11),allgemein!M109,allgemein!$F$11),3,IF(ISBLANK(allgemein!$F$12),allgemein!M109,allgemein!$F$12),4,IF(ISBLANK(allgemein!$F$13),allgemein!M109,allgemein!$F$13),5,IF(ISBLANK(allgemein!$I$10),allgemein!M109,allgemein!$I$10),6,IF(ISBLANK(allgemein!$I$11),allgemein!M109,allgemein!$I$11),7,IF(ISBLANK(allgemein!$I$12),allgemein!M109,allgemein!$I$12),8,IF(ISBLANK(allgemein!$I$13),allgemein!M109,allgemein!$I$13),IF(ISBLANK(allgemein!M109),\"\",allgemein!M109))","v":{"$error":"#NAME?"}},{"$f":"_xlfn.SWITCH(allgemein!N109,1,IF(ISBLANK(allgemein!$F$10),allgemein!N109,allgemein!$F$10),2,IF(ISBLANK(allgemein!$F$11),allgemein!N109,allgemein!$F$11),3,IF(ISBLANK(allgemein!$F$12),allgemein!N109,allgemein!$F$12),4,IF(ISBLANK(allgemein!$F$13),allgemein!N109,allgemein!$F$13),5,IF(ISBLANK(allgemein!$I$10),allgemein!N109,allgemein!$I$10),6,IF(ISBLANK(allgemein!$I$11),allgemein!N109,allgemein!$I$11),7,IF(ISBLANK(allgemein!$I$12),allgemein!N109,allgemein!$I$12),8,IF(ISBLANK(allgemein!$I$13),allgemein!N109,allgemein!$I$13),IF(ISBLANK(allgemein!N109),\"\",allgemein!N109))","v":{"$error":"#NAME?"}},{"$f":"_xlfn.SWITCH(allgemein!O109,1,IF(ISBLANK(allgemein!$F$10),allgemein!O109,allgemein!$F$10),2,IF(ISBLANK(allgemein!$F$11),allgemein!O109,allgemein!$F$11),3,IF(ISBLANK(allgemein!$F$12),allgemein!O109,allgemein!$F$12),4,IF(ISBLANK(allgemein!$F$13),allgemein!O109,allgemein!$F$13),5,IF(ISBLANK(allgemein!$I$10),allgemein!O109,allgemein!$I$10),6,IF(ISBLANK(allgemein!$I$11),allgemein!O109,allgemein!$I$11),7,IF(ISBLANK(allgemein!$I$12),allgemein!O109,allgemein!$I$12),8,IF(ISBLANK(allgemein!$I$13),allgemein!O109,allgemein!$I$13),IF(ISBLANK(allgemein!O109),\"\",allgemein!O109))","v":{"$error":"#NAME?"}},{"$f":"_xlfn.SWITCH(allgemein!P109,1,IF(ISBLANK(allgemein!$F$10),allgemein!P109,allgemein!$F$10),2,IF(ISBLANK(allgemein!$F$11),allgemein!P109,allgemein!$F$11),3,IF(ISBLANK(allgemein!$F$12),allgemein!P109,allgemein!$F$12),4,IF(ISBLANK(allgemein!$F$13),allgemein!P109,allgemein!$F$13),5,IF(ISBLANK(allgemein!$I$10),allgemein!P109,allgemein!$I$10),6,IF(ISBLANK(allgemein!$I$11),allgemein!P109,allgemein!$I$11),7,IF(ISBLANK(allgemein!$I$12),allgemein!P109,allgemein!$I$12),8,IF(ISBLANK(allgemein!$I$13),allgemein!P109,allgemein!$I$13),IF(ISBLANK(allgemein!P109),\"\",allgemein!P109))","v":{"$error":"#NAME?"}},{"$f":"IF(ISBLANK(allgemein!Q109),\"\",allgemein!Q109)","v":""},{"$f":"IF(ISBLANK(allgemein!R109),\"\",allgemein!R109)","v":""},{"$f":"IF(ISBLANK(allgemein!S109),\"\",allgemein!S109)","v":""},{"$f":"IF(ISBLANK(allgemein!U109),\"\",allgemein!U109)","v":""}]
[{"$f":"IF(ISBLANK(allgemein!D110),\"\",allgemein!D110)","v":93},{"$f":"IF(ISBLANK(allgemein!E110),\"\",allgemein!E110)","v":""},{"$f":"IF(ISBLANK(allgemein!C110),\"\",allgemein!C110)","v":" "},{"$f":"IF(ISBLANK(allgemein!H110),\"\",allgemein!H110)","v":""},{"$f":"IF(ISBLANK(allgemein!I110),\"\",allgemein!I110)","v":""},{"$f":"IF(ISBLANK(allgemein!J110),\"\",allgemein!J110)","v":""},{"$f":"IF(ISBLANK(allgemein!K110),\"\",allgemein!K110)","v":""},{"$f":"IF(ISBLANK(allgemein!F110),\"\",IF(ISBLANK(allgemein!L110),1,0))","v":""},{"$f":"_xlfn.SWITCH(allgemein!M110,1,IF(ISBLANK(allgemein!$F$10),allgemein!M110,allgemein!$F$10),2,IF(ISBLANK(allgemein!$F$11),allgemein!M110,allgemein!$F$11),3,IF(ISBLANK(allgemein!$F$12),allgemein!M110,allgemein!$F$12),4,IF(ISBLANK(allgemein!$F$13),allgemein!M110,allgemein!$F$13),5,IF(ISBLANK(allgemein!$I$10),allgemein!M110,allgemein!$I$10),6,IF(ISBLANK(allgemein!$I$11),allgemein!M110,allgemein!$I$11),7,IF(ISBLANK(allgemein!$I$12),allgemein!M110,allgemein!$I$12),8,IF(ISBLANK(allgemein!$I$13),allgemein!M110,allgemein!$I$13),IF(ISBLANK(allgemein!M110),\"\",allgemein!M110))","v":{"$error":"#NAME?"}},{"$f":"_xlfn.SWITCH(allgemein!N110,1,IF(ISBLANK(allgemein!$F$10),allgemein!N110,allgemein!$F$10),2,IF(ISBLANK(allgemein!$F$11),allgemein!N110,allgemein!$F$11),3,IF(ISBLANK(allgemein!$F$12),allgemein!N110,allgemein!$F$12),4,IF(ISBLANK(allgemein!$F$13),allgemein!N110,allgemein!$F$13),5,IF(ISBLANK(allgemein!$I$10),allgemein!N110,allgemein!$I$10),6,IF(ISBLANK(allgemein!$I$11),allgemein!N110,allgemein!$I$11),7,IF(ISBLANK(allgemein!$I$12),allgemein!N110,allgemein!$I$12),8,IF(ISBLANK(allgemein!$I$13),allgemein!N110,allgemein!$I$13),IF(ISBLANK(allgemein!N110),\"\",allgemein!N110))","v":{"$error":"#NAME?"}},{"$f":"_xlfn.SWITCH(allgemein!O110,1,IF(ISBLANK(allgemein!$F$10),allgemein!O110,allgemein!$F$10),2,IF(ISBLANK(allgemein!$F$11),allgemein!O110,allgemein!$F$11),3,IF(ISBLANK(allgemein!$F$12),allgemein!O110,allgemein!$F$12),4,IF(ISBLANK(allgemein!$F$13),allgemein!O110,allgemein!$F$13),5,IF(ISBLANK(allgemein!$I$10),allgemein!O110,allgemein!$I$10),6,IF(ISBLANK(allgemein!$I$11),allgemein!O110,allgemein!$I$11),7,IF(ISBLANK(allgemein!$I$12),allgemein!O110,allgemein!$I$12),8,IF(ISBLANK(allgemein!$I$13),allgemein!O110,allgemein!$I$13),IF(ISBLANK(allgemein!O110),\"\",allgemein!O110))","v":{"$error":"#NAME?"}},{"$f":"_xlfn.SWITCH(allgemein!P110,1,IF(ISBLANK(allgemein!$F$10),allgemein!P110,allgemein!$F$10),2,IF(ISBLANK(allgemein!$F$11),allgemein!P110,allgemein!$F$11),3,IF(ISBLANK(allgemein!$F$12),allgemein!P110,allgemein!$F$12),4,IF(ISBLANK(allgemein!$F$13),allgemein!P110,allgemein!$F$13),5,IF(ISBLANK(allgemein!$I$10),allgemein!P110,allgemein!$I$10),6,IF(ISBLANK(allgemein!$I$11),allgemein!P110,allgemein!$I$11),7,IF(ISBLANK(allgemein!$I$12),allgemein!P110,allgemein!$I$12),8,IF(ISBLANK(allgemein!$I$13),allgemein!P110,allgemein!$I$13),IF(ISBLANK(allgemein!P110),\"\",allgemein!P110))","v":{"$error":"#NAME?"}},{"$f":"IF(ISBLANK(allgemein!Q110),\"\",allgemein!Q110)","v":""},{"$f":"IF(ISBLANK(allgemein!R110),\"\",allgemein!R110)","v":""},{"$f":"IF(ISBLANK(allgemein!S110),\"\",allgemein!S110)","v":""},{"$f":"IF(ISBLANK(allgemein!U110),\"\",allgemein!U110)","v":""}]
[{"$f":"IF(ISBLANK(allgemein!D111),\"\",allgemein!D111)","v":94},{"$f":"IF(ISBLANK(allgemein!E111),\"\",allgemein!E111)","v":""},{"$f":"IF(ISBLANK(allgemein!C111),\"\",allgemein!C111)","v":" "},{"$f":"IF(ISBLANK(allgemein!H111),\"\",allgemein!H111)","v":""},{"$f":"IF(ISBLANK(allgemein!I111),\"\",allgemein!I111)","v":""},{"$f":"IF(ISBLANK(allgemein!J111),\"\",allgemein!J111)","v":""},{"$f":"IF(ISBLANK(allgemein!K111),\"\",allgemein!K111)","v":""},{"$f":"IF(ISBLANK(allgemein!F111),\"\",IF(ISBLANK(allgemein!L111),1,0))","v":""},{"$f":"_xlfn.SWITCH(allgemein!M111,1,IF(ISBLANK(allgemein!$F$10),allgemein!M111,allgemein!$F$10),2,IF(ISBLANK(allgemein!$F$11),allgemein!M111,allgemein!$F$11),3,IF(ISBLANK(allgemein!$F$12),allgemein!M111,allgemein!$F$12),4,IF(ISBLANK(allgemein!$F$13),allgemein!M111,allgemein!$F$13),5,IF(ISBLANK(allgemein!$I$10),allgemein!M111,allgemein!$I$10),6,IF(ISBLANK(allgemein!$I$11),allgemein!M111,allgemein!$I$11),7,IF(ISBLANK(allgemein!$I$12),allgemein!M111,allgemein!$I$12),8,IF(ISBLANK(allgemein!$I$13),allgemein!M111,allgemein!$I$13),IF(ISBLANK(allgemein!M111),\"\",allgemein!M111))","v":{"$error":"#NAME?"}},{"$f":"_xlfn.SWITCH(allgemein!N111,1,IF(ISBLANK(allgemein!$F$10),allgemein!N111,allgemein!$F$10),2,IF(ISBLANK(allgemein!$F$11),allgemein!N111,allgemein!$F$11),3,IF(ISBLANK(allgemein!$F$12),allgemein!N111,allgemein!$F$12),4,IF(ISBLANK(allgemein!$F$13),allgemein!N111,allgemein!$F$13),5,IF(ISBLANK(allgemein!$I$10),allgemein!N111,allgemein!$I$10),6,IF(ISBLANK(allgemein!$I$11),allgemein!N111,allgemein!$I$11),7,IF(ISBLANK(allgemein!$I$12),allgemein!N111,allgemein!$I$12),8,IF(ISBLANK(allgemein!$I$13),allgemein!N111,allgemein!$I$13),IF(ISBLANK(allgemein!N111),\"\",allgemein!N111))","v":{"$error":"#NAME?"}},{"$f":"_xlfn.SWITCH(allgemein!O111,1,IF(ISBLANK(allgemein!$F$10),allgemein!O111,allgemein!$F$10),2,IF(ISBLANK(allgemein!$F$11),allgemein!O111,allgemein!$F$11),3,IF(ISBLANK(allgemein!$F$12),allgemein!O111,allgemein!$F$12),4,IF(ISBLANK(allgemein!$F$13),allgemein!O111,allgemein!$F$13),5,IF(ISBLANK(allgemein!$I$10),allgemein!O111,allgemein!$I$10),6,IF(ISBLANK(allgemein!$I$11),allgemein!O111,allgemein!$I$11),7,IF(ISBLANK(allgemein!$I$12),allgemein!O111,allgemein!$I$12),8,IF(ISBLANK(allgemein!$I$13),allgemein!O111,allgemein!$I$13),IF(ISBLANK(allgemein!O111),\"\",allgemein!O111))","v":{"$error":"#NAME?"}},{"$f":"_xlfn.SWITCH(allgemein!P111,1,IF(ISBLANK(allgemein!$F$10),allgemein!P111,allgemein!$F$10),2,IF(ISBLANK(allgemein!$F$11),allgemein!P111,allgemein!$F$11),3,IF(ISBLANK(allgemein!$F$12),allgemein!P111,allgemein!$F$12),4,IF(ISBLANK(allgemein!$F$13),allgemein!P111,allgemein!$F$13),5,IF(ISBLANK(allgemein!$I$10),allgemein!P111,allgemein!$I$10),6,IF(ISBLANK(allgemein!$I$11),allgemein!P111,allgemein!$I$11),7,IF(ISBLANK(allgemein!$I$12),allgemein!P111,allgemein!$I$12),8,IF(ISBLANK(allgemein!$I$13),allgemein!P111,allgemein!$I$13),IF(ISBLANK(allgemein!P111),\"\",allgemein!P111))","v":{"$error":"#NAME?"}},{"$f":"IF(ISBLANK(allgemein!Q111),\"\",allgemein!Q111)","v":""},{"$f":"IF(ISBLANK(allgemein!R111),\"\",allgemein!R111)","v":""},{"$f":"IF(ISBLANK(allgemein!S111),\"\",allgemein!S111)","v":""},{"$f":"IF(ISBLANK(allgemein!U111),\"\",allgemein!U111)","v":""}]
[{"$f":"IF(ISBLANK(allgemein!D112),\"\",allgemein!D112)","v":95},{"$f":"IF(ISBLANK(allgemein!E112),\"\",allgemein!E112)","v":""},{"$f":"IF(ISBLANK(allgemein!C112),\"\",allgemein!C112)","v":" "},{"$f":"IF(ISBLANK(allgemein!H112),\"\",allgemein!H112)","v":""},{"$f":"IF(ISBLANK(allgemein!I112),\"\",allgemein!I112)","v":""},{"$f":"IF(ISBLANK(allgemein!J112),\"\",allgemein!J112)","v":""},{"$f":"IF(ISBLANK(allgemein!K112),\"\",allgemein!K112)","v":""},{"$f":"IF(ISBLANK(allgemein!F112),\"\",IF(ISBLANK(allgemein!L112),1,0))","v":""},{"$f":"_xlfn.SWITCH(allgemein!M112,1,IF(ISBLANK(allgemein!$F$10),allgemein!M112,allgemein!$F$10),2,IF(ISBLANK(allgemein!$F$11),allgemein!M112,allgemein!$F$11),3,IF(ISBLANK(allgemein!$F$12),allgemein!M112,allgemein!$F$12),4,IF(ISBLANK(allgemein!$F$13),allgemein!M112,allgemein!$F$13),5,IF(ISBLANK(allgemein!$I$10),allgemein!M112,allgemein!$I$10),6,IF(ISBLANK(allgemein!$I$11),allgemein!M112,allgemein!$I$11),7,IF(ISBLANK(allgemein!$I$12),allgemein!M112,allgemein!$I$12),8,IF(ISBLANK(allgemein!$I$13),allgemein!M112,allgemein!$I$13),IF(ISBLANK(allgemein!M112),\"\",allgemein!M112))","v":{"$error":"#NAME?"}},{"$f":"_xlfn.SWITCH(allgemein!N112,1,IF(ISBLANK(allgemein!$F$10),allgemein!N112,allgemein!$F$10),2,IF(ISBLANK(allgemein!$F$11),allgemein!N112,allgemein!$F$11),3,IF(ISBLANK(allgemein!$F$12),allgemein!N112,allgemein!$F$12),4,IF(ISBLANK(allgemein!$F$13),allgemein!N112,allgemein!$F$13),5,IF(ISBLANK(allgemein!$I$10),allgemein!N112,allgemein!$I$10),6,IF(ISBLANK(allgemein!$I$11),allgemein!N112,allgemein!$I$11),7,IF(ISBLANK(allgemein!$I$12),allgemein!N112,allgemein!$I$12),8,IF(ISBLANK(allgemein!$I$13),allgemein!N112,allgemein!$I$13),IF(ISBLANK(allgemein!N112),\"\",allgemein!N112))","v":{"$error":"#NAME?"}},{"$f":"_xlfn.SWITCH(allgemein!O112,1,IF(ISBLANK(allgemein!$F$10),allgemein!O112,allgemein!$F$10),2,IF(ISBLANK(allgemein!$F$11),allgemein!O112,allgemein!$F$11),3,IF(ISBLANK(allgemein!$F$12),allgemein!O112,allgemein!$F$12),4,IF(ISBLANK(allgemein!$F$13),allgemein!O112,allgemein!$F$13),5,IF(ISBLANK(allgemein!$I$10),allgemein!O112,allgemein!$I$10),6,IF(ISBLANK(allgemein!$I$11),allgemein!O112,allgemein!$I$11),7,IF(ISBLANK(allgemein!$I$12),allgemein!O112,allgemein!$I$12),8,IF(ISBLANK(allgemein!$I$13),allgemein!O112,allgemein!$I$13),IF(ISBLANK(allgemein!O112),\"\",allgemein!O112))","v":{"$error":"#NAME?"}},{"$f":"_xlfn.SWITCH(allgemein!P112,1,IF(ISBLANK(allgemein!$F$10),allgemein!P112,allgemein!$F$10),2,IF(ISBLANK(allgemein!$F$11),allgemein!P112,allgemein!$F$11),3,IF(ISBLANK(allgemein!$F$12),allgemein!P112,allgemein!$F$12),4,IF(ISBLANK(allgemein!$F$13),allgemein!P112,allgemein!$F$13),5,IF(ISBLANK(allgemein!$I$10),allgemein!P112,allgemein!$I$10),6,IF(ISBLANK(allgemein!$I$11),allgemein!P112,allgemein!$I$11),7,IF(ISBLANK(allgemein!$I$12),allgemein!P112,allgemein!$I$12),8,IF(ISBLANK(allgemein!$I$13),allgemein!P112,allgemein!$I$13),IF(ISBLANK(allgemein!P112),\"\",allgemein!P112))","v":{"$error":"#NAME?"}},{"$f":"IF(ISBLANK(allgemein!Q112),\"\",allgemein!Q112)","v":""},{"$f":"IF(ISBLANK(allgemein!R112),\"\",allgemein!R112)","v":""},{"$f":"IF(ISBLANK(allgemein!S112),\"\",allgemein!S112)","v":""},{"$f":"IF(ISBLANK(allgemein!U112),\"\",allgemein!U112)","v":""}]
[{"$f":"IF(ISBLANK(allgemein!D113),\"\",allgemein!D113)","v":96},{"$f":"IF(ISBLANK(allgemein!E113),\"\",allgemein!E113)","v":""},{"$f":"IF(ISBLANK(allgemein!C113),\"\",allgemein!C113)","v":" "},{"$f":"IF(ISBLANK(allgemein!H113),\"\",allgemein!H113)","v":""},{"$f":"IF(ISBLANK(allgemein!I113),\"\",allgemein!I113)","v":""},{"$f":"IF(ISBLANK(allgemein!J113),\"\",allgemein!J113)","v":""},{"$f":"IF(ISBLANK(allgemein!K113),\"\",allgemein!K113)","v":""},{"$f":"IF(ISBLANK(allgemein!F113),\"\",IF(ISBLANK(allgemein!L113),1,0))","v":""},{"$f":"_xlfn.SWITCH(allgemein!M113,1,IF(ISBLANK(allgemein!$F$10),allgemein!M113,allgemein!$F$10),2,IF(ISBLANK(allgemein!$F$11),allgemein!M113,allgemein!$F$11),3,IF(ISBLANK(allgemein!$F$12),allgemein!M113,allgemein!$F$12),4,IF(ISBLANK(allgemein!$F$13),allgemein!M113,allgemein!$F$13),5,IF(ISBLANK(allgemein!$I$10),allgemein!M113,allgemein!$I$10),6,IF(ISBLANK(allgemein!$I$11),allgemein!M113,allgemein!$I$11),7,IF(ISBLANK(allgemein!$I$12),allgemein!M113,allgemein!$I$12),8,IF(ISBLANK(allgemein!$I$13),allgemein!M113,allgemein!$I$13),IF(ISBLANK(allgemein!M113),\"\",allgemein!M113))","v":{"$error":"#NAME?"}},{"$f":"_xlfn.SWITCH(allgemein!N113,1,IF(ISBLANK(allgemein!$F$10),allgemein!N113,allgemein!$F$10),2,IF(ISBLANK(allgemein!$F$11),allgemein!N113,allgemein!$F$11),3,IF(ISBLANK(allgemein!$F$12),allgemein!N113,allgemein!$F$12),4,IF(ISBLANK(allgemein!$F$13),allgemein!N113,allgemein!$F$13),5,IF(ISBLANK(allgemein!$I$10),allgemein!N113,allgemein!$I$10),6,IF(ISBLANK(allgemein!$I$11),allgemein!N113,allgemein!$I$11),7,IF(ISBLANK(allgemein!$I$12),allgemein!N113,allgemein!$I$12),8,IF(ISBLANK(allgemein!$I$13),allgemein!N113,allgemein!$I$13),IF(ISBLANK(allgemein!N113),\"\",allgemein!N113))","v":{"$error":"#NAME?"}},{"$f":"_xlfn.SWITCH(allgemein!O113,1,IF(ISBLANK(allgemein!$F$10),allgemein!O113,allgemein!$F$10),2,IF(ISBLANK(allgemein!$F$11),allgemein!O113,allgemein!$F$11),3,IF(ISBLANK(allgemein!$F$12),allgemein!O113,allgemein!$F$12),4,IF(ISBLANK(allgemein!$F$13),allgemein!O113,allgemein!$F$13),5,IF(ISBLANK(allgemein!$I$10),allgemein!O113,allgemein!$I$10),6,IF(ISBLANK(allgemein!$I$11),allgemein!O113,allgemein!$I$11),7,IF(ISBLANK(allgemein!$I$12),allgemein!O113,allgemein!$I$12),8,IF(ISBLANK(allgemein!$I$13),allgemein!O113,allgemein!$I$13),IF(ISBLANK(allgemein!O113),\"\",allgemein!O113))","v":{"$error":"#NAME?"}},{"$f":"_xlfn.SWITCH(allgemein!P113,1,IF(ISBLANK(allgemein!$F$10),allgemein!P113,allgemein!$F$10),2,IF(ISBLANK(allgemein!$F$11),allgemein!P113,allgemein!$F$11),3,IF(ISBLANK(allgemein!$F$12),allgemein!P113,allgemein!$F$12),4,IF(ISBLANK(allgemein!$F$13),allgemein!P113,allgemein!$F$13),5,IF(ISBLANK(allgemein!$I$10),allgemein!P113,allgemein!$I$10),6,IF(ISBLANK(allgemein!$I$11),allgemein!P113,allgemein!$I$11),7,IF(ISBLANK(allgemein!$I$12),allgemein!P113,allgemein!$I$12),8,IF(ISBLANK(allgemein!$I$13),allgemein!P113,allgemein!$I$13),IF(ISBLANK(allgemein!P113),\"\",allgemein!P113))","v":{"$error":"#NAME?"}},{"$f":"IF(ISBLANK(allgemein!Q113),\"\",allgemein!Q113)","v":""},{"$f":"IF(ISBLANK(allgemein!R113),\"\",allgemein!R113)","v":""},{"$f":"IF(ISBLANK(allgemein!S113),\"\",allgemein!S113)","v":""},{"$f":"IF(ISBLANK(allgemein!U113),\"\",allgemein!U113)","v":""}]
[{"$f":"IF(ISBLANK(allgemein!D114),\"\",allgemein!D114)","v":97},{"$f":"IF(ISBLANK(allgemein!E114),\"\",allgemein!E114)","v":""},{"$f":"IF(ISBLANK(allgemein!C114),\"\",allgemein!C114)","v":" "},{"$f":"IF(ISBLANK(allgemein!H114),\"\",allgemein!H114)","v":""},{"$f":"IF(ISBLANK(allgemein!I114),\"\",allgemein!I114)","v":""},{"$f":"IF(ISBLANK(allgemein!J114),\"\",allgemein!J114)","v":""},{"$f":"IF(ISBLANK(allgemein!K114),\"\",allgemein!K114)","v":""},{"$f":"IF(ISBLANK(allgemein!F114),\"\",IF(ISBLANK(allgemein!L114),1,0))","v":""},{"$f":"_xlfn.SWITCH(allgemein!M114,1,IF(ISBLANK(allgemein!$F$10),allgemein!M114,allgemein!$F$10),2,IF(ISBLANK(allgemein!$F$11),allgemein!M114,allgemein!$F$11),3,IF(ISBLANK(allgemein!$F$12),allgemein!M114,allgemein!$F$12),4,IF(ISBLANK(allgemein!$F$13),allgemein!M114,allgemein!$F$13),5,IF(ISBLANK(allgemein!$I$10),allgemein!M114,allgemein!$I$10),6,IF(ISBLANK(allgemein!$I$11),allgemein!M114,allgemein!$I$11),7,IF(ISBLANK(allgemein!$I$12),allgemein!M114,allgemein!$I$12),8,IF(ISBLANK(allgemein!$I$13),allgemein!M114,allgemein!$I$13),IF(ISBLANK(allgemein!M114),\"\",allgemein!M114))","v":{"$error":"#NAME?"}},{"$f":"_xlfn.SWITCH(allgemein!N114,1,IF(ISBLANK(allgemein!$F$10),allgemein!N114,allgemein!$F$10),2,IF(ISBLANK(allgemein!$F$11),allgemein!N114,allgemein!$F$11),3,IF(ISBLANK(allgemein!$F$12),allgemein!N114,allgemein!$F$12),4,IF(ISBLANK(allgemein!$F$13),allgemein!N114,allgemein!$F$13),5,IF(ISBLANK(allgemein!$I$10),allgemein!N114,allgemein!$I$10),6,IF(ISBLANK(allgemein!$I$11),allgemein!N114,allgemein!$I$11),7,IF(ISBLANK(allgemein!$I$12),allgemein!N114,allgemein!$I$12),8,IF(ISBLANK(allgemein!$I$13),allgemein!N114,allgemein!$I$13),IF(ISBLANK(allgemein!N114),\"\",allgemein!N114))","v":{"$error":"#NAME?"}},{"$f":"_xlfn.SWITCH(allgemein!O114,1,IF(ISBLANK(allgemein!$F$10),allgemein!O114,allgemein!$F$10),2,IF(ISBLANK(allgemein!$F$11),allgemein!O114,allgemein!$F$11),3,IF(ISBLANK(allgemein!$F$12),allgemein!O114,allgemein!$F$12),4,IF(ISBLANK(allgemein!$F$13),allgemein!O114,allgemein!$F$13),5,IF(ISBLANK(allgemein!$I$10),allgemein!O114,allgemein!$I$10),6,IF(ISBLANK(allgemein!$I$11),allgemein!O114,allgemein!$I$11),7,IF(ISBLANK(allgemein!$I$12),allgemein!O114,allgemein!$I$12),8,IF(ISBLANK(allgemein!$I$13),allgemein!O114,allgemein!$I$13),IF(ISBLANK(allgemein!O114),\"\",allgemein!O114))","v":{"$error":"#NAME?"}},{"$f":"_xlfn.SWITCH(allgemein!P114,1,IF(ISBLANK(allgemein!$F$10),allgemein!P114,allgemein!$F$10),2,IF(ISBLANK(allgemein!$F$11),allgemein!P114,allgemein!$F$11),3,IF(ISBLANK(allgemein!$F$12),allgemein!P114,allgemein!$F$12),4,IF(ISBLANK(allgemein!$F$13),allgemein!P114,allgemein!$F$13),5,IF(ISBLANK(allgemein!$I$10),allgemein!P114,allgemein!$I$10),6,IF(ISBLANK(allgemein!$I$11),allgemein!P114,allgemein!$I$11),7,IF(ISBLANK(allgemein!$I$12),allgemein!P114,allgemein!$I$12),8,IF(ISBLANK(allgemein!$I$13),allgemein!P114,allgemein!$I$13),IF(ISBLANK(allgemein!P114),\"\",allgemein!P114))","v":{"$error":"#NAME?"}},{"$f":"IF(ISBLANK(allgemein!Q114),\"\",allgemein!Q114)","v":""},{"$f":"IF(ISBLANK(allgemein!R114),\"\",allgemein!R114)","v":""},{"$f":"IF(ISBLANK(allgemein!S114),\"\",allgemein!S114)","v":""},{"$f":"IF(ISBLANK(allgemein!U114),\"\",allgemein!U114)","v":""}]
[{"$f":"IF(ISBLANK(allgemein!D115),\"\",allgemein!D115)","v":98},{"$f":"IF(ISBLANK(allgemein!E115),\"\",allgemein!E115)","v":""},{"$f":"IF(ISBLANK(allgemein!C115),\"\",allgemein!C115)","v":" "},{"$f":"IF(ISBLANK(allgemein!H115),\"\",allgemein!H115)","v":""},{"$f":"IF(ISBLANK(allgemein!I115),\"\",allgemein!I115)","v":""},{"$f":"IF(ISBLANK(allgemein!J115),\"\",allgemein!J115)","v":""},{"$f":"IF(ISBLANK(allgemein!K115),\"\",allgemein!K115)","v":""},{"$f":"IF(ISBLANK(allgemein!F115),\"\",IF(ISBLANK(allgemein!L115),1,0))","v":""},{"$f":"_xlfn.SWITCH(allgemein!M115,1,IF(ISBLANK(allgemein!$F$10),allgemein!M115,allgemein!$F$10),2,IF(ISBLANK(allgemein!$F$11),allgemein!M115,allgemein!$F$11),3,IF(ISBLANK(allgemein!$F$12),allgemein!M115,allgemein!$F$12),4,IF(ISBLANK(allgemein!$F$13),allgemein!M115,allgemein!$F$13),5,IF(ISBLANK(allgemein!$I$10),allgemein!M115,allgemein!$I$10),6,IF(ISBLANK(allgemein!$I$11),allgemein!M115,allgemein!$I$11),7,IF(ISBLANK(allgemein!$I$12),allgemein!M115,allgemein!$I$12),8,IF(ISBLANK(allgemein!$I$13),allgemein!M115,allgemein!$I$13),IF(ISBLANK(allgemein!M115),\"\",allgemein!M115))","v":{"$error":"#NAME?"}},{"$f":"_xlfn.SWITCH(allgemein!N115,1,IF(ISBLANK(allgemein!$F$10),allgemein!N115,allgemein!$F$10),2,IF(ISBLANK(allgemein!$F$11),allgemein!N115,allgemein!$F$11),3,IF(ISBLANK(allgemein!$F$12),allgemein!N115,allgemein!$F$12),4,IF(ISBLANK(allgemein!$F$13),allgemein!N115,allgemein!$F$13),5,IF(ISBLANK(allgemein!$I$10),allgemein!N115,allgemein!$I$10),6,IF(ISBLANK(allgemein!$I$11),allgemein!N115,allgemein!$I$11),7,IF(ISBLANK(allgemein!$I$12),allgemein!N115,allgemein!$I$12),8,IF(ISBLANK(allgemein!$I$13),allgemein!N115,allgemein!$I$13),IF(ISBLANK(allgemein!N115),\"\",allgemein!N115))","v":{"$error":"#NAME?"}},{"$f":"_xlfn.SWITCH(allgemein!O115,1,IF(ISBLANK(allgemein!$F$10),allgemein!O115,allgemein!$F$10),2,IF(ISBLANK(allgemein!$F$11),allgemein!O115,allgemein!$F$11),3,IF(ISBLANK(allgemein!$F$12),allgemein!O115,allgemein!$F$12),4,IF(ISBLANK(allgemein!$F$13),allgemein!O115,allgemein!$F$13),5,IF(ISBLANK(allgemein!$I$10),allgemein!O115,allgemein!$I$10),6,IF(ISBLANK(allgemein!$I$11),allgemein!O115,allgemein!$I$11),7,IF(ISBLANK(allgemein!$I$12),allgemein!O115,allgemein!$I$12),8,IF(ISBLANK(allgemein!$I$13),allgemein!O115,allgemein!$I$13),IF(ISBLANK(allgemein!O115),\"\",allgemein!O115))","v":{"$error":"#NAME?"}},{"$f":"_xlfn.SWITCH(allgemein!P115,1,IF(ISBLANK(allgemein!$F$10),allgemein!P115,allgemein!$F$10),2,IF(ISBLANK(allgemein!$F$11),allgemein!P115,allgemein!$F$11),3,IF(ISBLANK(allgemein!$F$12),allgemein!P115,allgemein!$F$12),4,IF(ISBLANK(allgemein!$F$13),allgemein!P115,allgemein!$F$13),5,IF(ISBLANK(allgemein!$I$10),allgemein!P115,allgemein!$I$10),6,IF(ISBLANK(allgemein!$I$11),allgemein!P115,allgemein!$I$11),7,IF(ISBLANK(allgemein!$I$12),allgemein!P115,allgemein!$I$12),8,IF(ISBLANK(allgemein!$I$13),allgemein!P115,allgemein!$I$13),IF(ISBLANK(allgemein!P115),\"\",allgemein!P115))","v":{"$error":"#NAME?"}},{"$f":"IF(ISBLANK(allgemein!Q115),\"\",allgemein!Q115)","v":""},{"$f":"IF(ISBLANK(allgemein!R115),\"\",allgemein!R115)","v":""},{"$f":"IF(ISBLANK(allgemein!S115),\"\",allgemein!S115)","v":""},{"$f":"IF(ISBLANK(allgemein!U115),\"\",allgemein!U115)","v":""}]
[{"$f":"IF(ISBLANK(allgemein!D116),\"\",allgemein!D116)","v":99},{"$f":"IF(ISBLANK(allgemein!E116),\"\",allgemein!E116)","v":""},{"$f":"IF(ISBLANK(allgemein!C116),\"\",allgemein!C116)","v":" "},{"$f":"IF(ISBLANK(allgemein!H116),\"\",allgemein!H116)","v":""},{"$f":"IF(ISBLANK(allgemein!I116),\"\",allgemein!I116)","v":""},{"$f":"IF(ISBLANK(allgemein!J116),\"\",allgemein!J116)","v":""},{"$f":"IF(ISBLANK(allgemein!K116),\"\",allgemein!K116)","v":""},{"$f":"IF(ISBLANK(allgemein!F116),\"\",IF(ISBLANK(allgemein!L116),1,0))","v":""},{"$f":"_xlfn.SWITCH(allgemein!M116,1,IF(ISBLANK(allgemein!$F$10),allgemein!M116,allgemein!$F$10),2,IF(ISBLANK(allgemein!$F$11),allgemein!M116,allgemein!$F$11),3,IF(ISBLANK(allgemein!$F$12),allgemein!M116,allgemein!$F$12),4,IF(ISBLANK(allgemein!$F$13),allgemein!M116,allgemein!$F$13),5,IF(ISBLANK(allgemein!$I$10),allgemein!M116,allgemein!$I$10),6,IF(ISBLANK(allgemein!$I$11),allgemein!M116,allgemein!$I$11),7,IF(ISBLANK(allgemein!$I$12),allgemein!M116,allgemein!$I$12),8,IF(ISBLANK(allgemein!$I$13),allgemein!M116,allgemein!$I$13),IF(ISBLANK(allgemein!M116),\"\",allgemein!M116))","v":{"$error":"#NAME?"}},{"$f":"_xlfn.SWITCH(allgemein!N116,1,IF(ISBLANK(allgemein!$F$10),allgemein!N116,allgemein!$F$10),2,IF(ISBLANK(allgemein!$F$11),allgemein!N116,allgemein!$F$11),3,IF(ISBLANK(allgemein!$F$12),allgemein!N116,allgemein!$F$12),4,IF(ISBLANK(allgemein!$F$13),allgemein!N116,allgemein!$F$13),5,IF(ISBLANK(allgemein!$I$10),allgemein!N116,allgemein!$I$10),6,IF(ISBLANK(allgemein!$I$11),allgemein!N116,allgemein!$I$11),7,IF(ISBLANK(allgemein!$I$12),allgemein!N116,allgemein!$I$12),8,IF(ISBLANK(allgemein!$I$13),allgemein!N116,allgemein!$I$13),IF(ISBLANK(allgemein!N116),\"\",allgemein!N116))","v":{"$error":"#NAME?"}},{"$f":"_xlfn.SWITCH(allgemein!O116,1,IF(ISBLANK(allgemein!$F$10),allgemein!O116,allgemein!$F$10),2,IF(ISBLANK(allgemein!$F$11),allgemein!O116,allgemein!$F$11),3,IF(ISBLANK(allgemein!$F$12),allgemein!O116,allgemein!$F$12),4,IF(ISBLANK(allgemein!$F$13),allgemein!O116,allgemein!$F$13),5,IF(ISBLANK(allgemein!$I$10),allgemein!O116,allgemein!$I$10),6,IF(ISBLANK(allgemein!$I$11),allgemein!O116,allgemein!$I$11),7,IF(ISBLANK(allgemein!$I$12),allgemein!O116,allgemein!$I$12),8,IF(ISBLANK(allgemein!$I$13),allgemein!O116,allgemein!$I$13),IF(ISBLANK(allgemein!O116),\"\",allgemein!O116))","v":{"$error":"#NAME?"}},{"$f":"_xlfn.SWITCH(allgemein!P116,1,IF(ISBLANK(allgemein!$F$10),allgemein!P116,allgemein!$F$10),2,IF(ISBLANK(allgemein!$F$11),allgemein!P116,allgemein!$F$11),3,IF(ISBLANK(allgemein!$F$12),allgemein!P116,allgemein!$F$12),4,IF(ISBLANK(allgemein!$F$13),allgemein!P116,allgemein!$F$13),5,IF(ISBLANK(allgemein!$I$10),allgemein!P116,allgemein!$I$10),6,IF(ISBLANK(allgemein!$I$11),allgemein!P116,allgemein!$I$11),7,IF(ISBLANK(allgemein!$I$12),allgemein!P116,allgemein!$I$12),8,IF(ISBLANK(allgemein!$I$13),allgemein!P116,allgemein!$I$13),IF(ISBLANK(allgemein!P116),\"\",allgemein!P116))","v":{"$error":"#NAME?"}},{"$f":"IF(ISBLANK(allgemein!Q116),\"\",allgemein!Q116)","v":""},{"$f":"IF(ISBLANK(allgemein!R116),\"\",allgemein!R116)","v":""},{"$f":"IF(ISBLANK(allgemein!S116),\"\",allgemein!S116)","v":""},{"$f":"IF(ISBLANK(allgemein!U116),\"\",allgemein!U116)","v":""}]
[{"$f":"IF(ISBLANK(allgemein!D117),\"\",allgemein!D117)","v":100},{"$f":"IF(ISBLANK(allgemein!E117),\"\",allgemein!E117)","v":""},{"$f":"IF(ISBLANK(allgemein!C117),\"\",allgemein!C117)","v":" "},{"$f":"IF(ISBLANK(allgemein!H117),\"\",allgemein!H117)","v":""},{"$f":"IF(ISBLANK(allgemein!I117),\"\",allgemein!I117)","v":""},{"$f":"IF(ISBLANK(allgemein!J117),\"\",allgemein!J117)","v":""},{"$f":"IF(ISBLANK(allgemein!K117),\"\",allgemein!K117)","v":""},{"$f":"IF(ISBLANK(allgemein!F117),\"\",IF(ISBLANK(allgemein!L117),1,0))","v":""},{"$f":"_xlfn.SWITCH(allgemein!M117,1,IF(ISBLANK(allgemein!$F$10),allgemein!M117,allgemein!$F$10),2,IF(ISBLANK(allgemein!$F$11),allgemein!M117,allgemein!$F$11),3,IF(ISBLANK(allgemein!$F$12),allgemein!M117,allgemein!$F$12),4,IF(ISBLANK(allgemein!$F$13),allgemein!M117,allgemein!$F$13),5,IF(ISBLANK(allgemein!$I$10),allgemein!M117,allgemein!$I$10),6,IF(ISBLANK(allgemein!$I$11),allgemein!M117,allgemein!$I$11),7,IF(ISBLANK(allgemein!$I$12),allgemein!M117,allgemein!$I$12),8,IF(ISBLANK(allgemein!$I$13),allgemein!M117,allgemein!$I$13),IF(ISBLANK(allgemein!M117),\"\",allgemein!M117))","v":{"$error":"#NAME?"}},{"$f":"_xlfn.SWITCH(allgemein!N117,1,IF(ISBLANK(allgemein!$F$10),allgemein!N117,allgemein!$F$10),2,IF(ISBLANK(allgemein!$F$11),allgemein!N117,allgemein!$F$11),3,IF(ISBLANK(allgemein!$F$12),allgemein!N117,allgemein!$F$12),4,IF(ISBLANK(allgemein!$F$13),allgemein!N117,allgemein!$F$13),5,IF(ISBLANK(allgemein!$I$10),allgemein!N117,allgemein!$I$10),6,IF(ISBLANK(allgemein!$I$11),allgemein!N117,allgemein!$I$11),7,IF(ISBLANK(allgemein!$I$12),allgemein!N117,allgemein!$I$12),8,IF(ISBLANK(allgemein!$I$13),allgemein!N117,allgemein!$I$13),IF(ISBLANK(allgemein!N117),\"\",allgemein!N117))","v":{"$error":"#NAME?"}},{"$f":"_xlfn.SWITCH(allgemein!O117,1,IF(ISBLANK(allgemein!$F$10),allgemein!O117,allgemein!$F$10),2,IF(ISBLANK(allgemein!$F$11),allgemein!O117,allgemein!$F$11),3,IF(ISBLANK(allgemein!$F$12),allgemein!O117,allgemein!$F$12),4,IF(ISBLANK(allgemein!$F$13),allgemein!O117,allgemein!$F$13),5,IF(ISBLANK(allgemein!$I$10),allgemein!O117,allgemein!$I$10),6,IF(ISBLANK(allgemein!$I$11),allgemein!O117,allgemein!$I$11),7,IF(ISBLANK(allgemein!$I$12),allgemein!O117,allgemein!$I$12),8,IF(ISBLANK(allgemein!$I$13),allgemein!O117,allgemein!$I$13),IF(ISBLANK(allgemein!O117),\"\",allgemein!O117))","v":{"$error":"#NAME?"}},{"$f":"_xlfn.SWITCH(allgemein!P117,1,IF(ISBLANK(allgemein!$F$10),allgemein!P117,allgemein!$F$10),2,IF(ISBLANK(allgemein!$F$11),allgemein!P117,allgemein!$F$11),3,IF(ISBLANK(allgemein!$F$12),allgemein!P117,allgemein!$F$12),4,IF(ISBLANK(allgemein!$F$13),allgemein!P117,allgemein!$F$13),5,IF(ISBLANK(allgemein!$I$10),allgemein!P117,allgemein!$I$10),6,IF(ISBLANK(allgemein!$I$11),allgemein!P117,allgemein!$I$11),7,IF(ISBLANK(allgemein!$I$12),allgemein!P117,allgemein!$I$12),8,IF(ISBLANK(allgemein!$I$13),allgemein!P117,allgemein!$I$13),IF(ISBLANK(allgemein!P117),\"\",allgemein!P117))","v":{"$error":"#NAME?"}},{"$f":"IF(ISBLANK(allgemein!Q117),\"\",allgemein!Q117)","v":""},{"$f":"IF(ISBLANK(allgemein!R117),\"\",allgemein!R117)","v":""},{"$f":"IF(ISBLANK(allgemein!S117),\"\",allgemein!S117)","v":""},{"$f":"IF(ISBLANK(allgemein!U117),\"\",allgemein!U117)","v":""}]
[{"$f":"IF(ISBLANK(allgemein!D118),\"\",allgemein!D118)","v":101},{"$f":"IF(ISBLANK(allgemein!E118),\"\",allgemein!E118)","v":""},{"$f":"IF(ISBLANK(allgemein!C118),\"\",allgemein!C118)","v":" "},{"$f":"IF(ISBLANK(allgemein!H118),\"\",allgemein!H118)","v":""},{"$f":"IF(ISBLANK(allgemein!I118),\"\",allgemein!I118)","v":""},{"$f":"IF(ISBLANK(allgemein!J118),\"\",allgemein!J118)","v":""},{"$f":"IF(ISBLANK(allgemein!K118),\"\",allgemein!K118)","v":""},{"$f":"IF(ISBLANK(allgemein!F118),\"\",IF(ISBLANK(allgemein!L118),1,0))","v":""},{"$f":"_xlfn.SWITCH(allgemein!M118,1,IF(ISBLANK(allgemein!$F$10),allgemein!M118,allgemein!$F$10),2,IF(ISBLANK(allgemein!$F$11),allgemein!M118,allgemein!$F$11),3,IF(ISBLANK(allgemein!$F$12),allgemein!M118,allgemein!$F$12),4,IF(ISBLANK(allgemein!$F$13),allgemein!M118,allgemein!$F$13),5,IF(ISBLANK(allgemein!$I$10),allgemein!M118,allgemein!$I$10),6,IF(ISBLANK(allgemein!$I$11),allgemein!M118,allgemein!$I$11),7,IF(ISBLANK(allgemein!$I$12),allgemein!M118,allgemein!$I$12),8,IF(ISBLANK(allgemein!$I$13),allgemein!M118,allgemein!$I$13),IF(ISBLANK(allgemein!M118),\"\",allgemein!M118))","v":{"$error":"#NAME?"}},{"$f":"_xlfn.SWITCH(allgemein!N118,1,IF(ISBLANK(allgemein!$F$10),allgemein!N118,allgemein!$F$10),2,IF(ISBLANK(allgemein!$F$11),allgemein!N118,allgemein!$F$11),3,IF(ISBLANK(allgemein!$F$12),allgemein!N118,allgemein!$F$12),4,IF(ISBLANK(allgemein!$F$13),allgemein!N118,allgemein!$F$13),5,IF(ISBLANK(allgemein!$I$10),allgemein!N118,allgemein!$I$10),6,IF(ISBLANK(allgemein!$I$11),allgemein!N118,allgemein!$I$11),7,IF(ISBLANK(allgemein!$I$12),allgemein!N118,allgemein!$I$12),8,IF(ISBLANK(allgemein!$I$13),allgemein!N118,allgemein!$I$13),IF(ISBLANK(allgemein!N118),\"\",allgemein!N118))","v":{"$error":"#NAME?"}},{"$f":"_xlfn.SWITCH(allgemein!O118,1,IF(ISBLANK(allgemein!$F$10),allgemein!O118,allgemein!$F$10),2,IF(ISBLANK(allgemein!$F$11),allgemein!O118,allgemein!$F$11),3,IF(ISBLANK(allgemein!$F$12),allgemein!O118,allgemein!$F$12),4,IF(ISBLANK(allgemein!$F$13),allgemein!O118,allgemein!$F$13),5,IF(ISBLANK(allgemein!$I$10),allgemein!O118,allgemein!$I$10),6,IF(ISBLANK(allgemein!$I$11),allgemein!O118,allgemein!$I$11),7,IF(ISBLANK(allgemein!$I$12),allgemein!O118,allgemein!$I$12),8,IF(ISBLANK(allgemein!$I$13),allgemein!O118,allgemein!$I$13),IF(ISBLANK(allgemein!O118),\"\",allgemein!O118))","v":{"$error":"#NAME?"}},{"$f":"_xlfn.SWITCH(allgemein!P118,1,IF(ISBLANK(allgemein!$F$10),allgemein!P118,allgemein!$F$10),2,IF(ISBLANK(allgemein!$F$11),allgemein!P118,allgemein!$F$11),3,IF(ISBLANK(allgemein!$F$12),allgemein!P118,allgemein!$F$12),4,IF(ISBLANK(allgemein!$F$13),allgemein!P118,allgemein!$F$13),5,IF(ISBLANK(allgemein!$I$10),allgemein!P118,allgemein!$I$10),6,IF(ISBLANK(allgemein!$I$11),allgemein!P118,allgemein!$I$11),7,IF(ISBLANK(allgemein!$I$12),allgemein!P118,allgemein!$I$12),8,IF(ISBLANK(allgemein!$I$13),allgemein!P118,allgemein!$I$13),IF(ISBLANK(allgemein!P118),\"\",allgemein!P118))","v":{"$error":"#NAME?"}},{"$f":"IF(ISBLANK(allgemein!Q118),\"\",allgemein!Q118)","v":""},{"$f":"IF(ISBLANK(allgemein!R118),\"\",allgemein!R118)","v":""},{"$f":"IF(ISBLANK(allgemein!S118),\"\",allgemein!S118)","v":""},{"$f":"IF(ISBLANK(allgemein!U118),\"\",allgemein!U118)","v":""}]
[{"$f":"IF(ISBLANK(allgemein!D119),\"\",allgemein!D119)","v":102},{"$f":"IF(ISBLANK(allgemein!E119),\"\",allgemein!E119)","v":""},{"$f":"IF(ISBLANK(allgemein!C119),\"\",allgemein!C119)","v":" "},{"$f":"IF(ISBLANK(allgemein!H119),\"\",allgemein!H119)","v":""},{"$f":"IF(ISBLANK(allgemein!I119),\"\",allgemein!I119)","v":""},{"$f":"IF(ISBLANK(allgemein!J119),\"\",allgemein!J119)","v":""},{"$f":"IF(ISBLANK(allgemein!K119),\"\",allgemein!K119)","v":""},{"$f":"IF(ISBLANK(allgemein!F119),\"\",IF(ISBLANK(allgemein!L119),1,0))","v":""},{"$f":"_xlfn.SWITCH(allgemein!M119,1,IF(ISBLANK(allgemein!$F$10),allgemein!M119,allgemein!$F$10),2,IF(ISBLANK(allgemein!$F$11),allgemein!M119,allgemein!$F$11),3,IF(ISBLANK(allgemein!$F$12),allgemein!M119,allgemein!$F$12),4,IF(ISBLANK(allgemein!$F$13),allgemein!M119,allgemein!$F$13),5,IF(ISBLANK(allgemein!$I$10),allgemein!M119,allgemein!$I$10),6,IF(ISBLANK(allgemein!$I$11),allgemein!M119,allgemein!$I$11),7,IF(ISBLANK(allgemein!$I$12),allgemein!M119,allgemein!$I$12),8,IF(ISBLANK(allgemein!$I$13),allgemein!M119,allgemein!$I$13),IF(ISBLANK(allgemein!M119),\"\",allgemein!M119))","v":{"$error":"#NAME?"}},{"$f":"_xlfn.SWITCH(allgemein!N119,1,IF(ISBLANK(allgemein!$F$10),allgemein!N119,allgemein!$F$10),2,IF(ISBLANK(allgemein!$F$11),allgemein!N119,allgemein!$F$11),3,IF(ISBLANK(allgemein!$F$12),allgemein!N119,allgemein!$F$12),4,IF(ISBLANK(allgemein!$F$13),allgemein!N119,allgemein!$F$13),5,IF(ISBLANK(allgemein!$I$10),allgemein!N119,allgemein!$I$10),6,IF(ISBLANK(allgemein!$I$11),allgemein!N119,allgemein!$I$11),7,IF(ISBLANK(allgemein!$I$12),allgemein!N119,allgemein!$I$12),8,IF(ISBLANK(allgemein!$I$13),allgemein!N119,allgemein!$I$13),IF(ISBLANK(allgemein!N119),\"\",allgemein!N119))","v":{"$error":"#NAME?"}},{"$f":"_xlfn.SWITCH(allgemein!O119,1,IF(ISBLANK(allgemein!$F$10),allgemein!O119,allgemein!$F$10),2,IF(ISBLANK(allgemein!$F$11),allgemein!O119,allgemein!$F$11),3,IF(ISBLANK(allgemein!$F$12),allgemein!O119,allgemein!$F$12),4,IF(ISBLANK(allgemein!$F$13),allgemein!O119,allgemein!$F$13),5,IF(ISBLANK(allgemein!$I$10),allgemein!O119,allgemein!$I$10),6,IF(ISBLANK(allgemein!$I$11),allgemein!O119,allgemein!$I$11),7,IF(ISBLANK(allgemein!$I$12),allgemein!O119,allgemein!$I$12),8,IF(ISBLANK(allgemein!$I$13),allgemein!O119,allgemein!$I$13),IF(ISBLANK(allgemein!O119),\"\",allgemein!O119))","v":{"$error":"#NAME?"}},{"$f":"_xlfn.SWITCH(allgemein!P119,1,IF(ISBLANK(allgemein!$F$10),allgemein!P119,allgemein!$F$10),2,IF(ISBLANK(allgemein!$F$11),allgemein!P119,allgemein!$F$11),3,IF(ISBLANK(allgemein!$F$12),allgemein!P119,allgemein!$F$12),4,IF(ISBLANK(allgemein!$F$13),allgemein!P119,allgemein!$F$13),5,IF(ISBLANK(allgemein!$I$10),allgemein!P119,allgemein!$I$10),6,IF(ISBLANK(allgemein!$I$11),allgemein!P119,allgemein!$I$11),7,IF(ISBLANK(allgemein!$I$12),allgemein!P119,allgemein!$I$12),8,IF(ISBLANK(allgemein!$I$13),allgemein!P119,allgemein!$I$13),IF(ISBLANK(allgemein!P119),\"\",allgemein!P119))","v":{"$error":"#NAME?"}},{"$f":"IF(ISBLANK(allgemein!Q119),\"\",allgemein!Q119)","v":""},{"$f":"IF(ISBLANK(allgemein!R119),\"\",allgemein!R119)","v":""},{"$f":"IF(ISBLANK(allgemein!S119),\"\",allgemein!S119)","v":""},{"$f":"IF(ISBLANK(allgemein!U119),\"\",allgemein!U119)","v":""}]
[{"$f":"IF(ISBLANK(allgemein!D120),\"\",allgemein!D120)","v":103},{"$f":"IF(ISBLANK(allgemein!E120),\"\",allgemein!E120)","v":""},{"$f":"IF(ISBLANK(allgemein!C120),\"\",allgemein!C120)","v":" "},{"$f":"IF(ISBLANK(allgemein!H120),\"\",allgemein!H120)","v":""},{"$f":"IF(ISBLANK(allgemein!I120),\"\",allgemein!I120)","v":""},{"$f":"IF(ISBLANK(allgemein!J120),\"\",allgemein!J120)","v":""},{"$f":"IF(ISBLANK(allgemein!K120),\"\",allgemein!K120)","v":""},{"$f":"IF(ISBLANK(allgemein!F120),\"\",IF(ISBLANK(allgemein!L120),1,0))","v":""},{"$f":"_xlfn.SWITCH(allgemein!M120,1,IF(ISBLANK(allgemein!$F$10),allgemein!M120,allgemein!$F$10),2,IF(ISBLANK(allgemein!$F$11),allgemein!M120,allgemein!$F$11),3,IF(ISBLANK(allgemein!$F$12),allgemein!M120,allgemein!$F$12),4,IF(ISBLANK(allgemein!$F$13),allgemein!M120,allgemein!$F$13),5,IF(ISBLANK(allgemein!$I$10),allgemein!M120,allgemein!$I$10),6,IF(ISBLANK(allgemein!$I$11),allgemein!M120,allgemein!$I$11),7,IF(ISBLANK(allgemein!$I$12),allgemein!M120,allgemein!$I$12),8,IF(ISBLANK(allgemein!$I$13),allgemein!M120,allgemein!$I$13),IF(ISBLANK(allgemein!M120),\"\",allgemein!M120))","v":{"$error":"#NAME?"}},{"$f":"_xlfn.SWITCH(allgemein!N120,1,IF(ISBLANK(allgemein!$F$10),allgemein!N120,allgemein!$F$10),2,IF(ISBLANK(allgemein!$F$11),allgemein!N120,allgemein!$F$11),3,IF(ISBLANK(allgemein!$F$12),allgemein!N120,allgemein!$F$12),4,IF(ISBLANK(allgemein!$F$13),allgemein!N120,allgemein!$F$13),5,IF(ISBLANK(allgemein!$I$10),allgemein!N120,allgemein!$I$10),6,IF(ISBLANK(allgemein!$I$11),allgemein!N120,allgemein!$I$11),7,IF(ISBLANK(allgemein!$I$12),allgemein!N120,allgemein!$I$12),8,IF(ISBLANK(allgemein!$I$13),allgemein!N120,allgemein!$I$13),IF(ISBLANK(allgemein!N120),\"\",allgemein!N120))","v":{"$error":"#NAME?"}},{"$f":"_xlfn.SWITCH(allgemein!O120,1,IF(ISBLANK(allgemein!$F$10),allgemein!O120,allgemein!$F$10),2,IF(ISBLANK(allgemein!$F$11),allgemein!O120,allgemein!$F$11),3,IF(ISBLANK(allgemein!$F$12),allgemein!O120,allgemein!$F$12),4,IF(ISBLANK(allgemein!$F$13),allgemein!O120,allgemein!$F$13),5,IF(ISBLANK(allgemein!$I$10),allgemein!O120,allgemein!$I$10),6,IF(ISBLANK(allgemein!$I$11),allgemein!O120,allgemein!$I$11),7,IF(ISBLANK(allgemein!$I$12),allgemein!O120,allgemein!$I$12),8,IF(ISBLANK(allgemein!$I$13),allgemein!O120,allgemein!$I$13),IF(ISBLANK(allgemein!O120),\"\",allgemein!O120))","v":{"$error":"#NAME?"}},{"$f":"_xlfn.SWITCH(allgemein!P120,1,IF(ISBLANK(allgemein!$F$10),allgemein!P120,allgemein!$F$10),2,IF(ISBLANK(allgemein!$F$11),allgemein!P120,allgemein!$F$11),3,IF(ISBLANK(allgemein!$F$12),allgemein!P120,allgemein!$F$12),4,IF(ISBLANK(allgemein!$F$13),allgemein!P120,allgemein!$F$13),5,IF(ISBLANK(allgemein!$I$10),allgemein!P120,allgemein!$I$10),6,IF(ISBLANK(allgemein!$I$11),allgemein!P120,allgemein!$I$11),7,IF(ISBLANK(allgemein!$I$12),allgemein!P120,allgemein!$I$12),8,IF(ISBLANK(allgemein!$I$13),allgemein!P120,allgemein!$I$13),IF(ISBLANK(allgemein!P120),\"\",allgemein!P120))","v":{"$error":"#NAME?"}},{"$f":"IF(ISBLANK(allgemein!Q120),\"\",allgemein!Q120)","v":""},{"$f":"IF(ISBLANK(allgemein!R120),\"\",allgemein!R120)","v":""},{"$f":"IF(ISBLANK(allgemein!S120),\"\",allgemein!S120)","v":""},{"$f":"IF(ISBLANK(allgemein!U120),\"\",allgemein!U120)","v":""}]
[{"$f":"IF(ISBLANK(allgemein!D121),\"\",allgemein!D121)","v":104},{"$f":"IF(ISBLANK(allgemein!E121),\"\",allgemein!E121)","v":""},{"$f":"IF(ISBLANK(allgemein!C121),\"\",allgemein!C121)","v":" "},{"$f":"IF(ISBLANK(allgemein!H121),\"\",allgemein!H121)","v":""},{"$f":"IF(ISBLANK(allgemein!I121),\"\",allgemein!I121)","v":""},{"$f":"IF(ISBLANK(allgemein!J121),\"\",allgemein!J121)","v":""},{"$f":"IF(ISBLANK(allgemein!K121),\"\",allgemein!K121)","v":""},{"$f":"IF(ISBLANK(allgemein!F121),\"\",IF(ISBLANK(allgemein!L121),1,0))","v":""},{"$f":"_xlfn.SWITCH(allgemein!M121,1,IF(ISBLANK(allgemein!$F$10),allgemein!M121,allgemein!$F$10),2,IF(ISBLANK(allgemein!$F$11),allgemein!M121,allgemein!$F$11),3,IF(ISBLANK(allgemein!$F$12),allgemein!M121,allgemein!$F$12),4,IF(ISBLANK(allgemein!$F$13),allgemein!M121,allgemein!$F$13),5,IF(ISBLANK(allgemein!$I$10),allgemein!M121,allgemein!$I$10),6,IF(ISBLANK(allgemein!$I$11),allgemein!M121,allgemein!$I$11),7,IF(ISBLANK(allgemein!$I$12),allgemein!M121,allgemein!$I$12),8,IF(ISBLANK(allgemein!$I$13),allgemein!M121,allgemein!$I$13),IF(ISBLANK(allgemein!M121),\"\",allgemein!M121))","v":{"$error":"#NAME?"}},{"$f":"_xlfn.SWITCH(allgemein!N121,1,IF(ISBLANK(allgemein!$F$10),allgemein!N121,allgemein!$F$10),2,IF(ISBLANK(allgemein!$F$11),allgemein!N121,allgemein!$F$11),3,IF(ISBLANK(allgemein!$F$12),allgemein!N121,allgemein!$F$12),4,IF(ISBLANK(allgemein!$F$13),allgemein!N121,allgemein!$F$13),5,IF(ISBLANK(allgemein!$I$10),allgemein!N121,allgemein!$I$10),6,IF(ISBLANK(allgemein!$I$11),allgemein!N121,allgemein!$I$11),7,IF(ISBLANK(allgemein!$I$12),allgemein!N121,allgemein!$I$12),8,IF(ISBLANK(allgemein!$I$13),allgemein!N121,allgemein!$I$13),IF(ISBLANK(allgemein!N121),\"\",allgemein!N121))","v":{"$error":"#NAME?"}},{"$f":"_xlfn.SWITCH(allgemein!O121,1,IF(ISBLANK(allgemein!$F$10),allgemein!O121,allgemein!$F$10),2,IF(ISBLANK(allgemein!$F$11),allgemein!O121,allgemein!$F$11),3,IF(ISBLANK(allgemein!$F$12),allgemein!O121,allgemein!$F$12),4,IF(ISBLANK(allgemein!$F$13),allgemein!O121,allgemein!$F$13),5,IF(ISBLANK(allgemein!$I$10),allgemein!O121,allgemein!$I$10),6,IF(ISBLANK(allgemein!$I$11),allgemein!O121,allgemein!$I$11),7,IF(ISBLANK(allgemein!$I$12),allgemein!O121,allgemein!$I$12),8,IF(ISBLANK(allgemein!$I$13),allgemein!O121,allgemein!$I$13),IF(ISBLANK(allgemein!O121),\"\",allgemein!O121))","v":{"$error":"#NAME?"}},{"$f":"_xlfn.SWITCH(allgemein!P121,1,IF(ISBLANK(allgemein!$F$10),allgemein!P121,allgemein!$F$10),2,IF(ISBLANK(allgemein!$F$11),allgemein!P121,allgemein!$F$11),3,IF(ISBLANK(allgemein!$F$12),allgemein!P121,allgemein!$F$12),4,IF(ISBLANK(allgemein!$F$13),allgemein!P121,allgemein!$F$13),5,IF(ISBLANK(allgemein!$I$10),allgemein!P121,allgemein!$I$10),6,IF(ISBLANK(allgemein!$I$11),allgemein!P121,allgemein!$I$11),7,IF(ISBLANK(allgemein!$I$12),allgemein!P121,allgemein!$I$12),8,IF(ISBLANK(allgemein!$I$13),allgemein!P121,allgemein!$I$13),IF(ISBLANK(allgemein!P121),\"\",allgemein!P121))","v":{"$error":"#NAME?"}},{"$f":"IF(ISBLANK(allgemein!Q121),\"\",allgemein!Q121)","v":""},{"$f":"IF(ISBLANK(allgemein!R121),\"\",allgemein!R121)","v":""},{"$f":"IF(ISBLANK(allgemein!S121),\"\",allgemein!S121)","v":""},{"$f":"IF(ISBLANK(allgemein!U121),\"\",allgemein!U121)","v":""}]
[{"$f":"IF(ISBLANK(allgemein!D122),\"\",allgemein!D122)","v":105},{"$f":"IF(ISBLANK(allgemein!E122),\"\",allgemein!E122)","v":""},{"$f":"IF(ISBLANK(allgemein!C122),\"\",allgemein!C122)","v":" "},{"$f":"IF(ISBLANK(allgemein!H122),\"\",allgemein!H122)","v":""},{"$f":"IF(ISBLANK(allgemein!I122),\"\",allgemein!I122)","v":""},{"$f":"IF(ISBLANK(allgemein!J122),\"\",allgemein!J122)","v":""},{"$f":"IF(ISBLANK(allgemein!K122),\"\",allgemein!K122)","v":""},{"$f":"IF(ISBLANK(allgemein!F122),\"\",IF(ISBLANK(allgemein!L122),1,0))","v":""},{"$f":"_xlfn.SWITCH(allgemein!M122,1,IF(ISBLANK(allgemein!$F$10),allgemein!M122,allgemein!$F$10),2,IF(ISBLANK(allgemein!$F$11),allgemein!M122,allgemein!$F$11),3,IF(ISBLANK(allgemein!$F$12),allgemein!M122,allgemein!$F$12),4,IF(ISBLANK(allgemein!$F$13),allgemein!M122,allgemein!$F$13),5,IF(ISBLANK(allgemein!$I$10),allgemein!M122,allgemein!$I$10),6,IF(ISBLANK(allgemein!$I$11),allgemein!M122,allgemein!$I$11),7,IF(ISBLANK(allgemein!$I$12),allgemein!M122,allgemein!$I$12),8,IF(ISBLANK(allgemein!$I$13),allgemein!M122,allgemein!$I$13),IF(ISBLANK(allgemein!M122),\"\",allgemein!M122))","v":{"$error":"#NAME?"}},{"$f":"_xlfn.SWITCH(allgemein!N122,1,IF(ISBLANK(allgemein!$F$10),allgemein!N122,allgemein!$F$10),2,IF(ISBLANK(allgemein!$F$11),allgemein!N122,allgemein!$F$11),3,IF(ISBLANK(allgemein!$F$12),allgemein!N122,allgemein!$F$12),4,IF(ISBLANK(allgemein!$F$13),allgemein!N122,allgemein!$F$13),5,IF(ISBLANK(allgemein!$I$10),allgemein!N122,allgemein!$I$10),6,IF(ISBLANK(allgemein!$I$11),allgemein!N122,allgemein!$I$11),7,IF(ISBLANK(allgemein!$I$12),allgemein!N122,allgemein!$I$12),8,IF(ISBLANK(allgemein!$I$13),allgemein!N122,allgemein!$I$13),IF(ISBLANK(allgemein!N122),\"\",allgemein!N122))","v":{"$error":"#NAME?"}},{"$f":"_xlfn.SWITCH(allgemein!O122,1,IF(ISBLANK(allgemein!$F$10),allgemein!O122,allgemein!$F$10),2,IF(ISBLANK(allgemein!$F$11),allgemein!O122,allgemein!$F$11),3,IF(ISBLANK(allgemein!$F$12),allgemein!O122,allgemein!$F$12),4,IF(ISBLANK(allgemein!$F$13),allgemein!O122,allgemein!$F$13),5,IF(ISBLANK(allgemein!$I$10),allgemein!O122,allgemein!$I$10),6,IF(ISBLANK(allgemein!$I$11),allgemein!O122,allgemein!$I$11),7,IF(ISBLANK(allgemein!$I$12),allgemein!O122,allgemein!$I$12),8,IF(ISBLANK(allgemein!$I$13),allgemein!O122,allgemein!$I$13),IF(ISBLANK(allgemein!O122),\"\",allgemein!O122))","v":{"$error":"#NAME?"}},{"$f":"_xlfn.SWITCH(allgemein!P122,1,IF(ISBLANK(allgemein!$F$10),allgemein!P122,allgemein!$F$10),2,IF(ISBLANK(allgemein!$F$11),allgemein!P122,allgemein!$F$11),3,IF(ISBLANK(allgemein!$F$12),allgemein!P122,allgemein!$F$12),4,IF(ISBLANK(allgemein!$F$13),allgemein!P122,allgemein!$F$13),5,IF(ISBLANK(allgemein!$I$10),allgemein!P122,allgemein!$I$10),6,IF(ISBLANK(allgemein!$I$11),allgemein!P122,allgemein!$I$11),7,IF(ISBLANK(allgemein!$I$12),allgemein!P122,allgemein!$I$12),8,IF(ISBLANK(allgemein!$I$13),allgemein!P122,allgemein!$I$13),IF(ISBLANK(allgemein!P122),\"\",allgemein!P122))","v":{"$error":"#NAME?"}},{"$f":"IF(ISBLANK(allgemein!Q122),\"\",allgemein!Q122)","v":""},{"$f":"IF(ISBLANK(allgemein!R122),\"\",allgemein!R122)","v":""},{"$f":"IF(ISBLANK(allgemein!S122),\"\",allgemein!S122)","v":""},{"$f":"IF(ISBLANK(allgemein!U122),\"\",allgemein!U122)","v":""}]
[{"$f":"IF(ISBLANK(allgemein!D123),\"\",allgemein!D123)","v":106},{"$f":"IF(ISBLANK(allgemein!E123),\"\",allgemein!E123)","v":""},{"$f":"IF(ISBLANK(allgemein!C123),\"\",allgemein!C123)","v":" "},{"$f":"IF(ISBLANK(allgemein!H123),\"\",allgemein!H123)","v":""},{"$f":"IF(ISBLANK(allgemein!I123),\"\",allgemein!I123)","v":""},{"$f":"IF(ISBLANK(allgemein!J123),\"\",allgemein!J123)","v":""},{"$f":"IF(ISBLANK(allgemein!K123),\"\",allgemein!K123)","v":""},{"$f":"IF(ISBLANK(allgemein!F123),\"\",IF(ISBLANK(allgemein!L123),1,0))","v":""},{"$f":"_xlfn.SWITCH(allgemein!M123,1,IF(ISBLANK(allgemein!$F$10),allgemein!M123,allgemein!$F$10),2,IF(ISBLANK(allgemein!$F$11),allgemein!M123,allgemein!$F$11),3,IF(ISBLANK(allgemein!$F$12),allgemein!M123,allgemein!$F$12),4,IF(ISBLANK(allgemein!$F$13),allgemein!M123,allgemein!$F$13),5,IF(ISBLANK(allgemein!$I$10),allgemein!M123,allgemein!$I$10),6,IF(ISBLANK(allgemein!$I$11),allgemein!M123,allgemein!$I$11),7,IF(ISBLANK(allgemein!$I$12),allgemein!M123,allgemein!$I$12),8,IF(ISBLANK(allgemein!$I$13),allgemein!M123,allgemein!$I$13),IF(ISBLANK(allgemein!M123),\"\",allgemein!M123))","v":{"$error":"#NAME?"}},{"$f":"_xlfn.SWITCH(allgemein!N123,1,IF(ISBLANK(allgemein!$F$10),allgemein!N123,allgemein!$F$10),2,IF(ISBLANK(allgemein!$F$11),allgemein!N123,allgemein!$F$11),3,IF(ISBLANK(allgemein!$F$12),allgemein!N123,allgemein!$F$12),4,IF(ISBLANK(allgemein!$F$13),allgemein!N123,allgemein!$F$13),5,IF(ISBLANK(allgemein!$I$10),allgemein!N123,allgemein!$I$10),6,IF(ISBLANK(allgemein!$I$11),allgemein!N123,allgemein!$I$11),7,IF(ISBLANK(allgemein!$I$12),allgemein!N123,allgemein!$I$12),8,IF(ISBLANK(allgemein!$I$13),allgemein!N123,allgemein!$I$13),IF(ISBLANK(allgemein!N123),\"\",allgemein!N123))","v":{"$error":"#NAME?"}},{"$f":"_xlfn.SWITCH(allgemein!O123,1,IF(ISBLANK(allgemein!$F$10),allgemein!O123,allgemein!$F$10),2,IF(ISBLANK(allgemein!$F$11),allgemein!O123,allgemein!$F$11),3,IF(ISBLANK(allgemein!$F$12),allgemein!O123,allgemein!$F$12),4,IF(ISBLANK(allgemein!$F$13),allgemein!O123,allgemein!$F$13),5,IF(ISBLANK(allgemein!$I$10),allgemein!O123,allgemein!$I$10),6,IF(ISBLANK(allgemein!$I$11),allgemein!O123,allgemein!$I$11),7,IF(ISBLANK(allgemein!$I$12),allgemein!O123,allgemein!$I$12),8,IF(ISBLANK(allgemein!$I$13),allgemein!O123,allgemein!$I$13),IF(ISBLANK(allgemein!O123),\"\",allgemein!O123))","v":{"$error":"#NAME?"}},{"$f":"_xlfn.SWITCH(allgemein!P123,1,IF(ISBLANK(allgemein!$F$10),allgemein!P123,allgemein!$F$10),2,IF(ISBLANK(allgemein!$F$11),allgemein!P123,allgemein!$F$11),3,IF(ISBLANK(allgemein!$F$12),allgemein!P123,allgemein!$F$12),4,IF(ISBLANK(allgemein!$F$13),allgemein!P123,allgemein!$F$13),5,IF(ISBLANK(allgemein!$I$10),allgemein!P123,allgemein!$I$10),6,IF(ISBLANK(allgemein!$I$11),allgemein!P123,allgemein!$I$11),7,IF(ISBLANK(allgemein!$I$12),allgemein!P123,allgemein!$I$12),8,IF(ISBLANK(allgemein!$I$13),allgemein!P123,allgemein!$I$13),IF(ISBLANK(allgemein!P123),\"\",allgemein!P123))","v":{"$error":"#NAME?"}},{"$f":"IF(ISBLANK(allgemein!Q123),\"\",allgemein!Q123)","v":""},{"$f":"IF(ISBLANK(allgemein!R123),\"\",allgemein!R123)","v":""},{"$f":"IF(ISBLANK(allgemein!S123),\"\",allgemein!S123)","v":""},{"$f":"IF(ISBLANK(allgemein!U123),\"\",allgemein!U123)","v":""}]
[{"$f":"IF(ISBLANK(allgemein!D124),\"\",allgemein!D124)","v":107},{"$f":"IF(ISBLANK(allgemein!E124),\"\",allgemein!E124)","v":""},{"$f":"IF(ISBLANK(allgemein!C124),\"\",allgemein!C124)","v":" "},{"$f":"IF(ISBLANK(allgemein!H124),\"\",allgemein!H124)","v":""},{"$f":"IF(ISBLANK(allgemein!I124),\"\",allgemein!I124)","v":""},{"$f":"IF(ISBLANK(allgemein!J124),\"\",allgemein!J124)","v":""},{"$f":"IF(ISBLANK(allgemein!K124),\"\",allgemein!K124)","v":""},{"$f":"IF(ISBLANK(allgemein!F124),\"\",IF(ISBLANK(allgemein!L124),1,0))","v":""},{"$f":"_xlfn.SWITCH(allgemein!M124,1,IF(ISBLANK(allgemein!$F$10),allgemein!M124,allgemein!$F$10),2,IF(ISBLANK(allgemein!$F$11),allgemein!M124,allgemein!$F$11),3,IF(ISBLANK(allgemein!$F$12),allgemein!M124,allgemein!$F$12),4,IF(ISBLANK(allgemein!$F$13),allgemein!M124,allgemein!$F$13),5,IF(ISBLANK(allgemein!$I$10),allgemein!M124,allgemein!$I$10),6,IF(ISBLANK(allgemein!$I$11),allgemein!M124,allgemein!$I$11),7,IF(ISBLANK(allgemein!$I$12),allgemein!M124,allgemein!$I$12),8,IF(ISBLANK(allgemein!$I$13),allgemein!M124,allgemein!$I$13),IF(ISBLANK(allgemein!M124),\"\",allgemein!M124))","v":{"$error":"#NAME?"}},{"$f":"_xlfn.SWITCH(allgemein!N124,1,IF(ISBLANK(allgemein!$F$10),allgemein!N124,allgemein!$F$10),2,IF(ISBLANK(allgemein!$F$11),allgemein!N124,allgemein!$F$11),3,IF(ISBLANK(allgemein!$F$12),allgemein!N124,allgemein!$F$12),4,IF(ISBLANK(allgemein!$F$13),allgemein!N124,allgemein!$F$13),5,IF(ISBLANK(allgemein!$I$10),allgemein!N124,allgemein!$I$10),6,IF(ISBLANK(allgemein!$I$11),allgemein!N124,allgemein!$I$11),7,IF(ISBLANK(allgemein!$I$12),allgemein!N124,allgemein!$I$12),8,IF(ISBLANK(allgemein!$I$13),allgemein!N124,allgemein!$I$13),IF(ISBLANK(allgemein!N124),\"\",allgemein!N124))","v":{"$error":"#NAME?"}},{"$f":"_xlfn.SWITCH(allgemein!O124,1,IF(ISBLANK(allgemein!$F$10),allgemein!O124,allgemein!$F$10),2,IF(ISBLANK(allgemein!$F$11),allgemein!O124,allgemein!$F$11),3,IF(ISBLANK(allgemein!$F$12),allgemein!O124,allgemein!$F$12),4,IF(ISBLANK(allgemein!$F$13),allgemein!O124,allgemein!$F$13),5,IF(ISBLANK(allgemein!$I$10),allgemein!O124,allgemein!$I$10),6,IF(ISBLANK(allgemein!$I$11),allgemein!O124,allgemein!$I$11),7,IF(ISBLANK(allgemein!$I$12),allgemein!O124,allgemein!$I$12),8,IF(ISBLANK(allgemein!$I$13),allgemein!O124,allgemein!$I$13),IF(ISBLANK(allgemein!O124),\"\",allgemein!O124))","v":{"$error":"#NAME?"}},{"$f":"_xlfn.SWITCH(allgemein!P124,1,IF(ISBLANK(allgemein!$F$10),allgemein!P124,allgemein!$F$10),2,IF(ISBLANK(allgemein!$F$11),allgemein!P124,allgemein!$F$11),3,IF(ISBLANK(allgemein!$F$12),allgemein!P124,allgemein!$F$12),4,IF(ISBLANK(allgemein!$F$13),allgemein!P124,allgemein!$F$13),5,IF(ISBLANK(allgemein!$I$10),allgemein!P124,allgemein!$I$10),6,IF(ISBLANK(allgemein!$I$11),allgemein!P124,allgemein!$I$11),7,IF(ISBLANK(allgemein!$I$12),allgemein!P124,allgemein!$I$12),8,IF(ISBLANK(allgemein!$I$13),allgemein!P124,allgemein!$I$13),IF(ISBLANK(allgemein!P124),\"\",allgemein!P124))","v":{"$error":"#NAME?"}},{"$f":"IF(ISBLANK(allgemein!Q124),\"\",allgemein!Q124)","v":""},{"$f":"IF(ISBLANK(allgemein!R124),\"\",allgemein!R124)","v":""},{"$f":"IF(ISBLANK(allgemein!S124),\"\",allgemein!S124)","v":""},{"$f":"IF(ISBLANK(allgemein!U124),\"\",allgemein!U124)","v":""}]
[{"$f":"IF(ISBLANK(allgemein!D125),\"\",allgemein!D125)","v":108},{"$f":"IF(ISBLANK(allgemein!E125),\"\",allgemein!E125)","v":""},{"$f":"IF(ISBLANK(allgemein!C125),\"\",allgemein!C125)","v":" "},{"$f":"IF(ISBLANK(allgemein!H125),\"\",allgemein!H125)","v":""},{"$f":"IF(ISBLANK(allgemein!I125),\"\",allgemein!I125)","v":""},{"$f":"IF(ISBLANK(allgemein!J125),\"\",allgemein!J125)","v":""},{"$f":"IF(ISBLANK(allgemein!K125),\"\",allgemein!K125)","v":""},{"$f":"IF(ISBLANK(allgemein!F125),\"\",IF(ISBLANK(allgemein!L125),1,0))","v":""},{"$f":"_xlfn.SWITCH(allgemein!M125,1,IF(ISBLANK(allgemein!$F$10),allgemein!M125,allgemein!$F$10),2,IF(ISBLANK(allgemein!$F$11),allgemein!M125,allgemein!$F$11),3,IF(ISBLANK(allgemein!$F$12),allgemein!M125,allgemein!$F$12),4,IF(ISBLANK(allgemein!$F$13),allgemein!M125,allgemein!$F$13),5,IF(ISBLANK(allgemein!$I$10),allgemein!M125,allgemein!$I$10),6,IF(ISBLANK(allgemein!$I$11),allgemein!M125,allgemein!$I$11),7,IF(ISBLANK(allgemein!$I$12),allgemein!M125,allgemein!$I$12),8,IF(ISBLANK(allgemein!$I$13),allgemein!M125,allgemein!$I$13),IF(ISBLANK(allgemein!M125),\"\",allgemein!M125))","v":{"$error":"#NAME?"}},{"$f":"_xlfn.SWITCH(allgemein!N125,1,IF(ISBLANK(allgemein!$F$10),allgemein!N125,allgemein!$F$10),2,IF(ISBLANK(allgemein!$F$11),allgemein!N125,allgemein!$F$11),3,IF(ISBLANK(allgemein!$F$12),allgemein!N125,allgemein!$F$12),4,IF(ISBLANK(allgemein!$F$13),allgemein!N125,allgemein!$F$13),5,IF(ISBLANK(allgemein!$I$10),allgemein!N125,allgemein!$I$10),6,IF(ISBLANK(allgemein!$I$11),allgemein!N125,allgemein!$I$11),7,IF(ISBLANK(allgemein!$I$12),allgemein!N125,allgemein!$I$12),8,IF(ISBLANK(allgemein!$I$13),allgemein!N125,allgemein!$I$13),IF(ISBLANK(allgemein!N125),\"\",allgemein!N125))","v":{"$error":"#NAME?"}},{"$f":"_xlfn.SWITCH(allgemein!O125,1,IF(ISBLANK(allgemein!$F$10),allgemein!O125,allgemein!$F$10),2,IF(ISBLANK(allgemein!$F$11),allgemein!O125,allgemein!$F$11),3,IF(ISBLANK(allgemein!$F$12),allgemein!O125,allgemein!$F$12),4,IF(ISBLANK(allgemein!$F$13),allgemein!O125,allgemein!$F$13),5,IF(ISBLANK(allgemein!$I$10),allgemein!O125,allgemein!$I$10),6,IF(ISBLANK(allgemein!$I$11),allgemein!O125,allgemein!$I$11),7,IF(ISBLANK(allgemein!$I$12),allgemein!O125,allgemein!$I$12),8,IF(ISBLANK(allgemein!$I$13),allgemein!O125,allgemein!$I$13),IF(ISBLANK(allgemein!O125),\"\",allgemein!O125))","v":{"$error":"#NAME?"}},{"$f":"_xlfn.SWITCH(allgemein!P125,1,IF(ISBLANK(allgemein!$F$10),allgemein!P125,allgemein!$F$10),2,IF(ISBLANK(allgemein!$F$11),allgemein!P125,allgemein!$F$11),3,IF(ISBLANK(allgemein!$F$12),allgemein!P125,allgemein!$F$12),4,IF(ISBLANK(allgemein!$F$13),allgemein!P125,allgemein!$F$13),5,IF(ISBLANK(allgemein!$I$10),allgemein!P125,allgemein!$I$10),6,IF(ISBLANK(allgemein!$I$11),allgemein!P125,allgemein!$I$11),7,IF(ISBLANK(allgemein!$I$12),allgemein!P125,allgemein!$I$12),8,IF(ISBLANK(allgemein!$I$13),allgemein!P125,allgemein!$I$13),IF(ISBLANK(allgemein!P125),\"\",allgemein!P125))","v":{"$error":"#NAME?"}},{"$f":"IF(ISBLANK(allgemein!Q125),\"\",allgemein!Q125)","v":""},{"$f":"IF(ISBLANK(allgemein!R125),\"\",allgemein!R125)","v":""},{"$f":"IF(ISBLANK(allgemein!S125),\"\",allgemein!S125)","v":""},{"$f":"IF(ISBLANK(allgemein!U125),\"\",allgemein!U125)","v":""}]
[{"$f":"IF(ISBLANK(allgemein!D126),\"\",allgemein!D126)","v":109},{"$f":"IF(ISBLANK(allgemein!E126),\"\",allgemein!E126)","v":""},{"$f":"IF(ISBLANK(allgemein!C126),\"\",allgemein!C126)","v":" "},{"$f":"IF(ISBLANK(allgemein!H126),\"\",allgemein!H126)","v":""},{"$f":"IF(ISBLANK(allgemein!I126),\"\",allgemein!I126)","v":""},{"$f":"IF(ISBLANK(allgemein!J126),\"\",allgemein!J126)","v":""},{"$f":"IF(ISBLANK(allgemein!K126),\"\",allgemein!K126)","v":""},{"$f":"IF(ISBLANK(allgemein!F126),\"\",IF(ISBLANK(allgemein!L126),1,0))","v":""},{"$f":"_xlfn.SWITCH(allgemein!M126,1,IF(ISBLANK(allgemein!$F$10),allgemein!M126,allgemein!$F$10),2,IF(ISBLANK(allgemein!$F$11),allgemein!M126,allgemein!$F$11),3,IF(ISBLANK(allgemein!$F$12),allgemein!M126,allgemein!$F$12),4,IF(ISBLANK(allgemein!$F$13),allgemein!M126,allgemein!$F$13),5,IF(ISBLANK(allgemein!$I$10),allgemein!M126,allgemein!$I$10),6,IF(ISBLANK(allgemein!$I$11),allgemein!M126,allgemein!$I$11),7,IF(ISBLANK(allgemein!$I$12),allgemein!M126,allgemein!$I$12),8,IF(ISBLANK(allgemein!$I$13),allgemein!M126,allgemein!$I$13),IF(ISBLANK(allgemein!M126),\"\",allgemein!M126))","v":{"$error":"#NAME?"}},{"$f":"_xlfn.SWITCH(allgemein!N126,1,IF(ISBLANK(allgemein!$F$10),allgemein!N126,allgemein!$F$10),2,IF(ISBLANK(allgemein!$F$11),allgemein!N126,allgemein!$F$11),3,IF(ISBLANK(allgemein!$F$12),allgemein!N126,allgemein!$F$12),4,IF(ISBLANK(allgemein!$F$13),allgemein!N126,allgemein!$F$13),5,IF(ISBLANK(allgemein!$I$10),allgemein!N126,allgemein!$I$10),6,IF(ISBLANK(allgemein!$I$11),allgemein!N126,allgemein!$I$11),7,IF(ISBLANK(allgemein!$I$12),allgemein!N126,allgemein!$I$12),8,IF(ISBLANK(allgemein!$I$13),allgemein!N126,allgemein!$I$13),IF(ISBLANK(allgemein!N126),\"\",allgemein!N126))","v":{"$error":"#NAME?"}},{"$f":"_xlfn.SWITCH(allgemein!O126,1,IF(ISBLANK(allgemein!$F$10),allgemein!O126,allgemein!$F$10),2,IF(ISBLANK(allgemein!$F$11),allgemein!O126,allgemein!$F$11),3,IF(ISBLANK(allgemein!$F$12),allgemein!O126,allgemein!$F$12),4,IF(ISBLANK(allgemein!$F$13),allgemein!O126,allgemein!$F$13),5,IF(ISBLANK(allgemein!$I$10),allgemein!O126,allgemein!$I$10),6,IF(ISBLANK(allgemein!$I$11),allgemein!O126,allgemein!$I$11),7,IF(ISBLANK(allgemein!$I$12),allgemein!O126,allgemein!$I$12),8,IF(ISBLANK(allgemein!$I$13),allgemein!O126,allgemein!$I$13),IF(ISBLANK(allgemein!O126),\"\",allgemein!O126))","v":{"$error":"#NAME?"}},{"$f":"_xlfn.SWITCH(allgemein!P126,1,IF(ISBLANK(allgemein!$F$10),allgemein!P126,allgemein!$F$10),2,IF(ISBLANK(allgemein!$F$11),allgemein!P126,allgemein!$F$11),3,IF(ISBLANK(allgemein!$F$12),allgemein!P126,allgemein!$F$12),4,IF(ISBLANK(allgemein!$F$13),allgemein!P126,allgemein!$F$13),5,IF(ISBLANK(allgemein!$I$10),allgemein!P126,allgemein!$I$10),6,IF(ISBLANK(allgemein!$I$11),allgemein!P126,allgemein!$I$11),7,IF(ISBLANK(allgemein!$I$12),allgemein!P126,allgemein!$I$12),8,IF(ISBLANK(allgemein!$I$13),allgemein!P126,allgemein!$I$13),IF(ISBLANK(allgemein!P126),\"\",allgemein!P126))","v":{"$error":"#NAME?"}},{"$f":"IF(ISBLANK(allgemein!Q126),\"\",allgemein!Q126)","v":""},{"$f":"IF(ISBLANK(allgemein!R126),\"\",allgemein!R126)","v":""},{"$f":"IF(ISBLANK(allgemein!S126),\"\",allgemein!S126)","v":""},{"$f":"IF(ISBLANK(allgemein!U126),\"\",allgemein!U126)","v":""}]
[{"$f":"IF(ISBLANK(allgemein!D127),\"\",allgemein!D127)","v":110},{"$f":"IF(ISBLANK(allgemein!E127),\"\",allgemein!E127)","v":""},{"$f":"IF(ISBLANK(allgemein!C127),\"\",allgemein!C127)","v":" "},{"$f":"IF(ISBLANK(allgemein!H127),\"\",allgemein!H127)","v":""},{"$f":"IF(ISBLANK(allgemein!I127),\"\",allgemein!I127)","v":""},{"$f":"IF(ISBLANK(allgemein!J127),\"\",allgemein!J127)","v":""},{"$f":"IF(ISBLANK(allgemein!K127),\"\",allgemein!K127)","v":""},{"$f":"IF(ISBLANK(allgemein!F127),\"\",IF(ISBLANK(allgemein!L127),1,0))","v":""},{"$f":"_xlfn.SWITCH(allgemein!M127,1,IF(ISBLANK(allgemein!$F$10),allgemein!M127,allgemein!$F$10),2,IF(ISBLANK(allgemein!$F$11),allgemein!M127,allgemein!$F$11),3,IF(ISBLANK(allgemein!$F$12),allgemein!M127,allgemein!$F$12),4,IF(ISBLANK(allgemein!$F$13),allgemein!M127,allgemein!$F$13),5,IF(ISBLANK(allgemein!$I$10),allgemein!M127,allgemein!$I$10),6,IF(ISBLANK(allgemein!$I$11),allgemein!M127,allgemein!$I$11),7,IF(ISBLANK(allgemein!$I$12),allgemein!M127,allgemein!$I$12),8,IF(ISBLANK(allgemein!$I$13),allgemein!M127,allgemein!$I$13),IF(ISBLANK(allgemein!M127),\"\",allgemein!M127))","v":{"$error":"#NAME?"}},{"$f":"_xlfn.SWITCH(allgemein!N127,1,IF(ISBLANK(allgemein!$F$10),allgemein!N127,allgemein!$F$10),2,IF(ISBLANK(allgemein!$F$11),allgemein!N127,allgemein!$F$11),3,IF(ISBLANK(allgemein!$F$12),allgemein!N127,allgemein!$F$12),4,IF(ISBLANK(allgemein!$F$13),allgemein!N127,allgemein!$F$13),5,IF(ISBLANK(allgemein!$I$10),allgemein!N127,allgemein!$I$10),6,IF(ISBLANK(allgemein!$I$11),allgemein!N127,allgemein!$I$11),7,IF(ISBLANK(allgemein!$I$12),allgemein!N127,allgemein!$I$12),8,IF(ISBLANK(allgemein!$I$13),allgemein!N127,allgemein!$I$13),IF(ISBLANK(allgemein!N127),\"\",allgemein!N127))","v":{"$error":"#NAME?"}},{"$f":"_xlfn.SWITCH(allgemein!O127,1,IF(ISBLANK(allgemein!$F$10),allgemein!O127,allgemein!$F$10),2,IF(ISBLANK(allgemein!$F$11),allgemein!O127,allgemein!$F$11),3,IF(ISBLANK(allgemein!$F$12),allgemein!O127,allgemein!$F$12),4,IF(ISBLANK(allgemein!$F$13),allgemein!O127,allgemein!$F$13),5,IF(ISBLANK(allgemein!$I$10),allgemein!O127,allgemein!$I$10),6,IF(ISBLANK(allgemein!$I$11),allgemein!O127,allgemein!$I$11),7,IF(ISBLANK(allgemein!$I$12),allgemein!O127,allgemein!$I$12),8,IF(ISBLANK(allgemein!$I$13),allgemein!O127,allgemein!$I$13),IF(ISBLANK(allgemein!O127),\"\",allgemein!O127))","v":{"$error":"#NAME?"}},{"$f":"_xlfn.SWITCH(allgemein!P127,1,IF(ISBLANK(allgemein!$F$10),allgemein!P127,allgemein!$F$10),2,IF(ISBLANK(allgemein!$F$11),allgemein!P127,allgemein!$F$11),3,IF(ISBLANK(allgemein!$F$12),allgemein!P127,allgemein!$F$12),4,IF(ISBLANK(allgemein!$F$13),allgemein!P127,allgemein!$F$13),5,IF(ISBLANK(allgemein!$I$10),allgemein!P127,allgemein!$I$10),6,IF(ISBLANK(allgemein!$I$11),allgemein!P127,allgemein!$I$11),7,IF(ISBLANK(allgemein!$I$12),allgemein!P127,allgemein!$I$12),8,IF(ISBLANK(allgemein!$I$13),allgemein!P127,allgemein!$I$13),IF(ISBLANK(allgemein!P127),\"\",allgemein!P127))","v":{"$error":"#NAME?"}},{"$f":"IF(ISBLANK(allgemein!Q127),\"\",allgemein!Q127)","v":""},{"$f":"IF(ISBLANK(allgemein!R127),\"\",allgemein!R127)","v":""},{"$f":"IF(ISBLANK(allgemein!S127),\"\",allgemein!S127)","v":""},{"$f":"IF(ISBLANK(allgemein!U127),\"\",allgemein!U127)","v":""}]
[{"$f":"IF(ISBLANK(allgemein!D128),\"\",allgemein!D128)","v":111},{"$f":"IF(ISBLANK(allgemein!E128),\"\",allgemein!E128)","v":""},{"$f":"IF(ISBLANK(allgemein!C128),\"\",allgemein!C128)","v":" "},{"$f":"IF(ISBLANK(allgemein!H128),\"\",allgemein!H128)","v":""},{"$f":"IF(ISBLANK(allgemein!I128),\"\",allgemein!I128)","v":""},{"$f":"IF(ISBLANK(allgemein!J128),\"\",allgemein!J128)","v":""},{"$f":"IF(ISBLANK(allgemein!K128),\"\",allgemein!K128)","v":""},{"$f":"IF(ISBLANK(allgemein!F128),\"\",IF(ISBLANK(allgemein!L128),1,0))","v":""},{"$f":"_xlfn.SWITCH(allgemein!M128,1,IF(ISBLANK(allgemein!$F$10),allgemein!M128,allgemein!$F$10),2,IF(ISBLANK(allgemein!$F$11),allgemein!M128,allgemein!$F$11),3,IF(ISBLANK(allgemein!$F$12),allgemein!M128,allgemein!$F$12),4,IF(ISBLANK(allgemein!$F$13),allgemein!M128,allgemein!$F$13),5,IF(ISBLANK(allgemein!$I$10),allgemein!M128,allgemein!$I$10),6,IF(ISBLANK(allgemein!$I$11),allgemein!M128,allgemein!$I$11),7,IF(ISBLANK(allgemein!$I$12),allgemein!M128,allgemein!$I$12),8,IF(ISBLANK(allgemein!$I$13),allgemein!M128,allgemein!$I$13),IF(ISBLANK(allgemein!M128),\"\",allgemein!M128))","v":{"$error":"#NAME?"}},{"$f":"_xlfn.SWITCH(allgemein!N128,1,IF(ISBLANK(allgemein!$F$10),allgemein!N128,allgemein!$F$10),2,IF(ISBLANK(allgemein!$F$11),allgemein!N128,allgemein!$F$11),3,IF(ISBLANK(allgemein!$F$12),allgemein!N128,allgemein!$F$12),4,IF(ISBLANK(allgemein!$F$13),allgemein!N128,allgemein!$F$13),5,IF(ISBLANK(allgemein!$I$10),allgemein!N128,allgemein!$I$10),6,IF(ISBLANK(allgemein!$I$11),allgemein!N128,allgemein!$I$11),7,IF(ISBLANK(allgemein!$I$12),allgemein!N128,allgemein!$I$12),8,IF(ISBLANK(allgemein!$I$13),allgemein!N128,allgemein!$I$13),IF(ISBLANK(allgemein!N128),\"\",allgemein!N128))","v":{"$error":"#NAME?"}},{"$f":"_xlfn.SWITCH(allgemein!O128,1,IF(ISBLANK(allgemein!$F$10),allgemein!O128,allgemein!$F$10),2,IF(ISBLANK(allgemein!$F$11),allgemein!O128,allgemein!$F$11),3,IF(ISBLANK(allgemein!$F$12),allgemein!O128,allgemein!$F$12),4,IF(ISBLANK(allgemein!$F$13),allgemein!O128,allgemein!$F$13),5,IF(ISBLANK(allgemein!$I$10),allgemein!O128,allgemein!$I$10),6,IF(ISBLANK(allgemein!$I$11),allgemein!O128,allgemein!$I$11),7,IF(ISBLANK(allgemein!$I$12),allgemein!O128,allgemein!$I$12),8,IF(ISBLANK(allgemein!$I$13),allgemein!O128,allgemein!$I$13),IF(ISBLANK(allgemein!O128),\"\",allgemein!O128))","v":{"$error":"#NAME?"}},{"$f":"_xlfn.SWITCH(allgemein!P128,1,IF(ISBLANK(allgemein!$F$10),allgemein!P128,allgemein!$F$10),2,IF(ISBLANK(allgemein!$F$11),allgemein!P128,allgemein!$F$11),3,IF(ISBLANK(allgemein!$F$12),allgemein!P128,allgemein!$F$12),4,IF(ISBLANK(allgemein!$F$13),allgemein!P128,allgemein!$F$13),5,IF(ISBLANK(allgemein!$I$10),allgemein!P128,allgemein!$I$10),6,IF(ISBLANK(allgemein!$I$11),allgemein!P128,allgemein!$I$11),7,IF(ISBLANK(allgemein!$I$12),allgemein!P128,allgemein!$I$12),8,IF(ISBLANK(allgemein!$I$13),allgemein!P128,allgemein!$I$13),IF(ISBLANK(allgemein!P128),\"\",allgemein!P128))","v":{"$error":"#NAME?"}},{"$f":"IF(ISBLANK(allgemein!Q128),\"\",allgemein!Q128)","v":""},{"$f":"IF(ISBLANK(allgemein!R128),\"\",allgemein!R128)","v":""},{"$f":"IF(ISBLANK(allgemein!S128),\"\",allgemein!S128)","v":""},{"$f":"IF(ISBLANK(allgemein!U128),\"\",allgemein!U128)","v":""}]
[{"$f":"IF(ISBLANK(allgemein!D129),\"\",allgemein!D129)","v":112},{"$f":"IF(ISBLANK(allgemein!E129),\"\",allgemein!E129)","v":""},{"$f":"IF(ISBLANK(allgemein!C129),\"\",allgemein!C129)","v":" "},{"$f":"IF(ISBLANK(allgemein!H129),\"\",allgemein!H129)","v":""},{"$f":"IF(ISBLANK(allgemein!I129),\"\",allgemein!I129)","v":""},{"$f":"IF(ISBLANK(allgemein!J129),\"\",allgemein!J129)","v":""},{"$f":"IF(ISBLANK(allgemein!K129),\"\",allgemein!K129)","v":""},{"$f":"IF(ISBLANK(allgemein!F129),\"\",IF(ISBLANK(allgemein!L129),1,0))","v":""},{"$f":"_xlfn.SWITCH(allgemein!M129,1,IF(ISBLANK(allgemein!$F$10),allgemein!M129,allgemein!$F$10),2,IF(ISBLANK(allgemein!$F$11),allgemein!M129,allgemein!$F$11),3,IF(ISBLANK(allgemein!$F$12),allgemein!M129,allgemein!$F$12),4,IF(ISBLANK(allgemein!$F$13),allgemein!M129,allgemein!$F$13),5,IF(ISBLANK(allgemein!$I$10),allgemein!M129,allgemein!$I$10),6,IF(ISBLANK(allgemein!$I$11),allgemein!M129,allgemein!$I$11),7,IF(ISBLANK(allgemein!$I$12),allgemein!M129,allgemein!$I$12),8,IF(ISBLANK(allgemein!$I$13),allgemein!M129,allgemein!$I$13),IF(ISBLANK(allgemein!M129),\"\",allgemein!M129))","v":{"$error":"#NAME?"}},{"$f":"_xlfn.SWITCH(allgemein!N129,1,IF(ISBLANK(allgemein!$F$10),allgemein!N129,allgemein!$F$10),2,IF(ISBLANK(allgemein!$F$11),allgemein!N129,allgemein!$F$11),3,IF(ISBLANK(allgemein!$F$12),allgemein!N129,allgemein!$F$12),4,IF(ISBLANK(allgemein!$F$13),allgemein!N129,allgemein!$F$13),5,IF(ISBLANK(allgemein!$I$10),allgemein!N129,allgemein!$I$10),6,IF(ISBLANK(allgemein!$I$11),allgemein!N129,allgemein!$I$11),7,IF(ISBLANK(allgemein!$I$12),allgemein!N129,allgemein!$I$12),8,IF(ISBLANK(allgemein!$I$13),allgemein!N129,allgemein!$I$13),IF(ISBLANK(allgemein!N129),\"\",allgemein!N129))","v":{"$error":"#NAME?"}},{"$f":"_xlfn.SWITCH(allgemein!O129,1,IF(ISBLANK(allgemein!$F$10),allgemein!O129,allgemein!$F$10),2,IF(ISBLANK(allgemein!$F$11),allgemein!O129,allgemein!$F$11),3,IF(ISBLANK(allgemein!$F$12),allgemein!O129,allgemein!$F$12),4,IF(ISBLANK(allgemein!$F$13),allgemein!O129,allgemein!$F$13),5,IF(ISBLANK(allgemein!$I$10),allgemein!O129,allgemein!$I$10),6,IF(ISBLANK(allgemein!$I$11),allgemein!O129,allgemein!$I$11),7,IF(ISBLANK(allgemein!$I$12),allgemein!O129,allgemein!$I$12),8,IF(ISBLANK(allgemein!$I$13),allgemein!O129,allgemein!$I$13),IF(ISBLANK(allgemein!O129),\"\",allgemein!O129))","v":{"$error":"#NAME?"}},{"$f":"_xlfn.SWITCH(allgemein!P129,1,IF(ISBLANK(allgemein!$F$10),allgemein!P129,allgemein!$F$10),2,IF(ISBLANK(allgemein!$F$11),allgemein!P129,allgemein!$F$11),3,IF(ISBLANK(allgemein!$F$12),allgemein!P129,allgemein!$F$12),4,IF(ISBLANK(allgemein!$F$13),allgemein!P129,allgemein!$F$13),5,IF(ISBLANK(allgemein!$I$10),allgemein!P129,allgemein!$I$10),6,IF(ISBLANK(allgemein!$I$11),allgemein!P129,allgemein!$I$11),7,IF(ISBLANK(allgemein!$I$12),allgemein!P129,allgemein!$I$12),8,IF(ISBLANK(allgemein!$I$13),allgemein!P129,allgemein!$I$13),IF(ISBLANK(allgemein!P129),\"\",allgemein!P129))","v":{"$error":"#NAME?"}},{"$f":"IF(ISBLANK(allgemein!Q129),\"\",allgemein!Q129)","v":""},{"$f":"IF(ISBLANK(allgemein!R129),\"\",allgemein!R129)","v":""},{"$f":"IF(ISBLANK(allgemein!S129),\"\",allgemein!S129)","v":""},{"$f":"IF(ISBLANK(allgemein!U129),\"\",allgemein!U129)","v":""}]
[{"$f":"IF(ISBLANK(allgemein!D130),\"\",allgemein!D130)","v":113},{"$f":"IF(ISBLANK(allgemein!E130),\"\",allgemein!E130)","v":""},{"$f":"IF(ISBLANK(allgemein!C130),\"\",allgemein!C130)","v":" "},{"$f":"IF(ISBLANK(allgemein!H130),\"\",allgemein!H130)","v":""},{"$f":"IF(ISBLANK(allgemein!I130),\"\",allgemein!I130)","v":""},{"$f":"IF(ISBLANK(allgemein!J130),\"\",allgemein!J130)","v":""},{"$f":"IF(ISBLANK(allgemein!K130),\"\",allgemein!K130)","v":""},{"$f":"IF(ISBLANK(allgemein!F130),\"\",IF(ISBLANK(allgemein!L130),1,0))","v":""},{"$f":"_xlfn.SWITCH(allgemein!M130,1,IF(ISBLANK(allgemein!$F$10),allgemein!M130,allgemein!$F$10),2,IF(ISBLANK(allgemein!$F$11),allgemein!M130,allgemein!$F$11),3,IF(ISBLANK(allgemein!$F$12),allgemein!M130,allgemein!$F$12),4,IF(ISBLANK(allgemein!$F$13),allgemein!M130,allgemein!$F$13),5,IF(ISBLANK(allgemein!$I$10),allgemein!M130,allgemein!$I$10),6,IF(ISBLANK(allgemein!$I$11),allgemein!M130,allgemein!$I$11),7,IF(ISBLANK(allgemein!$I$12),allgemein!M130,allgemein!$I$12),8,IF(ISBLANK(allgemein!$I$13),allgemein!M130,allgemein!$I$13),IF(ISBLANK(allgemein!M130),\"\",allgemein!M130))","v":{"$error":"#NAME?"}},{"$f":"_xlfn.SWITCH(allgemein!N130,1,IF(ISBLANK(allgemein!$F$10),allgemein!N130,allgemein!$F$10),2,IF(ISBLANK(allgemein!$F$11),allgemein!N130,allgemein!$F$11),3,IF(ISBLANK(allgemein!$F$12),allgemein!N130,allgemein!$F$12),4,IF(ISBLANK(allgemein!$F$13),allgemein!N130,allgemein!$F$13),5,IF(ISBLANK(allgemein!$I$10),allgemein!N130,allgemein!$I$10),6,IF(ISBLANK(allgemein!$I$11),allgemein!N130,allgemein!$I$11),7,IF(ISBLANK(allgemein!$I$12),allgemein!N130,allgemein!$I$12),8,IF(ISBLANK(allgemein!$I$13),allgemein!N130,allgemein!$I$13),IF(ISBLANK(allgemein!N130),\"\",allgemein!N130))","v":{"$error":"#NAME?"}},{"$f":"_xlfn.SWITCH(allgemein!O130,1,IF(ISBLANK(allgemein!$F$10),allgemein!O130,allgemein!$F$10),2,IF(ISBLANK(allgemein!$F$11),allgemein!O130,allgemein!$F$11),3,IF(ISBLANK(allgemein!$F$12),allgemein!O130,allgemein!$F$12),4,IF(ISBLANK(allgemein!$F$13),allgemein!O130,allgemein!$F$13),5,IF(ISBLANK(allgemein!$I$10),allgemein!O130,allgemein!$I$10),6,IF(ISBLANK(allgemein!$I$11),allgemein!O130,allgemein!$I$11),7,IF(ISBLANK(allgemein!$I$12),allgemein!O130,allgemein!$I$12),8,IF(ISBLANK(allgemein!$I$13),allgemein!O130,allgemein!$I$13),IF(ISBLANK(allgemein!O130),\"\",allgemein!O130))","v":{"$error":"#NAME?"}},{"$f":"_xlfn.SWITCH(allgemein!P130,1,IF(ISBLANK(allgemein!$F$10),allgemein!P130,allgemein!$F$10),2,IF(ISBLANK(allgemein!$F$11),allgemein!P130,allgemein!$F$11),3,IF(ISBLANK(allgemein!$F$12),allgemein!P130,allgemein!$F$12),4,IF(ISBLANK(allgemein!$F$13),allgemein!P130,allgemein!$F$13),5,IF(ISBLANK(allgemein!$I$10),allgemein!P130,allgemein!$I$10),6,IF(ISBLANK(allgemein!$I$11),allgemein!P130,allgemein!$I$11),7,IF(ISBLANK(allgemein!$I$12),allgemein!P130,allgemein!$I$12),8,IF(ISBLANK(allgemein!$I$13),allgemein!P130,allgemein!$I$13),IF(ISBLANK(allgemein!P130),\"\",allgemein!P130))","v":{"$error":"#NAME?"}},{"$f":"IF(ISBLANK(allgemein!Q130),\"\",allgemein!Q130)","v":""},{"$f":"IF(ISBLANK(allgemein!R130),\"\",allgemein!R130)","v":""},{"$f":"IF(ISBLANK(allgemein!S130),\"\",allgemein!S130)","v":""},{"$f":"IF(ISBLANK(allgemein!U130),\"\",allgemein!U130)","v":""}]
[{"$f":"IF(ISBLANK(allgemein!D131),\"\",allgemein!D131)","v":114},{"$f":"IF(ISBLANK(allgemein!E131),\"\",allgemein!E131)","v":""},{"$f":"IF(ISBLANK(allgemein!C131),\"\",allgemein!C131)","v":" "},{"$f":"IF(ISBLANK(allgemein!H131),\"\",allgemein!H131)","v":""},{"$f":"IF(ISBLANK(allgemein!I131),\"\",allgemein!I131)","v":""},{"$f":"IF(ISBLANK(allgemein!J131),\"\",allgemein!J131)","v":""},{"$f":"IF(ISBLANK(allgemein!K131),\"\",allgemein!K131)","v":""},{"$f":"IF(ISBLANK(allgemein!F131),\"\",IF(ISBLANK(allgemein!L131),1,0))","v":""},{"$f":"_xlfn.SWITCH(allgemein!M131,1,IF(ISBLANK(allgemein!$F$10),allgemein!M131,allgemein!$F$10),2,IF(ISBLANK(allgemein!$F$11),allgemein!M131,allgemein!$F$11),3,IF(ISBLANK(allgemein!$F$12),allgemein!M131,allgemein!$F$12),4,IF(ISBLANK(allgemein!$F$13),allgemein!M131,allgemein!$F$13),5,IF(ISBLANK(allgemein!$I$10),allgemein!M131,allgemein!$I$10),6,IF(ISBLANK(allgemein!$I$11),allgemein!M131,allgemein!$I$11),7,IF(ISBLANK(allgemein!$I$12),allgemein!M131,allgemein!$I$12),8,IF(ISBLANK(allgemein!$I$13),allgemein!M131,allgemein!$I$13),IF(ISBLANK(allgemein!M131),\"\",allgemein!M131))","v":{"$error":"#NAME?"}},{"$f":"_xlfn.SWITCH(allgemein!N131,1,IF(ISBLANK(allgemein!$F$10),allgemein!N131,allgemein!$F$10),2,IF(ISBLANK(allgemein!$F$11),allgemein!N131,allgemein!$F$11),3,IF(ISBLANK(allgemein!$F$12),allgemein!N131,allgemein!$F$12),4,IF(ISBLANK(allgemein!$F$13),allgemein!N131,allgemein!$F$13),5,IF(ISBLANK(allgemein!$I$10),allgemein!N131,allgemein!$I$10),6,IF(ISBLANK(allgemein!$I$11),allgemein!N131,allgemein!$I$11),7,IF(ISBLANK(allgemein!$I$12),allgemein!N131,allgemein!$I$12),8,IF(ISBLANK(allgemein!$I$13),allgemein!N131,allgemein!$I$13),IF(ISBLANK(allgemein!N131),\"\",allgemein!N131))","v":{"$error":"#NAME?"}},{"$f":"_xlfn.SWITCH(allgemein!O131,1,IF(ISBLANK(allgemein!$F$10),allgemein!O131,allgemein!$F$10),2,IF(ISBLANK(allgemein!$F$11),allgemein!O131,allgemein!$F$11),3,IF(ISBLANK(allgemein!$F$12),allgemein!O131,allgemein!$F$12),4,IF(ISBLANK(allgemein!$F$13),allgemein!O131,allgemein!$F$13),5,IF(ISBLANK(allgemein!$I$10),allgemein!O131,allgemein!$I$10),6,IF(ISBLANK(allgemein!$I$11),allgemein!O131,allgemein!$I$11),7,IF(ISBLANK(allgemein!$I$12),allgemein!O131,allgemein!$I$12),8,IF(ISBLANK(allgemein!$I$13),allgemein!O131,allgemein!$I$13),IF(ISBLANK(allgemein!O131),\"\",allgemein!O131))","v":{"$error":"#NAME?"}},{"$f":"_xlfn.SWITCH(allgemein!P131,1,IF(ISBLANK(allgemein!$F$10),allgemein!P131,allgemein!$F$10),2,IF(ISBLANK(allgemein!$F$11),allgemein!P131,allgemein!$F$11),3,IF(ISBLANK(allgemein!$F$12),allgemein!P131,allgemein!$F$12),4,IF(ISBLANK(allgemein!$F$13),allgemein!P131,allgemein!$F$13),5,IF(ISBLANK(allgemein!$I$10),allgemein!P131,allgemein!$I$10),6,IF(ISBLANK(allgemein!$I$11),allgemein!P131,allgemein!$I$11),7,IF(ISBLANK(allgemein!$I$12),allgemein!P131,allgemein!$I$12),8,IF(ISBLANK(allgemein!$I$13),allgemein!P131,allgemein!$I$13),IF(ISBLANK(allgemein!P131),\"\",allgemein!P131))","v":{"$error":"#NAME?"}},{"$f":"IF(ISBLANK(allgemein!Q131),\"\",allgemein!Q131)","v":""},{"$f":"IF(ISBLANK(allgemein!R131),\"\",allgemein!R131)","v":""},{"$f":"IF(ISBLANK(allgemein!S131),\"\",allgemein!S131)","v":""},{"$f":"IF(ISBLANK(allgemein!U131),\"\",allgemein!U131)","v":""}]
[{"$f":"IF(ISBLANK(allgemein!D132),\"\",allgemein!D132)","v":115},{"$f":"IF(ISBLANK(allgemein!E132),\"\",allgemein!E132)","v":""},{"$f":"IF(ISBLANK(allgemein!C132),\"\",allgemein!C132)","v":" "},{"$f":"IF(ISBLANK(allgemein!H132),\"\",allgemein!H132)","v":""},{"$f":"IF(ISBLANK(allgemein!I132),\"\",allgemein!I132)","v":""},{"$f":"IF(ISBLANK(allgemein!J132),\"\",allgemein!J132)","v":""},{"$f":"IF(ISBLANK(allgemein!K132),\"\",allgemein!K132)","v":""},{"$f":"IF(ISBLANK(allgemein!F132),\"\",IF(ISBLANK(allgemein!L132),1,0))","v":""},{"$f":"_xlfn.SWITCH(allgemein!M132,1,IF(ISBLANK(allgemein!$F$10),allgemein!M132,allgemein!$F$10),2,IF(ISBLANK(allgemein!$F$11),allgemein!M132,allgemein!$F$11),3,IF(ISBLANK(allgemein!$F$12),allgemein!M132,allgemein!$F$12),4,IF(ISBLANK(allgemein!$F$13),allgemein!M132,allgemein!$F$13),5,IF(ISBLANK(allgemein!$I$10),allgemein!M132,allgemein!$I$10),6,IF(ISBLANK(allgemein!$I$11),allgemein!M132,allgemein!$I$11),7,IF(ISBLANK(allgemein!$I$12),allgemein!M132,allgemein!$I$12),8,IF(ISBLANK(allgemein!$I$13),allgemein!M132,allgemein!$I$13),IF(ISBLANK(allgemein!M132),\"\",allgemein!M132))","v":{"$error":"#NAME?"}},{"$f":"_xlfn.SWITCH(allgemein!N132,1,IF(ISBLANK(allgemein!$F$10),allgemein!N132,allgemein!$F$10),2,IF(ISBLANK(allgemein!$F$11),allgemein!N132,allgemein!$F$11),3,IF(ISBLANK(allgemein!$F$12),allgemein!N132,allgemein!$F$12),4,IF(ISBLANK(allgemein!$F$13),allgemein!N132,allgemein!$F$13),5,IF(ISBLANK(allgemein!$I$10),allgemein!N132,allgemein!$I$10),6,IF(ISBLANK(allgemein!$I$11),allgemein!N132,allgemein!$I$11),7,IF(ISBLANK(allgemein!$I$12),allgemein!N132,allgemein!$I$12),8,IF(ISBLANK(allgemein!$I$13),allgemein!N132,allgemein!$I$13),IF(ISBLANK(allgemein!N132),\"\",allgemein!N132))","v":{"$error":"#NAME?"}},{"$f":"_xlfn.SWITCH(allgemein!O132,1,IF(ISBLANK(allgemein!$F$10),allgemein!O132,allgemein!$F$10),2,IF(ISBLANK(allgemein!$F$11),allgemein!O132,allgemein!$F$11),3,IF(ISBLANK(allgemein!$F$12),allgemein!O132,allgemein!$F$12),4,IF(ISBLANK(allgemein!$F$13),allgemein!O132,allgemein!$F$13),5,IF(ISBLANK(allgemein!$I$10),allgemein!O132,allgemein!$I$10),6,IF(ISBLANK(allgemein!$I$11),allgemein!O132,allgemein!$I$11),7,IF(ISBLANK(allgemein!$I$12),allgemein!O132,allgemein!$I$12),8,IF(ISBLANK(allgemein!$I$13),allgemein!O132,allgemein!$I$13),IF(ISBLANK(allgemein!O132),\"\",allgemein!O132))","v":{"$error":"#NAME?"}},{"$f":"_xlfn.SWITCH(allgemein!P132,1,IF(ISBLANK(allgemein!$F$10),allgemein!P132,allgemein!$F$10),2,IF(ISBLANK(allgemein!$F$11),allgemein!P132,allgemein!$F$11),3,IF(ISBLANK(allgemein!$F$12),allgemein!P132,allgemein!$F$12),4,IF(ISBLANK(allgemein!$F$13),allgemein!P132,allgemein!$F$13),5,IF(ISBLANK(allgemein!$I$10),allgemein!P132,allgemein!$I$10),6,IF(ISBLANK(allgemein!$I$11),allgemein!P132,allgemein!$I$11),7,IF(ISBLANK(allgemein!$I$12),allgemein!P132,allgemein!$I$12),8,IF(ISBLANK(allgemein!$I$13),allgemein!P132,allgemein!$I$13),IF(ISBLANK(allgemein!P132),\"\",allgemein!P132))","v":{"$error":"#NAME?"}},{"$f":"IF(ISBLANK(allgemein!Q132),\"\",allgemein!Q132)","v":""},{"$f":"IF(ISBLANK(allgemein!R132),\"\",allgemein!R132)","v":""},{"$f":"IF(ISBLANK(allgemein!S132),\"\",allgemein!S132)","v":""},{"$f":"IF(ISBLANK(allgemein!U132),\"\",allgemein!U132)","v":""}]
[{"$f":"IF(ISBLANK(allgemein!D133),\"\",allgemein!D133)","v":116},{"$f":"IF(ISBLANK(allgemein!E133),\"\",allgemein!E133)","v":""},{"$f":"IF(ISBLANK(allgemein!C133),\"\",allgemein!C133)","v":" "},{"$f":"IF(ISBLANK(allgemein!H133),\"\",allgemein!H133)","v":""},{"$f":"IF(ISBLANK(allgemein!I133),\"\",allgemein!I133)","v":""},{"$f":"IF(ISBLANK(allgemein!J133),\"\",allgemein!J133)","v":""},{"$f":"IF(ISBLANK(allgemein!K133),\"\",allgemein!K133)","v":""},{"$f":"IF(ISBLANK(allgemein!F133),\"\",IF(ISBLANK(allgemein!L133),1,0))","v":""},{"$f":"_xlfn.SWITCH(allgemein!M133,1,IF(ISBLANK(allgemein!$F$10),allgemein!M133,allgemein!$F$10),2,IF(ISBLANK(allgemein!$F$11),allgemein!M133,allgemein!$F$11),3,IF(ISBLANK(allgemein!$F$12),allgemein!M133,allgemein!$F$12),4,IF(ISBLANK(allgemein!$F$13),allgemein!M133,allgemein!$F$13),5,IF(ISBLANK(allgemein!$I$10),allgemein!M133,allgemein!$I$10),6,IF(ISBLANK(allgemein!$I$11),allgemein!M133,allgemein!$I$11),7,IF(ISBLANK(allgemein!$I$12),allgemein!M133,allgemein!$I$12),8,IF(ISBLANK(allgemein!$I$13),allgemein!M133,allgemein!$I$13),IF(ISBLANK(allgemein!M133),\"\",allgemein!M133))","v":{"$error":"#NAME?"}},{"$f":"_xlfn.SWITCH(allgemein!N133,1,IF(ISBLANK(allgemein!$F$10),allgemein!N133,allgemein!$F$10),2,IF(ISBLANK(allgemein!$F$11),allgemein!N133,allgemein!$F$11),3,IF(ISBLANK(allgemein!$F$12),allgemein!N133,allgemein!$F$12),4,IF(ISBLANK(allgemein!$F$13),allgemein!N133,allgemein!$F$13),5,IF(ISBLANK(allgemein!$I$10),allgemein!N133,allgemein!$I$10),6,IF(ISBLANK(allgemein!$I$11),allgemein!N133,allgemein!$I$11),7,IF(ISBLANK(allgemein!$I$12),allgemein!N133,allgemein!$I$12),8,IF(ISBLANK(allgemein!$I$13),allgemein!N133,allgemein!$I$13),IF(ISBLANK(allgemein!N133),\"\",allgemein!N133))","v":{"$error":"#NAME?"}},{"$f":"_xlfn.SWITCH(allgemein!O133,1,IF(ISBLANK(allgemein!$F$10),allgemein!O133,allgemein!$F$10),2,IF(ISBLANK(allgemein!$F$11),allgemein!O133,allgemein!$F$11),3,IF(ISBLANK(allgemein!$F$12),allgemein!O133,allgemein!$F$12),4,IF(ISBLANK(allgemein!$F$13),allgemein!O133,allgemein!$F$13),5,IF(ISBLANK(allgemein!$I$10),allgemein!O133,allgemein!$I$10),6,IF(ISBLANK(allgemein!$I$11),allgemein!O133,allgemein!$I$11),7,IF(ISBLANK(allgemein!$I$12),allgemein!O133,allgemein!$I$12),8,IF(ISBLANK(allgemein!$I$13),allgemein!O133,allgemein!$I$13),IF(ISBLANK(allgemein!O133),\"\",allgemein!O133))","v":{"$error":"#NAME?"}},{"$f":"_xlfn.SWITCH(allgemein!P133,1,IF(ISBLANK(allgemein!$F$10),allgemein!P133,allgemein!$F$10),2,IF(ISBLANK(allgemein!$F$11),allgemein!P133,allgemein!$F$11),3,IF(ISBLANK(allgemein!$F$12),allgemein!P133,allgemein!$F$12),4,IF(ISBLANK(allgemein!$F$13),allgemein!P133,allgemein!$F$13),5,IF(ISBLANK(allgemein!$I$10),allgemein!P133,allgemein!$I$10),6,IF(ISBLANK(allgemein!$I$11),allgemein!P133,allgemein!$I$11),7,IF(ISBLANK(allgemein!$I$12),allgemein!P133,allgemein!$I$12),8,IF(ISBLANK(allgemein!$I$13),allgemein!P133,allgemein!$I$13),IF(ISBLANK(allgemein!P133),\"\",allgemein!P133))","v":{"$error":"#NAME?"}},{"$f":"IF(ISBLANK(allgemein!Q133),\"\",allgemein!Q133)","v":""},{"$f":"IF(ISBLANK(allgemein!R133),\"\",allgemein!R133)","v":""},{"$f":"IF(ISBLANK(allgemein!S133),\"\",allgemein!S133)","v":""},{"$f":"IF(ISBLANK(allgemein!U133),\"\",allgemein!U133)","v":""}]
[{"$f":"IF(ISBLANK(allgemein!D134),\"\",allgemein!D134)","v":117},{"$f":"IF(ISBLANK(allgemein!E134),\"\",allgemein!E134)","v":""},{"$f":"IF(ISBLANK(allgemein!C134),\"\",allgemein!C134)","v":" "},{"$f":"IF(ISBLANK(allgemein!H134),\"\",allgemein!H134)","v":""},{"$f":"IF(ISBLANK(allgemein!I134),\"\",allgemein!I134)","v":""},{"$f":"IF(ISBLANK(allgemein!J134),\"\",allgemein!J134)","v":""},{"$f":"IF(ISBLANK(allgemein!K134),\"\",allgemein!K134)","v":""},{"$f":"IF(ISBLANK(allgemein!F134),\"\",IF(ISBLANK(allgemein!L134),1,0))","v":""},{"$f":"_xlfn.SWITCH(allgemein!M134,1,IF(ISBLANK(allgemein!$F$10),allgemein!M134,allgemein!$F$10),2,IF(ISBLANK(allgemein!$F$11),allgemein!M134,allgemein!$F$11),3,IF(ISBLANK(allgemein!$F$12),allgemein!M134,allgemein!$F$12),4,IF(ISBLANK(allgemein!$F$13),allgemein!M134,allgemein!$F$13),5,IF(ISBLANK(allgemein!$I$10),allgemein!M134,allgemein!$I$10),6,IF(ISBLANK(allgemein!$I$11),allgemein!M134,allgemein!$I$11),7,IF(ISBLANK(allgemein!$I$12),allgemein!M134,allgemein!$I$12),8,IF(ISBLANK(allgemein!$I$13),allgemein!M134,allgemein!$I$13),IF(ISBLANK(allgemein!M134),\"\",allgemein!M134))","v":{"$error":"#NAME?"}},{"$f":"_xlfn.SWITCH(allgemein!N134,1,IF(ISBLANK(allgemein!$F$10),allgemein!N134,allgemein!$F$10),2,IF(ISBLANK(allgemein!$F$11),allgemein!N134,allgemein!$F$11),3,IF(ISBLANK(allgemein!$F$12),allgemein!N134,allgemein!$F$12),4,IF(ISBLANK(allgemein!$F$13),allgemein!N134,allgemein!$F$13),5,IF(ISBLANK(allgemein!$I$10),allgemein!N134,allgemein!$I$10),6,IF(ISBLANK(allgemein!$I$11),allgemein!N134,allgemein!$I$11),7,IF(ISBLANK(allgemein!$I$12),allgemein!N134,allgemein!$I$12),8,IF(ISBLANK(allgemein!$I$13),allgemein!N134,allgemein!$I$13),IF(ISBLANK(allgemein!N134),\"\",allgemein!N134))","v":{"$error":"#NAME?"}},{"$f":"_xlfn.SWITCH(allgemein!O134,1,IF(ISBLANK(allgemein!$F$10),allgemein!O134,allgemein!$F$10),2,IF(ISBLANK(allgemein!$F$11),allgemein!O134,allgemein!$F$11),3,IF(ISBLANK(allgemein!$F$12),allgemein!O134,allgemein!$F$12),4,IF(ISBLANK(allgemein!$F$13),allgemein!O134,allgemein!$F$13),5,IF(ISBLANK(allgemein!$I$10),allgemein!O134,allgemein!$I$10),6,IF(ISBLANK(allgemein!$I$11),allgemein!O134,allgemein!$I$11),7,IF(ISBLANK(allgemein!$I$12),allgemein!O134,allgemein!$I$12),8,IF(ISBLANK(allgemein!$I$13),allgemein!O134,allgemein!$I$13),IF(ISBLANK(allgemein!O134),\"\",allgemein!O134))","v":{"$error":"#NAME?"}},{"$f":"_xlfn.SWITCH(allgemein!P134,1,IF(ISBLANK(allgemein!$F$10),allgemein!P134,allgemein!$F$10),2,IF(ISBLANK(allgemein!$F$11),allgemein!P134,allgemein!$F$11),3,IF(ISBLANK(allgemein!$F$12),allgemein!P134,allgemein!$F$12),4,IF(ISBLANK(allgemein!$F$13),allgemein!P134,allgemein!$F$13),5,IF(ISBLANK(allgemein!$I$10),allgemein!P134,allgemein!$I$10),6,IF(ISBLANK(allgemein!$I$11),allgemein!P134,allgemein!$I$11),7,IF(ISBLANK(allgemein!$I$12),allgemein!P134,allgemein!$I$12),8,IF(ISBLANK(allgemein!$I$13),allgemein!P134,allgemein!$I$13),IF(ISBLANK(allgemein!P134),\"\",allgemein!P134))","v":{"$error":"#NAME?"}},{"$f":"IF(ISBLANK(allgemein!Q134),\"\",allgemein!Q134)","v":""},{"$f":"IF(ISBLANK(allgemein!R134),\"\",allgemein!R134)","v":""},{"$f":"IF(ISBLANK(allgemein!S134),\"\",allgemein!S134)","v":""},{"$f":"IF(ISBLANK(allgemein!U134),\"\",allgemein!U134)","v":""}]
[{"$f":"IF(ISBLANK(allgemein!D135),\"\",allgemein!D135)","v":118},{"$f":"IF(ISBLANK(allgemein!E135),\"\",allgemein!E135)","v":""},{"$f":"IF(ISBLANK(allgemein!C135),\"\",allgemein!C135)","v":" "},{"$f":"IF(ISBLANK(allgemein!H135),\"\",allgemein!H135)","v":""},{"$f":"IF(ISBLANK(allgemein!I135),\"\",allgemein!I135)","v":""},{"$f":"IF(ISBLANK(allgemein!J135),\"\",allgemein!J135)","v":""},{"$f":"IF(ISBLANK(allgemein!K135),\"\",allgemein!K135)","v":""},{"$f":"IF(ISBLANK(allgemein!F135),\"\",IF(ISBLANK(allgemein!L135),1,0))","v":""},{"$f":"_xlfn.SWITCH(allgemein!M135,1,IF(ISBLANK(allgemein!$F$10),allgemein!M135,allgemein!$F$10),2,IF(ISBLANK(allgemein!$F$11),allgemein!M135,allgemein!$F$11),3,IF(ISBLANK(allgemein!$F$12),allgemein!M135,allgemein!$F$12),4,IF(ISBLANK(allgemein!$F$13),allgemein!M135,allgemein!$F$13),5,IF(ISBLANK(allgemein!$I$10),allgemein!M135,allgemein!$I$10),6,IF(ISBLANK(allgemein!$I$11),allgemein!M135,allgemein!$I$11),7,IF(ISBLANK(allgemein!$I$12),allgemein!M135,allgemein!$I$12),8,IF(ISBLANK(allgemein!$I$13),allgemein!M135,allgemein!$I$13),IF(ISBLANK(allgemein!M135),\"\",allgemein!M135))","v":{"$error":"#NAME?"}},{"$f":"_xlfn.SWITCH(allgemein!N135,1,IF(ISBLANK(allgemein!$F$10),allgemein!N135,allgemein!$F$10),2,IF(ISBLANK(allgemein!$F$11),allgemein!N135,allgemein!$F$11),3,IF(ISBLANK(allgemein!$F$12),allgemein!N135,allgemein!$F$12),4,IF(ISBLANK(allgemein!$F$13),allgemein!N135,allgemein!$F$13),5,IF(ISBLANK(allgemein!$I$10),allgemein!N135,allgemein!$I$10),6,IF(ISBLANK(allgemein!$I$11),allgemein!N135,allgemein!$I$11),7,IF(ISBLANK(allgemein!$I$12),allgemein!N135,allgemein!$I$12),8,IF(ISBLANK(allgemein!$I$13),allgemein!N135,allgemein!$I$13),IF(ISBLANK(allgemein!N135),\"\",allgemein!N135))","v":{"$error":"#NAME?"}},{"$f":"_xlfn.SWITCH(allgemein!O135,1,IF(ISBLANK(allgemein!$F$10),allgemein!O135,allgemein!$F$10),2,IF(ISBLANK(allgemein!$F$11),allgemein!O135,allgemein!$F$11),3,IF(ISBLANK(allgemein!$F$12),allgemein!O135,allgemein!$F$12),4,IF(ISBLANK(allgemein!$F$13),allgemein!O135,allgemein!$F$13),5,IF(ISBLANK(allgemein!$I$10),allgemein!O135,allgemein!$I$10),6,IF(ISBLANK(allgemein!$I$11),allgemein!O135,allgemein!$I$11),7,IF(ISBLANK(allgemein!$I$12),allgemein!O135,allgemein!$I$12),8,IF(ISBLANK(allgemein!$I$13),allgemein!O135,allgemein!$I$13),IF(ISBLANK(allgemein!O135),\"\",allgemein!O135))","v":{"$error":"#NAME?"}},{"$f":"_xlfn.SWITCH(allgemein!P135,1,IF(ISBLANK(allgemein!$F$10),allgemein!P135,allgemein!$F$10),2,IF(ISBLANK(allgemein!$F$11),allgemein!P135,allgemein!$F$11),3,IF(ISBLANK(allgemein!$F$12),allgemein!P135,allgemein!$F$12),4,IF(ISBLANK(allgemein!$F$13),allgemein!P135,allgemein!$F$13),5,IF(ISBLANK(allgemein!$I$10),allgemein!P135,allgemein!$I$10),6,IF(ISBLANK(allgemein!$I$11),allgemein!P135,allgemein!$I$11),7,IF(ISBLANK(allgemein!$I$12),allgemein!P135,allgemein!$I$12),8,IF(ISBLANK(allgemein!$I$13),allgemein!P135,allgemein!$I$13),IF(ISBLANK(allgemein!P135),\"\",allgemein!P135))","v":{"$error":"#NAME?"}},{"$f":"IF(ISBLANK(allgemein!Q135),\"\",allgemein!Q135)","v":""},{"$f":"IF(ISBLANK(allgemein!R135),\"\",allgemein!R135)","v":""},{"$f":"IF(ISBLANK(allgemein!S135),\"\",allgemein!S135)","v":""},{"$f":"IF(ISBLANK(allgemein!U135),\"\",allgemein!U135)","v":""}]
[{"$f":"IF(ISBLANK(allgemein!D136),\"\",allgemein!D136)","v":119},{"$f":"IF(ISBLANK(allgemein!E136),\"\",allgemein!E136)","v":""},{"$f":"IF(ISBLANK(allgemein!C136),\"\",allgemein!C136)","v":" "},{"$f":"IF(ISBLANK(allgemein!H136),\"\",allgemein!H136)","v":""},{"$f":"IF(ISBLANK(allgemein!I136),\"\",allgemein!I136)","v":""},{"$f":"IF(ISBLANK(allgemein!J136),\"\",allgemein!J136)","v":""},{"$f":"IF(ISBLANK(allgemein!K136),\"\",allgemein!K136)","v":""},{"$f":"IF(ISBLANK(allgemein!F136),\"\",IF(ISBLANK(allgemein!L136),1,0))","v":""},{"$f":"_xlfn.SWITCH(allgemein!M136,1,IF(ISBLANK(allgemein!$F$10),allgemein!M136,allgemein!$F$10),2,IF(ISBLANK(allgemein!$F$11),allgemein!M136,allgemein!$F$11),3,IF(ISBLANK(allgemein!$F$12),allgemein!M136,allgemein!$F$12),4,IF(ISBLANK(allgemein!$F$13),allgemein!M136,allgemein!$F$13),5,IF(ISBLANK(allgemein!$I$10),allgemein!M136,allgemein!$I$10),6,IF(ISBLANK(allgemein!$I$11),allgemein!M136,allgemein!$I$11),7,IF(ISBLANK(allgemein!$I$12),allgemein!M136,allgemein!$I$12),8,IF(ISBLANK(allgemein!$I$13),allgemein!M136,allgemein!$I$13),IF(ISBLANK(allgemein!M136),\"\",allgemein!M136))","v":{"$error":"#NAME?"}},{"$f":"_xlfn.SWITCH(allgemein!N136,1,IF(ISBLANK(allgemein!$F$10),allgemein!N136,allgemein!$F$10),2,IF(ISBLANK(allgemein!$F$11),allgemein!N136,allgemein!$F$11),3,IF(ISBLANK(allgemein!$F$12),allgemein!N136,allgemein!$F$12),4,IF(ISBLANK(allgemein!$F$13),allgemein!N136,allgemein!$F$13),5,IF(ISBLANK(allgemein!$I$10),allgemein!N136,allgemein!$I$10),6,IF(ISBLANK(allgemein!$I$11),allgemein!N136,allgemein!$I$11),7,IF(ISBLANK(allgemein!$I$12),allgemein!N136,allgemein!$I$12),8,IF(ISBLANK(allgemein!$I$13),allgemein!N136,allgemein!$I$13),IF(ISBLANK(allgemein!N136),\"\",allgemein!N136))","v":{"$error":"#NAME?"}},{"$f":"_xlfn.SWITCH(allgemein!O136,1,IF(ISBLANK(allgemein!$F$10),allgemein!O136,allgemein!$F$10),2,IF(ISBLANK(allgemein!$F$11),allgemein!O136,allgemein!$F$11),3,IF(ISBLANK(allgemein!$F$12),allgemein!O136,allgemein!$F$12),4,IF(ISBLANK(allgemein!$F$13),allgemein!O136,allgemein!$F$13),5,IF(ISBLANK(allgemein!$I$10),allgemein!O136,allgemein!$I$10),6,IF(ISBLANK(allgemein!$I$11),allgemein!O136,allgemein!$I$11),7,IF(ISBLANK(allgemein!$I$12),allgemein!O136,allgemein!$I$12),8,IF(ISBLANK(allgemein!$I$13),allgemein!O136,allgemein!$I$13),IF(ISBLANK(allgemein!O136),\"\",allgemein!O136))","v":{"$error":"#NAME?"}},{"$f":"_xlfn.SWITCH(allgemein!P136,1,IF(ISBLANK(allgemein!$F$10),allgemein!P136,allgemein!$F$10),2,IF(ISBLANK(allgemein!$F$11),allgemein!P136,allgemein!$F$11),3,IF(ISBLANK(allgemein!$F$12),allgemein!P136,allgemein!$F$12),4,IF(ISBLANK(allgemein!$F$13),allgemein!P136,allgemein!$F$13),5,IF(ISBLANK(allgemein!$I$10),allgemein!P136,allgemein!$I$10),6,IF(ISBLANK(allgemein!$I$11),allgemein!P136,allgemein!$I$11),7,IF(ISBLANK(allgemein!$I$12),allgemein!P136,allgemein!$I$12),8,IF(ISBLANK(allgemein!$I$13),allgemein!P136,allgemein!$I$13),IF(ISBLANK(allgemein!P136),\"\",allgemein!P136))","v":{"$error":"#NAME?"}},{"$f":"IF(ISBLANK(allgemein!Q136),\"\",allgemein!Q136)","v":""},{"$f":"IF(ISBLANK(allgemein!R136),\"\",allgemein!R136)","v":""},{"$f":"IF(ISBLANK(allgemein!S136),\"\",allgemein!S136)","v":""},{"$f":"IF(ISBLANK(allgemein!U136),\"\",allgemein!U136)","v":""}]
[{"$f":"IF(ISBLANK(allgemein!D137),\"\",allgemein!D137)","v":120},{"$f":"IF(ISBLANK(allgemein!E137),\"\",allgemein!E137)","v":""},{"$f":"IF(ISBLANK(allgemein!C137),\"\",allgemein!C137)","v":" "},{"$f":"IF(ISBLANK(allgemein!H137),\"\",allgemein!H137)","v":""},{"$f":"IF(ISBLANK(allgemein!I137),\"\",allgemein!I137)","v":""},{"$f":"IF(ISBLANK(allgemein!J137),\"\",allgemein!J137)","v":""},{"$f":"IF(ISBLANK(allgemein!K137),\"\",allgemein!K137)","v":""},{"$f":"IF(ISBLANK(allgemein!F137),\"\",IF(ISBLANK(allgemein!L137),1,0))","v":""},{"$f":"_xlfn.SWITCH(allgemein!M137,1,IF(ISBLANK(allgemein!$F$10),allgemein!M137,allgemein!$F$10),2,IF(ISBLANK(allgemein!$F$11),allgemein!M137,allgemein!$F$11),3,IF(ISBLANK(allgemein!$F$12),allgemein!M137,allgemein!$F$12),4,IF(ISBLANK(allgemein!$F$13),allgemein!M137,allgemein!$F$13),5,IF(ISBLANK(allgemein!$I$10),allgemein!M137,allgemein!$I$10),6,IF(ISBLANK(allgemein!$I$11),allgemein!M137,allgemein!$I$11),7,IF(ISBLANK(allgemein!$I$12),allgemein!M137,allgemein!$I$12),8,IF(ISBLANK(allgemein!$I$13),allgemein!M137,allgemein!$I$13),IF(ISBLANK(allgemein!M137),\"\",allgemein!M137))","v":{"$error":"#NAME?"}},{"$f":"_xlfn.SWITCH(allgemein!N137,1,IF(ISBLANK(allgemein!$F$10),allgemein!N137,allgemein!$F$10),2,IF(ISBLANK(allgemein!$F$11),allgemein!N137,allgemein!$F$11),3,IF(ISBLANK(allgemein!$F$12),allgemein!N137,allgemein!$F$12),4,IF(ISBLANK(allgemein!$F$13),allgemein!N137,allgemein!$F$13),5,IF(ISBLANK(allgemein!$I$10),allgemein!N137,allgemein!$I$10),6,IF(ISBLANK(allgemein!$I$11),allgemein!N137,allgemein!$I$11),7,IF(ISBLANK(allgemein!$I$12),allgemein!N137,allgemein!$I$12),8,IF(ISBLANK(allgemein!$I$13),allgemein!N137,allgemein!$I$13),IF(ISBLANK(allgemein!N137),\"\",allgemein!N137))","v":{"$error":"#NAME?"}},{"$f":"_xlfn.SWITCH(allgemein!O137,1,IF(ISBLANK(allgemein!$F$10),allgemein!O137,allgemein!$F$10),2,IF(ISBLANK(allgemein!$F$11),allgemein!O137,allgemein!$F$11),3,IF(ISBLANK(allgemein!$F$12),allgemein!O137,allgemein!$F$12),4,IF(ISBLANK(allgemein!$F$13),allgemein!O137,allgemein!$F$13),5,IF(ISBLANK(allgemein!$I$10),allgemein!O137,allgemein!$I$10),6,IF(ISBLANK(allgemein!$I$11),allgemein!O137,allgemein!$I$11),7,IF(ISBLANK(allgemein!$I$12),allgemein!O137,allgemein!$I$12),8,IF(ISBLANK(allgemein!$I$13),allgemein!O137,allgemein!$I$13),IF(ISBLANK(allgemein!O137),\"\",allgemein!O137))","v":{"$error":"#NAME?"}},{"$f":"_xlfn.SWITCH(allgemein!P137,1,IF(ISBLANK(allgemein!$F$10),allgemein!P137,allgemein!$F$10),2,IF(ISBLANK(allgemein!$F$11),allgemein!P137,allgemein!$F$11),3,IF(ISBLANK(allgemein!$F$12),allgemein!P137,allgemein!$F$12),4,IF(ISBLANK(allgemein!$F$13),allgemein!P137,allgemein!$F$13),5,IF(ISBLANK(allgemein!$I$10),allgemein!P137,allgemein!$I$10),6,IF(ISBLANK(allgemein!$I$11),allgemein!P137,allgemein!$I$11),7,IF(ISBLANK(allgemein!$I$12),allgemein!P137,allgemein!$I$12),8,IF(ISBLANK(allgemein!$I$13),allgemein!P137,allgemein!$I$13),IF(ISBLANK(allgemein!P137),\"\",allgemein!P137))","v":{"$error":"#NAME?"}},{"$f":"IF(ISBLANK(allgemein!Q137),\"\",allgemein!Q137)","v":""},{"$f":"IF(ISBLANK(allgemein!R137),\"\",allgemein!R137)","v":""},{"$f":"IF(ISBLANK(allgemein!S137),\"\",allgemein!S137)","v":""},{"$f":"IF(ISBLANK(allgemein!U137),\"\",allgemein!U137)","v":""}]
[{"$f":"IF(ISBLANK(allgemein!D138),\"\",allgemein!D138)","v":121},{"$f":"IF(ISBLANK(allgemein!E138),\"\",allgemein!E138)","v":""},{"$f":"IF(ISBLANK(allgemein!C138),\"\",allgemein!C138)","v":" "},{"$f":"IF(ISBLANK(allgemein!H138),\"\",allgemein!H138)","v":""},{"$f":"IF(ISBLANK(allgemein!I138),\"\",allgemein!I138)","v":""},{"$f":"IF(ISBLANK(allgemein!J138),\"\",allgemein!J138)","v":""},{"$f":"IF(ISBLANK(allgemein!K138),\"\",allgemein!K138)","v":""},{"$f":"IF(ISBLANK(allgemein!F138),\"\",IF(ISBLANK(allgemein!L138),1,0))","v":""},{"$f":"_xlfn.SWITCH(allgemein!M138,1,IF(ISBLANK(allgemein!$F$10),allgemein!M138,allgemein!$F$10),2,IF(ISBLANK(allgemein!$F$11),allgemein!M138,allgemein!$F$11),3,IF(ISBLANK(allgemein!$F$12),allgemein!M138,allgemein!$F$12),4,IF(ISBLANK(allgemein!$F$13),allgemein!M138,allgemein!$F$13),5,IF(ISBLANK(allgemein!$I$10),allgemein!M138,allgemein!$I$10),6,IF(ISBLANK(allgemein!$I$11),allgemein!M138,allgemein!$I$11),7,IF(ISBLANK(allgemein!$I$12),allgemein!M138,allgemein!$I$12),8,IF(ISBLANK(allgemein!$I$13),allgemein!M138,allgemein!$I$13),IF(ISBLANK(allgemein!M138),\"\",allgemein!M138))","v":{"$error":"#NAME?"}},{"$f":"_xlfn.SWITCH(allgemein!N138,1,IF(ISBLANK(allgemein!$F$10),allgemein!N138,allgemein!$F$10),2,IF(ISBLANK(allgemein!$F$11),allgemein!N138,allgemein!$F$11),3,IF(ISBLANK(allgemein!$F$12),allgemein!N138,allgemein!$F$12),4,IF(ISBLANK(allgemein!$F$13),allgemein!N138,allgemein!$F$13),5,IF(ISBLANK(allgemein!$I$10),allgemein!N138,allgemein!$I$10),6,IF(ISBLANK(allgemein!$I$11),allgemein!N138,allgemein!$I$11),7,IF(ISBLANK(allgemein!$I$12),allgemein!N138,allgemein!$I$12),8,IF(ISBLANK(allgemein!$I$13),allgemein!N138,allgemein!$I$13),IF(ISBLANK(allgemein!N138),\"\",allgemein!N138))","v":{"$error":"#NAME?"}},{"$f":"_xlfn.SWITCH(allgemein!O138,1,IF(ISBLANK(allgemein!$F$10),allgemein!O138,allgemein!$F$10),2,IF(ISBLANK(allgemein!$F$11),allgemein!O138,allgemein!$F$11),3,IF(ISBLANK(allgemein!$F$12),allgemein!O138,allgemein!$F$12),4,IF(ISBLANK(allgemein!$F$13),allgemein!O138,allgemein!$F$13),5,IF(ISBLANK(allgemein!$I$10),allgemein!O138,allgemein!$I$10),6,IF(ISBLANK(allgemein!$I$11),allgemein!O138,allgemein!$I$11),7,IF(ISBLANK(allgemein!$I$12),allgemein!O138,allgemein!$I$12),8,IF(ISBLANK(allgemein!$I$13),allgemein!O138,allgemein!$I$13),IF(ISBLANK(allgemein!O138),\"\",allgemein!O138))","v":{"$error":"#NAME?"}},{"$f":"_xlfn.SWITCH(allgemein!P138,1,IF(ISBLANK(allgemein!$F$10),allgemein!P138,allgemein!$F$10),2,IF(ISBLANK(allgemein!$F$11),allgemein!P138,allgemein!$F$11),3,IF(ISBLANK(allgemein!$F$12),allgemein!P138,allgemein!$F$12),4,IF(ISBLANK(allgemein!$F$13),allgemein!P138,allgemein!$F$13),5,IF(ISBLANK(allgemein!$I$10),allgemein!P138,allgemein!$I$10),6,IF(ISBLANK(allgemein!$I$11),allgemein!P138,allgemein!$I$11),7,IF(ISBLANK(allgemein!$I$12),allgemein!P138,allgemein!$I$12),8,IF(ISBLANK(allgemein!$I$13),allgemein!P138,allgemein!$I$13),IF(ISBLANK(allgemein!P138),\"\",allgemein!P138))","v":{"$error":"#NAME?"}},{"$f":"IF(ISBLANK(allgemein!Q138),\"\",allgemein!Q138)","v":""},{"$f":"IF(ISBLANK(allgemein!R138),\"\",allgemein!R138)","v":""},{"$f":"IF(ISBLANK(allgemein!S138),\"\",allgemein!S138)","v":""},{"$f":"IF(ISBLANK(allgemein!U138),\"\",allgemein!U138)","v":""}]
[{"$f":"IF(ISBLANK(allgemein!D139),\"\",allgemein!D139)","v":122},{"$f":"IF(ISBLANK(allgemein!E139),\"\",allgemein!E139)","v":""},{"$f":"IF(ISBLANK(allgemein!C139),\"\",allgemein!C139)","v":" "},{"$f":"IF(ISBLANK(allgemein!H139),\"\",allgemein!H139)","v":""},{"$f":"IF(ISBLANK(allgemein!I139),\"\",allgemein!I139)","v":""},{"$f":"IF(ISBLANK(allgemein!J139),\"\",allgemein!J139)","v":""},{"$f":"IF(ISBLANK(allgemein!K139),\"\",allgemein!K139)","v":""},{"$f":"IF(ISBLANK(allgemein!F139),\"\",IF(ISBLANK(allgemein!L139),1,0))","v":""},{"$f":"_xlfn.SWITCH(allgemein!M139,1,IF(ISBLANK(allgemein!$F$10),allgemein!M139,allgemein!$F$10),2,IF(ISBLANK(allgemein!$F$11),allgemein!M139,allgemein!$F$11),3,IF(ISBLANK(allgemein!$F$12),allgemein!M139,allgemein!$F$12),4,IF(ISBLANK(allgemein!$F$13),allgemein!M139,allgemein!$F$13),5,IF(ISBLANK(allgemein!$I$10),allgemein!M139,allgemein!$I$10),6,IF(ISBLANK(allgemein!$I$11),allgemein!M139,allgemein!$I$11),7,IF(ISBLANK(allgemein!$I$12),allgemein!M139,allgemein!$I$12),8,IF(ISBLANK(allgemein!$I$13),allgemein!M139,allgemein!$I$13),IF(ISBLANK(allgemein!M139),\"\",allgemein!M139))","v":{"$error":"#NAME?"}},{"$f":"_xlfn.SWITCH(allgemein!N139,1,IF(ISBLANK(allgemein!$F$10),allgemein!N139,allgemein!$F$10),2,IF(ISBLANK(allgemein!$F$11),allgemein!N139,allgemein!$F$11),3,IF(ISBLANK(allgemein!$F$12),allgemein!N139,allgemein!$F$12),4,IF(ISBLANK(allgemein!$F$13),allgemein!N139,allgemein!$F$13),5,IF(ISBLANK(allgemein!$I$10),allgemein!N139,allgemein!$I$10),6,IF(ISBLANK(allgemein!$I$11),allgemein!N139,allgemein!$I$11),7,IF(ISBLANK(allgemein!$I$12),allgemein!N139,allgemein!$I$12),8,IF(ISBLANK(allgemein!$I$13),allgemein!N139,allgemein!$I$13),IF(ISBLANK(allgemein!N139),\"\",allgemein!N139))","v":{"$error":"#NAME?"}},{"$f":"_xlfn.SWITCH(allgemein!O139,1,IF(ISBLANK(allgemein!$F$10),allgemein!O139,allgemein!$F$10),2,IF(ISBLANK(allgemein!$F$11),allgemein!O139,allgemein!$F$11),3,IF(ISBLANK(allgemein!$F$12),allgemein!O139,allgemein!$F$12),4,IF(ISBLANK(allgemein!$F$13),allgemein!O139,allgemein!$F$13),5,IF(ISBLANK(allgemein!$I$10),allgemein!O139,allgemein!$I$10),6,IF(ISBLANK(allgemein!$I$11),allgemein!O139,allgemein!$I$11),7,IF(ISBLANK(allgemein!$I$12),allgemein!O139,allgemein!$I$12),8,IF(ISBLANK(allgemein!$I$13),allgemein!O139,allgemein!$I$13),IF(ISBLANK(allgemein!O139),\"\",allgemein!O139))","v":{"$error":"#NAME?"}},{"$f":"_xlfn.SWITCH(allgemein!P139,1,IF(ISBLANK(allgemein!$F$10),allgemein!P139,allgemein!$F$10),2,IF(ISBLANK(allgemein!$F$11),allgemein!P139,allgemein!$F$11),3,IF(ISBLANK(allgemein!$F$12),allgemein!P139,allgemein!$F$12),4,IF(ISBLANK(allgemein!$F$13),allgemein!P139,allgemein!$F$13),5,IF(ISBLANK(allgemein!$I$10),allgemein!P139,allgemein!$I$10),6,IF(ISBLANK(allgemein!$I$11),allgemein!P139,allgemein!$I$11),7,IF(ISBLANK(allgemein!$I$12),allgemein!P139,allgemein!$I$12),8,IF(ISBLANK(allgemein!$I$13),allgemein!P139,allgemein!$I$13),IF(ISBLANK(allgemein!P139),\"\",allgemein!P139))","v":{"$error":"#NAME?"}},{"$f":"IF(ISBLANK(allgemein!Q139),\"\",allgemein!Q139)","v":""},{"$f":"IF(ISBLANK(allgemein!R139),\"\",allgemein!R139)","v":""},{"$f":"IF(ISBLANK(allgemein!S139),\"\",allgemein!S139)","v":""},{"$f":"IF(ISBLANK(allgemein!U139),\"\",allgemein!U139)","v":""}]
[{"$f":"IF(ISBLANK(allgemein!D140),\"\",allgemein!D140)","v":123},{"$f":"IF(ISBLANK(allgemein!E140),\"\",allgemein!E140)","v":""},{"$f":"IF(ISBLANK(allgemein!C140),\"\",allgemein!C140)","v":" "},{"$f":"IF(ISBLANK(allgemein!H140),\"\",allgemein!H140)","v":""},{"$f":"IF(ISBLANK(allgemein!I140),\"\",allgemein!I140)","v":""},{"$f":"IF(ISBLANK(allgemein!J140),\"\",allgemein!J140)","v":""},{"$f":"IF(ISBLANK(allgemein!K140),\"\",allgemein!K140)","v":""},{"$f":"IF(ISBLANK(allgemein!F140),\"\",IF(ISBLANK(allgemein!L140),1,0))","v":""},{"$f":"_xlfn.SWITCH(allgemein!M140,1,IF(ISBLANK(allgemein!$F$10),allgemein!M140,allgemein!$F$10),2,IF(ISBLANK(allgemein!$F$11),allgemein!M140,allgemein!$F$11),3,IF(ISBLANK(allgemein!$F$12),allgemein!M140,allgemein!$F$12),4,IF(ISBLANK(allgemein!$F$13),allgemein!M140,allgemein!$F$13),5,IF(ISBLANK(allgemein!$I$10),allgemein!M140,allgemein!$I$10),6,IF(ISBLANK(allgemein!$I$11),allgemein!M140,allgemein!$I$11),7,IF(ISBLANK(allgemein!$I$12),allgemein!M140,allgemein!$I$12),8,IF(ISBLANK(allgemein!$I$13),allgemein!M140,allgemein!$I$13),IF(ISBLANK(allgemein!M140),\"\",allgemein!M140))","v":{"$error":"#NAME?"}},{"$f":"_xlfn.SWITCH(allgemein!N140,1,IF(ISBLANK(allgemein!$F$10),allgemein!N140,allgemein!$F$10),2,IF(ISBLANK(allgemein!$F$11),allgemein!N140,allgemein!$F$11),3,IF(ISBLANK(allgemein!$F$12),allgemein!N140,allgemein!$F$12),4,IF(ISBLANK(allgemein!$F$13),allgemein!N140,allgemein!$F$13),5,IF(ISBLANK(allgemein!$I$10),allgemein!N140,allgemein!$I$10),6,IF(ISBLANK(allgemein!$I$11),allgemein!N140,allgemein!$I$11),7,IF(ISBLANK(allgemein!$I$12),allgemein!N140,allgemein!$I$12),8,IF(ISBLANK(allgemein!$I$13),allgemein!N140,allgemein!$I$13),IF(ISBLANK(allgemein!N140),\"\",allgemein!N140))","v":{"$error":"#NAME?"}},{"$f":"_xlfn.SWITCH(allgemein!O140,1,IF(ISBLANK(allgemein!$F$10),allgemein!O140,allgemein!$F$10),2,IF(ISBLANK(allgemein!$F$11),allgemein!O140,allgemein!$F$11),3,IF(ISBLANK(allgemein!$F$12),allgemein!O140,allgemein!$F$12),4,IF(ISBLANK(allgemein!$F$13),allgemein!O140,allgemein!$F$13),5,IF(ISBLANK(allgemein!$I$10),allgemein!O140,allgemein!$I$10),6,IF(ISBLANK(allgemein!$I$11),allgemein!O140,allgemein!$I$11),7,IF(ISBLANK(allgemein!$I$12),allgemein!O140,allgemein!$I$12),8,IF(ISBLANK(allgemein!$I$13),allgemein!O140,allgemein!$I$13),IF(ISBLANK(allgemein!O140),\"\",allgemein!O140))","v":{"$error":"#NAME?"}},{"$f":"_xlfn.SWITCH(allgemein!P140,1,IF(ISBLANK(allgemein!$F$10),allgemein!P140,allgemein!$F$10),2,IF(ISBLANK(allgemein!$F$11),allgemein!P140,allgemein!$F$11),3,IF(ISBLANK(allgemein!$F$12),allgemein!P140,allgemein!$F$12),4,IF(ISBLANK(allgemein!$F$13),allgemein!P140,allgemein!$F$13),5,IF(ISBLANK(allgemein!$I$10),allgemein!P140,allgemein!$I$10),6,IF(ISBLANK(allgemein!$I$11),allgemein!P140,allgemein!$I$11),7,IF(ISBLANK(allgemein!$I$12),allgemein!P140,allgemein!$I$12),8,IF(ISBLANK(allgemein!$I$13),allgemein!P140,allgemein!$I$13),IF(ISBLANK(allgemein!P140),\"\",allgemein!P140))","v":{"$error":"#NAME?"}},{"$f":"IF(ISBLANK(allgemein!Q140),\"\",allgemein!Q140)","v":""},{"$f":"IF(ISBLANK(allgemein!R140),\"\",allgemein!R140)","v":""},{"$f":"IF(ISBLANK(allgemein!S140),\"\",allgemein!S140)","v":""},{"$f":"IF(ISBLANK(allgemein!U140),\"\",allgemein!U140)","v":""}]
[{"$f":"IF(ISBLANK(allgemein!D141),\"\",allgemein!D141)","v":124},{"$f":"IF(ISBLANK(allgemein!E141),\"\",allgemein!E141)","v":""},{"$f":"IF(ISBLANK(allgemein!C141),\"\",allgemein!C141)","v":" "},{"$f":"IF(ISBLANK(allgemein!H141),\"\",allgemein!H141)","v":""},{"$f":"IF(ISBLANK(allgemein!I141),\"\",allgemein!I141)","v":""},{"$f":"IF(ISBLANK(allgemein!J141),\"\",allgemein!J141)","v":""},{"$f":"IF(ISBLANK(allgemein!K141),\"\",allgemein!K141)","v":""},{"$f":"IF(ISBLANK(allgemein!F141),\"\",IF(ISBLANK(allgemein!L141),1,0))","v":""},{"$f":"_xlfn.SWITCH(allgemein!M141,1,IF(ISBLANK(allgemein!$F$10),allgemein!M141,allgemein!$F$10),2,IF(ISBLANK(allgemein!$F$11),allgemein!M141,allgemein!$F$11),3,IF(ISBLANK(allgemein!$F$12),allgemein!M141,allgemein!$F$12),4,IF(ISBLANK(allgemein!$F$13),allgemein!M141,allgemein!$F$13),5,IF(ISBLANK(allgemein!$I$10),allgemein!M141,allgemein!$I$10),6,IF(ISBLANK(allgemein!$I$11),allgemein!M141,allgemein!$I$11),7,IF(ISBLANK(allgemein!$I$12),allgemein!M141,allgemein!$I$12),8,IF(ISBLANK(allgemein!$I$13),allgemein!M141,allgemein!$I$13),IF(ISBLANK(allgemein!M141),\"\",allgemein!M141))","v":{"$error":"#NAME?"}},{"$f":"_xlfn.SWITCH(allgemein!N141,1,IF(ISBLANK(allgemein!$F$10),allgemein!N141,allgemein!$F$10),2,IF(ISBLANK(allgemein!$F$11),allgemein!N141,allgemein!$F$11),3,IF(ISBLANK(allgemein!$F$12),allgemein!N141,allgemein!$F$12),4,IF(ISBLANK(allgemein!$F$13),allgemein!N141,allgemein!$F$13),5,IF(ISBLANK(allgemein!$I$10),allgemein!N141,allgemein!$I$10),6,IF(ISBLANK(allgemein!$I$11),allgemein!N141,allgemein!$I$11),7,IF(ISBLANK(allgemein!$I$12),allgemein!N141,allgemein!$I$12),8,IF(ISBLANK(allgemein!$I$13),allgemein!N141,allgemein!$I$13),IF(ISBLANK(allgemein!N141),\"\",allgemein!N141))","v":{"$error":"#NAME?"}},{"$f":"_xlfn.SWITCH(allgemein!O141,1,IF(ISBLANK(allgemein!$F$10),allgemein!O141,allgemein!$F$10),2,IF(ISBLANK(allgemein!$F$11),allgemein!O141,allgemein!$F$11),3,IF(ISBLANK(allgemein!$F$12),allgemein!O141,allgemein!$F$12),4,IF(ISBLANK(allgemein!$F$13),allgemein!O141,allgemein!$F$13),5,IF(ISBLANK(allgemein!$I$10),allgemein!O141,allgemein!$I$10),6,IF(ISBLANK(allgemein!$I$11),allgemein!O141,allgemein!$I$11),7,IF(ISBLANK(allgemein!$I$12),allgemein!O141,allgemein!$I$12),8,IF(ISBLANK(allgemein!$I$13),allgemein!O141,allgemein!$I$13),IF(ISBLANK(allgemein!O141),\"\",allgemein!O141))","v":{"$error":"#NAME?"}},{"$f":"_xlfn.SWITCH(allgemein!P141,1,IF(ISBLANK(allgemein!$F$10),allgemein!P141,allgemein!$F$10),2,IF(ISBLANK(allgemein!$F$11),allgemein!P141,allgemein!$F$11),3,IF(ISBLANK(allgemein!$F$12),allgemein!P141,allgemein!$F$12),4,IF(ISBLANK(allgemein!$F$13),allgemein!P141,allgemein!$F$13),5,IF(ISBLANK(allgemein!$I$10),allgemein!P141,allgemein!$I$10),6,IF(ISBLANK(allgemein!$I$11),allgemein!P141,allgemein!$I$11),7,IF(ISBLANK(allgemein!$I$12),allgemein!P141,allgemein!$I$12),8,IF(ISBLANK(allgemein!$I$13),allgemein!P141,allgemein!$I$13),IF(ISBLANK(allgemein!P141),\"\",allgemein!P141))","v":{"$error":"#NAME?"}},{"$f":"IF(ISBLANK(allgemein!Q141),\"\",allgemein!Q141)","v":""},{"$f":"IF(ISBLANK(allgemein!R141),\"\",allgemein!R141)","v":""},{"$f":"IF(ISBLANK(allgemein!S141),\"\",allgemein!S141)","v":""},{"$f":"IF(ISBLANK(allgemein!U141),\"\",allgemein!U141)","v":""}]
[{"$f":"IF(ISBLANK(allgemein!D142),\"\",allgemein!D142)","v":125},{"$f":"IF(ISBLANK(allgemein!E142),\"\",allgemein!E142)","v":""},{"$f":"IF(ISBLANK(allgemein!C142),\"\",allgemein!C142)","v":" "},{"$f":"IF(ISBLANK(allgemein!H142),\"\",allgemein!H142)","v":""},{"$f":"IF(ISBLANK(allgemein!I142),\"\",allgemein!I142)","v":""},{"$f":"IF(ISBLANK(allgemein!J142),\"\",allgemein!J142)","v":""},{"$f":"IF(ISBLANK(allgemein!K142),\"\",allgemein!K142)","v":""},{"$f":"IF(ISBLANK(allgemein!F142),\"\",IF(ISBLANK(allgemein!L142),1,0))","v":""},{"$f":"_xlfn.SWITCH(allgemein!M142,1,IF(ISBLANK(allgemein!$F$10),allgemein!M142,allgemein!$F$10),2,IF(ISBLANK(allgemein!$F$11),allgemein!M142,allgemein!$F$11),3,IF(ISBLANK(allgemein!$F$12),allgemein!M142,allgemein!$F$12),4,IF(ISBLANK(allgemein!$F$13),allgemein!M142,allgemein!$F$13),5,IF(ISBLANK(allgemein!$I$10),allgemein!M142,allgemein!$I$10),6,IF(ISBLANK(allgemein!$I$11),allgemein!M142,allgemein!$I$11),7,IF(ISBLANK(allgemein!$I$12),allgemein!M142,allgemein!$I$12),8,IF(ISBLANK(allgemein!$I$13),allgemein!M142,allgemein!$I$13),IF(ISBLANK(allgemein!M142),\"\",allgemein!M142))","v":{"$error":"#NAME?"}},{"$f":"_xlfn.SWITCH(allgemein!N142,1,IF(ISBLANK(allgemein!$F$10),allgemein!N142,allgemein!$F$10),2,IF(ISBLANK(allgemein!$F$11),allgemein!N142,allgemein!$F$11),3,IF(ISBLANK(allgemein!$F$12),allgemein!N142,allgemein!$F$12),4,IF(ISBLANK(allgemein!$F$13),allgemein!N142,allgemein!$F$13),5,IF(ISBLANK(allgemein!$I$10),allgemein!N142,allgemein!$I$10),6,IF(ISBLANK(allgemein!$I$11),allgemein!N142,allgemein!$I$11),7,IF(ISBLANK(allgemein!$I$12),allgemein!N142,allgemein!$I$12),8,IF(ISBLANK(allgemein!$I$13),allgemein!N142,allgemein!$I$13),IF(ISBLANK(allgemein!N142),\"\",allgemein!N142))","v":{"$error":"#NAME?"}},{"$f":"_xlfn.SWITCH(allgemein!O142,1,IF(ISBLANK(allgemein!$F$10),allgemein!O142,allgemein!$F$10),2,IF(ISBLANK(allgemein!$F$11),allgemein!O142,allgemein!$F$11),3,IF(ISBLANK(allgemein!$F$12),allgemein!O142,allgemein!$F$12),4,IF(ISBLANK(allgemein!$F$13),allgemein!O142,allgemein!$F$13),5,IF(ISBLANK(allgemein!$I$10),allgemein!O142,allgemein!$I$10),6,IF(ISBLANK(allgemein!$I$11),allgemein!O142,allgemein!$I$11),7,IF(ISBLANK(allgemein!$I$12),allgemein!O142,allgemein!$I$12),8,IF(ISBLANK(allgemein!$I$13),allgemein!O142,allgemein!$I$13),IF(ISBLANK(allgemein!O142),\"\",allgemein!O142))","v":{"$error":"#NAME?"}},{"$f":"_xlfn.SWITCH(allgemein!P142,1,IF(ISBLANK(allgemein!$F$10),allgemein!P142,allgemein!$F$10),2,IF(ISBLANK(allgemein!$F$11),allgemein!P142,allgemein!$F$11),3,IF(ISBLANK(allgemein!$F$12),allgemein!P142,allgemein!$F$12),4,IF(ISBLANK(allgemein!$F$13),allgemein!P142,allgemein!$F$13),5,IF(ISBLANK(allgemein!$I$10),allgemein!P142,allgemein!$I$10),6,IF(ISBLANK(allgemein!$I$11),allgemein!P142,allgemein!$I$11),7,IF(ISBLANK(allgemein!$I$12),allgemein!P142,allgemein!$I$12),8,IF(ISBLANK(allgemein!$I$13),allgemein!P142,allgemein!$I$13),IF(ISBLANK(allgemein!P142),\"\",allgemein!P142))","v":{"$error":"#NAME?"}},{"$f":"IF(ISBLANK(allgemein!Q142),\"\",allgemein!Q142)","v":""},{"$f":"IF(ISBLANK(allgemein!R142),\"\",allgemein!R142)","v":""},{"$f":"IF(ISBLANK(allgemein!S142),\"\",allgemein!S142)","v":""},{"$f":"IF(ISBLANK(allgemein!U142),\"\",allgemein!U142)","v":""}]
[{"$f":"IF(ISBLANK(allgemein!D143),\"\",allgemein!D143)","v":126},{"$f":"IF(ISBLANK(allgemein!E143),\"\",allgemein!E143)","v":""},{"$f":"IF(ISBLANK(allgemein!C143),\"\",allgemein!C143)","v":" "},{"$f":"IF(ISBLANK(allgemein!H143),\"\",allgemein!H143)","v":""},{"$f":"IF(ISBLANK(allgemein!I143),\"\",allgemein!I143)","v":""},{"$f":"IF(ISBLANK(allgemein!J143),\"\",allgemein!J143)","v":""},{"$f":"IF(ISBLANK(allgemein!K143),\"\",allgemein!K143)","v":""},{"$f":"IF(ISBLANK(allgemein!F143),\"\",IF(ISBLANK(allgemein!L143),1,0))","v":""},{"$f":"_xlfn.SWITCH(allgemein!M143,1,IF(ISBLANK(allgemein!$F$10),allgemein!M143,allgemein!$F$10),2,IF(ISBLANK(allgemein!$F$11),allgemein!M143,allgemein!$F$11),3,IF(ISBLANK(allgemein!$F$12),allgemein!M143,allgemein!$F$12),4,IF(ISBLANK(allgemein!$F$13),allgemein!M143,allgemein!$F$13),5,IF(ISBLANK(allgemein!$I$10),allgemein!M143,allgemein!$I$10),6,IF(ISBLANK(allgemein!$I$11),allgemein!M143,allgemein!$I$11),7,IF(ISBLANK(allgemein!$I$12),allgemein!M143,allgemein!$I$12),8,IF(ISBLANK(allgemein!$I$13),allgemein!M143,allgemein!$I$13),IF(ISBLANK(allgemein!M143),\"\",allgemein!M143))","v":{"$error":"#NAME?"}},{"$f":"_xlfn.SWITCH(allgemein!N143,1,IF(ISBLANK(allgemein!$F$10),allgemein!N143,allgemein!$F$10),2,IF(ISBLANK(allgemein!$F$11),allgemein!N143,allgemein!$F$11),3,IF(ISBLANK(allgemein!$F$12),allgemein!N143,allgemein!$F$12),4,IF(ISBLANK(allgemein!$F$13),allgemein!N143,allgemein!$F$13),5,IF(ISBLANK(allgemein!$I$10),allgemein!N143,allgemein!$I$10),6,IF(ISBLANK(allgemein!$I$11),allgemein!N143,allgemein!$I$11),7,IF(ISBLANK(allgemein!$I$12),allgemein!N143,allgemein!$I$12),8,IF(ISBLANK(allgemein!$I$13),allgemein!N143,allgemein!$I$13),IF(ISBLANK(allgemein!N143),\"\",allgemein!N143))","v":{"$error":"#NAME?"}},{"$f":"_xlfn.SWITCH(allgemein!O143,1,IF(ISBLANK(allgemein!$F$10),allgemein!O143,allgemein!$F$10),2,IF(ISBLANK(allgemein!$F$11),allgemein!O143,allgemein!$F$11),3,IF(ISBLANK(allgemein!$F$12),allgemein!O143,allgemein!$F$12),4,IF(ISBLANK(allgemein!$F$13),allgemein!O143,allgemein!$F$13),5,IF(ISBLANK(allgemein!$I$10),allgemein!O143,allgemein!$I$10),6,IF(ISBLANK(allgemein!$I$11),allgemein!O143,allgemein!$I$11),7,IF(ISBLANK(allgemein!$I$12),allgemein!O143,allgemein!$I$12),8,IF(ISBLANK(allgemein!$I$13),allgemein!O143,allgemein!$I$13),IF(ISBLANK(allgemein!O143),\"\",allgemein!O143))","v":{"$error":"#NAME?"}},{"$f":"_xlfn.SWITCH(allgemein!P143,1,IF(ISBLANK(allgemein!$F$10),allgemein!P143,allgemein!$F$10),2,IF(ISBLANK(allgemein!$F$11),allgemein!P143,allgemein!$F$11),3,IF(ISBLANK(allgemein!$F$12),allgemein!P143,allgemein!$F$12),4,IF(ISBLANK(allgemein!$F$13),allgemein!P143,allgemein!$F$13),5,IF(ISBLANK(allgemein!$I$10),allgemein!P143,allgemein!$I$10),6,IF(ISBLANK(allgemein!$I$11),allgemein!P143,allgemein!$I$11),7,IF(ISBLANK(allgemein!$I$12),allgemein!P143,allgemein!$I$12),8,IF(ISBLANK(allgemein!$I$13),allgemein!P143,allgemein!$I$13),IF(ISBLANK(allgemein!P143),\"\",allgemein!P143))","v":{"$error":"#NAME?"}},{"$f":"IF(ISBLANK(allgemein!Q143),\"\",allgemein!Q143)","v":""},{"$f":"IF(ISBLANK(allgemein!R143),\"\",allgemein!R143)","v":""},{"$f":"IF(ISBLANK(allgemein!S143),\"\",allgemein!S143)","v":""},{"$f":"IF(ISBLANK(allgemein!U143),\"\",allgemein!U143)","v":""}]
[{"$f":"IF(ISBLANK(allgemein!D144),\"\",allgemein!D144)","v":127},{"$f":"IF(ISBLANK(allgemein!E144),\"\",allgemein!E144)","v":""},{"$f":"IF(ISBLANK(allgemein!C144),\"\",allgemein!C144)","v":" "},{"$f":"IF(ISBLANK(allgemein!H144),\"\",allgemein!H144)","v":""},{"$f":"IF(ISBLANK(allgemein!I144),\"\",allgemein!I144)","v":""},{"$f":"IF(ISBLANK(allgemein!J144),\"\",allgemein!J144)","v":""},{"$f":"IF(ISBLANK(allgemein!K144),\"\",allgemein!K144)","v":""},{"$f":"IF(ISBLANK(allgemein!F144),\"\",IF(ISBLANK(allgemein!L144),1,0))","v":""},{"$f":"_xlfn.SWITCH(allgemein!M144,1,IF(ISBLANK(allgemein!$F$10),allgemein!M144,allgemein!$F$10),2,IF(ISBLANK(allgemein!$F$11),allgemein!M144,allgemein!$F$11),3,IF(ISBLANK(allgemein!$F$12),allgemein!M144,allgemein!$F$12),4,IF(ISBLANK(allgemein!$F$13),allgemein!M144,allgemein!$F$13),5,IF(ISBLANK(allgemein!$I$10),allgemein!M144,allgemein!$I$10),6,IF(ISBLANK(allgemein!$I$11),allgemein!M144,allgemein!$I$11),7,IF(ISBLANK(allgemein!$I$12),allgemein!M144,allgemein!$I$12),8,IF(ISBLANK(allgemein!$I$13),allgemein!M144,allgemein!$I$13),IF(ISBLANK(allgemein!M144),\"\",allgemein!M144))","v":{"$error":"#NAME?"}},{"$f":"_xlfn.SWITCH(allgemein!N144,1,IF(ISBLANK(allgemein!$F$10),allgemein!N144,allgemein!$F$10),2,IF(ISBLANK(allgemein!$F$11),allgemein!N144,allgemein!$F$11),3,IF(ISBLANK(allgemein!$F$12),allgemein!N144,allgemein!$F$12),4,IF(ISBLANK(allgemein!$F$13),allgemein!N144,allgemein!$F$13),5,IF(ISBLANK(allgemein!$I$10),allgemein!N144,allgemein!$I$10),6,IF(ISBLANK(allgemein!$I$11),allgemein!N144,allgemein!$I$11),7,IF(ISBLANK(allgemein!$I$12),allgemein!N144,allgemein!$I$12),8,IF(ISBLANK(allgemein!$I$13),allgemein!N144,allgemein!$I$13),IF(ISBLANK(allgemein!N144),\"\",allgemein!N144))","v":{"$error":"#NAME?"}},{"$f":"_xlfn.SWITCH(allgemein!O144,1,IF(ISBLANK(allgemein!$F$10),allgemein!O144,allgemein!$F$10),2,IF(ISBLANK(allgemein!$F$11),allgemein!O144,allgemein!$F$11),3,IF(ISBLANK(allgemein!$F$12),allgemein!O144,allgemein!$F$12),4,IF(ISBLANK(allgemein!$F$13),allgemein!O144,allgemein!$F$13),5,IF(ISBLANK(allgemein!$I$10),allgemein!O144,allgemein!$I$10),6,IF(ISBLANK(allgemein!$I$11),allgemein!O144,allgemein!$I$11),7,IF(ISBLANK(allgemein!$I$12),allgemein!O144,allgemein!$I$12),8,IF(ISBLANK(allgemein!$I$13),allgemein!O144,allgemein!$I$13),IF(ISBLANK(allgemein!O144),\"\",allgemein!O144))","v":{"$error":"#NAME?"}},{"$f":"_xlfn.SWITCH(allgemein!P144,1,IF(ISBLANK(allgemein!$F$10),allgemein!P144,allgemein!$F$10),2,IF(ISBLANK(allgemein!$F$11),allgemein!P144,allgemein!$F$11),3,IF(ISBLANK(allgemein!$F$12),allgemein!P144,allgemein!$F$12),4,IF(ISBLANK(allgemein!$F$13),allgemein!P144,allgemein!$F$13),5,IF(ISBLANK(allgemein!$I$10),allgemein!P144,allgemein!$I$10),6,IF(ISBLANK(allgemein!$I$11),allgemein!P144,allgemein!$I$11),7,IF(ISBLANK(allgemein!$I$12),allgemein!P144,allgemein!$I$12),8,IF(ISBLANK(allgemein!$I$13),allgemein!P144,allgemein!$I$13),IF(ISBLANK(allgemein!P144),\"\",allgemein!P144))","v":{"$error":"#NAME?"}},{"$f":"IF(ISBLANK(allgemein!Q144),\"\",allgemein!Q144)","v":""},{"$f":"IF(ISBLANK(allgemein!R144),\"\",allgemein!R144)","v":""},{"$f":"IF(ISBLANK(allgemein!S144),\"\",allgemein!S144)","v":""},{"$f":"IF(ISBLANK(allgemein!U144),\"\",allgemein!U144)","v":""}]
[{"$f":"IF(ISBLANK(allgemein!D145),\"\",allgemein!D145)","v":128},{"$f":"IF(ISBLANK(allgemein!E145),\"\",allgemein!E145)","v":""},{"$f":"IF(ISBLANK(allgemein!C145),\"\",allgemein!C145)","v":" "},{"$f":"IF(ISBLANK(allgemein!H145),\"\",allgemein!H145)","v":""},{"$f":"IF(ISBLANK(allgemein!I145),\"\",allgemein!I145)","v":""},{"$f":"IF(ISBLANK(allgemein!J145),\"\",allgemein!J145)","v":""},{"$f":"IF(ISBLANK(allgemein!K145),\"\",allgemein!K145)","v":""},{"$f":"IF(ISBLANK(allgemein!F145),\"\",IF(ISBLANK(allgemein!L145),1,0))","v":""},{"$f":"_xlfn.SWITCH(allgemein!M145,1,IF(ISBLANK(allgemein!$F$10),allgemein!M145,allgemein!$F$10),2,IF(ISBLANK(allgemein!$F$11),allgemein!M145,allgemein!$F$11),3,IF(ISBLANK(allgemein!$F$12),allgemein!M145,allgemein!$F$12),4,IF(ISBLANK(allgemein!$F$13),allgemein!M145,allgemein!$F$13),5,IF(ISBLANK(allgemein!$I$10),allgemein!M145,allgemein!$I$10),6,IF(ISBLANK(allgemein!$I$11),allgemein!M145,allgemein!$I$11),7,IF(ISBLANK(allgemein!$I$12),allgemein!M145,allgemein!$I$12),8,IF(ISBLANK(allgemein!$I$13),allgemein!M145,allgemein!$I$13),IF(ISBLANK(allgemein!M145),\"\",allgemein!M145))","v":{"$error":"#NAME?"}},{"$f":"_xlfn.SWITCH(allgemein!N145,1,IF(ISBLANK(allgemein!$F$10),allgemein!N145,allgemein!$F$10),2,IF(ISBLANK(allgemein!$F$11),allgemein!N145,allgemein!$F$11),3,IF(ISBLANK(allgemein!$F$12),allgemein!N145,allgemein!$F$12),4,IF(ISBLANK(allgemein!$F$13),allgemein!N145,allgemein!$F$13),5,IF(ISBLANK(allgemein!$I$10),allgemein!N145,allgemein!$I$10),6,IF(ISBLANK(allgemein!$I$11),allgemein!N145,allgemein!$I$11),7,IF(ISBLANK(allgemein!$I$12),allgemein!N145,allgemein!$I$12),8,IF(ISBLANK(allgemein!$I$13),allgemein!N145,allgemein!$I$13),IF(ISBLANK(allgemein!N145),\"\",allgemein!N145))","v":{"$error":"#NAME?"}},{"$f":"_xlfn.SWITCH(allgemein!O145,1,IF(ISBLANK(allgemein!$F$10),allgemein!O145,allgemein!$F$10),2,IF(ISBLANK(allgemein!$F$11),allgemein!O145,allgemein!$F$11),3,IF(ISBLANK(allgemein!$F$12),allgemein!O145,allgemein!$F$12),4,IF(ISBLANK(allgemein!$F$13),allgemein!O145,allgemein!$F$13),5,IF(ISBLANK(allgemein!$I$10),allgemein!O145,allgemein!$I$10),6,IF(ISBLANK(allgemein!$I$11),allgemein!O145,allgemein!$I$11),7,IF(ISBLANK(allgemein!$I$12),allgemein!O145,allgemein!$I$12),8,IF(ISBLANK(allgemein!$I$13),allgemein!O145,allgemein!$I$13),IF(ISBLANK(allgemein!O145),\"\",allgemein!O145))","v":{"$error":"#NAME?"}},{"$f":"_xlfn.SWITCH(allgemein!P145,1,IF(ISBLANK(allgemein!$F$10),allgemein!P145,allgemein!$F$10),2,IF(ISBLANK(allgemein!$F$11),allgemein!P145,allgemein!$F$11),3,IF(ISBLANK(allgemein!$F$12),allgemein!P145,allgemein!$F$12),4,IF(ISBLANK(allgemein!$F$13),allgemein!P145,allgemein!$F$13),5,IF(ISBLANK(allgemein!$I$10),allgemein!P145,allgemein!$I$10),6,IF(ISBLANK(allgemein!$I$11),allgemein!P145,allgemein!$I$11),7,IF(ISBLANK(allgemein!$I$12),allgemein!P145,allgemein!$I$12),8,IF(ISBLANK(allgemein!$I$13),allgemein!P145,allgemein!$I$13),IF(ISBLANK(allgemein!P145),\"\",allgemein!P145))","v":{"$error":"#NAME?"}},{"$f":"IF(ISBLANK(allgemein!Q145),\"\",allgemein!Q145)","v":""},{"$f":"IF(ISBLANK(allgemein!R145),\"\",allgemein!R145)","v":""},{"$f":"IF(ISBLANK(allgemein!S145),\"\",allgemein!S145)","v":""},{"$f":"IF(ISBLANK(allgemein!U145),\"\",allgemein!U145)","v":""}]
[{"$f":"IF(ISBLANK(allgemein!D146),\"\",allgemein!D146)","v":129},{"$f":"IF(ISBLANK(allgemein!E146),\"\",allgemein!E146)","v":""},{"$f":"IF(ISBLANK(allgemein!C146),\"\",allgemein!C146)","v":" "},{"$f":"IF(ISBLANK(allgemein!H146),\"\",allgemein!H146)","v":""},{"$f":"IF(ISBLANK(allgemein!I146),\"\",allgemein!I146)","v":""},{"$f":"IF(ISBLANK(allgemein!J146),\"\",allgemein!J146)","v":""},{"$f":"IF(ISBLANK(allgemein!K146),\"\",allgemein!K146)","v":""},{"$f":"IF(ISBLANK(allgemein!F146),\"\",IF(ISBLANK(allgemein!L146),1,0))","v":""},{"$f":"_xlfn.SWITCH(allgemein!M146,1,IF(ISBLANK(allgemein!$F$10),allgemein!M146,allgemein!$F$10),2,IF(ISBLANK(allgemein!$F$11),allgemein!M146,allgemein!$F$11),3,IF(ISBLANK(allgemein!$F$12),allgemein!M146,allgemein!$F$12),4,IF(ISBLANK(allgemein!$F$13),allgemein!M146,allgemein!$F$13),5,IF(ISBLANK(allgemein!$I$10),allgemein!M146,allgemein!$I$10),6,IF(ISBLANK(allgemein!$I$11),allgemein!M146,allgemein!$I$11),7,IF(ISBLANK(allgemein!$I$12),allgemein!M146,allgemein!$I$12),8,IF(ISBLANK(allgemein!$I$13),allgemein!M146,allgemein!$I$13),IF(ISBLANK(allgemein!M146),\"\",allgemein!M146))","v":{"$error":"#NAME?"}},{"$f":"_xlfn.SWITCH(allgemein!N146,1,IF(ISBLANK(allgemein!$F$10),allgemein!N146,allgemein!$F$10),2,IF(ISBLANK(allgemein!$F$11),allgemein!N146,allgemein!$F$11),3,IF(ISBLANK(allgemein!$F$12),allgemein!N146,allgemein!$F$12),4,IF(ISBLANK(allgemein!$F$13),allgemein!N146,allgemein!$F$13),5,IF(ISBLANK(allgemein!$I$10),allgemein!N146,allgemein!$I$10),6,IF(ISBLANK(allgemein!$I$11),allgemein!N146,allgemein!$I$11),7,IF(ISBLANK(allgemein!$I$12),allgemein!N146,allgemein!$I$12),8,IF(ISBLANK(allgemein!$I$13),allgemein!N146,allgemein!$I$13),IF(ISBLANK(allgemein!N146),\"\",allgemein!N146))","v":{"$error":"#NAME?"}},{"$f":"_xlfn.SWITCH(allgemein!O146,1,IF(ISBLANK(allgemein!$F$10),allgemein!O146,allgemein!$F$10),2,IF(ISBLANK(allgemein!$F$11),allgemein!O146,allgemein!$F$11),3,IF(ISBLANK(allgemein!$F$12),allgemein!O146,allgemein!$F$12),4,IF(ISBLANK(allgemein!$F$13),allgemein!O146,allgemein!$F$13),5,IF(ISBLANK(allgemein!$I$10),allgemein!O146,allgemein!$I$10),6,IF(ISBLANK(allgemein!$I$11),allgemein!O146,allgemein!$I$11),7,IF(ISBLANK(allgemein!$I$12),allgemein!O146,allgemein!$I$12),8,IF(ISBLANK(allgemein!$I$13),allgemein!O146,allgemein!$I$13),IF(ISBLANK(allgemein!O146),\"\",allgemein!O146))","v":{"$error":"#NAME?"}},{"$f":"_xlfn.SWITCH(allgemein!P146,1,IF(ISBLANK(allgemein!$F$10),allgemein!P146,allgemein!$F$10),2,IF(ISBLANK(allgemein!$F$11),allgemein!P146,allgemein!$F$11),3,IF(ISBLANK(allgemein!$F$12),allgemein!P146,allgemein!$F$12),4,IF(ISBLANK(allgemein!$F$13),allgemein!P146,allgemein!$F$13),5,IF(ISBLANK(allgemein!$I$10),allgemein!P146,allgemein!$I$10),6,IF(ISBLANK(allgemein!$I$11),allgemein!P146,allgemein!$I$11),7,IF(ISBLANK(allgemein!$I$12),allgemein!P146,allgemein!$I$12),8,IF(ISBLANK(allgemein!$I$13),allgemein!P146,allgemein!$I$13),IF(ISBLANK(allgemein!P146),\"\",allgemein!P146))","v":{"$error":"#NAME?"}},{"$f":"IF(ISBLANK(allgemein!Q146),\"\",allgemein!Q146)","v":""},{"$f":"IF(ISBLANK(allgemein!R146),\"\",allgemein!R146)","v":""},{"$f":"IF(ISBLANK(allgemein!S146),\"\",allgemein!S146)","v":""},{"$f":"IF(ISBLANK(allgemein!U146),\"\",allgemein!U146)","v":""}]
[{"$f":"IF(ISBLANK(allgemein!D147),\"\",allgemein!D147)","v":130},{"$f":"IF(ISBLANK(allgemein!E147),\"\",allgemein!E147)","v":""},{"$f":"IF(ISBLANK(allgemein!C147),\"\",allgemein!C147)","v":" "},{"$f":"IF(ISBLANK(allgemein!H147),\"\",allgemein!H147)","v":""},{"$f":"IF(ISBLANK(allgemein!I147),\"\",allgemein!I147)","v":""},{"$f":"IF(ISBLANK(allgemein!J147),\"\",allgemein!J147)","v":""},{"$f":"IF(ISBLANK(allgemein!K147),\"\",allgemein!K147)","v":""},{"$f":"IF(ISBLANK(allgemein!F147),\"\",IF(ISBLANK(allgemein!L147),1,0))","v":""},{"$f":"_xlfn.SWITCH(allgemein!M147,1,IF(ISBLANK(allgemein!$F$10),allgemein!M147,allgemein!$F$10),2,IF(ISBLANK(allgemein!$F$11),allgemein!M147,allgemein!$F$11),3,IF(ISBLANK(allgemein!$F$12),allgemein!M147,allgemein!$F$12),4,IF(ISBLANK(allgemein!$F$13),allgemein!M147,allgemein!$F$13),5,IF(ISBLANK(allgemein!$I$10),allgemein!M147,allgemein!$I$10),6,IF(ISBLANK(allgemein!$I$11),allgemein!M147,allgemein!$I$11),7,IF(ISBLANK(allgemein!$I$12),allgemein!M147,allgemein!$I$12),8,IF(ISBLANK(allgemein!$I$13),allgemein!M147,allgemein!$I$13),IF(ISBLANK(allgemein!M147),\"\",allgemein!M147))","v":{"$error":"#NAME?"}},{"$f":"_xlfn.SWITCH(allgemein!N147,1,IF(ISBLANK(allgemein!$F$10),allgemein!N147,allgemein!$F$10),2,IF(ISBLANK(allgemein!$F$11),allgemein!N147,allgemein!$F$11),3,IF(ISBLANK(allgemein!$F$12),allgemein!N147,allgemein!$F$12),4,IF(ISBLANK(allgemein!$F$13),allgemein!N147,allgemein!$F$13),5,IF(ISBLANK(allgemein!$I$10),allgemein!N147,allgemein!$I$10),6,IF(ISBLANK(allgemein!$I$11),allgemein!N147,allgemein!$I$11),7,IF(ISBLANK(allgemein!$I$12),allgemein!N147,allgemein!$I$12),8,IF(ISBLANK(allgemein!$I$13),allgemein!N147,allgemein!$I$13),IF(ISBLANK(allgemein!N147),\"\",allgemein!N147))","v":{"$error":"#NAME?"}},{"$f":"_xlfn.SWITCH(allgemein!O147,1,IF(ISBLANK(allgemein!$F$10),allgemein!O147,allgemein!$F$10),2,IF(ISBLANK(allgemein!$F$11),allgemein!O147,allgemein!$F$11),3,IF(ISBLANK(allgemein!$F$12),allgemein!O147,allgemein!$F$12),4,IF(ISBLANK(allgemein!$F$13),allgemein!O147,allgemein!$F$13),5,IF(ISBLANK(allgemein!$I$10),allgemein!O147,allgemein!$I$10),6,IF(ISBLANK(allgemein!$I$11),allgemein!O147,allgemein!$I$11),7,IF(ISBLANK(allgemein!$I$12),allgemein!O147,allgemein!$I$12),8,IF(ISBLANK(allgemein!$I$13),allgemein!O147,allgemein!$I$13),IF(ISBLANK(allgemein!O147),\"\",allgemein!O147))","v":{"$error":"#NAME?"}},{"$f":"_xlfn.SWITCH(allgemein!P147,1,IF(ISBLANK(allgemein!$F$10),allgemein!P147,allgemein!$F$10),2,IF(ISBLANK(allgemein!$F$11),allgemein!P147,allgemein!$F$11),3,IF(ISBLANK(allgemein!$F$12),allgemein!P147,allgemein!$F$12),4,IF(ISBLANK(allgemein!$F$13),allgemein!P147,allgemein!$F$13),5,IF(ISBLANK(allgemein!$I$10),allgemein!P147,allgemein!$I$10),6,IF(ISBLANK(allgemein!$I$11),allgemein!P147,allgemein!$I$11),7,IF(ISBLANK(allgemein!$I$12),allgemein!P147,allgemein!$I$12),8,IF(ISBLANK(allgemein!$I$13),allgemein!P147,allgemein!$I$13),IF(ISBLANK(allgemein!P147),\"\",allgemein!P147))","v":{"$error":"#NAME?"}},{"$f":"IF(ISBLANK(allgemein!Q147),\"\",allgemein!Q147)","v":""},{"$f":"IF(ISBLANK(allgemein!R147),\"\",allgemein!R147)","v":""},{"$f":"IF(ISBLANK(allgemein!S147),\"\",allgemein!S147)","v":""},{"$f":"IF(ISBLANK(allgemein!U147),\"\",allgemein!U147)","v":""}]
[{"$f":"IF(ISBLANK(allgemein!D148),\"\",allgemein!D148)","v":131},{"$f":"IF(ISBLANK(allgemein!E148),\"\",allgemein!E148)","v":""},{"$f":"IF(ISBLANK(allgemein!C148),\"\",allgemein!C148)","v":" "},{"$f":"IF(ISBLANK(allgemein!H148),\"\",allgemein!H148)","v":""},{"$f":"IF(ISBLANK(allgemein!I148),\"\",allgemein!I148)","v":""},{"$f":"IF(ISBLANK(allgemein!J148),\"\",allgemein!J148)","v":""},{"$f":"IF(ISBLANK(allgemein!K148),\"\",allgemein!K148)","v":""},{"$f":"IF(ISBLANK(allgemein!F148),\"\",IF(ISBLANK(allgemein!L148),1,0))","v":""},{"$f":"_xlfn.SWITCH(allgemein!M148,1,IF(ISBLANK(allgemein!$F$10),allgemein!M148,allgemein!$F$10),2,IF(ISBLANK(allgemein!$F$11),allgemein!M148,allgemein!$F$11),3,IF(ISBLANK(allgemein!$F$12),allgemein!M148,allgemein!$F$12),4,IF(ISBLANK(allgemein!$F$13),allgemein!M148,allgemein!$F$13),5,IF(ISBLANK(allgemein!$I$10),allgemein!M148,allgemein!$I$10),6,IF(ISBLANK(allgemein!$I$11),allgemein!M148,allgemein!$I$11),7,IF(ISBLANK(allgemein!$I$12),allgemein!M148,allgemein!$I$12),8,IF(ISBLANK(allgemein!$I$13),allgemein!M148,allgemein!$I$13),IF(ISBLANK(allgemein!M148),\"\",allgemein!M148))","v":{"$error":"#NAME?"}},{"$f":"_xlfn.SWITCH(allgemein!N148,1,IF(ISBLANK(allgemein!$F$10),allgemein!N148,allgemein!$F$10),2,IF(ISBLANK(allgemein!$F$11),allgemein!N148,allgemein!$F$11),3,IF(ISBLANK(allgemein!$F$12),allgemein!N148,allgemein!$F$12),4,IF(ISBLANK(allgemein!$F$13),allgemein!N148,allgemein!$F$13),5,IF(ISBLANK(allgemein!$I$10),allgemein!N148,allgemein!$I$10),6,IF(ISBLANK(allgemein!$I$11),allgemein!N148,allgemein!$I$11),7,IF(ISBLANK(allgemein!$I$12),allgemein!N148,allgemein!$I$12),8,IF(ISBLANK(allgemein!$I$13),allgemein!N148,allgemein!$I$13),IF(ISBLANK(allgemein!N148),\"\",allgemein!N148))","v":{"$error":"#NAME?"}},{"$f":"_xlfn.SWITCH(allgemein!O148,1,IF(ISBLANK(allgemein!$F$10),allgemein!O148,allgemein!$F$10),2,IF(ISBLANK(allgemein!$F$11),allgemein!O148,allgemein!$F$11),3,IF(ISBLANK(allgemein!$F$12),allgemein!O148,allgemein!$F$12),4,IF(ISBLANK(allgemein!$F$13),allgemein!O148,allgemein!$F$13),5,IF(ISBLANK(allgemein!$I$10),allgemein!O148,allgemein!$I$10),6,IF(ISBLANK(allgemein!$I$11),allgemein!O148,allgemein!$I$11),7,IF(ISBLANK(allgemein!$I$12),allgemein!O148,allgemein!$I$12),8,IF(ISBLANK(allgemein!$I$13),allgemein!O148,allgemein!$I$13),IF(ISBLANK(allgemein!O148),\"\",allgemein!O148))","v":{"$error":"#NAME?"}},{"$f":"_xlfn.SWITCH(allgemein!P148,1,IF(ISBLANK(allgemein!$F$10),allgemein!P148,allgemein!$F$10),2,IF(ISBLANK(allgemein!$F$11),allgemein!P148,allgemein!$F$11),3,IF(ISBLANK(allgemein!$F$12),allgemein!P148,allgemein!$F$12),4,IF(ISBLANK(allgemein!$F$13),allgemein!P148,allgemein!$F$13),5,IF(ISBLANK(allgemein!$I$10),allgemein!P148,allgemein!$I$10),6,IF(ISBLANK(allgemein!$I$11),allgemein!P148,allgemein!$I$11),7,IF(ISBLANK(allgemein!$I$12),allgemein!P148,allgemein!$I$12),8,IF(ISBLANK(allgemein!$I$13),allgemein!P148,allgemein!$I$13),IF(ISBLANK(allgemein!P148),\"\",allgemein!P148))","v":{"$error":"#NAME?"}},{"$f":"IF(ISBLANK(allgemein!Q148),\"\",allgemein!Q148)","v":""},{"$f":"IF(ISBLANK(allgemein!R148),\"\",allgemein!R148)","v":""},{"$f":"IF(ISBLANK(allgemein!S148),\"\",allgemein!S148)","v":""},{"$f":"IF(ISBLANK(allgemein!U148),\"\",allgemein!U148)","v":""}]
[{"$f":"IF(ISBLANK(allgemein!D149),\"\",allgemein!D149)","v":132},{"$f":"IF(ISBLANK(allgemein!E149),\"\",allgemein!E149)","v":""},{"$f":"IF(ISBLANK(allgemein!C149),\"\",allgemein!C149)","v":" "},{"$f":"IF(ISBLANK(allgemein!H149),\"\",allgemein!H149)","v":""},{"$f":"IF(ISBLANK(allgemein!I149),\"\",allgemein!I149)","v":""},{"$f":"IF(ISBLANK(allgemein!J149),\"\",allgemein!J149)","v":""},{"$f":"IF(ISBLANK(allgemein!K149),\"\",allgemein!K149)","v":""},{"$f":"IF(ISBLANK(allgemein!F149),\"\",IF(ISBLANK(allgemein!L149),1,0))","v":""},{"$f":"_xlfn.SWITCH(allgemein!M149,1,IF(ISBLANK(allgemein!$F$10),allgemein!M149,allgemein!$F$10),2,IF(ISBLANK(allgemein!$F$11),allgemein!M149,allgemein!$F$11),3,IF(ISBLANK(allgemein!$F$12),allgemein!M149,allgemein!$F$12),4,IF(ISBLANK(allgemein!$F$13),allgemein!M149,allgemein!$F$13),5,IF(ISBLANK(allgemein!$I$10),allgemein!M149,allgemein!$I$10),6,IF(ISBLANK(allgemein!$I$11),allgemein!M149,allgemein!$I$11),7,IF(ISBLANK(allgemein!$I$12),allgemein!M149,allgemein!$I$12),8,IF(ISBLANK(allgemein!$I$13),allgemein!M149,allgemein!$I$13),IF(ISBLANK(allgemein!M149),\"\",allgemein!M149))","v":{"$error":"#NAME?"}},{"$f":"_xlfn.SWITCH(allgemein!N149,1,IF(ISBLANK(allgemein!$F$10),allgemein!N149,allgemein!$F$10),2,IF(ISBLANK(allgemein!$F$11),allgemein!N149,allgemein!$F$11),3,IF(ISBLANK(allgemein!$F$12),allgemein!N149,allgemein!$F$12),4,IF(ISBLANK(allgemein!$F$13),allgemein!N149,allgemein!$F$13),5,IF(ISBLANK(allgemein!$I$10),allgemein!N149,allgemein!$I$10),6,IF(ISBLANK(allgemein!$I$11),allgemein!N149,allgemein!$I$11),7,IF(ISBLANK(allgemein!$I$12),allgemein!N149,allgemein!$I$12),8,IF(ISBLANK(allgemein!$I$13),allgemein!N149,allgemein!$I$13),IF(ISBLANK(allgemein!N149),\"\",allgemein!N149))","v":{"$error":"#NAME?"}},{"$f":"_xlfn.SWITCH(allgemein!O149,1,IF(ISBLANK(allgemein!$F$10),allgemein!O149,allgemein!$F$10),2,IF(ISBLANK(allgemein!$F$11),allgemein!O149,allgemein!$F$11),3,IF(ISBLANK(allgemein!$F$12),allgemein!O149,allgemein!$F$12),4,IF(ISBLANK(allgemein!$F$13),allgemein!O149,allgemein!$F$13),5,IF(ISBLANK(allgemein!$I$10),allgemein!O149,allgemein!$I$10),6,IF(ISBLANK(allgemein!$I$11),allgemein!O149,allgemein!$I$11),7,IF(ISBLANK(allgemein!$I$12),allgemein!O149,allgemein!$I$12),8,IF(ISBLANK(allgemein!$I$13),allgemein!O149,allgemein!$I$13),IF(ISBLANK(allgemein!O149),\"\",allgemein!O149))","v":{"$error":"#NAME?"}},{"$f":"_xlfn.SWITCH(allgemein!P149,1,IF(ISBLANK(allgemein!$F$10),allgemein!P149,allgemein!$F$10),2,IF(ISBLANK(allgemein!$F$11),allgemein!P149,allgemein!$F$11),3,IF(ISBLANK(allgemein!$F$12),allgemein!P149,allgemein!$F$12),4,IF(ISBLANK(allgemein!$F$13),allgemein!P149,allgemein!$F$13),5,IF(ISBLANK(allgemein!$I$10),allgemein!P149,allgemein!$I$10),6,IF(ISBLANK(allgemein!$I$11),allgemein!P149,allgemein!$I$11),7,IF(ISBLANK(allgemein!$I$12),allgemein!P149,allgemein!$I$12),8,IF(ISBLANK(allgemein!$I$13),allgemein!P149,allgemein!$I$13),IF(ISBLANK(allgemein!P149),\"\",allgemein!P149))","v":{"$error":"#NAME?"}},{"$f":"IF(ISBLANK(allgemein!Q149),\"\",allgemein!Q149)","v":""},{"$f":"IF(ISBLANK(allgemein!R149),\"\",allgemein!R149)","v":""},{"$f":"IF(ISBLANK(allgemein!S149),\"\",allgemein!S149)","v":""},{"$f":"IF(ISBLANK(allgemein!U149),\"\",allgemein!U149)","v":""}]
[{"$f":"IF(ISBLANK(allgemein!D150),\"\",allgemein!D150)","v":133},{"$f":"IF(ISBLANK(allgemein!E150),\"\",allgemein!E150)","v":""},{"$f":"IF(ISBLANK(allgemein!C150),\"\",allgemein!C150)","v":" "},{"$f":"IF(ISBLANK(allgemein!H150),\"\",allgemein!H150)","v":""},{"$f":"IF(ISBLANK(allgemein!I150),\"\",allgemein!I150)","v":""},{"$f":"IF(ISBLANK(allgemein!J150),\"\",allgemein!J150)","v":""},{"$f":"IF(ISBLANK(allgemein!K150),\"\",allgemein!K150)","v":""},{"$f":"IF(ISBLANK(allgemein!F150),\"\",IF(ISBLANK(allgemein!L150),1,0))","v":""},{"$f":"_xlfn.SWITCH(allgemein!M150,1,IF(ISBLANK(allgemein!$F$10),allgemein!M150,allgemein!$F$10),2,IF(ISBLANK(allgemein!$F$11),allgemein!M150,allgemein!$F$11),3,IF(ISBLANK(allgemein!$F$12),allgemein!M150,allgemein!$F$12),4,IF(ISBLANK(allgemein!$F$13),allgemein!M150,allgemein!$F$13),5,IF(ISBLANK(allgemein!$I$10),allgemein!M150,allgemein!$I$10),6,IF(ISBLANK(allgemein!$I$11),allgemein!M150,allgemein!$I$11),7,IF(ISBLANK(allgemein!$I$12),allgemein!M150,allgemein!$I$12),8,IF(ISBLANK(allgemein!$I$13),allgemein!M150,allgemein!$I$13),IF(ISBLANK(allgemein!M150),\"\",allgemein!M150))","v":{"$error":"#NAME?"}},{"$f":"_xlfn.SWITCH(allgemein!N150,1,IF(ISBLANK(allgemein!$F$10),allgemein!N150,allgemein!$F$10),2,IF(ISBLANK(allgemein!$F$11),allgemein!N150,allgemein!$F$11),3,IF(ISBLANK(allgemein!$F$12),allgemein!N150,allgemein!$F$12),4,IF(ISBLANK(allgemein!$F$13),allgemein!N150,allgemein!$F$13),5,IF(ISBLANK(allgemein!$I$10),allgemein!N150,allgemein!$I$10),6,IF(ISBLANK(allgemein!$I$11),allgemein!N150,allgemein!$I$11),7,IF(ISBLANK(allgemein!$I$12),allgemein!N150,allgemein!$I$12),8,IF(ISBLANK(allgemein!$I$13),allgemein!N150,allgemein!$I$13),IF(ISBLANK(allgemein!N150),\"\",allgemein!N150))","v":{"$error":"#NAME?"}},{"$f":"_xlfn.SWITCH(allgemein!O150,1,IF(ISBLANK(allgemein!$F$10),allgemein!O150,allgemein!$F$10),2,IF(ISBLANK(allgemein!$F$11),allgemein!O150,allgemein!$F$11),3,IF(ISBLANK(allgemein!$F$12),allgemein!O150,allgemein!$F$12),4,IF(ISBLANK(allgemein!$F$13),allgemein!O150,allgemein!$F$13),5,IF(ISBLANK(allgemein!$I$10),allgemein!O150,allgemein!$I$10),6,IF(ISBLANK(allgemein!$I$11),allgemein!O150,allgemein!$I$11),7,IF(ISBLANK(allgemein!$I$12),allgemein!O150,allgemein!$I$12),8,IF(ISBLANK(allgemein!$I$13),allgemein!O150,allgemein!$I$13),IF(ISBLANK(allgemein!O150),\"\",allgemein!O150))","v":{"$error":"#NAME?"}},{"$f":"_xlfn.SWITCH(allgemein!P150,1,IF(ISBLANK(allgemein!$F$10),allgemein!P150,allgemein!$F$10),2,IF(ISBLANK(allgemein!$F$11),allgemein!P150,allgemein!$F$11),3,IF(ISBLANK(allgemein!$F$12),allgemein!P150,allgemein!$F$12),4,IF(ISBLANK(allgemein!$F$13),allgemein!P150,allgemein!$F$13),5,IF(ISBLANK(allgemein!$I$10),allgemein!P150,allgemein!$I$10),6,IF(ISBLANK(allgemein!$I$11),allgemein!P150,allgemein!$I$11),7,IF(ISBLANK(allgemein!$I$12),allgemein!P150,allgemein!$I$12),8,IF(ISBLANK(allgemein!$I$13),allgemein!P150,allgemein!$I$13),IF(ISBLANK(allgemein!P150),\"\",allgemein!P150))","v":{"$error":"#NAME?"}},{"$f":"IF(ISBLANK(allgemein!Q150),\"\",allgemein!Q150)","v":""},{"$f":"IF(ISBLANK(allgemein!R150),\"\",allgemein!R150)","v":""},{"$f":"IF(ISBLANK(allgemein!S150),\"\",allgemein!S150)","v":""},{"$f":"IF(ISBLANK(allgemein!U150),\"\",allgemein!U150)","v":""}]
[{"$f":"IF(ISBLANK(allgemein!D151),\"\",allgemein!D151)","v":134},{"$f":"IF(ISBLANK(allgemein!E151),\"\",allgemein!E151)","v":""},{"$f":"IF(ISBLANK(allgemein!C151),\"\",allgemein!C151)","v":" "},{"$f":"IF(ISBLANK(allgemein!H151),\"\",allgemein!H151)","v":""},{"$f":"IF(ISBLANK(allgemein!I151),\"\",allgemein!I151)","v":""},{"$f":"IF(ISBLANK(allgemein!J151),\"\",allgemein!J151)","v":""},{"$f":"IF(ISBLANK(allgemein!K151),\"\",allgemein!K151)","v":""},{"$f":"IF(ISBLANK(allgemein!F151),\"\",IF(ISBLANK(allgemein!L151),1,0))","v":""},{"$f":"_xlfn.SWITCH(allgemein!M151,1,IF(ISBLANK(allgemein!$F$10),allgemein!M151,allgemein!$F$10),2,IF(ISBLANK(allgemein!$F$11),allgemein!M151,allgemein!$F$11),3,IF(ISBLANK(allgemein!$F$12),allgemein!M151,allgemein!$F$12),4,IF(ISBLANK(allgemein!$F$13),allgemein!M151,allgemein!$F$13),5,IF(ISBLANK(allgemein!$I$10),allgemein!M151,allgemein!$I$10),6,IF(ISBLANK(allgemein!$I$11),allgemein!M151,allgemein!$I$11),7,IF(ISBLANK(allgemein!$I$12),allgemein!M151,allgemein!$I$12),8,IF(ISBLANK(allgemein!$I$13),allgemein!M151,allgemein!$I$13),IF(ISBLANK(allgemein!M151),\"\",allgemein!M151))","v":{"$error":"#NAME?"}},{"$f":"_xlfn.SWITCH(allgemein!N151,1,IF(ISBLANK(allgemein!$F$10),allgemein!N151,allgemein!$F$10),2,IF(ISBLANK(allgemein!$F$11),allgemein!N151,allgemein!$F$11),3,IF(ISBLANK(allgemein!$F$12),allgemein!N151,allgemein!$F$12),4,IF(ISBLANK(allgemein!$F$13),allgemein!N151,allgemein!$F$13),5,IF(ISBLANK(allgemein!$I$10),allgemein!N151,allgemein!$I$10),6,IF(ISBLANK(allgemein!$I$11),allgemein!N151,allgemein!$I$11),7,IF(ISBLANK(allgemein!$I$12),allgemein!N151,allgemein!$I$12),8,IF(ISBLANK(allgemein!$I$13),allgemein!N151,allgemein!$I$13),IF(ISBLANK(allgemein!N151),\"\",allgemein!N151))","v":{"$error":"#NAME?"}},{"$f":"_xlfn.SWITCH(allgemein!O151,1,IF(ISBLANK(allgemein!$F$10),allgemein!O151,allgemein!$F$10),2,IF(ISBLANK(allgemein!$F$11),allgemein!O151,allgemein!$F$11),3,IF(ISBLANK(allgemein!$F$12),allgemein!O151,allgemein!$F$12),4,IF(ISBLANK(allgemein!$F$13),allgemein!O151,allgemein!$F$13),5,IF(ISBLANK(allgemein!$I$10),allgemein!O151,allgemein!$I$10),6,IF(ISBLANK(allgemein!$I$11),allgemein!O151,allgemein!$I$11),7,IF(ISBLANK(allgemein!$I$12),allgemein!O151,allgemein!$I$12),8,IF(ISBLANK(allgemein!$I$13),allgemein!O151,allgemein!$I$13),IF(ISBLANK(allgemein!O151),\"\",allgemein!O151))","v":{"$error":"#NAME?"}},{"$f":"_xlfn.SWITCH(allgemein!P151,1,IF(ISBLANK(allgemein!$F$10),allgemein!P151,allgemein!$F$10),2,IF(ISBLANK(allgemein!$F$11),allgemein!P151,allgemein!$F$11),3,IF(ISBLANK(allgemein!$F$12),allgemein!P151,allgemein!$F$12),4,IF(ISBLANK(allgemein!$F$13),allgemein!P151,allgemein!$F$13),5,IF(ISBLANK(allgemein!$I$10),allgemein!P151,allgemein!$I$10),6,IF(ISBLANK(allgemein!$I$11),allgemein!P151,allgemein!$I$11),7,IF(ISBLANK(allgemein!$I$12),allgemein!P151,allgemein!$I$12),8,IF(ISBLANK(allgemein!$I$13),allgemein!P151,allgemein!$I$13),IF(ISBLANK(allgemein!P151),\"\",allgemein!P151))","v":{"$error":"#NAME?"}},{"$f":"IF(ISBLANK(allgemein!Q151),\"\",allgemein!Q151)","v":""},{"$f":"IF(ISBLANK(allgemein!R151),\"\",allgemein!R151)","v":""},{"$f":"IF(ISBLANK(allgemein!S151),\"\",allgemein!S151)","v":""},{"$f":"IF(ISBLANK(allgemein!U151),\"\",allgemein!U151)","v":""}]
[{"$f":"IF(ISBLANK(allgemein!D152),\"\",allgemein!D152)","v":135},{"$f":"IF(ISBLANK(allgemein!E152),\"\",allgemein!E152)","v":""},{"$f":"IF(ISBLANK(allgemein!C152),\"\",allgemein!C152)","v":" "},{"$f":"IF(ISBLANK(allgemein!H152),\"\",allgemein!H152)","v":""},{"$f":"IF(ISBLANK(allgemein!I152),\"\",allgemein!I152)","v":""},{"$f":"IF(ISBLANK(allgemein!J152),\"\",allgemein!J152)","v":""},{"$f":"IF(ISBLANK(allgemein!K152),\"\",allgemein!K152)","v":""},{"$f":"IF(ISBLANK(allgemein!F152),\"\",IF(ISBLANK(allgemein!L152),1,0))","v":""},{"$f":"_xlfn.SWITCH(allgemein!M152,1,IF(ISBLANK(allgemein!$F$10),allgemein!M152,allgemein!$F$10),2,IF(ISBLANK(allgemein!$F$11),allgemein!M152,allgemein!$F$11),3,IF(ISBLANK(allgemein!$F$12),allgemein!M152,allgemein!$F$12),4,IF(ISBLANK(allgemein!$F$13),allgemein!M152,allgemein!$F$13),5,IF(ISBLANK(allgemein!$I$10),allgemein!M152,allgemein!$I$10),6,IF(ISBLANK(allgemein!$I$11),allgemein!M152,allgemein!$I$11),7,IF(ISBLANK(allgemein!$I$12),allgemein!M152,allgemein!$I$12),8,IF(ISBLANK(allgemein!$I$13),allgemein!M152,allgemein!$I$13),IF(ISBLANK(allgemein!M152),\"\",allgemein!M152))","v":{"$error":"#NAME?"}},{"$f":"_xlfn.SWITCH(allgemein!N152,1,IF(ISBLANK(allgemein!$F$10),allgemein!N152,allgemein!$F$10),2,IF(ISBLANK(allgemein!$F$11),allgemein!N152,allgemein!$F$11),3,IF(ISBLANK(allgemein!$F$12),allgemein!N152,allgemein!$F$12),4,IF(ISBLANK(allgemein!$F$13),allgemein!N152,allgemein!$F$13),5,IF(ISBLANK(allgemein!$I$10),allgemein!N152,allgemein!$I$10),6,IF(ISBLANK(allgemein!$I$11),allgemein!N152,allgemein!$I$11),7,IF(ISBLANK(allgemein!$I$12),allgemein!N152,allgemein!$I$12),8,IF(ISBLANK(allgemein!$I$13),allgemein!N152,allgemein!$I$13),IF(ISBLANK(allgemein!N152),\"\",allgemein!N152))","v":{"$error":"#NAME?"}},{"$f":"_xlfn.SWITCH(allgemein!O152,1,IF(ISBLANK(allgemein!$F$10),allgemein!O152,allgemein!$F$10),2,IF(ISBLANK(allgemein!$F$11),allgemein!O152,allgemein!$F$11),3,IF(ISBLANK(allgemein!$F$12),allgemein!O152,allgemein!$F$12),4,IF(ISBLANK(allgemein!$F$13),allgemein!O152,allgemein!$F$13),5,IF(ISBLANK(allgemein!$I$10),allgemein!O152,allgemein!$I$10),6,IF(ISBLANK(allgemein!$I$11),allgemein!O152,allgemein!$I$11),7,IF(ISBLANK(allgemein!$I$12),allgemein!O152,allgemein!$I$12),8,IF(ISBLANK(allgemein!$I$13),allgemein!O152,allgemein!$I$13),IF(ISBLANK(allgemein!O152),\"\",allgemein!O152))","v":{"$error":"#NAME?"}},{"$f":"_xlfn.SWITCH(allgemein!P152,1,IF(ISBLANK(allgemein!$F$10),allgemein!P152,allgemein!$F$10),2,IF(ISBLANK(allgemein!$F$11),allgemein!P152,allgemein!$F$11),3,IF(ISBLANK(allgemein!$F$12),allgemein!P152,allgemein!$F$12),4,IF(ISBLANK(allgemein!$F$13),allgemein!P152,allgemein!$F$13),5,IF(ISBLANK(allgemein!$I$10),allgemein!P152,allgemein!$I$10),6,IF(ISBLANK(allgemein!$I$11),allgemein!P152,allgemein!$I$11),7,IF(ISBLANK(allgemein!$I$12),allgemein!P152,allgemein!$I$12),8,IF(ISBLANK(allgemein!$I$13),allgemein!P152,allgemein!$I$13),IF(ISBLANK(allgemein!P152),\"\",allgemein!P152))","v":{"$error":"#NAME?"}},{"$f":"IF(ISBLANK(allgemein!Q152),\"\",allgemein!Q152)","v":""},{"$f":"IF(ISBLANK(allgemein!R152),\"\",allgemein!R152)","v":""},{"$f":"IF(ISBLANK(allgemein!S152),\"\",allgemein!S152)","v":""},{"$f":"IF(ISBLANK(allgemein!U152),\"\",allgemein!U152)","v":""}]
[{"$f":"IF(ISBLANK(allgemein!D153),\"\",allgemein!D153)","v":136},{"$f":"IF(ISBLANK(allgemein!E153),\"\",allgemein!E153)","v":""},{"$f":"IF(ISBLANK(allgemein!C153),\"\",allgemein!C153)","v":" "},{"$f":"IF(ISBLANK(allgemein!H153),\"\",allgemein!H153)","v":""},{"$f":"IF(ISBLANK(allgemein!I153),\"\",allgemein!I153)","v":""},{"$f":"IF(ISBLANK(allgemein!J153),\"\",allgemein!J153)","v":""},{"$f":"IF(ISBLANK(allgemein!K153),\"\",allgemein!K153)","v":""},{"$f":"IF(ISBLANK(allgemein!F153),\"\",IF(ISBLANK(allgemein!L153),1,0))","v":""},{"$f":"_xlfn.SWITCH(allgemein!M153,1,IF(ISBLANK(allgemein!$F$10),allgemein!M153,allgemein!$F$10),2,IF(ISBLANK(allgemein!$F$11),allgemein!M153,allgemein!$F$11),3,IF(ISBLANK(allgemein!$F$12),allgemein!M153,allgemein!$F$12),4,IF(ISBLANK(allgemein!$F$13),allgemein!M153,allgemein!$F$13),5,IF(ISBLANK(allgemein!$I$10),allgemein!M153,allgemein!$I$10),6,IF(ISBLANK(allgemein!$I$11),allgemein!M153,allgemein!$I$11),7,IF(ISBLANK(allgemein!$I$12),allgemein!M153,allgemein!$I$12),8,IF(ISBLANK(allgemein!$I$13),allgemein!M153,allgemein!$I$13),IF(ISBLANK(allgemein!M153),\"\",allgemein!M153))","v":{"$error":"#NAME?"}},{"$f":"_xlfn.SWITCH(allgemein!N153,1,IF(ISBLANK(allgemein!$F$10),allgemein!N153,allgemein!$F$10),2,IF(ISBLANK(allgemein!$F$11),allgemein!N153,allgemein!$F$11),3,IF(ISBLANK(allgemein!$F$12),allgemein!N153,allgemein!$F$12),4,IF(ISBLANK(allgemein!$F$13),allgemein!N153,allgemein!$F$13),5,IF(ISBLANK(allgemein!$I$10),allgemein!N153,allgemein!$I$10),6,IF(ISBLANK(allgemein!$I$11),allgemein!N153,allgemein!$I$11),7,IF(ISBLANK(allgemein!$I$12),allgemein!N153,allgemein!$I$12),8,IF(ISBLANK(allgemein!$I$13),allgemein!N153,allgemein!$I$13),IF(ISBLANK(allgemein!N153),\"\",allgemein!N153))","v":{"$error":"#NAME?"}},{"$f":"_xlfn.SWITCH(allgemein!O153,1,IF(ISBLANK(allgemein!$F$10),allgemein!O153,allgemein!$F$10),2,IF(ISBLANK(allgemein!$F$11),allgemein!O153,allgemein!$F$11),3,IF(ISBLANK(allgemein!$F$12),allgemein!O153,allgemein!$F$12),4,IF(ISBLANK(allgemein!$F$13),allgemein!O153,allgemein!$F$13),5,IF(ISBLANK(allgemein!$I$10),allgemein!O153,allgemein!$I$10),6,IF(ISBLANK(allgemein!$I$11),allgemein!O153,allgemein!$I$11),7,IF(ISBLANK(allgemein!$I$12),allgemein!O153,allgemein!$I$12),8,IF(ISBLANK(allgemein!$I$13),allgemein!O153,allgemein!$I$13),IF(ISBLANK(allgemein!O153),\"\",allgemein!O153))","v":{"$error":"#NAME?"}},{"$f":"_xlfn.SWITCH(allgemein!P153,1,IF(ISBLANK(allgemein!$F$10),allgemein!P153,allgemein!$F$10),2,IF(ISBLANK(allgemein!$F$11),allgemein!P153,allgemein!$F$11),3,IF(ISBLANK(allgemein!$F$12),allgemein!P153,allgemein!$F$12),4,IF(ISBLANK(allgemein!$F$13),allgemein!P153,allgemein!$F$13),5,IF(ISBLANK(allgemein!$I$10),allgemein!P153,allgemein!$I$10),6,IF(ISBLANK(allgemein!$I$11),allgemein!P153,allgemein!$I$11),7,IF(ISBLANK(allgemein!$I$12),allgemein!P153,allgemein!$I$12),8,IF(ISBLANK(allgemein!$I$13),allgemein!P153,allgemein!$I$13),IF(ISBLANK(allgemein!P153),\"\",allgemein!P153))","v":{"$error":"#NAME?"}},{"$f":"IF(ISBLANK(allgemein!Q153),\"\",allgemein!Q153)","v":""},{"$f":"IF(ISBLANK(allgemein!R153),\"\",allgemein!R153)","v":""},{"$f":"IF(ISBLANK(allgemein!S153),\"\",allgemein!S153)","v":""},{"$f":"IF(ISBLANK(allgemein!U153),\"\",allgemein!U153)","v":""}]
[{"$f":"IF(ISBLANK(allgemein!D154),\"\",allgemein!D154)","v":137},{"$f":"IF(ISBLANK(allgemein!E154),\"\",allgemein!E154)","v":""},{"$f":"IF(ISBLANK(allgemein!C154),\"\",allgemein!C154)","v":" "},{"$f":"IF(ISBLANK(allgemein!H154),\"\",allgemein!H154)","v":""},{"$f":"IF(ISBLANK(allgemein!I154),\"\",allgemein!I154)","v":""},{"$f":"IF(ISBLANK(allgemein!J154),\"\",allgemein!J154)","v":""},{"$f":"IF(ISBLANK(allgemein!K154),\"\",allgemein!K154)","v":""},{"$f":"IF(ISBLANK(allgemein!F154),\"\",IF(ISBLANK(allgemein!L154),1,0))","v":""},{"$f":"_xlfn.SWITCH(allgemein!M154,1,IF(ISBLANK(allgemein!$F$10),allgemein!M154,allgemein!$F$10),2,IF(ISBLANK(allgemein!$F$11),allgemein!M154,allgemein!$F$11),3,IF(ISBLANK(allgemein!$F$12),allgemein!M154,allgemein!$F$12),4,IF(ISBLANK(allgemein!$F$13),allgemein!M154,allgemein!$F$13),5,IF(ISBLANK(allgemein!$I$10),allgemein!M154,allgemein!$I$10),6,IF(ISBLANK(allgemein!$I$11),allgemein!M154,allgemein!$I$11),7,IF(ISBLANK(allgemein!$I$12),allgemein!M154,allgemein!$I$12),8,IF(ISBLANK(allgemein!$I$13),allgemein!M154,allgemein!$I$13),IF(ISBLANK(allgemein!M154),\"\",allgemein!M154))","v":{"$error":"#NAME?"}},{"$f":"_xlfn.SWITCH(allgemein!N154,1,IF(ISBLANK(allgemein!$F$10),allgemein!N154,allgemein!$F$10),2,IF(ISBLANK(allgemein!$F$11),allgemein!N154,allgemein!$F$11),3,IF(ISBLANK(allgemein!$F$12),allgemein!N154,allgemein!$F$12),4,IF(ISBLANK(allgemein!$F$13),allgemein!N154,allgemein!$F$13),5,IF(ISBLANK(allgemein!$I$10),allgemein!N154,allgemein!$I$10),6,IF(ISBLANK(allgemein!$I$11),allgemein!N154,allgemein!$I$11),7,IF(ISBLANK(allgemein!$I$12),allgemein!N154,allgemein!$I$12),8,IF(ISBLANK(allgemein!$I$13),allgemein!N154,allgemein!$I$13),IF(ISBLANK(allgemein!N154),\"\",allgemein!N154))","v":{"$error":"#NAME?"}},{"$f":"_xlfn.SWITCH(allgemein!O154,1,IF(ISBLANK(allgemein!$F$10),allgemein!O154,allgemein!$F$10),2,IF(ISBLANK(allgemein!$F$11),allgemein!O154,allgemein!$F$11),3,IF(ISBLANK(allgemein!$F$12),allgemein!O154,allgemein!$F$12),4,IF(ISBLANK(allgemein!$F$13),allgemein!O154,allgemein!$F$13),5,IF(ISBLANK(allgemein!$I$10),allgemein!O154,allgemein!$I$10),6,IF(ISBLANK(allgemein!$I$11),allgemein!O154,allgemein!$I$11),7,IF(ISBLANK(allgemein!$I$12),allgemein!O154,allgemein!$I$12),8,IF(ISBLANK(allgemein!$I$13),allgemein!O154,allgemein!$I$13),IF(ISBLANK(allgemein!O154),\"\",allgemein!O154))","v":{"$error":"#NAME?"}},{"$f":"_xlfn.SWITCH(allgemein!P154,1,IF(ISBLANK(allgemein!$F$10),allgemein!P154,allgemein!$F$10),2,IF(ISBLANK(allgemein!$F$11),allgemein!P154,allgemein!$F$11),3,IF(ISBLANK(allgemein!$F$12),allgemein!P154,allgemein!$F$12),4,IF(ISBLANK(allgemein!$F$13),allgemein!P154,allgemein!$F$13),5,IF(ISBLANK(allgemein!$I$10),allgemein!P154,allgemein!$I$10),6,IF(ISBLANK(allgemein!$I$11),allgemein!P154,allgemein!$I$11),7,IF(ISBLANK(allgemein!$I$12),allgemein!P154,allgemein!$I$12),8,IF(ISBLANK(allgemein!$I$13),allgemein!P154,allgemein!$I$13),IF(ISBLANK(allgemein!P154),\"\",allgemein!P154))","v":{"$error":"#NAME?"}},{"$f":"IF(ISBLANK(allgemein!Q154),\"\",allgemein!Q154)","v":""},{"$f":"IF(ISBLANK(allgemein!R154),\"\",allgemein!R154)","v":""},{"$f":"IF(ISBLANK(allgemein!S154),\"\",allgemein!S154)","v":""},{"$f":"IF(ISBLANK(allgemein!U154),\"\",allgemein!U154)","v":""}]
[{"$f":"IF(ISBLANK(allgemein!D155),\"\",allgemein!D155)","v":138},{"$f":"IF(ISBLANK(allgemein!E155),\"\",allgemein!E155)","v":""},{"$f":"IF(ISBLANK(allgemein!C155),\"\",allgemein!C155)","v":" "},{"$f":"IF(ISBLANK(allgemein!H155),\"\",allgemein!H155)","v":""},{"$f":"IF(ISBLANK(allgemein!I155),\"\",allgemein!I155)","v":""},{"$f":"IF(ISBLANK(allgemein!J155),\"\",allgemein!J155)","v":""},{"$f":"IF(ISBLANK(allgemein!K155),\"\",allgemein!K155)","v":""},{"$f":"IF(ISBLANK(allgemein!F155),\"\",IF(ISBLANK(allgemein!L155),1,0))","v":""},{"$f":"_xlfn.SWITCH(allgemein!M155,1,IF(ISBLANK(allgemein!$F$10),allgemein!M155,allgemein!$F$10),2,IF(ISBLANK(allgemein!$F$11),allgemein!M155,allgemein!$F$11),3,IF(ISBLANK(allgemein!$F$12),allgemein!M155,allgemein!$F$12),4,IF(ISBLANK(allgemein!$F$13),allgemein!M155,allgemein!$F$13),5,IF(ISBLANK(allgemein!$I$10),allgemein!M155,allgemein!$I$10),6,IF(ISBLANK(allgemein!$I$11),allgemein!M155,allgemein!$I$11),7,IF(ISBLANK(allgemein!$I$12),allgemein!M155,allgemein!$I$12),8,IF(ISBLANK(allgemein!$I$13),allgemein!M155,allgemein!$I$13),IF(ISBLANK(allgemein!M155),\"\",allgemein!M155))","v":{"$error":"#NAME?"}},{"$f":"_xlfn.SWITCH(allgemein!N155,1,IF(ISBLANK(allgemein!$F$10),allgemein!N155,allgemein!$F$10),2,IF(ISBLANK(allgemein!$F$11),allgemein!N155,allgemein!$F$11),3,IF(ISBLANK(allgemein!$F$12),allgemein!N155,allgemein!$F$12),4,IF(ISBLANK(allgemein!$F$13),allgemein!N155,allgemein!$F$13),5,IF(ISBLANK(allgemein!$I$10),allgemein!N155,allgemein!$I$10),6,IF(ISBLANK(allgemein!$I$11),allgemein!N155,allgemein!$I$11),7,IF(ISBLANK(allgemein!$I$12),allgemein!N155,allgemein!$I$12),8,IF(ISBLANK(allgemein!$I$13),allgemein!N155,allgemein!$I$13),IF(ISBLANK(allgemein!N155),\"\",allgemein!N155))","v":{"$error":"#NAME?"}},{"$f":"_xlfn.SWITCH(allgemein!O155,1,IF(ISBLANK(allgemein!$F$10),allgemein!O155,allgemein!$F$10),2,IF(ISBLANK(allgemein!$F$11),allgemein!O155,allgemein!$F$11),3,IF(ISBLANK(allgemein!$F$12),allgemein!O155,allgemein!$F$12),4,IF(ISBLANK(allgemein!$F$13),allgemein!O155,allgemein!$F$13),5,IF(ISBLANK(allgemein!$I$10),allgemein!O155,allgemein!$I$10),6,IF(ISBLANK(allgemein!$I$11),allgemein!O155,allgemein!$I$11),7,IF(ISBLANK(allgemein!$I$12),allgemein!O155,allgemein!$I$12),8,IF(ISBLANK(allgemein!$I$13),allgemein!O155,allgemein!$I$13),IF(ISBLANK(allgemein!O155),\"\",allgemein!O155))","v":{"$error":"#NAME?"}},{"$f":"_xlfn.SWITCH(allgemein!P155,1,IF(ISBLANK(allgemein!$F$10),allgemein!P155,allgemein!$F$10),2,IF(ISBLANK(allgemein!$F$11),allgemein!P155,allgemein!$F$11),3,IF(ISBLANK(allgemein!$F$12),allgemein!P155,allgemein!$F$12),4,IF(ISBLANK(allgemein!$F$13),allgemein!P155,allgemein!$F$13),5,IF(ISBLANK(allgemein!$I$10),allgemein!P155,allgemein!$I$10),6,IF(ISBLANK(allgemein!$I$11),allgemein!P155,allgemein!$I$11),7,IF(ISBLANK(allgemein!$I$12),allgemein!P155,allgemein!$I$12),8,IF(ISBLANK(allgemein!$I$13),allgemein!P155,allgemein!$I$13),IF(ISBLANK(allgemein!P155),\"\",allgemein!P155))","v":{"$error":"#NAME?"}},{"$f":"IF(ISBLANK(allgemein!Q155),\"\",allgemein!Q155)","v":""},{"$f":"IF(ISBLANK(allgemein!R155),\"\",allgemein!R155)","v":""},{"$f":"IF(ISBLANK(allgemein!S155),\"\",allgemein!S155)","v":""},{"$f":"IF(ISBLANK(allgemein!U155),\"\",allgemein!U155)","v":""}]
[{"$f":"IF(ISBLANK(allgemein!D156),\"\",allgemein!D156)","v":139},{"$f":"IF(ISBLANK(allgemein!E156),\"\",allgemein!E156)","v":""},{"$f":"IF(ISBLANK(allgemein!C156),\"\",allgemein!C156)","v":" "},{"$f":"IF(ISBLANK(allgemein!H156),\"\",allgemein!H156)","v":""},{"$f":"IF(ISBLANK(allgemein!I156),\"\",allgemein!I156)","v":""},{"$f":"IF(ISBLANK(allgemein!J156),\"\",allgemein!J156)","v":""},{"$f":"IF(ISBLANK(allgemein!K156),\"\",allgemein!K156)","v":""},{"$f":"IF(ISBLANK(allgemein!F156),\"\",IF(ISBLANK(allgemein!L156),1,0))","v":""},{"$f":"_xlfn.SWITCH(allgemein!M156,1,IF(ISBLANK(allgemein!$F$10),allgemein!M156,allgemein!$F$10),2,IF(ISBLANK(allgemein!$F$11),allgemein!M156,allgemein!$F$11),3,IF(ISBLANK(allgemein!$F$12),allgemein!M156,allgemein!$F$12),4,IF(ISBLANK(allgemein!$F$13),allgemein!M156,allgemein!$F$13),5,IF(ISBLANK(allgemein!$I$10),allgemein!M156,allgemein!$I$10),6,IF(ISBLANK(allgemein!$I$11),allgemein!M156,allgemein!$I$11),7,IF(ISBLANK(allgemein!$I$12),allgemein!M156,allgemein!$I$12),8,IF(ISBLANK(allgemein!$I$13),allgemein!M156,allgemein!$I$13),IF(ISBLANK(allgemein!M156),\"\",allgemein!M156))","v":{"$error":"#NAME?"}},{"$f":"_xlfn.SWITCH(allgemein!N156,1,IF(ISBLANK(allgemein!$F$10),allgemein!N156,allgemein!$F$10),2,IF(ISBLANK(allgemein!$F$11),allgemein!N156,allgemein!$F$11),3,IF(ISBLANK(allgemein!$F$12),allgemein!N156,allgemein!$F$12),4,IF(ISBLANK(allgemein!$F$13),allgemein!N156,allgemein!$F$13),5,IF(ISBLANK(allgemein!$I$10),allgemein!N156,allgemein!$I$10),6,IF(ISBLANK(allgemein!$I$11),allgemein!N156,allgemein!$I$11),7,IF(ISBLANK(allgemein!$I$12),allgemein!N156,allgemein!$I$12),8,IF(ISBLANK(allgemein!$I$13),allgemein!N156,allgemein!$I$13),IF(ISBLANK(allgemein!N156),\"\",allgemein!N156))","v":{"$error":"#NAME?"}},{"$f":"_xlfn.SWITCH(allgemein!O156,1,IF(ISBLANK(allgemein!$F$10),allgemein!O156,allgemein!$F$10),2,IF(ISBLANK(allgemein!$F$11),allgemein!O156,allgemein!$F$11),3,IF(ISBLANK(allgemein!$F$12),allgemein!O156,allgemein!$F$12),4,IF(ISBLANK(allgemein!$F$13),allgemein!O156,allgemein!$F$13),5,IF(ISBLANK(allgemein!$I$10),allgemein!O156,allgemein!$I$10),6,IF(ISBLANK(allgemein!$I$11),allgemein!O156,allgemein!$I$11),7,IF(ISBLANK(allgemein!$I$12),allgemein!O156,allgemein!$I$12),8,IF(ISBLANK(allgemein!$I$13),allgemein!O156,allgemein!$I$13),IF(ISBLANK(allgemein!O156),\"\",allgemein!O156))","v":{"$error":"#NAME?"}},{"$f":"_xlfn.SWITCH(allgemein!P156,1,IF(ISBLANK(allgemein!$F$10),allgemein!P156,allgemein!$F$10),2,IF(ISBLANK(allgemein!$F$11),allgemein!P156,allgemein!$F$11),3,IF(ISBLANK(allgemein!$F$12),allgemein!P156,allgemein!$F$12),4,IF(ISBLANK(allgemein!$F$13),allgemein!P156,allgemein!$F$13),5,IF(ISBLANK(allgemein!$I$10),allgemein!P156,allgemein!$I$10),6,IF(ISBLANK(allgemein!$I$11),allgemein!P156,allgemein!$I$11),7,IF(ISBLANK(allgemein!$I$12),allgemein!P156,allgemein!$I$12),8,IF(ISBLANK(allgemein!$I$13),allgemein!P156,allgemein!$I$13),IF(ISBLANK(allgemein!P156),\"\",allgemein!P156))","v":{"$error":"#NAME?"}},{"$f":"IF(ISBLANK(allgemein!Q156),\"\",allgemein!Q156)","v":""},{"$f":"IF(ISBLANK(allgemein!R156),\"\",allgemein!R156)","v":""},{"$f":"IF(ISBLANK(allgemein!S156),\"\",allgemein!S156)","v":""},{"$f":"IF(ISBLANK(allgemein!U156),\"\",allgemein!U156)","v":""}]
[{"$f":"IF(ISBLANK(allgemein!D157),\"\",allgemein!D157)","v":140},{"$f":"IF(ISBLANK(allgemein!E157),\"\",allgemein!E157)","v":""},{"$f":"IF(ISBLANK(allgemein!C157),\"\",allgemein!C157)","v":" "},{"$f":"IF(ISBLANK(allgemein!H157),\"\",allgemein!H157)","v":""},{"$f":"IF(ISBLANK(allgemein!I157),\"\",allgemein!I157)","v":""},{"$f":"IF(ISBLANK(allgemein!J157),\"\",allgemein!J157)","v":""},{"$f":"IF(ISBLANK(allgemein!K157),\"\",allgemein!K157)","v":""},{"$f":"IF(ISBLANK(allgemein!F157),\"\",IF(ISBLANK(allgemein!L157),1,0))","v":""},{"$f":"_xlfn.SWITCH(allgemein!M157,1,IF(ISBLANK(allgemein!$F$10),allgemein!M157,allgemein!$F$10),2,IF(ISBLANK(allgemein!$F$11),allgemein!M157,allgemein!$F$11),3,IF(ISBLANK(allgemein!$F$12),allgemein!M157,allgemein!$F$12),4,IF(ISBLANK(allgemein!$F$13),allgemein!M157,allgemein!$F$13),5,IF(ISBLANK(allgemein!$I$10),allgemein!M157,allgemein!$I$10),6,IF(ISBLANK(allgemein!$I$11),allgemein!M157,allgemein!$I$11),7,IF(ISBLANK(allgemein!$I$12),allgemein!M157,allgemein!$I$12),8,IF(ISBLANK(allgemein!$I$13),allgemein!M157,allgemein!$I$13),IF(ISBLANK(allgemein!M157),\"\",allgemein!M157))","v":{"$error":"#NAME?"}},{"$f":"_xlfn.SWITCH(allgemein!N157,1,IF(ISBLANK(allgemein!$F$10),allgemein!N157,allgemein!$F$10),2,IF(ISBLANK(allgemein!$F$11),allgemein!N157,allgemein!$F$11),3,IF(ISBLANK(allgemein!$F$12),allgemein!N157,allgemein!$F$12),4,IF(ISBLANK(allgemein!$F$13),allgemein!N157,allgemein!$F$13),5,IF(ISBLANK(allgemein!$I$10),allgemein!N157,allgemein!$I$10),6,IF(ISBLANK(allgemein!$I$11),allgemein!N157,allgemein!$I$11),7,IF(ISBLANK(allgemein!$I$12),allgemein!N157,allgemein!$I$12),8,IF(ISBLANK(allgemein!$I$13),allgemein!N157,allgemein!$I$13),IF(ISBLANK(allgemein!N157),\"\",allgemein!N157))","v":{"$error":"#NAME?"}},{"$f":"_xlfn.SWITCH(allgemein!O157,1,IF(ISBLANK(allgemein!$F$10),allgemein!O157,allgemein!$F$10),2,IF(ISBLANK(allgemein!$F$11),allgemein!O157,allgemein!$F$11),3,IF(ISBLANK(allgemein!$F$12),allgemein!O157,allgemein!$F$12),4,IF(ISBLANK(allgemein!$F$13),allgemein!O157,allgemein!$F$13),5,IF(ISBLANK(allgemein!$I$10),allgemein!O157,allgemein!$I$10),6,IF(ISBLANK(allgemein!$I$11),allgemein!O157,allgemein!$I$11),7,IF(ISBLANK(allgemein!$I$12),allgemein!O157,allgemein!$I$12),8,IF(ISBLANK(allgemein!$I$13),allgemein!O157,allgemein!$I$13),IF(ISBLANK(allgemein!O157),\"\",allgemein!O157))","v":{"$error":"#NAME?"}},{"$f":"_xlfn.SWITCH(allgemein!P157,1,IF(ISBLANK(allgemein!$F$10),allgemein!P157,allgemein!$F$10),2,IF(ISBLANK(allgemein!$F$11),allgemein!P157,allgemein!$F$11),3,IF(ISBLANK(allgemein!$F$12),allgemein!P157,allgemein!$F$12),4,IF(ISBLANK(allgemein!$F$13),allgemein!P157,allgemein!$F$13),5,IF(ISBLANK(allgemein!$I$10),allgemein!P157,allgemein!$I$10),6,IF(ISBLANK(allgemein!$I$11),allgemein!P157,allgemein!$I$11),7,IF(ISBLANK(allgemein!$I$12),allgemein!P157,allgemein!$I$12),8,IF(ISBLANK(allgemein!$I$13),allgemein!P157,allgemein!$I$13),IF(ISBLANK(allgemein!P157),\"\",allgemein!P157))","v":{"$error":"#NAME?"}},{"$f":"IF(ISBLANK(allgemein!Q157),\"\",allgemein!Q157)","v":""},{"$f":"IF(ISBLANK(allgemein!R157),\"\",allgemein!R157)","v":""},{"$f":"IF(ISBLANK(allgemein!S157),\"\",allgemein!S157)","v":""},{"$f":"IF(ISBLANK(allgemein!U157),\"\",allgemein!U157)","v":""}]
[{"$f":"IF(ISBLANK(allgemein!D158),\"\",allgemein!D158)","v":141},{"$f":"IF(ISBLANK(allgemein!E158),\"\",allgemein!E158)","v":""},{"$f":"IF(ISBLANK(allgemein!C158),\"\",allgemein!C158)","v":" "},{"$f":"IF(ISBLANK(allgemein!H158),\"\",allgemein!H158)","v":""},{"$f":"IF(ISBLANK(allgemein!I158),\"\",allgemein!I158)","v":""},{"$f":"IF(ISBLANK(allgemein!J158),\"\",allgemein!J158)","v":""},{"$f":"IF(ISBLANK(allgemein!K158),\"\",allgemein!K158)","v":""},{"$f":"IF(ISBLANK(allgemein!F158),\"\",IF(ISBLANK(allgemein!L158),1,0))","v":""},{"$f":"_xlfn.SWITCH(allgemein!M158,1,IF(ISBLANK(allgemein!$F$10),allgemein!M158,allgemein!$F$10),2,IF(ISBLANK(allgemein!$F$11),allgemein!M158,allgemein!$F$11),3,IF(ISBLANK(allgemein!$F$12),allgemein!M158,allgemein!$F$12),4,IF(ISBLANK(allgemein!$F$13),allgemein!M158,allgemein!$F$13),5,IF(ISBLANK(allgemein!$I$10),allgemein!M158,allgemein!$I$10),6,IF(ISBLANK(allgemein!$I$11),allgemein!M158,allgemein!$I$11),7,IF(ISBLANK(allgemein!$I$12),allgemein!M158,allgemein!$I$12),8,IF(ISBLANK(allgemein!$I$13),allgemein!M158,allgemein!$I$13),IF(ISBLANK(allgemein!M158),\"\",allgemein!M158))","v":{"$error":"#NAME?"}},{"$f":"_xlfn.SWITCH(allgemein!N158,1,IF(ISBLANK(allgemein!$F$10),allgemein!N158,allgemein!$F$10),2,IF(ISBLANK(allgemein!$F$11),allgemein!N158,allgemein!$F$11),3,IF(ISBLANK(allgemein!$F$12),allgemein!N158,allgemein!$F$12),4,IF(ISBLANK(allgemein!$F$13),allgemein!N158,allgemein!$F$13),5,IF(ISBLANK(allgemein!$I$10),allgemein!N158,allgemein!$I$10),6,IF(ISBLANK(allgemein!$I$11),allgemein!N158,allgemein!$I$11),7,IF(ISBLANK(allgemein!$I$12),allgemein!N158,allgemein!$I$12),8,IF(ISBLANK(allgemein!$I$13),allgemein!N158,allgemein!$I$13),IF(ISBLANK(allgemein!N158),\"\",allgemein!N158))","v":{"$error":"#NAME?"}},{"$f":"_xlfn.SWITCH(allgemein!O158,1,IF(ISBLANK(allgemein!$F$10),allgemein!O158,allgemein!$F$10),2,IF(ISBLANK(allgemein!$F$11),allgemein!O158,allgemein!$F$11),3,IF(ISBLANK(allgemein!$F$12),allgemein!O158,allgemein!$F$12),4,IF(ISBLANK(allgemein!$F$13),allgemein!O158,allgemein!$F$13),5,IF(ISBLANK(allgemein!$I$10),allgemein!O158,allgemein!$I$10),6,IF(ISBLANK(allgemein!$I$11),allgemein!O158,allgemein!$I$11),7,IF(ISBLANK(allgemein!$I$12),allgemein!O158,allgemein!$I$12),8,IF(ISBLANK(allgemein!$I$13),allgemein!O158,allgemein!$I$13),IF(ISBLANK(allgemein!O158),\"\",allgemein!O158))","v":{"$error":"#NAME?"}},{"$f":"_xlfn.SWITCH(allgemein!P158,1,IF(ISBLANK(allgemein!$F$10),allgemein!P158,allgemein!$F$10),2,IF(ISBLANK(allgemein!$F$11),allgemein!P158,allgemein!$F$11),3,IF(ISBLANK(allgemein!$F$12),allgemein!P158,allgemein!$F$12),4,IF(ISBLANK(allgemein!$F$13),allgemein!P158,allgemein!$F$13),5,IF(ISBLANK(allgemein!$I$10),allgemein!P158,allgemein!$I$10),6,IF(ISBLANK(allgemein!$I$11),allgemein!P158,allgemein!$I$11),7,IF(ISBLANK(allgemein!$I$12),allgemein!P158,allgemein!$I$12),8,IF(ISBLANK(allgemein!$I$13),allgemein!P158,allgemein!$I$13),IF(ISBLANK(allgemein!P158),\"\",allgemein!P158))","v":{"$error":"#NAME?"}},{"$f":"IF(ISBLANK(allgemein!Q158),\"\",allgemein!Q158)","v":""},{"$f":"IF(ISBLANK(allgemein!R158),\"\",allgemein!R158)","v":""},{"$f":"IF(ISBLANK(allgemein!S158),\"\",allgemein!S158)","v":""},{"$f":"IF(ISBLANK(allgemein!U158),\"\",allgemein!U158)","v":""}]
[{"$f":"IF(ISBLANK(allgemein!D159),\"\",allgemein!D159)","v":142},{"$f":"IF(ISBLANK(allgemein!E159),\"\",allgemein!E159)","v":""},{"$f":"IF(ISBLANK(allgemein!C159),\"\",allgemein!C159)","v":" "},{"$f":"IF(ISBLANK(allgemein!H159),\"\",allgemein!H159)","v":""},{"$f":"IF(ISBLANK(allgemein!I159),\"\",allgemein!I159)","v":""},{"$f":"IF(ISBLANK(allgemein!J159),\"\",allgemein!J159)","v":""},{"$f":"IF(ISBLANK(allgemein!K159),\"\",allgemein!K159)","v":""},{"$f":"IF(ISBLANK(allgemein!F159),\"\",IF(ISBLANK(allgemein!L159),1,0))","v":""},{"$f":"_xlfn.SWITCH(allgemein!M159,1,IF(ISBLANK(allgemein!$F$10),allgemein!M159,allgemein!$F$10),2,IF(ISBLANK(allgemein!$F$11),allgemein!M159,allgemein!$F$11),3,IF(ISBLANK(allgemein!$F$12),allgemein!M159,allgemein!$F$12),4,IF(ISBLANK(allgemein!$F$13),allgemein!M159,allgemein!$F$13),5,IF(ISBLANK(allgemein!$I$10),allgemein!M159,allgemein!$I$10),6,IF(ISBLANK(allgemein!$I$11),allgemein!M159,allgemein!$I$11),7,IF(ISBLANK(allgemein!$I$12),allgemein!M159,allgemein!$I$12),8,IF(ISBLANK(allgemein!$I$13),allgemein!M159,allgemein!$I$13),IF(ISBLANK(allgemein!M159),\"\",allgemein!M159))","v":{"$error":"#NAME?"}},{"$f":"_xlfn.SWITCH(allgemein!N159,1,IF(ISBLANK(allgemein!$F$10),allgemein!N159,allgemein!$F$10),2,IF(ISBLANK(allgemein!$F$11),allgemein!N159,allgemein!$F$11),3,IF(ISBLANK(allgemein!$F$12),allgemein!N159,allgemein!$F$12),4,IF(ISBLANK(allgemein!$F$13),allgemein!N159,allgemein!$F$13),5,IF(ISBLANK(allgemein!$I$10),allgemein!N159,allgemein!$I$10),6,IF(ISBLANK(allgemein!$I$11),allgemein!N159,allgemein!$I$11),7,IF(ISBLANK(allgemein!$I$12),allgemein!N159,allgemein!$I$12),8,IF(ISBLANK(allgemein!$I$13),allgemein!N159,allgemein!$I$13),IF(ISBLANK(allgemein!N159),\"\",allgemein!N159))","v":{"$error":"#NAME?"}},{"$f":"_xlfn.SWITCH(allgemein!O159,1,IF(ISBLANK(allgemein!$F$10),allgemein!O159,allgemein!$F$10),2,IF(ISBLANK(allgemein!$F$11),allgemein!O159,allgemein!$F$11),3,IF(ISBLANK(allgemein!$F$12),allgemein!O159,allgemein!$F$12),4,IF(ISBLANK(allgemein!$F$13),allgemein!O159,allgemein!$F$13),5,IF(ISBLANK(allgemein!$I$10),allgemein!O159,allgemein!$I$10),6,IF(ISBLANK(allgemein!$I$11),allgemein!O159,allgemein!$I$11),7,IF(ISBLANK(allgemein!$I$12),allgemein!O159,allgemein!$I$12),8,IF(ISBLANK(allgemein!$I$13),allgemein!O159,allgemein!$I$13),IF(ISBLANK(allgemein!O159),\"\",allgemein!O159))","v":{"$error":"#NAME?"}},{"$f":"_xlfn.SWITCH(allgemein!P159,1,IF(ISBLANK(allgemein!$F$10),allgemein!P159,allgemein!$F$10),2,IF(ISBLANK(allgemein!$F$11),allgemein!P159,allgemein!$F$11),3,IF(ISBLANK(allgemein!$F$12),allgemein!P159,allgemein!$F$12),4,IF(ISBLANK(allgemein!$F$13),allgemein!P159,allgemein!$F$13),5,IF(ISBLANK(allgemein!$I$10),allgemein!P159,allgemein!$I$10),6,IF(ISBLANK(allgemein!$I$11),allgemein!P159,allgemein!$I$11),7,IF(ISBLANK(allgemein!$I$12),allgemein!P159,allgemein!$I$12),8,IF(ISBLANK(allgemein!$I$13),allgemein!P159,allgemein!$I$13),IF(ISBLANK(allgemein!P159),\"\",allgemein!P159))","v":{"$error":"#NAME?"}},{"$f":"IF(ISBLANK(allgemein!Q159),\"\",allgemein!Q159)","v":""},{"$f":"IF(ISBLANK(allgemein!R159),\"\",allgemein!R159)","v":""},{"$f":"IF(ISBLANK(allgemein!S159),\"\",allgemein!S159)","v":""},{"$f":"IF(ISBLANK(allgemein!U159),\"\",allgemein!U159)","v":""}]
[{"$f":"IF(ISBLANK(allgemein!D160),\"\",allgemein!D160)","v":143},{"$f":"IF(ISBLANK(allgemein!E160),\"\",allgemein!E160)","v":""},{"$f":"IF(ISBLANK(allgemein!C160),\"\",allgemein!C160)","v":" "},{"$f":"IF(ISBLANK(allgemein!H160),\"\",allgemein!H160)","v":""},{"$f":"IF(ISBLANK(allgemein!I160),\"\",allgemein!I160)","v":""},{"$f":"IF(ISBLANK(allgemein!J160),\"\",allgemein!J160)","v":""},{"$f":"IF(ISBLANK(allgemein!K160),\"\",allgemein!K160)","v":""},{"$f":"IF(ISBLANK(allgemein!F160),\"\",IF(ISBLANK(allgemein!L160),1,0))","v":""},{"$f":"_xlfn.SWITCH(allgemein!M160,1,IF(ISBLANK(allgemein!$F$10),allgemein!M160,allgemein!$F$10),2,IF(ISBLANK(allgemein!$F$11),allgemein!M160,allgemein!$F$11),3,IF(ISBLANK(allgemein!$F$12),allgemein!M160,allgemein!$F$12),4,IF(ISBLANK(allgemein!$F$13),allgemein!M160,allgemein!$F$13),5,IF(ISBLANK(allgemein!$I$10),allgemein!M160,allgemein!$I$10),6,IF(ISBLANK(allgemein!$I$11),allgemein!M160,allgemein!$I$11),7,IF(ISBLANK(allgemein!$I$12),allgemein!M160,allgemein!$I$12),8,IF(ISBLANK(allgemein!$I$13),allgemein!M160,allgemein!$I$13),IF(ISBLANK(allgemein!M160),\"\",allgemein!M160))","v":{"$error":"#NAME?"}},{"$f":"_xlfn.SWITCH(allgemein!N160,1,IF(ISBLANK(allgemein!$F$10),allgemein!N160,allgemein!$F$10),2,IF(ISBLANK(allgemein!$F$11),allgemein!N160,allgemein!$F$11),3,IF(ISBLANK(allgemein!$F$12),allgemein!N160,allgemein!$F$12),4,IF(ISBLANK(allgemein!$F$13),allgemein!N160,allgemein!$F$13),5,IF(ISBLANK(allgemein!$I$10),allgemein!N160,allgemein!$I$10),6,IF(ISBLANK(allgemein!$I$11),allgemein!N160,allgemein!$I$11),7,IF(ISBLANK(allgemein!$I$12),allgemein!N160,allgemein!$I$12),8,IF(ISBLANK(allgemein!$I$13),allgemein!N160,allgemein!$I$13),IF(ISBLANK(allgemein!N160),\"\",allgemein!N160))","v":{"$error":"#NAME?"}},{"$f":"_xlfn.SWITCH(allgemein!O160,1,IF(ISBLANK(allgemein!$F$10),allgemein!O160,allgemein!$F$10),2,IF(ISBLANK(allgemein!$F$11),allgemein!O160,allgemein!$F$11),3,IF(ISBLANK(allgemein!$F$12),allgemein!O160,allgemein!$F$12),4,IF(ISBLANK(allgemein!$F$13),allgemein!O160,allgemein!$F$13),5,IF(ISBLANK(allgemein!$I$10),allgemein!O160,allgemein!$I$10),6,IF(ISBLANK(allgemein!$I$11),allgemein!O160,allgemein!$I$11),7,IF(ISBLANK(allgemein!$I$12),allgemein!O160,allgemein!$I$12),8,IF(ISBLANK(allgemein!$I$13),allgemein!O160,allgemein!$I$13),IF(ISBLANK(allgemein!O160),\"\",allgemein!O160))","v":{"$error":"#NAME?"}},{"$f":"_xlfn.SWITCH(allgemein!P160,1,IF(ISBLANK(allgemein!$F$10),allgemein!P160,allgemein!$F$10),2,IF(ISBLANK(allgemein!$F$11),allgemein!P160,allgemein!$F$11),3,IF(ISBLANK(allgemein!$F$12),allgemein!P160,allgemein!$F$12),4,IF(ISBLANK(allgemein!$F$13),allgemein!P160,allgemein!$F$13),5,IF(ISBLANK(allgemein!$I$10),allgemein!P160,allgemein!$I$10),6,IF(ISBLANK(allgemein!$I$11),allgemein!P160,allgemein!$I$11),7,IF(ISBLANK(allgemein!$I$12),allgemein!P160,allgemein!$I$12),8,IF(ISBLANK(allgemein!$I$13),allgemein!P160,allgemein!$I$13),IF(ISBLANK(allgemein!P160),\"\",allgemein!P160))","v":{"$error":"#NAME?"}},{"$f":"IF(ISBLANK(allgemein!Q160),\"\",allgemein!Q160)","v":""},{"$f":"IF(ISBLANK(allgemein!R160),\"\",allgemein!R160)","v":""},{"$f":"IF(ISBLANK(allgemein!S160),\"\",allgemein!S160)","v":""},{"$f":"IF(ISBLANK(allgemein!U160),\"\",allgemein!U160)","v":""}]
[{"$f":"IF(ISBLANK(allgemein!D161),\"\",allgemein!D161)","v":144},{"$f":"IF(ISBLANK(allgemein!E161),\"\",allgemein!E161)","v":""},{"$f":"IF(ISBLANK(allgemein!C161),\"\",allgemein!C161)","v":" "},{"$f":"IF(ISBLANK(allgemein!H161),\"\",allgemein!H161)","v":""},{"$f":"IF(ISBLANK(allgemein!I161),\"\",allgemein!I161)","v":""},{"$f":"IF(ISBLANK(allgemein!J161),\"\",allgemein!J161)","v":""},{"$f":"IF(ISBLANK(allgemein!K161),\"\",allgemein!K161)","v":""},{"$f":"IF(ISBLANK(allgemein!F161),\"\",IF(ISBLANK(allgemein!L161),1,0))","v":""},{"$f":"_xlfn.SWITCH(allgemein!M161,1,IF(ISBLANK(allgemein!$F$10),allgemein!M161,allgemein!$F$10),2,IF(ISBLANK(allgemein!$F$11),allgemein!M161,allgemein!$F$11),3,IF(ISBLANK(allgemein!$F$12),allgemein!M161,allgemein!$F$12),4,IF(ISBLANK(allgemein!$F$13),allgemein!M161,allgemein!$F$13),5,IF(ISBLANK(allgemein!$I$10),allgemein!M161,allgemein!$I$10),6,IF(ISBLANK(allgemein!$I$11),allgemein!M161,allgemein!$I$11),7,IF(ISBLANK(allgemein!$I$12),allgemein!M161,allgemein!$I$12),8,IF(ISBLANK(allgemein!$I$13),allgemein!M161,allgemein!$I$13),IF(ISBLANK(allgemein!M161),\"\",allgemein!M161))","v":{"$error":"#NAME?"}},{"$f":"_xlfn.SWITCH(allgemein!N161,1,IF(ISBLANK(allgemein!$F$10),allgemein!N161,allgemein!$F$10),2,IF(ISBLANK(allgemein!$F$11),allgemein!N161,allgemein!$F$11),3,IF(ISBLANK(allgemein!$F$12),allgemein!N161,allgemein!$F$12),4,IF(ISBLANK(allgemein!$F$13),allgemein!N161,allgemein!$F$13),5,IF(ISBLANK(allgemein!$I$10),allgemein!N161,allgemein!$I$10),6,IF(ISBLANK(allgemein!$I$11),allgemein!N161,allgemein!$I$11),7,IF(ISBLANK(allgemein!$I$12),allgemein!N161,allgemein!$I$12),8,IF(ISBLANK(allgemein!$I$13),allgemein!N161,allgemein!$I$13),IF(ISBLANK(allgemein!N161),\"\",allgemein!N161))","v":{"$error":"#NAME?"}},{"$f":"_xlfn.SWITCH(allgemein!O161,1,IF(ISBLANK(allgemein!$F$10),allgemein!O161,allgemein!$F$10),2,IF(ISBLANK(allgemein!$F$11),allgemein!O161,allgemein!$F$11),3,IF(ISBLANK(allgemein!$F$12),allgemein!O161,allgemein!$F$12),4,IF(ISBLANK(allgemein!$F$13),allgemein!O161,allgemein!$F$13),5,IF(ISBLANK(allgemein!$I$10),allgemein!O161,allgemein!$I$10),6,IF(ISBLANK(allgemein!$I$11),allgemein!O161,allgemein!$I$11),7,IF(ISBLANK(allgemein!$I$12),allgemein!O161,allgemein!$I$12),8,IF(ISBLANK(allgemein!$I$13),allgemein!O161,allgemein!$I$13),IF(ISBLANK(allgemein!O161),\"\",allgemein!O161))","v":{"$error":"#NAME?"}},{"$f":"_xlfn.SWITCH(allgemein!P161,1,IF(ISBLANK(allgemein!$F$10),allgemein!P161,allgemein!$F$10),2,IF(ISBLANK(allgemein!$F$11),allgemein!P161,allgemein!$F$11),3,IF(ISBLANK(allgemein!$F$12),allgemein!P161,allgemein!$F$12),4,IF(ISBLANK(allgemein!$F$13),allgemein!P161,allgemein!$F$13),5,IF(ISBLANK(allgemein!$I$10),allgemein!P161,allgemein!$I$10),6,IF(ISBLANK(allgemein!$I$11),allgemein!P161,allgemein!$I$11),7,IF(ISBLANK(allgemein!$I$12),allgemein!P161,allgemein!$I$12),8,IF(ISBLANK(allgemein!$I$13),allgemein!P161,allgemein!$I$13),IF(ISBLANK(allgemein!P161),\"\",allgemein!P161))","v":{"$error":"#NAME?"}},{"$f":"IF(ISBLANK(allgemein!Q161),\"\",allgemein!Q161)","v":""},{"$f":"IF(ISBLANK(allgemein!R161),\"\",allgemein!R161)","v":""},{"$f":"IF(ISBLANK(allgemein!S161),\"\",allgemein!S161)","v":""},{"$f":"IF(ISBLANK(allgemein!U161),\"\",allgemein!U161)","v":""}]
[{"$f":"IF(ISBLANK(allgemein!D162),\"\",allgemein!D162)","v":145},{"$f":"IF(ISBLANK(allgemein!E162),\"\",allgemein!E162)","v":""},{"$f":"IF(ISBLANK(allgemein!C162),\"\",allgemein!C162)","v":" "},{"$f":"IF(ISBLANK(allgemein!H162),\"\",allgemein!H162)","v":""},{"$f":"IF(ISBLANK(allgemein!I162),\"\",allgemein!I162)","v":""},{"$f":"IF(ISBLANK(allgemein!J162),\"\",allgemein!J162)","v":""},{"$f":"IF(ISBLANK(allgemein!K162),\"\",allgemein!K162)","v":""},{"$f":"IF(ISBLANK(allgemein!F162),\"\",IF(ISBLANK(allgemein!L162),1,0))","v":""},{"$f":"_xlfn.SWITCH(allgemein!M162,1,IF(ISBLANK(allgemein!$F$10),allgemein!M162,allgemein!$F$10),2,IF(ISBLANK(allgemein!$F$11),allgemein!M162,allgemein!$F$11),3,IF(ISBLANK(allgemein!$F$12),allgemein!M162,allgemein!$F$12),4,IF(ISBLANK(allgemein!$F$13),allgemein!M162,allgemein!$F$13),5,IF(ISBLANK(allgemein!$I$10),allgemein!M162,allgemein!$I$10),6,IF(ISBLANK(allgemein!$I$11),allgemein!M162,allgemein!$I$11),7,IF(ISBLANK(allgemein!$I$12),allgemein!M162,allgemein!$I$12),8,IF(ISBLANK(allgemein!$I$13),allgemein!M162,allgemein!$I$13),IF(ISBLANK(allgemein!M162),\"\",allgemein!M162))","v":{"$error":"#NAME?"}},{"$f":"_xlfn.SWITCH(allgemein!N162,1,IF(ISBLANK(allgemein!$F$10),allgemein!N162,allgemein!$F$10),2,IF(ISBLANK(allgemein!$F$11),allgemein!N162,allgemein!$F$11),3,IF(ISBLANK(allgemein!$F$12),allgemein!N162,allgemein!$F$12),4,IF(ISBLANK(allgemein!$F$13),allgemein!N162,allgemein!$F$13),5,IF(ISBLANK(allgemein!$I$10),allgemein!N162,allgemein!$I$10),6,IF(ISBLANK(allgemein!$I$11),allgemein!N162,allgemein!$I$11),7,IF(ISBLANK(allgemein!$I$12),allgemein!N162,allgemein!$I$12),8,IF(ISBLANK(allgemein!$I$13),allgemein!N162,allgemein!$I$13),IF(ISBLANK(allgemein!N162),\"\",allgemein!N162))","v":{"$error":"#NAME?"}},{"$f":"_xlfn.SWITCH(allgemein!O162,1,IF(ISBLANK(allgemein!$F$10),allgemein!O162,allgemein!$F$10),2,IF(ISBLANK(allgemein!$F$11),allgemein!O162,allgemein!$F$11),3,IF(ISBLANK(allgemein!$F$12),allgemein!O162,allgemein!$F$12),4,IF(ISBLANK(allgemein!$F$13),allgemein!O162,allgemein!$F$13),5,IF(ISBLANK(allgemein!$I$10),allgemein!O162,allgemein!$I$10),6,IF(ISBLANK(allgemein!$I$11),allgemein!O162,allgemein!$I$11),7,IF(ISBLANK(allgemein!$I$12),allgemein!O162,allgemein!$I$12),8,IF(ISBLANK(allgemein!$I$13),allgemein!O162,allgemein!$I$13),IF(ISBLANK(allgemein!O162),\"\",allgemein!O162))","v":{"$error":"#NAME?"}},{"$f":"_xlfn.SWITCH(allgemein!P162,1,IF(ISBLANK(allgemein!$F$10),allgemein!P162,allgemein!$F$10),2,IF(ISBLANK(allgemein!$F$11),allgemein!P162,allgemein!$F$11),3,IF(ISBLANK(allgemein!$F$12),allgemein!P162,allgemein!$F$12),4,IF(ISBLANK(allgemein!$F$13),allgemein!P162,allgemein!$F$13),5,IF(ISBLANK(allgemein!$I$10),allgemein!P162,allgemein!$I$10),6,IF(ISBLANK(allgemein!$I$11),allgemein!P162,allgemein!$I$11),7,IF(ISBLANK(allgemein!$I$12),allgemein!P162,allgemein!$I$12),8,IF(ISBLANK(allgemein!$I$13),allgemein!P162,allgemein!$I$13),IF(ISBLANK(allgemein!P162),\"\",allgemein!P162))","v":{"$error":"#NAME?"}},{"$f":"IF(ISBLANK(allgemein!Q162),\"\",allgemein!Q162)","v":""},{"$f":"IF(ISBLANK(allgemein!R162),\"\",allgemein!R162)","v":""},{"$f":"IF(ISBLANK(allgemein!S162),\"\",allgemein!S162)","v":""},{"$f":"IF(ISBLANK(allgemein!U162),\"\",allgemein!U162)","v":""}]
[{"$f":"IF(ISBLANK(allgemein!D163),\"\",allgemein!D163)","v":146},{"$f":"IF(ISBLANK(allgemein!E163),\"\",allgemein!E163)","v":""},{"$f":"IF(ISBLANK(allgemein!C163),\"\",allgemein!C163)","v":" "},{"$f":"IF(ISBLANK(allgemein!H163),\"\",allgemein!H163)","v":""},{"$f":"IF(ISBLANK(allgemein!I163),\"\",allgemein!I163)","v":""},{"$f":"IF(ISBLANK(allgemein!J163),\"\",allgemein!J163)","v":""},{"$f":"IF(ISBLANK(allgemein!K163),\"\",allgemein!K163)","v":""},{"$f":"IF(ISBLANK(allgemein!F163),\"\",IF(ISBLANK(allgemein!L163),1,0))","v":""},{"$f":"_xlfn.SWITCH(allgemein!M163,1,IF(ISBLANK(allgemein!$F$10),allgemein!M163,allgemein!$F$10),2,IF(ISBLANK(allgemein!$F$11),allgemein!M163,allgemein!$F$11),3,IF(ISBLANK(allgemein!$F$12),allgemein!M163,allgemein!$F$12),4,IF(ISBLANK(allgemein!$F$13),allgemein!M163,allgemein!$F$13),5,IF(ISBLANK(allgemein!$I$10),allgemein!M163,allgemein!$I$10),6,IF(ISBLANK(allgemein!$I$11),allgemein!M163,allgemein!$I$11),7,IF(ISBLANK(allgemein!$I$12),allgemein!M163,allgemein!$I$12),8,IF(ISBLANK(allgemein!$I$13),allgemein!M163,allgemein!$I$13),IF(ISBLANK(allgemein!M163),\"\",allgemein!M163))","v":{"$error":"#NAME?"}},{"$f":"_xlfn.SWITCH(allgemein!N163,1,IF(ISBLANK(allgemein!$F$10),allgemein!N163,allgemein!$F$10),2,IF(ISBLANK(allgemein!$F$11),allgemein!N163,allgemein!$F$11),3,IF(ISBLANK(allgemein!$F$12),allgemein!N163,allgemein!$F$12),4,IF(ISBLANK(allgemein!$F$13),allgemein!N163,allgemein!$F$13),5,IF(ISBLANK(allgemein!$I$10),allgemein!N163,allgemein!$I$10),6,IF(ISBLANK(allgemein!$I$11),allgemein!N163,allgemein!$I$11),7,IF(ISBLANK(allgemein!$I$12),allgemein!N163,allgemein!$I$12),8,IF(ISBLANK(allgemein!$I$13),allgemein!N163,allgemein!$I$13),IF(ISBLANK(allgemein!N163),\"\",allgemein!N163))","v":{"$error":"#NAME?"}},{"$f":"_xlfn.SWITCH(allgemein!O163,1,IF(ISBLANK(allgemein!$F$10),allgemein!O163,allgemein!$F$10),2,IF(ISBLANK(allgemein!$F$11),allgemein!O163,allgemein!$F$11),3,IF(ISBLANK(allgemein!$F$12),allgemein!O163,allgemein!$F$12),4,IF(ISBLANK(allgemein!$F$13),allgemein!O163,allgemein!$F$13),5,IF(ISBLANK(allgemein!$I$10),allgemein!O163,allgemein!$I$10),6,IF(ISBLANK(allgemein!$I$11),allgemein!O163,allgemein!$I$11),7,IF(ISBLANK(allgemein!$I$12),allgemein!O163,allgemein!$I$12),8,IF(ISBLANK(allgemein!$I$13),allgemein!O163,allgemein!$I$13),IF(ISBLANK(allgemein!O163),\"\",allgemein!O163))","v":{"$error":"#NAME?"}},{"$f":"_xlfn.SWITCH(allgemein!P163,1,IF(ISBLANK(allgemein!$F$10),allgemein!P163,allgemein!$F$10),2,IF(ISBLANK(allgemein!$F$11),allgemein!P163,allgemein!$F$11),3,IF(ISBLANK(allgemein!$F$12),allgemein!P163,allgemein!$F$12),4,IF(ISBLANK(allgemein!$F$13),allgemein!P163,allgemein!$F$13),5,IF(ISBLANK(allgemein!$I$10),allgemein!P163,allgemein!$I$10),6,IF(ISBLANK(allgemein!$I$11),allgemein!P163,allgemein!$I$11),7,IF(ISBLANK(allgemein!$I$12),allgemein!P163,allgemein!$I$12),8,IF(ISBLANK(allgemein!$I$13),allgemein!P163,allgemein!$I$13),IF(ISBLANK(allgemein!P163),\"\",allgemein!P163))","v":{"$error":"#NAME?"}},{"$f":"IF(ISBLANK(allgemein!Q163),\"\",allgemein!Q163)","v":""},{"$f":"IF(ISBLANK(allgemein!R163),\"\",allgemein!R163)","v":""},{"$f":"IF(ISBLANK(allgemein!S163),\"\",allgemein!S163)","v":""},{"$f":"IF(ISBLANK(allgemein!U163),\"\",allgemein!U163)","v":""}]
[{"$f":"IF(ISBLANK(allgemein!D164),\"\",allgemein!D164)","v":147},{"$f":"IF(ISBLANK(allgemein!E164),\"\",allgemein!E164)","v":""},{"$f":"IF(ISBLANK(allgemein!C164),\"\",allgemein!C164)","v":" "},{"$f":"IF(ISBLANK(allgemein!H164),\"\",allgemein!H164)","v":""},{"$f":"IF(ISBLANK(allgemein!I164),\"\",allgemein!I164)","v":""},{"$f":"IF(ISBLANK(allgemein!J164),\"\",allgemein!J164)","v":""},{"$f":"IF(ISBLANK(allgemein!K164),\"\",allgemein!K164)","v":""},{"$f":"IF(ISBLANK(allgemein!F164),\"\",IF(ISBLANK(allgemein!L164),1,0))","v":""},{"$f":"_xlfn.SWITCH(allgemein!M164,1,IF(ISBLANK(allgemein!$F$10),allgemein!M164,allgemein!$F$10),2,IF(ISBLANK(allgemein!$F$11),allgemein!M164,allgemein!$F$11),3,IF(ISBLANK(allgemein!$F$12),allgemein!M164,allgemein!$F$12),4,IF(ISBLANK(allgemein!$F$13),allgemein!M164,allgemein!$F$13),5,IF(ISBLANK(allgemein!$I$10),allgemein!M164,allgemein!$I$10),6,IF(ISBLANK(allgemein!$I$11),allgemein!M164,allgemein!$I$11),7,IF(ISBLANK(allgemein!$I$12),allgemein!M164,allgemein!$I$12),8,IF(ISBLANK(allgemein!$I$13),allgemein!M164,allgemein!$I$13),IF(ISBLANK(allgemein!M164),\"\",allgemein!M164))","v":{"$error":"#NAME?"}},{"$f":"_xlfn.SWITCH(allgemein!N164,1,IF(ISBLANK(allgemein!$F$10),allgemein!N164,allgemein!$F$10),2,IF(ISBLANK(allgemein!$F$11),allgemein!N164,allgemein!$F$11),3,IF(ISBLANK(allgemein!$F$12),allgemein!N164,allgemein!$F$12),4,IF(ISBLANK(allgemein!$F$13),allgemein!N164,allgemein!$F$13),5,IF(ISBLANK(allgemein!$I$10),allgemein!N164,allgemein!$I$10),6,IF(ISBLANK(allgemein!$I$11),allgemein!N164,allgemein!$I$11),7,IF(ISBLANK(allgemein!$I$12),allgemein!N164,allgemein!$I$12),8,IF(ISBLANK(allgemein!$I$13),allgemein!N164,allgemein!$I$13),IF(ISBLANK(allgemein!N164),\"\",allgemein!N164))","v":{"$error":"#NAME?"}},{"$f":"_xlfn.SWITCH(allgemein!O164,1,IF(ISBLANK(allgemein!$F$10),allgemein!O164,allgemein!$F$10),2,IF(ISBLANK(allgemein!$F$11),allgemein!O164,allgemein!$F$11),3,IF(ISBLANK(allgemein!$F$12),allgemein!O164,allgemein!$F$12),4,IF(ISBLANK(allgemein!$F$13),allgemein!O164,allgemein!$F$13),5,IF(ISBLANK(allgemein!$I$10),allgemein!O164,allgemein!$I$10),6,IF(ISBLANK(allgemein!$I$11),allgemein!O164,allgemein!$I$11),7,IF(ISBLANK(allgemein!$I$12),allgemein!O164,allgemein!$I$12),8,IF(ISBLANK(allgemein!$I$13),allgemein!O164,allgemein!$I$13),IF(ISBLANK(allgemein!O164),\"\",allgemein!O164))","v":{"$error":"#NAME?"}},{"$f":"_xlfn.SWITCH(allgemein!P164,1,IF(ISBLANK(allgemein!$F$10),allgemein!P164,allgemein!$F$10),2,IF(ISBLANK(allgemein!$F$11),allgemein!P164,allgemein!$F$11),3,IF(ISBLANK(allgemein!$F$12),allgemein!P164,allgemein!$F$12),4,IF(ISBLANK(allgemein!$F$13),allgemein!P164,allgemein!$F$13),5,IF(ISBLANK(allgemein!$I$10),allgemein!P164,allgemein!$I$10),6,IF(ISBLANK(allgemein!$I$11),allgemein!P164,allgemein!$I$11),7,IF(ISBLANK(allgemein!$I$12),allgemein!P164,allgemein!$I$12),8,IF(ISBLANK(allgemein!$I$13),allgemein!P164,allgemein!$I$13),IF(ISBLANK(allgemein!P164),\"\",allgemein!P164))","v":{"$error":"#NAME?"}},{"$f":"IF(ISBLANK(allgemein!Q164),\"\",allgemein!Q164)","v":""},{"$f":"IF(ISBLANK(allgemein!R164),\"\",allgemein!R164)","v":""},{"$f":"IF(ISBLANK(allgemein!S164),\"\",allgemein!S164)","v":""},{"$f":"IF(ISBLANK(allgemein!U164),\"\",allgemein!U164)","v":""}]
[{"$f":"IF(ISBLANK(allgemein!D165),\"\",allgemein!D165)","v":148},{"$f":"IF(ISBLANK(allgemein!E165),\"\",allgemein!E165)","v":""},{"$f":"IF(ISBLANK(allgemein!C165),\"\",allgemein!C165)","v":" "},{"$f":"IF(ISBLANK(allgemein!H165),\"\",allgemein!H165)","v":""},{"$f":"IF(ISBLANK(allgemein!I165),\"\",allgemein!I165)","v":""},{"$f":"IF(ISBLANK(allgemein!J165),\"\",allgemein!J165)","v":""},{"$f":"IF(ISBLANK(allgemein!K165),\"\",allgemein!K165)","v":""},{"$f":"IF(ISBLANK(allgemein!F165),\"\",IF(ISBLANK(allgemein!L165),1,0))","v":""},{"$f":"_xlfn.SWITCH(allgemein!M165,1,IF(ISBLANK(allgemein!$F$10),allgemein!M165,allgemein!$F$10),2,IF(ISBLANK(allgemein!$F$11),allgemein!M165,allgemein!$F$11),3,IF(ISBLANK(allgemein!$F$12),allgemein!M165,allgemein!$F$12),4,IF(ISBLANK(allgemein!$F$13),allgemein!M165,allgemein!$F$13),5,IF(ISBLANK(allgemein!$I$10),allgemein!M165,allgemein!$I$10),6,IF(ISBLANK(allgemein!$I$11),allgemein!M165,allgemein!$I$11),7,IF(ISBLANK(allgemein!$I$12),allgemein!M165,allgemein!$I$12),8,IF(ISBLANK(allgemein!$I$13),allgemein!M165,allgemein!$I$13),IF(ISBLANK(allgemein!M165),\"\",allgemein!M165))","v":{"$error":"#NAME?"}},{"$f":"_xlfn.SWITCH(allgemein!N165,1,IF(ISBLANK(allgemein!$F$10),allgemein!N165,allgemein!$F$10),2,IF(ISBLANK(allgemein!$F$11),allgemein!N165,allgemein!$F$11),3,IF(ISBLANK(allgemein!$F$12),allgemein!N165,allgemein!$F$12),4,IF(ISBLANK(allgemein!$F$13),allgemein!N165,allgemein!$F$13),5,IF(ISBLANK(allgemein!$I$10),allgemein!N165,allgemein!$I$10),6,IF(ISBLANK(allgemein!$I$11),allgemein!N165,allgemein!$I$11),7,IF(ISBLANK(allgemein!$I$12),allgemein!N165,allgemein!$I$12),8,IF(ISBLANK(allgemein!$I$13),allgemein!N165,allgemein!$I$13),IF(ISBLANK(allgemein!N165),\"\",allgemein!N165))","v":{"$error":"#NAME?"}},{"$f":"_xlfn.SWITCH(allgemein!O165,1,IF(ISBLANK(allgemein!$F$10),allgemein!O165,allgemein!$F$10),2,IF(ISBLANK(allgemein!$F$11),allgemein!O165,allgemein!$F$11),3,IF(ISBLANK(allgemein!$F$12),allgemein!O165,allgemein!$F$12),4,IF(ISBLANK(allgemein!$F$13),allgemein!O165,allgemein!$F$13),5,IF(ISBLANK(allgemein!$I$10),allgemein!O165,allgemein!$I$10),6,IF(ISBLANK(allgemein!$I$11),allgemein!O165,allgemein!$I$11),7,IF(ISBLANK(allgemein!$I$12),allgemein!O165,allgemein!$I$12),8,IF(ISBLANK(allgemein!$I$13),allgemein!O165,allgemein!$I$13),IF(ISBLANK(allgemein!O165),\"\",allgemein!O165))","v":{"$error":"#NAME?"}},{"$f":"_xlfn.SWITCH(allgemein!P165,1,IF(ISBLANK(allgemein!$F$10),allgemein!P165,allgemein!$F$10),2,IF(ISBLANK(allgemein!$F$11),allgemein!P165,allgemein!$F$11),3,IF(ISBLANK(allgemein!$F$12),allgemein!P165,allgemein!$F$12),4,IF(ISBLANK(allgemein!$F$13),allgemein!P165,allgemein!$F$13),5,IF(ISBLANK(allgemein!$I$10),allgemein!P165,allgemein!$I$10),6,IF(ISBLANK(allgemein!$I$11),allgemein!P165,allgemein!$I$11),7,IF(ISBLANK(allgemein!$I$12),allgemein!P165,allgemein!$I$12),8,IF(ISBLANK(allgemein!$I$13),allgemein!P165,allgemein!$I$13),IF(ISBLANK(allgemein!P165),\"\",allgemein!P165))","v":{"$error":"#NAME?"}},{"$f":"IF(ISBLANK(allgemein!Q165),\"\",allgemein!Q165)","v":""},{"$f":"IF(ISBLANK(allgemein!R165),\"\",allgemein!R165)","v":""},{"$f":"IF(ISBLANK(allgemein!S165),\"\",allgemein!S165)","v":""},{"$f":"IF(ISBLANK(allgemein!U165),\"\",allgemein!U165)","v":""}]
[{"$f":"IF(ISBLANK(allgemein!D166),\"\",allgemein!D166)","v":149},{"$f":"IF(ISBLANK(allgemein!E166),\"\",allgemein!E166)","v":""},{"$f":"IF(ISBLANK(allgemein!C166),\"\",allgemein!C166)","v":" "},{"$f":"IF(ISBLANK(allgemein!H166),\"\",allgemein!H166)","v":""},{"$f":"IF(ISBLANK(allgemein!I166),\"\",allgemein!I166)","v":""},{"$f":"IF(ISBLANK(allgemein!J166),\"\",allgemein!J166)","v":""},{"$f":"IF(ISBLANK(allgemein!K166),\"\",allgemein!K166)","v":""},{"$f":"IF(ISBLANK(allgemein!F166),\"\",IF(ISBLANK(allgemein!L166),1,0))","v":""},{"$f":"_xlfn.SWITCH(allgemein!M166,1,IF(ISBLANK(allgemein!$F$10),allgemein!M166,allgemein!$F$10),2,IF(ISBLANK(allgemein!$F$11),allgemein!M166,allgemein!$F$11),3,IF(ISBLANK(allgemein!$F$12),allgemein!M166,allgemein!$F$12),4,IF(ISBLANK(allgemein!$F$13),allgemein!M166,allgemein!$F$13),5,IF(ISBLANK(allgemein!$I$10),allgemein!M166,allgemein!$I$10),6,IF(ISBLANK(allgemein!$I$11),allgemein!M166,allgemein!$I$11),7,IF(ISBLANK(allgemein!$I$12),allgemein!M166,allgemein!$I$12),8,IF(ISBLANK(allgemein!$I$13),allgemein!M166,allgemein!$I$13),IF(ISBLANK(allgemein!M166),\"\",allgemein!M166))","v":{"$error":"#NAME?"}},{"$f":"_xlfn.SWITCH(allgemein!N166,1,IF(ISBLANK(allgemein!$F$10),allgemein!N166,allgemein!$F$10),2,IF(ISBLANK(allgemein!$F$11),allgemein!N166,allgemein!$F$11),3,IF(ISBLANK(allgemein!$F$12),allgemein!N166,allgemein!$F$12),4,IF(ISBLANK(allgemein!$F$13),allgemein!N166,allgemein!$F$13),5,IF(ISBLANK(allgemein!$I$10),allgemein!N166,allgemein!$I$10),6,IF(ISBLANK(allgemein!$I$11),allgemein!N166,allgemein!$I$11),7,IF(ISBLANK(allgemein!$I$12),allgemein!N166,allgemein!$I$12),8,IF(ISBLANK(allgemein!$I$13),allgemein!N166,allgemein!$I$13),IF(ISBLANK(allgemein!N166),\"\",allgemein!N166))","v":{"$error":"#NAME?"}},{"$f":"_xlfn.SWITCH(allgemein!O166,1,IF(ISBLANK(allgemein!$F$10),allgemein!O166,allgemein!$F$10),2,IF(ISBLANK(allgemein!$F$11),allgemein!O166,allgemein!$F$11),3,IF(ISBLANK(allgemein!$F$12),allgemein!O166,allgemein!$F$12),4,IF(ISBLANK(allgemein!$F$13),allgemein!O166,allgemein!$F$13),5,IF(ISBLANK(allgemein!$I$10),allgemein!O166,allgemein!$I$10),6,IF(ISBLANK(allgemein!$I$11),allgemein!O166,allgemein!$I$11),7,IF(ISBLANK(allgemein!$I$12),allgemein!O166,allgemein!$I$12),8,IF(ISBLANK(allgemein!$I$13),allgemein!O166,allgemein!$I$13),IF(ISBLANK(allgemein!O166),\"\",allgemein!O166))","v":{"$error":"#NAME?"}},{"$f":"_xlfn.SWITCH(allgemein!P166,1,IF(ISBLANK(allgemein!$F$10),allgemein!P166,allgemein!$F$10),2,IF(ISBLANK(allgemein!$F$11),allgemein!P166,allgemein!$F$11),3,IF(ISBLANK(allgemein!$F$12),allgemein!P166,allgemein!$F$12),4,IF(ISBLANK(allgemein!$F$13),allgemein!P166,allgemein!$F$13),5,IF(ISBLANK(allgemein!$I$10),allgemein!P166,allgemein!$I$10),6,IF(ISBLANK(allgemein!$I$11),allgemein!P166,allgemein!$I$11),7,IF(ISBLANK(allgemein!$I$12),allgemein!P166,allgemein!$I$12),8,IF(ISBLANK(allgemein!$I$13),allgemein!P166,allgemein!$I$13),IF(ISBLANK(allgemein!P166),\"\",allgemein!P166))","v":{"$error":"#NAME?"}},{"$f":"IF(ISBLANK(allgemein!Q166),\"\",allgemein!Q166)","v":""},{"$f":"IF(ISBLANK(allgemein!R166),\"\",allgemein!R166)","v":""},{"$f":"IF(ISBLANK(allgemein!S166),\"\",allgemein!S166)","v":""},{"$f":"IF(ISBLANK(allgemein!U166),\"\",allgemein!U166)","v":""}]
[{"$f":"IF(ISBLANK(allgemein!D167),\"\",allgemein!D167)","v":150},{"$f":"IF(ISBLANK(allgemein!E167),\"\",allgemein!E167)","v":""},{"$f":"IF(ISBLANK(allgemein!C167),\"\",allgemein!C167)","v":" "},{"$f":"IF(ISBLANK(allgemein!H167),\"\",allgemein!H167)","v":""},{"$f":"IF(ISBLANK(allgemein!I167),\"\",allgemein!I167)","v":""},{"$f":"IF(ISBLANK(allgemein!J167),\"\",allgemein!J167)","v":""},{"$f":"IF(ISBLANK(allgemein!K167),\"\",allgemein!K167)","v":""},{"$f":"IF(ISBLANK(allgemein!F167),\"\",IF(ISBLANK(allgemein!L167),1,0))","v":""},{"$f":"_xlfn.SWITCH(allgemein!M167,1,IF(ISBLANK(allgemein!$F$10),allgemein!M167,allgemein!$F$10),2,IF(ISBLANK(allgemein!$F$11),allgemein!M167,allgemein!$F$11),3,IF(ISBLANK(allgemein!$F$12),allgemein!M167,allgemein!$F$12),4,IF(ISBLANK(allgemein!$F$13),allgemein!M167,allgemein!$F$13),5,IF(ISBLANK(allgemein!$I$10),allgemein!M167,allgemein!$I$10),6,IF(ISBLANK(allgemein!$I$11),allgemein!M167,allgemein!$I$11),7,IF(ISBLANK(allgemein!$I$12),allgemein!M167,allgemein!$I$12),8,IF(ISBLANK(allgemein!$I$13),allgemein!M167,allgemein!$I$13),IF(ISBLANK(allgemein!M167),\"\",allgemein!M167))","v":{"$error":"#NAME?"}},{"$f":"_xlfn.SWITCH(allgemein!N167,1,IF(ISBLANK(allgemein!$F$10),allgemein!N167,allgemein!$F$10),2,IF(ISBLANK(allgemein!$F$11),allgemein!N167,allgemein!$F$11),3,IF(ISBLANK(allgemein!$F$12),allgemein!N167,allgemein!$F$12),4,IF(ISBLANK(allgemein!$F$13),allgemein!N167,allgemein!$F$13),5,IF(ISBLANK(allgemein!$I$10),allgemein!N167,allgemein!$I$10),6,IF(ISBLANK(allgemein!$I$11),allgemein!N167,allgemein!$I$11),7,IF(ISBLANK(allgemein!$I$12),allgemein!N167,allgemein!$I$12),8,IF(ISBLANK(allgemein!$I$13),allgemein!N167,allgemein!$I$13),IF(ISBLANK(allgemein!N167),\"\",allgemein!N167))","v":{"$error":"#NAME?"}},{"$f":"_xlfn.SWITCH(allgemein!O167,1,IF(ISBLANK(allgemein!$F$10),allgemein!O167,allgemein!$F$10),2,IF(ISBLANK(allgemein!$F$11),allgemein!O167,allgemein!$F$11),3,IF(ISBLANK(allgemein!$F$12),allgemein!O167,allgemein!$F$12),4,IF(ISBLANK(allgemein!$F$13),allgemein!O167,allgemein!$F$13),5,IF(ISBLANK(allgemein!$I$10),allgemein!O167,allgemein!$I$10),6,IF(ISBLANK(allgemein!$I$11),allgemein!O167,allgemein!$I$11),7,IF(ISBLANK(allgemein!$I$12),allgemein!O167,allgemein!$I$12),8,IF(ISBLANK(allgemein!$I$13),allgemein!O167,allgemein!$I$13),IF(ISBLANK(allgemein!O167),\"\",allgemein!O167))","v":{"$error":"#NAME?"}},{"$f":"_xlfn.SWITCH(allgemein!P167,1,IF(ISBLANK(allgemein!$F$10),allgemein!P167,allgemein!$F$10),2,IF(ISBLANK(allgemein!$F$11),allgemein!P167,allgemein!$F$11),3,IF(ISBLANK(allgemein!$F$12),allgemein!P167,allgemein!$F$12),4,IF(ISBLANK(allgemein!$F$13),allgemein!P167,allgemein!$F$13),5,IF(ISBLANK(allgemein!$I$10),allgemein!P167,allgemein!$I$10),6,IF(ISBLANK(allgemein!$I$11),allgemein!P167,allgemein!$I$11),7,IF(ISBLANK(allgemein!$I$12),allgemein!P167,allgemein!$I$12),8,IF(ISBLANK(allgemein!$I$13),allgemein!P167,allgemein!$I$13),IF(ISBLANK(allgemein!P167),\"\",allgemein!P167))","v":{"$error":"#NAME?"}},{"$f":"IF(ISBLANK(allgemein!Q167),\"\",allgemein!Q167)","v":""},{"$f":"IF(ISBLANK(allgemein!R167),\"\",allgemein!R167)","v":""},{"$f":"IF(ISBLANK(allgemein!S167),\"\",allgemein!S167)","v":""},{"$f":"IF(ISBLANK(allgemein!U167),\"\",allgemein!U167)","v":""}]
[{"$f":"IF(ISBLANK(allgemein!D168),\"\",allgemein!D168)","v":151},{"$f":"IF(ISBLANK(allgemein!E168),\"\",allgemein!E168)","v":""},{"$f":"IF(ISBLANK(allgemein!C168),\"\",allgemein!C168)","v":" "},{"$f":"IF(ISBLANK(allgemein!H168),\"\",allgemein!H168)","v":""},{"$f":"IF(ISBLANK(allgemein!I168),\"\",allgemein!I168)","v":""},{"$f":"IF(ISBLANK(allgemein!J168),\"\",allgemein!J168)","v":""},{"$f":"IF(ISBLANK(allgemein!K168),\"\",allgemein!K168)","v":""},{"$f":"IF(ISBLANK(allgemein!F168),\"\",IF(ISBLANK(allgemein!L168),1,0))","v":""},{"$f":"_xlfn.SWITCH(allgemein!M168,1,IF(ISBLANK(allgemein!$F$10),allgemein!M168,allgemein!$F$10),2,IF(ISBLANK(allgemein!$F$11),allgemein!M168,allgemein!$F$11),3,IF(ISBLANK(allgemein!$F$12),allgemein!M168,allgemein!$F$12),4,IF(ISBLANK(allgemein!$F$13),allgemein!M168,allgemein!$F$13),5,IF(ISBLANK(allgemein!$I$10),allgemein!M168,allgemein!$I$10),6,IF(ISBLANK(allgemein!$I$11),allgemein!M168,allgemein!$I$11),7,IF(ISBLANK(allgemein!$I$12),allgemein!M168,allgemein!$I$12),8,IF(ISBLANK(allgemein!$I$13),allgemein!M168,allgemein!$I$13),IF(ISBLANK(allgemein!M168),\"\",allgemein!M168))","v":{"$error":"#NAME?"}},{"$f":"_xlfn.SWITCH(allgemein!N168,1,IF(ISBLANK(allgemein!$F$10),allgemein!N168,allgemein!$F$10),2,IF(ISBLANK(allgemein!$F$11),allgemein!N168,allgemein!$F$11),3,IF(ISBLANK(allgemein!$F$12),allgemein!N168,allgemein!$F$12),4,IF(ISBLANK(allgemein!$F$13),allgemein!N168,allgemein!$F$13),5,IF(ISBLANK(allgemein!$I$10),allgemein!N168,allgemein!$I$10),6,IF(ISBLANK(allgemein!$I$11),allgemein!N168,allgemein!$I$11),7,IF(ISBLANK(allgemein!$I$12),allgemein!N168,allgemein!$I$12),8,IF(ISBLANK(allgemein!$I$13),allgemein!N168,allgemein!$I$13),IF(ISBLANK(allgemein!N168),\"\",allgemein!N168))","v":{"$error":"#NAME?"}},{"$f":"_xlfn.SWITCH(allgemein!O168,1,IF(ISBLANK(allgemein!$F$10),allgemein!O168,allgemein!$F$10),2,IF(ISBLANK(allgemein!$F$11),allgemein!O168,allgemein!$F$11),3,IF(ISBLANK(allgemein!$F$12),allgemein!O168,allgemein!$F$12),4,IF(ISBLANK(allgemein!$F$13),allgemein!O168,allgemein!$F$13),5,IF(ISBLANK(allgemein!$I$10),allgemein!O168,allgemein!$I$10),6,IF(ISBLANK(allgemein!$I$11),allgemein!O168,allgemein!$I$11),7,IF(ISBLANK(allgemein!$I$12),allgemein!O168,allgemein!$I$12),8,IF(ISBLANK(allgemein!$I$13),allgemein!O168,allgemein!$I$13),IF(ISBLANK(allgemein!O168),\"\",allgemein!O168))","v":{"$error":"#NAME?"}},{"$f":"_xlfn.SWITCH(allgemein!P168,1,IF(ISBLANK(allgemein!$F$10),allgemein!P168,allgemein!$F$10),2,IF(ISBLANK(allgemein!$F$11),allgemein!P168,allgemein!$F$11),3,IF(ISBLANK(allgemein!$F$12),allgemein!P168,allgemein!$F$12),4,IF(ISBLANK(allgemein!$F$13),allgemein!P168,allgemein!$F$13),5,IF(ISBLANK(allgemein!$I$10),allgemein!P168,allgemein!$I$10),6,IF(ISBLANK(allgemein!$I$11),allgemein!P168,allgemein!$I$11),7,IF(ISBLANK(allgemein!$I$12),allgemein!P168,allgemein!$I$12),8,IF(ISBLANK(allgemein!$I$13),allgemein!P168,allgemein!$I$13),IF(ISBLANK(allgemein!P168),\"\",allgemein!P168))","v":{"$error":"#NAME?"}},{"$f":"IF(ISBLANK(allgemein!Q168),\"\",allgemein!Q168)","v":""},{"$f":"IF(ISBLANK(allgemein!R168),\"\",allgemein!R168)","v":""},{"$f":"IF(ISBLANK(allgemein!S168),\"\",allgemein!S168)","v":""},{"$f":"IF(ISBLANK(allgemein!U168),\"\",allgemein!U168)","v":""}]
[{"$f":"IF(ISBLANK(allgemein!D169),\"\",allgemein!D169)","v":152},{"$f":"IF(ISBLANK(allgemein!E169),\"\",allgemein!E169)","v":""},{"$f":"IF(ISBLANK(allgemein!C169),\"\",allgemein!C169)","v":" "},{"$f":"IF(ISBLANK(allgemein!H169),\"\",allgemein!H169)","v":""},{"$f":"IF(ISBLANK(allgemein!I169),\"\",allgemein!I169)","v":""},{"$f":"IF(ISBLANK(allgemein!J169),\"\",allgemein!J169)","v":""},{"$f":"IF(ISBLANK(allgemein!K169),\"\",allgemein!K169)","v":""},{"$f":"IF(ISBLANK(allgemein!F169),\"\",IF(ISBLANK(allgemein!L169),1,0))","v":""},{"$f":"_xlfn.SWITCH(allgemein!M169,1,IF(ISBLANK(allgemein!$F$10),allgemein!M169,allgemein!$F$10),2,IF(ISBLANK(allgemein!$F$11),allgemein!M169,allgemein!$F$11),3,IF(ISBLANK(allgemein!$F$12),allgemein!M169,allgemein!$F$12),4,IF(ISBLANK(allgemein!$F$13),allgemein!M169,allgemein!$F$13),5,IF(ISBLANK(allgemein!$I$10),allgemein!M169,allgemein!$I$10),6,IF(ISBLANK(allgemein!$I$11),allgemein!M169,allgemein!$I$11),7,IF(ISBLANK(allgemein!$I$12),allgemein!M169,allgemein!$I$12),8,IF(ISBLANK(allgemein!$I$13),allgemein!M169,allgemein!$I$13),IF(ISBLANK(allgemein!M169),\"\",allgemein!M169))","v":{"$error":"#NAME?"}},{"$f":"_xlfn.SWITCH(allgemein!N169,1,IF(ISBLANK(allgemein!$F$10),allgemein!N169,allgemein!$F$10),2,IF(ISBLANK(allgemein!$F$11),allgemein!N169,allgemein!$F$11),3,IF(ISBLANK(allgemein!$F$12),allgemein!N169,allgemein!$F$12),4,IF(ISBLANK(allgemein!$F$13),allgemein!N169,allgemein!$F$13),5,IF(ISBLANK(allgemein!$I$10),allgemein!N169,allgemein!$I$10),6,IF(ISBLANK(allgemein!$I$11),allgemein!N169,allgemein!$I$11),7,IF(ISBLANK(allgemein!$I$12),allgemein!N169,allgemein!$I$12),8,IF(ISBLANK(allgemein!$I$13),allgemein!N169,allgemein!$I$13),IF(ISBLANK(allgemein!N169),\"\",allgemein!N169))","v":{"$error":"#NAME?"}},{"$f":"_xlfn.SWITCH(allgemein!O169,1,IF(ISBLANK(allgemein!$F$10),allgemein!O169,allgemein!$F$10),2,IF(ISBLANK(allgemein!$F$11),allgemein!O169,allgemein!$F$11),3,IF(ISBLANK(allgemein!$F$12),allgemein!O169,allgemein!$F$12),4,IF(ISBLANK(allgemein!$F$13),allgemein!O169,allgemein!$F$13),5,IF(ISBLANK(allgemein!$I$10),allgemein!O169,allgemein!$I$10),6,IF(ISBLANK(allgemein!$I$11),allgemein!O169,allgemein!$I$11),7,IF(ISBLANK(allgemein!$I$12),allgemein!O169,allgemein!$I$12),8,IF(ISBLANK(allgemein!$I$13),allgemein!O169,allgemein!$I$13),IF(ISBLANK(allgemein!O169),\"\",allgemein!O169))","v":{"$error":"#NAME?"}},{"$f":"_xlfn.SWITCH(allgemein!P169,1,IF(ISBLANK(allgemein!$F$10),allgemein!P169,allgemein!$F$10),2,IF(ISBLANK(allgemein!$F$11),allgemein!P169,allgemein!$F$11),3,IF(ISBLANK(allgemein!$F$12),allgemein!P169,allgemein!$F$12),4,IF(ISBLANK(allgemein!$F$13),allgemein!P169,allgemein!$F$13),5,IF(ISBLANK(allgemein!$I$10),allgemein!P169,allgemein!$I$10),6,IF(ISBLANK(allgemein!$I$11),allgemein!P169,allgemein!$I$11),7,IF(ISBLANK(allgemein!$I$12),allgemein!P169,allgemein!$I$12),8,IF(ISBLANK(allgemein!$I$13),allgemein!P169,allgemein!$I$13),IF(ISBLANK(allgemein!P169),\"\",allgemein!P169))","v":{"$error":"#NAME?"}},{"$f":"IF(ISBLANK(allgemein!Q169),\"\",allgemein!Q169)","v":""},{"$f":"IF(ISBLANK(allgemein!R169),\"\",allgemein!R169)","v":""},{"$f":"IF(ISBLANK(allgemein!S169),\"\",allgemein!S169)","v":""},{"$f":"IF(ISBLANK(allgemein!U169),\"\",allgemein!U169)","v":""}]
[{"$f":"IF(ISBLANK(allgemein!D170),\"\",allgemein!D170)","v":153},{"$f":"IF(ISBLANK(allgemein!E170),\"\",allgemein!E170)","v":""},{"$f":"IF(ISBLANK(allgemein!C170),\"\",allgemein!C170)","v":" "},{"$f":"IF(ISBLANK(allgemein!H170),\"\",allgemein!H170)","v":""},{"$f":"IF(ISBLANK(allgemein!I170),\"\",allgemein!I170)","v":""},{"$f":"IF(ISBLANK(allgemein!J170),\"\",allgemein!J170)","v":""},{"$f":"IF(ISBLANK(allgemein!K170),\"\",allgemein!K170)","v":""},{"$f":"IF(ISBLANK(allgemein!F170),\"\",IF(ISBLANK(allgemein!L170),1,0))","v":""},{"$f":"_xlfn.SWITCH(allgemein!M170,1,IF(ISBLANK(allgemein!$F$10),allgemein!M170,allgemein!$F$10),2,IF(ISBLANK(allgemein!$F$11),allgemein!M170,allgemein!$F$11),3,IF(ISBLANK(allgemein!$F$12),allgemein!M170,allgemein!$F$12),4,IF(ISBLANK(allgemein!$F$13),allgemein!M170,allgemein!$F$13),5,IF(ISBLANK(allgemein!$I$10),allgemein!M170,allgemein!$I$10),6,IF(ISBLANK(allgemein!$I$11),allgemein!M170,allgemein!$I$11),7,IF(ISBLANK(allgemein!$I$12),allgemein!M170,allgemein!$I$12),8,IF(ISBLANK(allgemein!$I$13),allgemein!M170,allgemein!$I$13),IF(ISBLANK(allgemein!M170),\"\",allgemein!M170))","v":{"$error":"#NAME?"}},{"$f":"_xlfn.SWITCH(allgemein!N170,1,IF(ISBLANK(allgemein!$F$10),allgemein!N170,allgemein!$F$10),2,IF(ISBLANK(allgemein!$F$11),allgemein!N170,allgemein!$F$11),3,IF(ISBLANK(allgemein!$F$12),allgemein!N170,allgemein!$F$12),4,IF(ISBLANK(allgemein!$F$13),allgemein!N170,allgemein!$F$13),5,IF(ISBLANK(allgemein!$I$10),allgemein!N170,allgemein!$I$10),6,IF(ISBLANK(allgemein!$I$11),allgemein!N170,allgemein!$I$11),7,IF(ISBLANK(allgemein!$I$12),allgemein!N170,allgemein!$I$12),8,IF(ISBLANK(allgemein!$I$13),allgemein!N170,allgemein!$I$13),IF(ISBLANK(allgemein!N170),\"\",allgemein!N170))","v":{"$error":"#NAME?"}},{"$f":"_xlfn.SWITCH(allgemein!O170,1,IF(ISBLANK(allgemein!$F$10),allgemein!O170,allgemein!$F$10),2,IF(ISBLANK(allgemein!$F$11),allgemein!O170,allgemein!$F$11),3,IF(ISBLANK(allgemein!$F$12),allgemein!O170,allgemein!$F$12),4,IF(ISBLANK(allgemein!$F$13),allgemein!O170,allgemein!$F$13),5,IF(ISBLANK(allgemein!$I$10),allgemein!O170,allgemein!$I$10),6,IF(ISBLANK(allgemein!$I$11),allgemein!O170,allgemein!$I$11),7,IF(ISBLANK(allgemein!$I$12),allgemein!O170,allgemein!$I$12),8,IF(ISBLANK(allgemein!$I$13),allgemein!O170,allgemein!$I$13),IF(ISBLANK(allgemein!O170),\"\",allgemein!O170))","v":{"$error":"#NAME?"}},{"$f":"_xlfn.SWITCH(allgemein!P170,1,IF(ISBLANK(allgemein!$F$10),allgemein!P170,allgemein!$F$10),2,IF(ISBLANK(allgemein!$F$11),allgemein!P170,allgemein!$F$11),3,IF(ISBLANK(allgemein!$F$12),allgemein!P170,allgemein!$F$12),4,IF(ISBLANK(allgemein!$F$13),allgemein!P170,allgemein!$F$13),5,IF(ISBLANK(allgemein!$I$10),allgemein!P170,allgemein!$I$10),6,IF(ISBLANK(allgemein!$I$11),allgemein!P170,allgemein!$I$11),7,IF(ISBLANK(allgemein!$I$12),allgemein!P170,allgemein!$I$12),8,IF(ISBLANK(allgemein!$I$13),allgemein!P170,allgemein!$I$13),IF(ISBLANK(allgemein!P170),\"\",allgemein!P170))","v":{"$error":"#NAME?"}},{"$f":"IF(ISBLANK(allgemein!Q170),\"\",allgemein!Q170)","v":""},{"$f":"IF(ISBLANK(allgemein!R170),\"\",allgemein!R170)","v":""},{"$f":"IF(ISBLANK(allgemein!S170),\"\",allgemein!S170)","v":""},{"$f":"IF(ISBLANK(allgemein!U170),\"\",allgemein!U170)","v":""}]
[{"$f":"IF(ISBLANK(allgemein!D171),\"\",allgemein!D171)","v":154},{"$f":"IF(ISBLANK(allgemein!E171),\"\",allgemein!E171)","v":""},{"$f":"IF(ISBLANK(allgemein!C171),\"\",allgemein!C171)","v":" "},{"$f":"IF(ISBLANK(allgemein!H171),\"\",allgemein!H171)","v":""},{"$f":"IF(ISBLANK(allgemein!I171),\"\",allgemein!I171)","v":""},{"$f":"IF(ISBLANK(allgemein!J171),\"\",allgemein!J171)","v":""},{"$f":"IF(ISBLANK(allgemein!K171),\"\",allgemein!K171)","v":""},{"$f":"IF(ISBLANK(allgemein!F171),\"\",IF(ISBLANK(allgemein!L171),1,0))","v":""},{"$f":"_xlfn.SWITCH(allgemein!M171,1,IF(ISBLANK(allgemein!$F$10),allgemein!M171,allgemein!$F$10),2,IF(ISBLANK(allgemein!$F$11),allgemein!M171,allgemein!$F$11),3,IF(ISBLANK(allgemein!$F$12),allgemein!M171,allgemein!$F$12),4,IF(ISBLANK(allgemein!$F$13),allgemein!M171,allgemein!$F$13),5,IF(ISBLANK(allgemein!$I$10),allgemein!M171,allgemein!$I$10),6,IF(ISBLANK(allgemein!$I$11),allgemein!M171,allgemein!$I$11),7,IF(ISBLANK(allgemein!$I$12),allgemein!M171,allgemein!$I$12),8,IF(ISBLANK(allgemein!$I$13),allgemein!M171,allgemein!$I$13),IF(ISBLANK(allgemein!M171),\"\",allgemein!M171))","v":{"$error":"#NAME?"}},{"$f":"_xlfn.SWITCH(allgemein!N171,1,IF(ISBLANK(allgemein!$F$10),allgemein!N171,allgemein!$F$10),2,IF(ISBLANK(allgemein!$F$11),allgemein!N171,allgemein!$F$11),3,IF(ISBLANK(allgemein!$F$12),allgemein!N171,allgemein!$F$12),4,IF(ISBLANK(allgemein!$F$13),allgemein!N171,allgemein!$F$13),5,IF(ISBLANK(allgemein!$I$10),allgemein!N171,allgemein!$I$10),6,IF(ISBLANK(allgemein!$I$11),allgemein!N171,allgemein!$I$11),7,IF(ISBLANK(allgemein!$I$12),allgemein!N171,allgemein!$I$12),8,IF(ISBLANK(allgemein!$I$13),allgemein!N171,allgemein!$I$13),IF(ISBLANK(allgemein!N171),\"\",allgemein!N171))","v":{"$error":"#NAME?"}},{"$f":"_xlfn.SWITCH(allgemein!O171,1,IF(ISBLANK(allgemein!$F$10),allgemein!O171,allgemein!$F$10),2,IF(ISBLANK(allgemein!$F$11),allgemein!O171,allgemein!$F$11),3,IF(ISBLANK(allgemein!$F$12),allgemein!O171,allgemein!$F$12),4,IF(ISBLANK(allgemein!$F$13),allgemein!O171,allgemein!$F$13),5,IF(ISBLANK(allgemein!$I$10),allgemein!O171,allgemein!$I$10),6,IF(ISBLANK(allgemein!$I$11),allgemein!O171,allgemein!$I$11),7,IF(ISBLANK(allgemein!$I$12),allgemein!O171,allgemein!$I$12),8,IF(ISBLANK(allgemein!$I$13),allgemein!O171,allgemein!$I$13),IF(ISBLANK(allgemein!O171),\"\",allgemein!O171))","v":{"$error":"#NAME?"}},{"$f":"_xlfn.SWITCH(allgemein!P171,1,IF(ISBLANK(allgemein!$F$10),allgemein!P171,allgemein!$F$10),2,IF(ISBLANK(allgemein!$F$11),allgemein!P171,allgemein!$F$11),3,IF(ISBLANK(allgemein!$F$12),allgemein!P171,allgemein!$F$12),4,IF(ISBLANK(allgemein!$F$13),allgemein!P171,allgemein!$F$13),5,IF(ISBLANK(allgemein!$I$10),allgemein!P171,allgemein!$I$10),6,IF(ISBLANK(allgemein!$I$11),allgemein!P171,allgemein!$I$11),7,IF(ISBLANK(allgemein!$I$12),allgemein!P171,allgemein!$I$12),8,IF(ISBLANK(allgemein!$I$13),allgemein!P171,allgemein!$I$13),IF(ISBLANK(allgemein!P171),\"\",allgemein!P171))","v":{"$error":"#NAME?"}},{"$f":"IF(ISBLANK(allgemein!Q171),\"\",allgemein!Q171)","v":""},{"$f":"IF(ISBLANK(allgemein!R171),\"\",allgemein!R171)","v":""},{"$f":"IF(ISBLANK(allgemein!S171),\"\",allgemein!S171)","v":""},{"$f":"IF(ISBLANK(allgemein!U171),\"\",allgemein!U171)","v":""}]
[{"$f":"IF(ISBLANK(allgemein!D172),\"\",allgemein!D172)","v":155},{"$f":"IF(ISBLANK(allgemein!E172),\"\",allgemein!E172)","v":""},{"$f":"IF(ISBLANK(allgemein!C172),\"\",allgemein!C172)","v":" "},{"$f":"IF(ISBLANK(allgemein!H172),\"\",allgemein!H172)","v":""},{"$f":"IF(ISBLANK(allgemein!I172),\"\",allgemein!I172)","v":""},{"$f":"IF(ISBLANK(allgemein!J172),\"\",allgemein!J172)","v":""},{"$f":"IF(ISBLANK(allgemein!K172),\"\",allgemein!K172)","v":""},{"$f":"IF(ISBLANK(allgemein!F172),\"\",IF(ISBLANK(allgemein!L172),1,0))","v":""},{"$f":"_xlfn.SWITCH(allgemein!M172,1,IF(ISBLANK(allgemein!$F$10),allgemein!M172,allgemein!$F$10),2,IF(ISBLANK(allgemein!$F$11),allgemein!M172,allgemein!$F$11),3,IF(ISBLANK(allgemein!$F$12),allgemein!M172,allgemein!$F$12),4,IF(ISBLANK(allgemein!$F$13),allgemein!M172,allgemein!$F$13),5,IF(ISBLANK(allgemein!$I$10),allgemein!M172,allgemein!$I$10),6,IF(ISBLANK(allgemein!$I$11),allgemein!M172,allgemein!$I$11),7,IF(ISBLANK(allgemein!$I$12),allgemein!M172,allgemein!$I$12),8,IF(ISBLANK(allgemein!$I$13),allgemein!M172,allgemein!$I$13),IF(ISBLANK(allgemein!M172),\"\",allgemein!M172))","v":{"$error":"#NAME?"}},{"$f":"_xlfn.SWITCH(allgemein!N172,1,IF(ISBLANK(allgemein!$F$10),allgemein!N172,allgemein!$F$10),2,IF(ISBLANK(allgemein!$F$11),allgemein!N172,allgemein!$F$11),3,IF(ISBLANK(allgemein!$F$12),allgemein!N172,allgemein!$F$12),4,IF(ISBLANK(allgemein!$F$13),allgemein!N172,allgemein!$F$13),5,IF(ISBLANK(allgemein!$I$10),allgemein!N172,allgemein!$I$10),6,IF(ISBLANK(allgemein!$I$11),allgemein!N172,allgemein!$I$11),7,IF(ISBLANK(allgemein!$I$12),allgemein!N172,allgemein!$I$12),8,IF(ISBLANK(allgemein!$I$13),allgemein!N172,allgemein!$I$13),IF(ISBLANK(allgemein!N172),\"\",allgemein!N172))","v":{"$error":"#NAME?"}},{"$f":"_xlfn.SWITCH(allgemein!O172,1,IF(ISBLANK(allgemein!$F$10),allgemein!O172,allgemein!$F$10),2,IF(ISBLANK(allgemein!$F$11),allgemein!O172,allgemein!$F$11),3,IF(ISBLANK(allgemein!$F$12),allgemein!O172,allgemein!$F$12),4,IF(ISBLANK(allgemein!$F$13),allgemein!O172,allgemein!$F$13),5,IF(ISBLANK(allgemein!$I$10),allgemein!O172,allgemein!$I$10),6,IF(ISBLANK(allgemein!$I$11),allgemein!O172,allgemein!$I$11),7,IF(ISBLANK(allgemein!$I$12),allgemein!O172,allgemein!$I$12),8,IF(ISBLANK(allgemein!$I$13),allgemein!O172,allgemein!$I$13),IF(ISBLANK(allgemein!O172),\"\",allgemein!O172))","v":{"$error":"#NAME?"}},{"$f":"_xlfn.SWITCH(allgemein!P172,1,IF(ISBLANK(allgemein!$F$10),allgemein!P172,allgemein!$F$10),2,IF(ISBLANK(allgemein!$F$11),allgemein!P172,allgemein!$F$11),3,IF(ISBLANK(allgemein!$F$12),allgemein!P172,allgemein!$F$12),4,IF(ISBLANK(allgemein!$F$13),allgemein!P172,allgemein!$F$13),5,IF(ISBLANK(allgemein!$I$10),allgemein!P172,allgemein!$I$10),6,IF(ISBLANK(allgemein!$I$11),allgemein!P172,allgemein!$I$11),7,IF(ISBLANK(allgemein!$I$12),allgemein!P172,allgemein!$I$12),8,IF(ISBLANK(allgemein!$I$13),allgemein!P172,allgemein!$I$13),IF(ISBLANK(allgemein!P172),\"\",allgemein!P172))","v":{"$error":"#NAME?"}},{"$f":"IF(ISBLANK(allgemein!Q172),\"\",allgemein!Q172)","v":""},{"$f":"IF(ISBLANK(allgemein!R172),\"\",allgemein!R172)","v":""},{"$f":"IF(ISBLANK(allgemein!S172),\"\",allgemein!S172)","v":""},{"$f":"IF(ISBLANK(allgemein!U172),\"\",allgemein!U172)","v":""}]
[{"$f":"IF(ISBLANK(allgemein!D173),\"\",allgemein!D173)","v":156},{"$f":"IF(ISBLANK(allgemein!E173),\"\",allgemein!E173)","v":""},{"$f":"IF(ISBLANK(allgemein!C173),\"\",allgemein!C173)","v":" "},{"$f":"IF(ISBLANK(allgemein!H173),\"\",allgemein!H173)","v":""},{"$f":"IF(ISBLANK(allgemein!I173),\"\",allgemein!I173)","v":""},{"$f":"IF(ISBLANK(allgemein!J173),\"\",allgemein!J173)","v":""},{"$f":"IF(ISBLANK(allgemein!K173),\"\",allgemein!K173)","v":""},{"$f":"IF(ISBLANK(allgemein!F173),\"\",IF(ISBLANK(allgemein!L173),1,0))","v":""},{"$f":"_xlfn.SWITCH(allgemein!M173,1,IF(ISBLANK(allgemein!$F$10),allgemein!M173,allgemein!$F$10),2,IF(ISBLANK(allgemein!$F$11),allgemein!M173,allgemein!$F$11),3,IF(ISBLANK(allgemein!$F$12),allgemein!M173,allgemein!$F$12),4,IF(ISBLANK(allgemein!$F$13),allgemein!M173,allgemein!$F$13),5,IF(ISBLANK(allgemein!$I$10),allgemein!M173,allgemein!$I$10),6,IF(ISBLANK(allgemein!$I$11),allgemein!M173,allgemein!$I$11),7,IF(ISBLANK(allgemein!$I$12),allgemein!M173,allgemein!$I$12),8,IF(ISBLANK(allgemein!$I$13),allgemein!M173,allgemein!$I$13),IF(ISBLANK(allgemein!M173),\"\",allgemein!M173))","v":{"$error":"#NAME?"}},{"$f":"_xlfn.SWITCH(allgemein!N173,1,IF(ISBLANK(allgemein!$F$10),allgemein!N173,allgemein!$F$10),2,IF(ISBLANK(allgemein!$F$11),allgemein!N173,allgemein!$F$11),3,IF(ISBLANK(allgemein!$F$12),allgemein!N173,allgemein!$F$12),4,IF(ISBLANK(allgemein!$F$13),allgemein!N173,allgemein!$F$13),5,IF(ISBLANK(allgemein!$I$10),allgemein!N173,allgemein!$I$10),6,IF(ISBLANK(allgemein!$I$11),allgemein!N173,allgemein!$I$11),7,IF(ISBLANK(allgemein!$I$12),allgemein!N173,allgemein!$I$12),8,IF(ISBLANK(allgemein!$I$13),allgemein!N173,allgemein!$I$13),IF(ISBLANK(allgemein!N173),\"\",allgemein!N173))","v":{"$error":"#NAME?"}},{"$f":"_xlfn.SWITCH(allgemein!O173,1,IF(ISBLANK(allgemein!$F$10),allgemein!O173,allgemein!$F$10),2,IF(ISBLANK(allgemein!$F$11),allgemein!O173,allgemein!$F$11),3,IF(ISBLANK(allgemein!$F$12),allgemein!O173,allgemein!$F$12),4,IF(ISBLANK(allgemein!$F$13),allgemein!O173,allgemein!$F$13),5,IF(ISBLANK(allgemein!$I$10),allgemein!O173,allgemein!$I$10),6,IF(ISBLANK(allgemein!$I$11),allgemein!O173,allgemein!$I$11),7,IF(ISBLANK(allgemein!$I$12),allgemein!O173,allgemein!$I$12),8,IF(ISBLANK(allgemein!$I$13),allgemein!O173,allgemein!$I$13),IF(ISBLANK(allgemein!O173),\"\",allgemein!O173))","v":{"$error":"#NAME?"}},{"$f":"_xlfn.SWITCH(allgemein!P173,1,IF(ISBLANK(allgemein!$F$10),allgemein!P173,allgemein!$F$10),2,IF(ISBLANK(allgemein!$F$11),allgemein!P173,allgemein!$F$11),3,IF(ISBLANK(allgemein!$F$12),allgemein!P173,allgemein!$F$12),4,IF(ISBLANK(allgemein!$F$13),allgemein!P173,allgemein!$F$13),5,IF(ISBLANK(allgemein!$I$10),allgemein!P173,allgemein!$I$10),6,IF(ISBLANK(allgemein!$I$11),allgemein!P173,allgemein!$I$11),7,IF(ISBLANK(allgemein!$I$12),allgemein!P173,allgemein!$I$12),8,IF(ISBLANK(allgemein!$I$13),allgemein!P173,allgemein!$I$13),IF(ISBLANK(allgemein!P173),\"\",allgemein!P173))","v":{"$error":"#NAME?"}},{"$f":"IF(ISBLANK(allgemein!Q173),\"\",allgemein!Q173)","v":""},{"$f":"IF(ISBLANK(allgemein!R173),\"\",allgemein!R173)","v":""},{"$f":"IF(ISBLANK(allgemein!S173),\"\",allgemein!S173)","v":""},{"$f":"IF(ISBLANK(allgemein!U173),\"\",allgemein!U173)","v":""}]
[{"$f":"IF(ISBLANK(allgemein!D174),\"\",allgemein!D174)","v":157},{"$f":"IF(ISBLANK(allgemein!E174),\"\",allgemein!E174)","v":""},{"$f":"IF(ISBLANK(allgemein!C174),\"\",allgemein!C174)","v":" "},{"$f":"IF(ISBLANK(allgemein!H174),\"\",allgemein!H174)","v":""},{"$f":"IF(ISBLANK(allgemein!I174),\"\",allgemein!I174)","v":""},{"$f":"IF(ISBLANK(allgemein!J174),\"\",allgemein!J174)","v":""},{"$f":"IF(ISBLANK(allgemein!K174),\"\",allgemein!K174)","v":""},{"$f":"IF(ISBLANK(allgemein!F174),\"\",IF(ISBLANK(allgemein!L174),1,0))","v":""},{"$f":"_xlfn.SWITCH(allgemein!M174,1,IF(ISBLANK(allgemein!$F$10),allgemein!M174,allgemein!$F$10),2,IF(ISBLANK(allgemein!$F$11),allgemein!M174,allgemein!$F$11),3,IF(ISBLANK(allgemein!$F$12),allgemein!M174,allgemein!$F$12),4,IF(ISBLANK(allgemein!$F$13),allgemein!M174,allgemein!$F$13),5,IF(ISBLANK(allgemein!$I$10),allgemein!M174,allgemein!$I$10),6,IF(ISBLANK(allgemein!$I$11),allgemein!M174,allgemein!$I$11),7,IF(ISBLANK(allgemein!$I$12),allgemein!M174,allgemein!$I$12),8,IF(ISBLANK(allgemein!$I$13),allgemein!M174,allgemein!$I$13),IF(ISBLANK(allgemein!M174),\"\",allgemein!M174))","v":{"$error":"#NAME?"}},{"$f":"_xlfn.SWITCH(allgemein!N174,1,IF(ISBLANK(allgemein!$F$10),allgemein!N174,allgemein!$F$10),2,IF(ISBLANK(allgemein!$F$11),allgemein!N174,allgemein!$F$11),3,IF(ISBLANK(allgemein!$F$12),allgemein!N174,allgemein!$F$12),4,IF(ISBLANK(allgemein!$F$13),allgemein!N174,allgemein!$F$13),5,IF(ISBLANK(allgemein!$I$10),allgemein!N174,allgemein!$I$10),6,IF(ISBLANK(allgemein!$I$11),allgemein!N174,allgemein!$I$11),7,IF(ISBLANK(allgemein!$I$12),allgemein!N174,allgemein!$I$12),8,IF(ISBLANK(allgemein!$I$13),allgemein!N174,allgemein!$I$13),IF(ISBLANK(allgemein!N174),\"\",allgemein!N174))","v":{"$error":"#NAME?"}},{"$f":"_xlfn.SWITCH(allgemein!O174,1,IF(ISBLANK(allgemein!$F$10),allgemein!O174,allgemein!$F$10),2,IF(ISBLANK(allgemein!$F$11),allgemein!O174,allgemein!$F$11),3,IF(ISBLANK(allgemein!$F$12),allgemein!O174,allgemein!$F$12),4,IF(ISBLANK(allgemein!$F$13),allgemein!O174,allgemein!$F$13),5,IF(ISBLANK(allgemein!$I$10),allgemein!O174,allgemein!$I$10),6,IF(ISBLANK(allgemein!$I$11),allgemein!O174,allgemein!$I$11),7,IF(ISBLANK(allgemein!$I$12),allgemein!O174,allgemein!$I$12),8,IF(ISBLANK(allgemein!$I$13),allgemein!O174,allgemein!$I$13),IF(ISBLANK(allgemein!O174),\"\",allgemein!O174))","v":{"$error":"#NAME?"}},{"$f":"_xlfn.SWITCH(allgemein!P174,1,IF(ISBLANK(allgemein!$F$10),allgemein!P174,allgemein!$F$10),2,IF(ISBLANK(allgemein!$F$11),allgemein!P174,allgemein!$F$11),3,IF(ISBLANK(allgemein!$F$12),allgemein!P174,allgemein!$F$12),4,IF(ISBLANK(allgemein!$F$13),allgemein!P174,allgemein!$F$13),5,IF(ISBLANK(allgemein!$I$10),allgemein!P174,allgemein!$I$10),6,IF(ISBLANK(allgemein!$I$11),allgemein!P174,allgemein!$I$11),7,IF(ISBLANK(allgemein!$I$12),allgemein!P174,allgemein!$I$12),8,IF(ISBLANK(allgemein!$I$13),allgemein!P174,allgemein!$I$13),IF(ISBLANK(allgemein!P174),\"\",allgemein!P174))","v":{"$error":"#NAME?"}},{"$f":"IF(ISBLANK(allgemein!Q174),\"\",allgemein!Q174)","v":""},{"$f":"IF(ISBLANK(allgemein!R174),\"\",allgemein!R174)","v":""},{"$f":"IF(ISBLANK(allgemein!S174),\"\",allgemein!S174)","v":""},{"$f":"IF(ISBLANK(allgemein!U174),\"\",allgemein!U174)","v":""}]
[{"$f":"IF(ISBLANK(allgemein!D175),\"\",allgemein!D175)","v":158},{"$f":"IF(ISBLANK(allgemein!E175),\"\",allgemein!E175)","v":""},{"$f":"IF(ISBLANK(allgemein!C175),\"\",allgemein!C175)","v":" "},{"$f":"IF(ISBLANK(allgemein!H175),\"\",allgemein!H175)","v":""},{"$f":"IF(ISBLANK(allgemein!I175),\"\",allgemein!I175)","v":""},{"$f":"IF(ISBLANK(allgemein!J175),\"\",allgemein!J175)","v":""},{"$f":"IF(ISBLANK(allgemein!K175),\"\",allgemein!K175)","v":""},{"$f":"IF(ISBLANK(allgemein!F175),\"\",IF(ISBLANK(allgemein!L175),1,0))","v":""},{"$f":"_xlfn.SWITCH(allgemein!M175,1,IF(ISBLANK(allgemein!$F$10),allgemein!M175,allgemein!$F$10),2,IF(ISBLANK(allgemein!$F$11),allgemein!M175,allgemein!$F$11),3,IF(ISBLANK(allgemein!$F$12),allgemein!M175,allgemein!$F$12),4,IF(ISBLANK(allgemein!$F$13),allgemein!M175,allgemein!$F$13),5,IF(ISBLANK(allgemein!$I$10),allgemein!M175,allgemein!$I$10),6,IF(ISBLANK(allgemein!$I$11),allgemein!M175,allgemein!$I$11),7,IF(ISBLANK(allgemein!$I$12),allgemein!M175,allgemein!$I$12),8,IF(ISBLANK(allgemein!$I$13),allgemein!M175,allgemein!$I$13),IF(ISBLANK(allgemein!M175),\"\",allgemein!M175))","v":{"$error":"#NAME?"}},{"$f":"_xlfn.SWITCH(allgemein!N175,1,IF(ISBLANK(allgemein!$F$10),allgemein!N175,allgemein!$F$10),2,IF(ISBLANK(allgemein!$F$11),allgemein!N175,allgemein!$F$11),3,IF(ISBLANK(allgemein!$F$12),allgemein!N175,allgemein!$F$12),4,IF(ISBLANK(allgemein!$F$13),allgemein!N175,allgemein!$F$13),5,IF(ISBLANK(allgemein!$I$10),allgemein!N175,allgemein!$I$10),6,IF(ISBLANK(allgemein!$I$11),allgemein!N175,allgemein!$I$11),7,IF(ISBLANK(allgemein!$I$12),allgemein!N175,allgemein!$I$12),8,IF(ISBLANK(allgemein!$I$13),allgemein!N175,allgemein!$I$13),IF(ISBLANK(allgemein!N175),\"\",allgemein!N175))","v":{"$error":"#NAME?"}},{"$f":"_xlfn.SWITCH(allgemein!O175,1,IF(ISBLANK(allgemein!$F$10),allgemein!O175,allgemein!$F$10),2,IF(ISBLANK(allgemein!$F$11),allgemein!O175,allgemein!$F$11),3,IF(ISBLANK(allgemein!$F$12),allgemein!O175,allgemein!$F$12),4,IF(ISBLANK(allgemein!$F$13),allgemein!O175,allgemein!$F$13),5,IF(ISBLANK(allgemein!$I$10),allgemein!O175,allgemein!$I$10),6,IF(ISBLANK(allgemein!$I$11),allgemein!O175,allgemein!$I$11),7,IF(ISBLANK(allgemein!$I$12),allgemein!O175,allgemein!$I$12),8,IF(ISBLANK(allgemein!$I$13),allgemein!O175,allgemein!$I$13),IF(ISBLANK(allgemein!O175),\"\",allgemein!O175))","v":{"$error":"#NAME?"}},{"$f":"_xlfn.SWITCH(allgemein!P175,1,IF(ISBLANK(allgemein!$F$10),allgemein!P175,allgemein!$F$10),2,IF(ISBLANK(allgemein!$F$11),allgemein!P175,allgemein!$F$11),3,IF(ISBLANK(allgemein!$F$12),allgemein!P175,allgemein!$F$12),4,IF(ISBLANK(allgemein!$F$13),allgemein!P175,allgemein!$F$13),5,IF(ISBLANK(allgemein!$I$10),allgemein!P175,allgemein!$I$10),6,IF(ISBLANK(allgemein!$I$11),allgemein!P175,allgemein!$I$11),7,IF(ISBLANK(allgemein!$I$12),allgemein!P175,allgemein!$I$12),8,IF(ISBLANK(allgemein!$I$13),allgemein!P175,allgemein!$I$13),IF(ISBLANK(allgemein!P175),\"\",allgemein!P175))","v":{"$error":"#NAME?"}},{"$f":"IF(ISBLANK(allgemein!Q175),\"\",allgemein!Q175)","v":""},{"$f":"IF(ISBLANK(allgemein!R175),\"\",allgemein!R175)","v":""},{"$f":"IF(ISBLANK(allgemein!S175),\"\",allgemein!S175)","v":""},{"$f":"IF(ISBLANK(allgemein!U175),\"\",allgemein!U175)","v":""}]
[{"$f":"IF(ISBLANK(allgemein!D176),\"\",allgemein!D176)","v":159},{"$f":"IF(ISBLANK(allgemein!E176),\"\",allgemein!E176)","v":""},{"$f":"IF(ISBLANK(allgemein!C176),\"\",allgemein!C176)","v":" "},{"$f":"IF(ISBLANK(allgemein!H176),\"\",allgemein!H176)","v":""},{"$f":"IF(ISBLANK(allgemein!I176),\"\",allgemein!I176)","v":""},{"$f":"IF(ISBLANK(allgemein!J176),\"\",allgemein!J176)","v":""},{"$f":"IF(ISBLANK(allgemein!K176),\"\",allgemein!K176)","v":""},{"$f":"IF(ISBLANK(allgemein!F176),\"\",IF(ISBLANK(allgemein!L176),1,0))","v":""},{"$f":"_xlfn.SWITCH(allgemein!M176,1,IF(ISBLANK(allgemein!$F$10),allgemein!M176,allgemein!$F$10),2,IF(ISBLANK(allgemein!$F$11),allgemein!M176,allgemein!$F$11),3,IF(ISBLANK(allgemein!$F$12),allgemein!M176,allgemein!$F$12),4,IF(ISBLANK(allgemein!$F$13),allgemein!M176,allgemein!$F$13),5,IF(ISBLANK(allgemein!$I$10),allgemein!M176,allgemein!$I$10),6,IF(ISBLANK(allgemein!$I$11),allgemein!M176,allgemein!$I$11),7,IF(ISBLANK(allgemein!$I$12),allgemein!M176,allgemein!$I$12),8,IF(ISBLANK(allgemein!$I$13),allgemein!M176,allgemein!$I$13),IF(ISBLANK(allgemein!M176),\"\",allgemein!M176))","v":{"$error":"#NAME?"}},{"$f":"_xlfn.SWITCH(allgemein!N176,1,IF(ISBLANK(allgemein!$F$10),allgemein!N176,allgemein!$F$10),2,IF(ISBLANK(allgemein!$F$11),allgemein!N176,allgemein!$F$11),3,IF(ISBLANK(allgemein!$F$12),allgemein!N176,allgemein!$F$12),4,IF(ISBLANK(allgemein!$F$13),allgemein!N176,allgemein!$F$13),5,IF(ISBLANK(allgemein!$I$10),allgemein!N176,allgemein!$I$10),6,IF(ISBLANK(allgemein!$I$11),allgemein!N176,allgemein!$I$11),7,IF(ISBLANK(allgemein!$I$12),allgemein!N176,allgemein!$I$12),8,IF(ISBLANK(allgemein!$I$13),allgemein!N176,allgemein!$I$13),IF(ISBLANK(allgemein!N176),\"\",allgemein!N176))","v":{"$error":"#NAME?"}},{"$f":"_xlfn.SWITCH(allgemein!O176,1,IF(ISBLANK(allgemein!$F$10),allgemein!O176,allgemein!$F$10),2,IF(ISBLANK(allgemein!$F$11),allgemein!O176,allgemein!$F$11),3,IF(ISBLANK(allgemein!$F$12),allgemein!O176,allgemein!$F$12),4,IF(ISBLANK(allgemein!$F$13),allgemein!O176,allgemein!$F$13),5,IF(ISBLANK(allgemein!$I$10),allgemein!O176,allgemein!$I$10),6,IF(ISBLANK(allgemein!$I$11),allgemein!O176,allgemein!$I$11),7,IF(ISBLANK(allgemein!$I$12),allgemein!O176,allgemein!$I$12),8,IF(ISBLANK(allgemein!$I$13),allgemein!O176,allgemein!$I$13),IF(ISBLANK(allgemein!O176),\"\",allgemein!O176))","v":{"$error":"#NAME?"}},{"$f":"_xlfn.SWITCH(allgemein!P176,1,IF(ISBLANK(allgemein!$F$10),allgemein!P176,allgemein!$F$10),2,IF(ISBLANK(allgemein!$F$11),allgemein!P176,allgemein!$F$11),3,IF(ISBLANK(allgemein!$F$12),allgemein!P176,allgemein!$F$12),4,IF(ISBLANK(allgemein!$F$13),allgemein!P176,allgemein!$F$13),5,IF(ISBLANK(allgemein!$I$10),allgemein!P176,allgemein!$I$10),6,IF(ISBLANK(allgemein!$I$11),allgemein!P176,allgemein!$I$11),7,IF(ISBLANK(allgemein!$I$12),allgemein!P176,allgemein!$I$12),8,IF(ISBLANK(allgemein!$I$13),allgemein!P176,allgemein!$I$13),IF(ISBLANK(allgemein!P176),\"\",allgemein!P176))","v":{"$error":"#NAME?"}},{"$f":"IF(ISBLANK(allgemein!Q176),\"\",allgemein!Q176)","v":""},{"$f":"IF(ISBLANK(allgemein!R176),\"\",allgemein!R176)","v":""},{"$f":"IF(ISBLANK(allgemein!S176),\"\",allgemein!S176)","v":""},{"$f":"IF(ISBLANK(allgemein!U176),\"\",allgemein!U176)","v":""}]
[{"$f":"IF(ISBLANK(allgemein!D177),\"\",allgemein!D177)","v":160},{"$f":"IF(ISBLANK(allgemein!E177),\"\",allgemein!E177)","v":""},{"$f":"IF(ISBLANK(allgemein!C177),\"\",allgemein!C177)","v":" "},{"$f":"IF(ISBLANK(allgemein!H177),\"\",allgemein!H177)","v":""},{"$f":"IF(ISBLANK(allgemein!I177),\"\",allgemein!I177)","v":""},{"$f":"IF(ISBLANK(allgemein!J177),\"\",allgemein!J177)","v":""},{"$f":"IF(ISBLANK(allgemein!K177),\"\",allgemein!K177)","v":""},{"$f":"IF(ISBLANK(allgemein!F177),\"\",IF(ISBLANK(allgemein!L177),1,0))","v":""},{"$f":"_xlfn.SWITCH(allgemein!M177,1,IF(ISBLANK(allgemein!$F$10),allgemein!M177,allgemein!$F$10),2,IF(ISBLANK(allgemein!$F$11),allgemein!M177,allgemein!$F$11),3,IF(ISBLANK(allgemein!$F$12),allgemein!M177,allgemein!$F$12),4,IF(ISBLANK(allgemein!$F$13),allgemein!M177,allgemein!$F$13),5,IF(ISBLANK(allgemein!$I$10),allgemein!M177,allgemein!$I$10),6,IF(ISBLANK(allgemein!$I$11),allgemein!M177,allgemein!$I$11),7,IF(ISBLANK(allgemein!$I$12),allgemein!M177,allgemein!$I$12),8,IF(ISBLANK(allgemein!$I$13),allgemein!M177,allgemein!$I$13),IF(ISBLANK(allgemein!M177),\"\",allgemein!M177))","v":{"$error":"#NAME?"}},{"$f":"_xlfn.SWITCH(allgemein!N177,1,IF(ISBLANK(allgemein!$F$10),allgemein!N177,allgemein!$F$10),2,IF(ISBLANK(allgemein!$F$11),allgemein!N177,allgemein!$F$11),3,IF(ISBLANK(allgemein!$F$12),allgemein!N177,allgemein!$F$12),4,IF(ISBLANK(allgemein!$F$13),allgemein!N177,allgemein!$F$13),5,IF(ISBLANK(allgemein!$I$10),allgemein!N177,allgemein!$I$10),6,IF(ISBLANK(allgemein!$I$11),allgemein!N177,allgemein!$I$11),7,IF(ISBLANK(allgemein!$I$12),allgemein!N177,allgemein!$I$12),8,IF(ISBLANK(allgemein!$I$13),allgemein!N177,allgemein!$I$13),IF(ISBLANK(allgemein!N177),\"\",allgemein!N177))","v":{"$error":"#NAME?"}},{"$f":"_xlfn.SWITCH(allgemein!O177,1,IF(ISBLANK(allgemein!$F$10),allgemein!O177,allgemein!$F$10),2,IF(ISBLANK(allgemein!$F$11),allgemein!O177,allgemein!$F$11),3,IF(ISBLANK(allgemein!$F$12),allgemein!O177,allgemein!$F$12),4,IF(ISBLANK(allgemein!$F$13),allgemein!O177,allgemein!$F$13),5,IF(ISBLANK(allgemein!$I$10),allgemein!O177,allgemein!$I$10),6,IF(ISBLANK(allgemein!$I$11),allgemein!O177,allgemein!$I$11),7,IF(ISBLANK(allgemein!$I$12),allgemein!O177,allgemein!$I$12),8,IF(ISBLANK(allgemein!$I$13),allgemein!O177,allgemein!$I$13),IF(ISBLANK(allgemein!O177),\"\",allgemein!O177))","v":{"$error":"#NAME?"}},{"$f":"_xlfn.SWITCH(allgemein!P177,1,IF(ISBLANK(allgemein!$F$10),allgemein!P177,allgemein!$F$10),2,IF(ISBLANK(allgemein!$F$11),allgemein!P177,allgemein!$F$11),3,IF(ISBLANK(allgemein!$F$12),allgemein!P177,allgemein!$F$12),4,IF(ISBLANK(allgemein!$F$13),allgemein!P177,allgemein!$F$13),5,IF(ISBLANK(allgemein!$I$10),allgemein!P177,allgemein!$I$10),6,IF(ISBLANK(allgemein!$I$11),allgemein!P177,allgemein!$I$11),7,IF(ISBLANK(allgemein!$I$12),allgemein!P177,allgemein!$I$12),8,IF(ISBLANK(allgemein!$I$13),allgemein!P177,allgemein!$I$13),IF(ISBLANK(allgemein!P177),\"\",allgemein!P177))","v":{"$error":"#NAME?"}},{"$f":"IF(ISBLANK(allgemein!Q177),\"\",allgemein!Q177)","v":""},{"$f":"IF(ISBLANK(allgemein!R177),\"\",allgemein!R177)","v":""},{"$f":"IF(ISBLANK(allgemein!S177),\"\",allgemein!S177)","v":""},{"$f":"IF(ISBLANK(allgemein!U177),\"\",allgemein!U177)","v":""}]
[{"$f":"IF(ISBLANK(allgemein!D178),\"\",allgemein!D178)","v":161},{"$f":"IF(ISBLANK(allgemein!E178),\"\",allgemein!E178)","v":""},{"$f":"IF(ISBLANK(allgemein!C178),\"\",allgemein!C178)","v":" "},{"$f":"IF(ISBLANK(allgemein!H178),\"\",allgemein!H178)","v":""},{"$f":"IF(ISBLANK(allgemein!I178),\"\",allgemein!I178)","v":""},{"$f":"IF(ISBLANK(allgemein!J178),\"\",allgemein!J178)","v":""},{"$f":"IF(ISBLANK(allgemein!K178),\"\",allgemein!K178)","v":""},{"$f":"IF(ISBLANK(allgemein!F178),\"\",IF(ISBLANK(allgemein!L178),1,0))","v":""},{"$f":"_xlfn.SWITCH(allgemein!M178,1,IF(ISBLANK(allgemein!$F$10),allgemein!M178,allgemein!$F$10),2,IF(ISBLANK(allgemein!$F$11),allgemein!M178,allgemein!$F$11),3,IF(ISBLANK(allgemein!$F$12),allgemein!M178,allgemein!$F$12),4,IF(ISBLANK(allgemein!$F$13),allgemein!M178,allgemein!$F$13),5,IF(ISBLANK(allgemein!$I$10),allgemein!M178,allgemein!$I$10),6,IF(ISBLANK(allgemein!$I$11),allgemein!M178,allgemein!$I$11),7,IF(ISBLANK(allgemein!$I$12),allgemein!M178,allgemein!$I$12),8,IF(ISBLANK(allgemein!$I$13),allgemein!M178,allgemein!$I$13),IF(ISBLANK(allgemein!M178),\"\",allgemein!M178))","v":{"$error":"#NAME?"}},{"$f":"_xlfn.SWITCH(allgemein!N178,1,IF(ISBLANK(allgemein!$F$10),allgemein!N178,allgemein!$F$10),2,IF(ISBLANK(allgemein!$F$11),allgemein!N178,allgemein!$F$11),3,IF(ISBLANK(allgemein!$F$12),allgemein!N178,allgemein!$F$12),4,IF(ISBLANK(allgemein!$F$13),allgemein!N178,allgemein!$F$13),5,IF(ISBLANK(allgemein!$I$10),allgemein!N178,allgemein!$I$10),6,IF(ISBLANK(allgemein!$I$11),allgemein!N178,allgemein!$I$11),7,IF(ISBLANK(allgemein!$I$12),allgemein!N178,allgemein!$I$12),8,IF(ISBLANK(allgemein!$I$13),allgemein!N178,allgemein!$I$13),IF(ISBLANK(allgemein!N178),\"\",allgemein!N178))","v":{"$error":"#NAME?"}},{"$f":"_xlfn.SWITCH(allgemein!O178,1,IF(ISBLANK(allgemein!$F$10),allgemein!O178,allgemein!$F$10),2,IF(ISBLANK(allgemein!$F$11),allgemein!O178,allgemein!$F$11),3,IF(ISBLANK(allgemein!$F$12),allgemein!O178,allgemein!$F$12),4,IF(ISBLANK(allgemein!$F$13),allgemein!O178,allgemein!$F$13),5,IF(ISBLANK(allgemein!$I$10),allgemein!O178,allgemein!$I$10),6,IF(ISBLANK(allgemein!$I$11),allgemein!O178,allgemein!$I$11),7,IF(ISBLANK(allgemein!$I$12),allgemein!O178,allgemein!$I$12),8,IF(ISBLANK(allgemein!$I$13),allgemein!O178,allgemein!$I$13),IF(ISBLANK(allgemein!O178),\"\",allgemein!O178))","v":{"$error":"#NAME?"}},{"$f":"_xlfn.SWITCH(allgemein!P178,1,IF(ISBLANK(allgemein!$F$10),allgemein!P178,allgemein!$F$10),2,IF(ISBLANK(allgemein!$F$11),allgemein!P178,allgemein!$F$11),3,IF(ISBLANK(allgemein!$F$12),allgemein!P178,allgemein!$F$12),4,IF(ISBLANK(allgemein!$F$13),allgemein!P178,allgemein!$F$13),5,IF(ISBLANK(allgemein!$I$10),allgemein!P178,allgemein!$I$10),6,IF(ISBLANK(allgemein!$I$11),allgemein!P178,allgemein!$I$11),7,IF(ISBLANK(allgemein!$I$12),allgemein!P178,allgemein!$I$12),8,IF(ISBLANK(allgemein!$I$13),allgemein!P178,allgemein!$I$13),IF(ISBLANK(allgemein!P178),\"\",allgemein!P178))","v":{"$error":"#NAME?"}},{"$f":"IF(ISBLANK(allgemein!Q178),\"\",allgemein!Q178)","v":""},{"$f":"IF(ISBLANK(allgemein!R178),\"\",allgemein!R178)","v":""},{"$f":"IF(ISBLANK(allgemein!S178),\"\",allgemein!S178)","v":""},{"$f":"IF(ISBLANK(allgemein!U178),\"\",allgemein!U178)","v":""}]
[{"$f":"IF(ISBLANK(allgemein!D179),\"\",allgemein!D179)","v":162},{"$f":"IF(ISBLANK(allgemein!E179),\"\",allgemein!E179)","v":""},{"$f":"IF(ISBLANK(allgemein!C179),\"\",allgemein!C179)","v":" "},{"$f":"IF(ISBLANK(allgemein!H179),\"\",allgemein!H179)","v":""},{"$f":"IF(ISBLANK(allgemein!I179),\"\",allgemein!I179)","v":""},{"$f":"IF(ISBLANK(allgemein!J179),\"\",allgemein!J179)","v":""},{"$f":"IF(ISBLANK(allgemein!K179),\"\",allgemein!K179)","v":""},{"$f":"IF(ISBLANK(allgemein!F179),\"\",IF(ISBLANK(allgemein!L179),1,0))","v":""},{"$f":"_xlfn.SWITCH(allgemein!M179,1,IF(ISBLANK(allgemein!$F$10),allgemein!M179,allgemein!$F$10),2,IF(ISBLANK(allgemein!$F$11),allgemein!M179,allgemein!$F$11),3,IF(ISBLANK(allgemein!$F$12),allgemein!M179,allgemein!$F$12),4,IF(ISBLANK(allgemein!$F$13),allgemein!M179,allgemein!$F$13),5,IF(ISBLANK(allgemein!$I$10),allgemein!M179,allgemein!$I$10),6,IF(ISBLANK(allgemein!$I$11),allgemein!M179,allgemein!$I$11),7,IF(ISBLANK(allgemein!$I$12),allgemein!M179,allgemein!$I$12),8,IF(ISBLANK(allgemein!$I$13),allgemein!M179,allgemein!$I$13),IF(ISBLANK(allgemein!M179),\"\",allgemein!M179))","v":{"$error":"#NAME?"}},{"$f":"_xlfn.SWITCH(allgemein!N179,1,IF(ISBLANK(allgemein!$F$10),allgemein!N179,allgemein!$F$10),2,IF(ISBLANK(allgemein!$F$11),allgemein!N179,allgemein!$F$11),3,IF(ISBLANK(allgemein!$F$12),allgemein!N179,allgemein!$F$12),4,IF(ISBLANK(allgemein!$F$13),allgemein!N179,allgemein!$F$13),5,IF(ISBLANK(allgemein!$I$10),allgemein!N179,allgemein!$I$10),6,IF(ISBLANK(allgemein!$I$11),allgemein!N179,allgemein!$I$11),7,IF(ISBLANK(allgemein!$I$12),allgemein!N179,allgemein!$I$12),8,IF(ISBLANK(allgemein!$I$13),allgemein!N179,allgemein!$I$13),IF(ISBLANK(allgemein!N179),\"\",allgemein!N179))","v":{"$error":"#NAME?"}},{"$f":"_xlfn.SWITCH(allgemein!O179,1,IF(ISBLANK(allgemein!$F$10),allgemein!O179,allgemein!$F$10),2,IF(ISBLANK(allgemein!$F$11),allgemein!O179,allgemein!$F$11),3,IF(ISBLANK(allgemein!$F$12),allgemein!O179,allgemein!$F$12),4,IF(ISBLANK(allgemein!$F$13),allgemein!O179,allgemein!$F$13),5,IF(ISBLANK(allgemein!$I$10),allgemein!O179,allgemein!$I$10),6,IF(ISBLANK(allgemein!$I$11),allgemein!O179,allgemein!$I$11),7,IF(ISBLANK(allgemein!$I$12),allgemein!O179,allgemein!$I$12),8,IF(ISBLANK(allgemein!$I$13),allgemein!O179,allgemein!$I$13),IF(ISBLANK(allgemein!O179),\"\",allgemein!O179))","v":{"$error":"#NAME?"}},{"$f":"_xlfn.SWITCH(allgemein!P179,1,IF(ISBLANK(allgemein!$F$10),allgemein!P179,allgemein!$F$10),2,IF(ISBLANK(allgemein!$F$11),allgemein!P179,allgemein!$F$11),3,IF(ISBLANK(allgemein!$F$12),allgemein!P179,allgemein!$F$12),4,IF(ISBLANK(allgemein!$F$13),allgemein!P179,allgemein!$F$13),5,IF(ISBLANK(allgemein!$I$10),allgemein!P179,allgemein!$I$10),6,IF(ISBLANK(allgemein!$I$11),allgemein!P179,allgemein!$I$11),7,IF(ISBLANK(allgemein!$I$12),allgemein!P179,allgemein!$I$12),8,IF(ISBLANK(allgemein!$I$13),allgemein!P179,allgemein!$I$13),IF(ISBLANK(allgemein!P179),\"\",allgemein!P179))","v":{"$error":"#NAME?"}},{"$f":"IF(ISBLANK(allgemein!Q179),\"\",allgemein!Q179)","v":""},{"$f":"IF(ISBLANK(allgemein!R179),\"\",allgemein!R179)","v":""},{"$f":"IF(ISBLANK(allgemein!S179),\"\",allgemein!S179)","v":""},{"$f":"IF(ISBLANK(allgemein!U179),\"\",allgemein!U179)","v":""}]
[{"$f":"IF(ISBLANK(allgemein!D180),\"\",allgemein!D180)","v":163},{"$f":"IF(ISBLANK(allgemein!E180),\"\",allgemein!E180)","v":""},{"$f":"IF(ISBLANK(allgemein!C180),\"\",allgemein!C180)","v":" "},{"$f":"IF(ISBLANK(allgemein!H180),\"\",allgemein!H180)","v":""},{"$f":"IF(ISBLANK(allgemein!I180),\"\",allgemein!I180)","v":""},{"$f":"IF(ISBLANK(allgemein!J180),\"\",allgemein!J180)","v":""},{"$f":"IF(ISBLANK(allgemein!K180),\"\",allgemein!K180)","v":""},{"$f":"IF(ISBLANK(allgemein!F180),\"\",IF(ISBLANK(allgemein!L180),1,0))","v":""},{"$f":"_xlfn.SWITCH(allgemein!M180,1,IF(ISBLANK(allgemein!$F$10),allgemein!M180,allgemein!$F$10),2,IF(ISBLANK(allgemein!$F$11),allgemein!M180,allgemein!$F$11),3,IF(ISBLANK(allgemein!$F$12),allgemein!M180,allgemein!$F$12),4,IF(ISBLANK(allgemein!$F$13),allgemein!M180,allgemein!$F$13),5,IF(ISBLANK(allgemein!$I$10),allgemein!M180,allgemein!$I$10),6,IF(ISBLANK(allgemein!$I$11),allgemein!M180,allgemein!$I$11),7,IF(ISBLANK(allgemein!$I$12),allgemein!M180,allgemein!$I$12),8,IF(ISBLANK(allgemein!$I$13),allgemein!M180,allgemein!$I$13),IF(ISBLANK(allgemein!M180),\"\",allgemein!M180))","v":{"$error":"#NAME?"}},{"$f":"_xlfn.SWITCH(allgemein!N180,1,IF(ISBLANK(allgemein!$F$10),allgemein!N180,allgemein!$F$10),2,IF(ISBLANK(allgemein!$F$11),allgemein!N180,allgemein!$F$11),3,IF(ISBLANK(allgemein!$F$12),allgemein!N180,allgemein!$F$12),4,IF(ISBLANK(allgemein!$F$13),allgemein!N180,allgemein!$F$13),5,IF(ISBLANK(allgemein!$I$10),allgemein!N180,allgemein!$I$10),6,IF(ISBLANK(allgemein!$I$11),allgemein!N180,allgemein!$I$11),7,IF(ISBLANK(allgemein!$I$12),allgemein!N180,allgemein!$I$12),8,IF(ISBLANK(allgemein!$I$13),allgemein!N180,allgemein!$I$13),IF(ISBLANK(allgemein!N180),\"\",allgemein!N180))","v":{"$error":"#NAME?"}},{"$f":"_xlfn.SWITCH(allgemein!O180,1,IF(ISBLANK(allgemein!$F$10),allgemein!O180,allgemein!$F$10),2,IF(ISBLANK(allgemein!$F$11),allgemein!O180,allgemein!$F$11),3,IF(ISBLANK(allgemein!$F$12),allgemein!O180,allgemein!$F$12),4,IF(ISBLANK(allgemein!$F$13),allgemein!O180,allgemein!$F$13),5,IF(ISBLANK(allgemein!$I$10),allgemein!O180,allgemein!$I$10),6,IF(ISBLANK(allgemein!$I$11),allgemein!O180,allgemein!$I$11),7,IF(ISBLANK(allgemein!$I$12),allgemein!O180,allgemein!$I$12),8,IF(ISBLANK(allgemein!$I$13),allgemein!O180,allgemein!$I$13),IF(ISBLANK(allgemein!O180),\"\",allgemein!O180))","v":{"$error":"#NAME?"}},{"$f":"_xlfn.SWITCH(allgemein!P180,1,IF(ISBLANK(allgemein!$F$10),allgemein!P180,allgemein!$F$10),2,IF(ISBLANK(allgemein!$F$11),allgemein!P180,allgemein!$F$11),3,IF(ISBLANK(allgemein!$F$12),allgemein!P180,allgemein!$F$12),4,IF(ISBLANK(allgemein!$F$13),allgemein!P180,allgemein!$F$13),5,IF(ISBLANK(allgemein!$I$10),allgemein!P180,allgemein!$I$10),6,IF(ISBLANK(allgemein!$I$11),allgemein!P180,allgemein!$I$11),7,IF(ISBLANK(allgemein!$I$12),allgemein!P180,allgemein!$I$12),8,IF(ISBLANK(allgemein!$I$13),allgemein!P180,allgemein!$I$13),IF(ISBLANK(allgemein!P180),\"\",allgemein!P180))","v":{"$error":"#NAME?"}},{"$f":"IF(ISBLANK(allgemein!Q180),\"\",allgemein!Q180)","v":""},{"$f":"IF(ISBLANK(allgemein!R180),\"\",allgemein!R180)","v":""},{"$f":"IF(ISBLANK(allgemein!S180),\"\",allgemein!S180)","v":""},{"$f":"IF(ISBLANK(allgemein!U180),\"\",allgemein!U180)","v":""}]
[{"$f":"IF(ISBLANK(allgemein!D181),\"\",allgemein!D181)","v":164},{"$f":"IF(ISBLANK(allgemein!E181),\"\",allgemein!E181)","v":""},{"$f":"IF(ISBLANK(allgemein!C181),\"\",allgemein!C181)","v":" "},{"$f":"IF(ISBLANK(allgemein!H181),\"\",allgemein!H181)","v":""},{"$f":"IF(ISBLANK(allgemein!I181),\"\",allgemein!I181)","v":""},{"$f":"IF(ISBLANK(allgemein!J181),\"\",allgemein!J181)","v":""},{"$f":"IF(ISBLANK(allgemein!K181),\"\",allgemein!K181)","v":""},{"$f":"IF(ISBLANK(allgemein!F181),\"\",IF(ISBLANK(allgemein!L181),1,0))","v":""},{"$f":"_xlfn.SWITCH(allgemein!M181,1,IF(ISBLANK(allgemein!$F$10),allgemein!M181,allgemein!$F$10),2,IF(ISBLANK(allgemein!$F$11),allgemein!M181,allgemein!$F$11),3,IF(ISBLANK(allgemein!$F$12),allgemein!M181,allgemein!$F$12),4,IF(ISBLANK(allgemein!$F$13),allgemein!M181,allgemein!$F$13),5,IF(ISBLANK(allgemein!$I$10),allgemein!M181,allgemein!$I$10),6,IF(ISBLANK(allgemein!$I$11),allgemein!M181,allgemein!$I$11),7,IF(ISBLANK(allgemein!$I$12),allgemein!M181,allgemein!$I$12),8,IF(ISBLANK(allgemein!$I$13),allgemein!M181,allgemein!$I$13),IF(ISBLANK(allgemein!M181),\"\",allgemein!M181))","v":{"$error":"#NAME?"}},{"$f":"_xlfn.SWITCH(allgemein!N181,1,IF(ISBLANK(allgemein!$F$10),allgemein!N181,allgemein!$F$10),2,IF(ISBLANK(allgemein!$F$11),allgemein!N181,allgemein!$F$11),3,IF(ISBLANK(allgemein!$F$12),allgemein!N181,allgemein!$F$12),4,IF(ISBLANK(allgemein!$F$13),allgemein!N181,allgemein!$F$13),5,IF(ISBLANK(allgemein!$I$10),allgemein!N181,allgemein!$I$10),6,IF(ISBLANK(allgemein!$I$11),allgemein!N181,allgemein!$I$11),7,IF(ISBLANK(allgemein!$I$12),allgemein!N181,allgemein!$I$12),8,IF(ISBLANK(allgemein!$I$13),allgemein!N181,allgemein!$I$13),IF(ISBLANK(allgemein!N181),\"\",allgemein!N181))","v":{"$error":"#NAME?"}},{"$f":"_xlfn.SWITCH(allgemein!O181,1,IF(ISBLANK(allgemein!$F$10),allgemein!O181,allgemein!$F$10),2,IF(ISBLANK(allgemein!$F$11),allgemein!O181,allgemein!$F$11),3,IF(ISBLANK(allgemein!$F$12),allgemein!O181,allgemein!$F$12),4,IF(ISBLANK(allgemein!$F$13),allgemein!O181,allgemein!$F$13),5,IF(ISBLANK(allgemein!$I$10),allgemein!O181,allgemein!$I$10),6,IF(ISBLANK(allgemein!$I$11),allgemein!O181,allgemein!$I$11),7,IF(ISBLANK(allgemein!$I$12),allgemein!O181,allgemein!$I$12),8,IF(ISBLANK(allgemein!$I$13),allgemein!O181,allgemein!$I$13),IF(ISBLANK(allgemein!O181),\"\",allgemein!O181))","v":{"$error":"#NAME?"}},{"$f":"_xlfn.SWITCH(allgemein!P181,1,IF(ISBLANK(allgemein!$F$10),allgemein!P181,allgemein!$F$10),2,IF(ISBLANK(allgemein!$F$11),allgemein!P181,allgemein!$F$11),3,IF(ISBLANK(allgemein!$F$12),allgemein!P181,allgemein!$F$12),4,IF(ISBLANK(allgemein!$F$13),allgemein!P181,allgemein!$F$13),5,IF(ISBLANK(allgemein!$I$10),allgemein!P181,allgemein!$I$10),6,IF(ISBLANK(allgemein!$I$11),allgemein!P181,allgemein!$I$11),7,IF(ISBLANK(allgemein!$I$12),allgemein!P181,allgemein!$I$12),8,IF(ISBLANK(allgemein!$I$13),allgemein!P181,allgemein!$I$13),IF(ISBLANK(allgemein!P181),\"\",allgemein!P181))","v":{"$error":"#NAME?"}},{"$f":"IF(ISBLANK(allgemein!Q181),\"\",allgemein!Q181)","v":""},{"$f":"IF(ISBLANK(allgemein!R181),\"\",allgemein!R181)","v":""},{"$f":"IF(ISBLANK(allgemein!S181),\"\",allgemein!S181)","v":""},{"$f":"IF(ISBLANK(allgemein!U181),\"\",allgemein!U181)","v":""}]
[{"$f":"IF(ISBLANK(allgemein!D182),\"\",allgemein!D182)","v":165},{"$f":"IF(ISBLANK(allgemein!E182),\"\",allgemein!E182)","v":""},{"$f":"IF(ISBLANK(allgemein!C182),\"\",allgemein!C182)","v":" "},{"$f":"IF(ISBLANK(allgemein!H182),\"\",allgemein!H182)","v":""},{"$f":"IF(ISBLANK(allgemein!I182),\"\",allgemein!I182)","v":""},{"$f":"IF(ISBLANK(allgemein!J182),\"\",allgemein!J182)","v":""},{"$f":"IF(ISBLANK(allgemein!K182),\"\",allgemein!K182)","v":""},{"$f":"IF(ISBLANK(allgemein!F182),\"\",IF(ISBLANK(allgemein!L182),1,0))","v":""},{"$f":"_xlfn.SWITCH(allgemein!M182,1,IF(ISBLANK(allgemein!$F$10),allgemein!M182,allgemein!$F$10),2,IF(ISBLANK(allgemein!$F$11),allgemein!M182,allgemein!$F$11),3,IF(ISBLANK(allgemein!$F$12),allgemein!M182,allgemein!$F$12),4,IF(ISBLANK(allgemein!$F$13),allgemein!M182,allgemein!$F$13),5,IF(ISBLANK(allgemein!$I$10),allgemein!M182,allgemein!$I$10),6,IF(ISBLANK(allgemein!$I$11),allgemein!M182,allgemein!$I$11),7,IF(ISBLANK(allgemein!$I$12),allgemein!M182,allgemein!$I$12),8,IF(ISBLANK(allgemein!$I$13),allgemein!M182,allgemein!$I$13),IF(ISBLANK(allgemein!M182),\"\",allgemein!M182))","v":{"$error":"#NAME?"}},{"$f":"_xlfn.SWITCH(allgemein!N182,1,IF(ISBLANK(allgemein!$F$10),allgemein!N182,allgemein!$F$10),2,IF(ISBLANK(allgemein!$F$11),allgemein!N182,allgemein!$F$11),3,IF(ISBLANK(allgemein!$F$12),allgemein!N182,allgemein!$F$12),4,IF(ISBLANK(allgemein!$F$13),allgemein!N182,allgemein!$F$13),5,IF(ISBLANK(allgemein!$I$10),allgemein!N182,allgemein!$I$10),6,IF(ISBLANK(allgemein!$I$11),allgemein!N182,allgemein!$I$11),7,IF(ISBLANK(allgemein!$I$12),allgemein!N182,allgemein!$I$12),8,IF(ISBLANK(allgemein!$I$13),allgemein!N182,allgemein!$I$13),IF(ISBLANK(allgemein!N182),\"\",allgemein!N182))","v":{"$error":"#NAME?"}},{"$f":"_xlfn.SWITCH(allgemein!O182,1,IF(ISBLANK(allgemein!$F$10),allgemein!O182,allgemein!$F$10),2,IF(ISBLANK(allgemein!$F$11),allgemein!O182,allgemein!$F$11),3,IF(ISBLANK(allgemein!$F$12),allgemein!O182,allgemein!$F$12),4,IF(ISBLANK(allgemein!$F$13),allgemein!O182,allgemein!$F$13),5,IF(ISBLANK(allgemein!$I$10),allgemein!O182,allgemein!$I$10),6,IF(ISBLANK(allgemein!$I$11),allgemein!O182,allgemein!$I$11),7,IF(ISBLANK(allgemein!$I$12),allgemein!O182,allgemein!$I$12),8,IF(ISBLANK(allgemein!$I$13),allgemein!O182,allgemein!$I$13),IF(ISBLANK(allgemein!O182),\"\",allgemein!O182))","v":{"$error":"#NAME?"}},{"$f":"_xlfn.SWITCH(allgemein!P182,1,IF(ISBLANK(allgemein!$F$10),allgemein!P182,allgemein!$F$10),2,IF(ISBLANK(allgemein!$F$11),allgemein!P182,allgemein!$F$11),3,IF(ISBLANK(allgemein!$F$12),allgemein!P182,allgemein!$F$12),4,IF(ISBLANK(allgemein!$F$13),allgemein!P182,allgemein!$F$13),5,IF(ISBLANK(allgemein!$I$10),allgemein!P182,allgemein!$I$10),6,IF(ISBLANK(allgemein!$I$11),allgemein!P182,allgemein!$I$11),7,IF(ISBLANK(allgemein!$I$12),allgemein!P182,allgemein!$I$12),8,IF(ISBLANK(allgemein!$I$13),allgemein!P182,allgemein!$I$13),IF(ISBLANK(allgemein!P182),\"\",allgemein!P182))","v":{"$error":"#NAME?"}},{"$f":"IF(ISBLANK(allgemein!Q182),\"\",allgemein!Q182)","v":""},{"$f":"IF(ISBLANK(allgemein!R182),\"\",allgemein!R182)","v":""},{"$f":"IF(ISBLANK(allgemein!S182),\"\",allgemein!S182)","v":""},{"$f":"IF(ISBLANK(allgemein!U182),\"\",allgemein!U182)","v":""}]
[{"$f":"IF(ISBLANK(allgemein!D183),\"\",allgemein!D183)","v":166},{"$f":"IF(ISBLANK(allgemein!E183),\"\",allgemein!E183)","v":""},{"$f":"IF(ISBLANK(allgemein!C183),\"\",allgemein!C183)","v":" "},{"$f":"IF(ISBLANK(allgemein!H183),\"\",allgemein!H183)","v":""},{"$f":"IF(ISBLANK(allgemein!I183),\"\",allgemein!I183)","v":""},{"$f":"IF(ISBLANK(allgemein!J183),\"\",allgemein!J183)","v":""},{"$f":"IF(ISBLANK(allgemein!K183),\"\",allgemein!K183)","v":""},{"$f":"IF(ISBLANK(allgemein!F183),\"\",IF(ISBLANK(allgemein!L183),1,0))","v":""},{"$f":"_xlfn.SWITCH(allgemein!M183,1,IF(ISBLANK(allgemein!$F$10),allgemein!M183,allgemein!$F$10),2,IF(ISBLANK(allgemein!$F$11),allgemein!M183,allgemein!$F$11),3,IF(ISBLANK(allgemein!$F$12),allgemein!M183,allgemein!$F$12),4,IF(ISBLANK(allgemein!$F$13),allgemein!M183,allgemein!$F$13),5,IF(ISBLANK(allgemein!$I$10),allgemein!M183,allgemein!$I$10),6,IF(ISBLANK(allgemein!$I$11),allgemein!M183,allgemein!$I$11),7,IF(ISBLANK(allgemein!$I$12),allgemein!M183,allgemein!$I$12),8,IF(ISBLANK(allgemein!$I$13),allgemein!M183,allgemein!$I$13),IF(ISBLANK(allgemein!M183),\"\",allgemein!M183))","v":{"$error":"#NAME?"}},{"$f":"_xlfn.SWITCH(allgemein!N183,1,IF(ISBLANK(allgemein!$F$10),allgemein!N183,allgemein!$F$10),2,IF(ISBLANK(allgemein!$F$11),allgemein!N183,allgemein!$F$11),3,IF(ISBLANK(allgemein!$F$12),allgemein!N183,allgemein!$F$12),4,IF(ISBLANK(allgemein!$F$13),allgemein!N183,allgemein!$F$13),5,IF(ISBLANK(allgemein!$I$10),allgemein!N183,allgemein!$I$10),6,IF(ISBLANK(allgemein!$I$11),allgemein!N183,allgemein!$I$11),7,IF(ISBLANK(allgemein!$I$12),allgemein!N183,allgemein!$I$12),8,IF(ISBLANK(allgemein!$I$13),allgemein!N183,allgemein!$I$13),IF(ISBLANK(allgemein!N183),\"\",allgemein!N183))","v":{"$error":"#NAME?"}},{"$f":"_xlfn.SWITCH(allgemein!O183,1,IF(ISBLANK(allgemein!$F$10),allgemein!O183,allgemein!$F$10),2,IF(ISBLANK(allgemein!$F$11),allgemein!O183,allgemein!$F$11),3,IF(ISBLANK(allgemein!$F$12),allgemein!O183,allgemein!$F$12),4,IF(ISBLANK(allgemein!$F$13),allgemein!O183,allgemein!$F$13),5,IF(ISBLANK(allgemein!$I$10),allgemein!O183,allgemein!$I$10),6,IF(ISBLANK(allgemein!$I$11),allgemein!O183,allgemein!$I$11),7,IF(ISBLANK(allgemein!$I$12),allgemein!O183,allgemein!$I$12),8,IF(ISBLANK(allgemein!$I$13),allgemein!O183,allgemein!$I$13),IF(ISBLANK(allgemein!O183),\"\",allgemein!O183))","v":{"$error":"#NAME?"}},{"$f":"_xlfn.SWITCH(allgemein!P183,1,IF(ISBLANK(allgemein!$F$10),allgemein!P183,allgemein!$F$10),2,IF(ISBLANK(allgemein!$F$11),allgemein!P183,allgemein!$F$11),3,IF(ISBLANK(allgemein!$F$12),allgemein!P183,allgemein!$F$12),4,IF(ISBLANK(allgemein!$F$13),allgemein!P183,allgemein!$F$13),5,IF(ISBLANK(allgemein!$I$10),allgemein!P183,allgemein!$I$10),6,IF(ISBLANK(allgemein!$I$11),allgemein!P183,allgemein!$I$11),7,IF(ISBLANK(allgemein!$I$12),allgemein!P183,allgemein!$I$12),8,IF(ISBLANK(allgemein!$I$13),allgemein!P183,allgemein!$I$13),IF(ISBLANK(allgemein!P183),\"\",allgemein!P183))","v":{"$error":"#NAME?"}},{"$f":"IF(ISBLANK(allgemein!Q183),\"\",allgemein!Q183)","v":""},{"$f":"IF(ISBLANK(allgemein!R183),\"\",allgemein!R183)","v":""},{"$f":"IF(ISBLANK(allgemein!S183),\"\",allgemein!S183)","v":""},{"$f":"IF(ISBLANK(allgemein!U183),\"\",allgemein!U183)","v":""}]
[{"$f":"IF(ISBLANK(allgemein!D184),\"\",allgemein!D184)","v":167},{"$f":"IF(ISBLANK(allgemein!E184),\"\",allgemein!E184)","v":""},{"$f":"IF(ISBLANK(allgemein!C184),\"\",allgemein!C184)","v":" "},{"$f":"IF(ISBLANK(allgemein!H184),\"\",allgemein!H184)","v":""},{"$f":"IF(ISBLANK(allgemein!I184),\"\",allgemein!I184)","v":""},{"$f":"IF(ISBLANK(allgemein!J184),\"\",allgemein!J184)","v":""},{"$f":"IF(ISBLANK(allgemein!K184),\"\",allgemein!K184)","v":""},{"$f":"IF(ISBLANK(allgemein!F184),\"\",IF(ISBLANK(allgemein!L184),1,0))","v":""},{"$f":"_xlfn.SWITCH(allgemein!M184,1,IF(ISBLANK(allgemein!$F$10),allgemein!M184,allgemein!$F$10),2,IF(ISBLANK(allgemein!$F$11),allgemein!M184,allgemein!$F$11),3,IF(ISBLANK(allgemein!$F$12),allgemein!M184,allgemein!$F$12),4,IF(ISBLANK(allgemein!$F$13),allgemein!M184,allgemein!$F$13),5,IF(ISBLANK(allgemein!$I$10),allgemein!M184,allgemein!$I$10),6,IF(ISBLANK(allgemein!$I$11),allgemein!M184,allgemein!$I$11),7,IF(ISBLANK(allgemein!$I$12),allgemein!M184,allgemein!$I$12),8,IF(ISBLANK(allgemein!$I$13),allgemein!M184,allgemein!$I$13),IF(ISBLANK(allgemein!M184),\"\",allgemein!M184))","v":{"$error":"#NAME?"}},{"$f":"_xlfn.SWITCH(allgemein!N184,1,IF(ISBLANK(allgemein!$F$10),allgemein!N184,allgemein!$F$10),2,IF(ISBLANK(allgemein!$F$11),allgemein!N184,allgemein!$F$11),3,IF(ISBLANK(allgemein!$F$12),allgemein!N184,allgemein!$F$12),4,IF(ISBLANK(allgemein!$F$13),allgemein!N184,allgemein!$F$13),5,IF(ISBLANK(allgemein!$I$10),allgemein!N184,allgemein!$I$10),6,IF(ISBLANK(allgemein!$I$11),allgemein!N184,allgemein!$I$11),7,IF(ISBLANK(allgemein!$I$12),allgemein!N184,allgemein!$I$12),8,IF(ISBLANK(allgemein!$I$13),allgemein!N184,allgemein!$I$13),IF(ISBLANK(allgemein!N184),\"\",allgemein!N184))","v":{"$error":"#NAME?"}},{"$f":"_xlfn.SWITCH(allgemein!O184,1,IF(ISBLANK(allgemein!$F$10),allgemein!O184,allgemein!$F$10),2,IF(ISBLANK(allgemein!$F$11),allgemein!O184,allgemein!$F$11),3,IF(ISBLANK(allgemein!$F$12),allgemein!O184,allgemein!$F$12),4,IF(ISBLANK(allgemein!$F$13),allgemein!O184,allgemein!$F$13),5,IF(ISBLANK(allgemein!$I$10),allgemein!O184,allgemein!$I$10),6,IF(ISBLANK(allgemein!$I$11),allgemein!O184,allgemein!$I$11),7,IF(ISBLANK(allgemein!$I$12),allgemein!O184,allgemein!$I$12),8,IF(ISBLANK(allgemein!$I$13),allgemein!O184,allgemein!$I$13),IF(ISBLANK(allgemein!O184),\"\",allgemein!O184))","v":{"$error":"#NAME?"}},{"$f":"_xlfn.SWITCH(allgemein!P184,1,IF(ISBLANK(allgemein!$F$10),allgemein!P184,allgemein!$F$10),2,IF(ISBLANK(allgemein!$F$11),allgemein!P184,allgemein!$F$11),3,IF(ISBLANK(allgemein!$F$12),allgemein!P184,allgemein!$F$12),4,IF(ISBLANK(allgemein!$F$13),allgemein!P184,allgemein!$F$13),5,IF(ISBLANK(allgemein!$I$10),allgemein!P184,allgemein!$I$10),6,IF(ISBLANK(allgemein!$I$11),allgemein!P184,allgemein!$I$11),7,IF(ISBLANK(allgemein!$I$12),allgemein!P184,allgemein!$I$12),8,IF(ISBLANK(allgemein!$I$13),allgemein!P184,allgemein!$I$13),IF(ISBLANK(allgemein!P184),\"\",allgemein!P184))","v":{"$error":"#NAME?"}},{"$f":"IF(ISBLANK(allgemein!Q184),\"\",allgemein!Q184)","v":""},{"$f":"IF(ISBLANK(allgemein!R184),\"\",allgemein!R184)","v":""},{"$f":"IF(ISBLANK(allgemein!S184),\"\",allgemein!S184)","v":""},{"$f":"IF(ISBLANK(allgemein!U184),\"\",allgemein!U184)","v":""}]
[{"$f":"IF(ISBLANK(allgemein!D185),\"\",allgemein!D185)","v":168},{"$f":"IF(ISBLANK(allgemein!E185),\"\",allgemein!E185)","v":""},{"$f":"IF(ISBLANK(allgemein!C185),\"\",allgemein!C185)","v":" "},{"$f":"IF(ISBLANK(allgemein!H185),\"\",allgemein!H185)","v":""},{"$f":"IF(ISBLANK(allgemein!I185),\"\",allgemein!I185)","v":""},{"$f":"IF(ISBLANK(allgemein!J185),\"\",allgemein!J185)","v":""},{"$f":"IF(ISBLANK(allgemein!K185),\"\",allgemein!K185)","v":""},{"$f":"IF(ISBLANK(allgemein!F185),\"\",IF(ISBLANK(allgemein!L185),1,0))","v":""},{"$f":"_xlfn.SWITCH(allgemein!M185,1,IF(ISBLANK(allgemein!$F$10),allgemein!M185,allgemein!$F$10),2,IF(ISBLANK(allgemein!$F$11),allgemein!M185,allgemein!$F$11),3,IF(ISBLANK(allgemein!$F$12),allgemein!M185,allgemein!$F$12),4,IF(ISBLANK(allgemein!$F$13),allgemein!M185,allgemein!$F$13),5,IF(ISBLANK(allgemein!$I$10),allgemein!M185,allgemein!$I$10),6,IF(ISBLANK(allgemein!$I$11),allgemein!M185,allgemein!$I$11),7,IF(ISBLANK(allgemein!$I$12),allgemein!M185,allgemein!$I$12),8,IF(ISBLANK(allgemein!$I$13),allgemein!M185,allgemein!$I$13),IF(ISBLANK(allgemein!M185),\"\",allgemein!M185))","v":{"$error":"#NAME?"}},{"$f":"_xlfn.SWITCH(allgemein!N185,1,IF(ISBLANK(allgemein!$F$10),allgemein!N185,allgemein!$F$10),2,IF(ISBLANK(allgemein!$F$11),allgemein!N185,allgemein!$F$11),3,IF(ISBLANK(allgemein!$F$12),allgemein!N185,allgemein!$F$12),4,IF(ISBLANK(allgemein!$F$13),allgemein!N185,allgemein!$F$13),5,IF(ISBLANK(allgemein!$I$10),allgemein!N185,allgemein!$I$10),6,IF(ISBLANK(allgemein!$I$11),allgemein!N185,allgemein!$I$11),7,IF(ISBLANK(allgemein!$I$12),allgemein!N185,allgemein!$I$12),8,IF(ISBLANK(allgemein!$I$13),allgemein!N185,allgemein!$I$13),IF(ISBLANK(allgemein!N185),\"\",allgemein!N185))","v":{"$error":"#NAME?"}},{"$f":"_xlfn.SWITCH(allgemein!O185,1,IF(ISBLANK(allgemein!$F$10),allgemein!O185,allgemein!$F$10),2,IF(ISBLANK(allgemein!$F$11),allgemein!O185,allgemein!$F$11),3,IF(ISBLANK(allgemein!$F$12),allgemein!O185,allgemein!$F$12),4,IF(ISBLANK(allgemein!$F$13),allgemein!O185,allgemein!$F$13),5,IF(ISBLANK(allgemein!$I$10),allgemein!O185,allgemein!$I$10),6,IF(ISBLANK(allgemein!$I$11),allgemein!O185,allgemein!$I$11),7,IF(ISBLANK(allgemein!$I$12),allgemein!O185,allgemein!$I$12),8,IF(ISBLANK(allgemein!$I$13),allgemein!O185,allgemein!$I$13),IF(ISBLANK(allgemein!O185),\"\",allgemein!O185))","v":{"$error":"#NAME?"}},{"$f":"_xlfn.SWITCH(allgemein!P185,1,IF(ISBLANK(allgemein!$F$10),allgemein!P185,allgemein!$F$10),2,IF(ISBLANK(allgemein!$F$11),allgemein!P185,allgemein!$F$11),3,IF(ISBLANK(allgemein!$F$12),allgemein!P185,allgemein!$F$12),4,IF(ISBLANK(allgemein!$F$13),allgemein!P185,allgemein!$F$13),5,IF(ISBLANK(allgemein!$I$10),allgemein!P185,allgemein!$I$10),6,IF(ISBLANK(allgemein!$I$11),allgemein!P185,allgemein!$I$11),7,IF(ISBLANK(allgemein!$I$12),allgemein!P185,allgemein!$I$12),8,IF(ISBLANK(allgemein!$I$13),allgemein!P185,allgemein!$I$13),IF(ISBLANK(allgemein!P185),\"\",allgemein!P185))","v":{"$error":"#NAME?"}},{"$f":"IF(ISBLANK(allgemein!Q185),\"\",allgemein!Q185)","v":""},{"$f":"IF(ISBLANK(allgemein!R185),\"\",allgemein!R185)","v":""},{"$f":"IF(ISBLANK(allgemein!S185),\"\",allgemein!S185)","v":""},{"$f":"IF(ISBLANK(allgemein!U185),\"\",allgemein!U185)","v":""}]
[{"$f":"IF(ISBLANK(allgemein!D186),\"\",allgemein!D186)","v":169},{"$f":"IF(ISBLANK(allgemein!E186),\"\",allgemein!E186)","v":""},{"$f":"IF(ISBLANK(allgemein!C186),\"\",allgemein!C186)","v":" "},{"$f":"IF(ISBLANK(allgemein!H186),\"\",allgemein!H186)","v":""},{"$f":"IF(ISBLANK(allgemein!I186),\"\",allgemein!I186)","v":""},{"$f":"IF(ISBLANK(allgemein!J186),\"\",allgemein!J186)","v":""},{"$f":"IF(ISBLANK(allgemein!K186),\"\",allgemein!K186)","v":""},{"$f":"IF(ISBLANK(allgemein!F186),\"\",IF(ISBLANK(allgemein!L186),1,0))","v":""},{"$f":"_xlfn.SWITCH(allgemein!M186,1,IF(ISBLANK(allgemein!$F$10),allgemein!M186,allgemein!$F$10),2,IF(ISBLANK(allgemein!$F$11),allgemein!M186,allgemein!$F$11),3,IF(ISBLANK(allgemein!$F$12),allgemein!M186,allgemein!$F$12),4,IF(ISBLANK(allgemein!$F$13),allgemein!M186,allgemein!$F$13),5,IF(ISBLANK(allgemein!$I$10),allgemein!M186,allgemein!$I$10),6,IF(ISBLANK(allgemein!$I$11),allgemein!M186,allgemein!$I$11),7,IF(ISBLANK(allgemein!$I$12),allgemein!M186,allgemein!$I$12),8,IF(ISBLANK(allgemein!$I$13),allgemein!M186,allgemein!$I$13),IF(ISBLANK(allgemein!M186),\"\",allgemein!M186))","v":{"$error":"#NAME?"}},{"$f":"_xlfn.SWITCH(allgemein!N186,1,IF(ISBLANK(allgemein!$F$10),allgemein!N186,allgemein!$F$10),2,IF(ISBLANK(allgemein!$F$11),allgemein!N186,allgemein!$F$11),3,IF(ISBLANK(allgemein!$F$12),allgemein!N186,allgemein!$F$12),4,IF(ISBLANK(allgemein!$F$13),allgemein!N186,allgemein!$F$13),5,IF(ISBLANK(allgemein!$I$10),allgemein!N186,allgemein!$I$10),6,IF(ISBLANK(allgemein!$I$11),allgemein!N186,allgemein!$I$11),7,IF(ISBLANK(allgemein!$I$12),allgemein!N186,allgemein!$I$12),8,IF(ISBLANK(allgemein!$I$13),allgemein!N186,allgemein!$I$13),IF(ISBLANK(allgemein!N186),\"\",allgemein!N186))","v":{"$error":"#NAME?"}},{"$f":"_xlfn.SWITCH(allgemein!O186,1,IF(ISBLANK(allgemein!$F$10),allgemein!O186,allgemein!$F$10),2,IF(ISBLANK(allgemein!$F$11),allgemein!O186,allgemein!$F$11),3,IF(ISBLANK(allgemein!$F$12),allgemein!O186,allgemein!$F$12),4,IF(ISBLANK(allgemein!$F$13),allgemein!O186,allgemein!$F$13),5,IF(ISBLANK(allgemein!$I$10),allgemein!O186,allgemein!$I$10),6,IF(ISBLANK(allgemein!$I$11),allgemein!O186,allgemein!$I$11),7,IF(ISBLANK(allgemein!$I$12),allgemein!O186,allgemein!$I$12),8,IF(ISBLANK(allgemein!$I$13),allgemein!O186,allgemein!$I$13),IF(ISBLANK(allgemein!O186),\"\",allgemein!O186))","v":{"$error":"#NAME?"}},{"$f":"_xlfn.SWITCH(allgemein!P186,1,IF(ISBLANK(allgemein!$F$10),allgemein!P186,allgemein!$F$10),2,IF(ISBLANK(allgemein!$F$11),allgemein!P186,allgemein!$F$11),3,IF(ISBLANK(allgemein!$F$12),allgemein!P186,allgemein!$F$12),4,IF(ISBLANK(allgemein!$F$13),allgemein!P186,allgemein!$F$13),5,IF(ISBLANK(allgemein!$I$10),allgemein!P186,allgemein!$I$10),6,IF(ISBLANK(allgemein!$I$11),allgemein!P186,allgemein!$I$11),7,IF(ISBLANK(allgemein!$I$12),allgemein!P186,allgemein!$I$12),8,IF(ISBLANK(allgemein!$I$13),allgemein!P186,allgemein!$I$13),IF(ISBLANK(allgemein!P186),\"\",allgemein!P186))","v":{"$error":"#NAME?"}},{"$f":"IF(ISBLANK(allgemein!Q186),\"\",allgemein!Q186)","v":""},{"$f":"IF(ISBLANK(allgemein!R186),\"\",allgemein!R186)","v":""},{"$f":"IF(ISBLANK(allgemein!S186),\"\",allgemein!S186)","v":""},{"$f":"IF(ISBLANK(allgemein!U186),\"\",allgemein!U186)","v":""}]
[{"$f":"IF(ISBLANK(allgemein!D187),\"\",allgemein!D187)","v":170},{"$f":"IF(ISBLANK(allgemein!E187),\"\",allgemein!E187)","v":""},{"$f":"IF(ISBLANK(allgemein!C187),\"\",allgemein!C187)","v":" "},{"$f":"IF(ISBLANK(allgemein!H187),\"\",allgemein!H187)","v":""},{"$f":"IF(ISBLANK(allgemein!I187),\"\",allgemein!I187)","v":""},{"$f":"IF(ISBLANK(allgemein!J187),\"\",allgemein!J187)","v":""},{"$f":"IF(ISBLANK(allgemein!K187),\"\",allgemein!K187)","v":""},{"$f":"IF(ISBLANK(allgemein!F187),\"\",IF(ISBLANK(allgemein!L187),1,0))","v":""},{"$f":"_xlfn.SWITCH(allgemein!M187,1,IF(ISBLANK(allgemein!$F$10),allgemein!M187,allgemein!$F$10),2,IF(ISBLANK(allgemein!$F$11),allgemein!M187,allgemein!$F$11),3,IF(ISBLANK(allgemein!$F$12),allgemein!M187,allgemein!$F$12),4,IF(ISBLANK(allgemein!$F$13),allgemein!M187,allgemein!$F$13),5,IF(ISBLANK(allgemein!$I$10),allgemein!M187,allgemein!$I$10),6,IF(ISBLANK(allgemein!$I$11),allgemein!M187,allgemein!$I$11),7,IF(ISBLANK(allgemein!$I$12),allgemein!M187,allgemein!$I$12),8,IF(ISBLANK(allgemein!$I$13),allgemein!M187,allgemein!$I$13),IF(ISBLANK(allgemein!M187),\"\",allgemein!M187))","v":{"$error":"#NAME?"}},{"$f":"_xlfn.SWITCH(allgemein!N187,1,IF(ISBLANK(allgemein!$F$10),allgemein!N187,allgemein!$F$10),2,IF(ISBLANK(allgemein!$F$11),allgemein!N187,allgemein!$F$11),3,IF(ISBLANK(allgemein!$F$12),allgemein!N187,allgemein!$F$12),4,IF(ISBLANK(allgemein!$F$13),allgemein!N187,allgemein!$F$13),5,IF(ISBLANK(allgemein!$I$10),allgemein!N187,allgemein!$I$10),6,IF(ISBLANK(allgemein!$I$11),allgemein!N187,allgemein!$I$11),7,IF(ISBLANK(allgemein!$I$12),allgemein!N187,allgemein!$I$12),8,IF(ISBLANK(allgemein!$I$13),allgemein!N187,allgemein!$I$13),IF(ISBLANK(allgemein!N187),\"\",allgemein!N187))","v":{"$error":"#NAME?"}},{"$f":"_xlfn.SWITCH(allgemein!O187,1,IF(ISBLANK(allgemein!$F$10),allgemein!O187,allgemein!$F$10),2,IF(ISBLANK(allgemein!$F$11),allgemein!O187,allgemein!$F$11),3,IF(ISBLANK(allgemein!$F$12),allgemein!O187,allgemein!$F$12),4,IF(ISBLANK(allgemein!$F$13),allgemein!O187,allgemein!$F$13),5,IF(ISBLANK(allgemein!$I$10),allgemein!O187,allgemein!$I$10),6,IF(ISBLANK(allgemein!$I$11),allgemein!O187,allgemein!$I$11),7,IF(ISBLANK(allgemein!$I$12),allgemein!O187,allgemein!$I$12),8,IF(ISBLANK(allgemein!$I$13),allgemein!O187,allgemein!$I$13),IF(ISBLANK(allgemein!O187),\"\",allgemein!O187))","v":{"$error":"#NAME?"}},{"$f":"_xlfn.SWITCH(allgemein!P187,1,IF(ISBLANK(allgemein!$F$10),allgemein!P187,allgemein!$F$10),2,IF(ISBLANK(allgemein!$F$11),allgemein!P187,allgemein!$F$11),3,IF(ISBLANK(allgemein!$F$12),allgemein!P187,allgemein!$F$12),4,IF(ISBLANK(allgemein!$F$13),allgemein!P187,allgemein!$F$13),5,IF(ISBLANK(allgemein!$I$10),allgemein!P187,allgemein!$I$10),6,IF(ISBLANK(allgemein!$I$11),allgemein!P187,allgemein!$I$11),7,IF(ISBLANK(allgemein!$I$12),allgemein!P187,allgemein!$I$12),8,IF(ISBLANK(allgemein!$I$13),allgemein!P187,allgemein!$I$13),IF(ISBLANK(allgemein!P187),\"\",allgemein!P187))","v":{"$error":"#NAME?"}},{"$f":"IF(ISBLANK(allgemein!Q187),\"\",allgemein!Q187)","v":""},{"$f":"IF(ISBLANK(allgemein!R187),\"\",allgemein!R187)","v":""},{"$f":"IF(ISBLANK(allgemein!S187),\"\",allgemein!S187)","v":""},{"$f":"IF(ISBLANK(allgemein!U187),\"\",allgemein!U187)","v":""}]
[{"$f":"IF(ISBLANK(allgemein!D188),\"\",allgemein!D188)","v":171},{"$f":"IF(ISBLANK(allgemein!E188),\"\",allgemein!E188)","v":""},{"$f":"IF(ISBLANK(allgemein!C188),\"\",allgemein!C188)","v":" "},{"$f":"IF(ISBLANK(allgemein!H188),\"\",allgemein!H188)","v":""},{"$f":"IF(ISBLANK(allgemein!I188),\"\",allgemein!I188)","v":""},{"$f":"IF(ISBLANK(allgemein!J188),\"\",allgemein!J188)","v":""},{"$f":"IF(ISBLANK(allgemein!K188),\"\",allgemein!K188)","v":""},{"$f":"IF(ISBLANK(allgemein!F188),\"\",IF(ISBLANK(allgemein!L188),1,0))","v":""},{"$f":"_xlfn.SWITCH(allgemein!M188,1,IF(ISBLANK(allgemein!$F$10),allgemein!M188,allgemein!$F$10),2,IF(ISBLANK(allgemein!$F$11),allgemein!M188,allgemein!$F$11),3,IF(ISBLANK(allgemein!$F$12),allgemein!M188,allgemein!$F$12),4,IF(ISBLANK(allgemein!$F$13),allgemein!M188,allgemein!$F$13),5,IF(ISBLANK(allgemein!$I$10),allgemein!M188,allgemein!$I$10),6,IF(ISBLANK(allgemein!$I$11),allgemein!M188,allgemein!$I$11),7,IF(ISBLANK(allgemein!$I$12),allgemein!M188,allgemein!$I$12),8,IF(ISBLANK(allgemein!$I$13),allgemein!M188,allgemein!$I$13),IF(ISBLANK(allgemein!M188),\"\",allgemein!M188))","v":{"$error":"#NAME?"}},{"$f":"_xlfn.SWITCH(allgemein!N188,1,IF(ISBLANK(allgemein!$F$10),allgemein!N188,allgemein!$F$10),2,IF(ISBLANK(allgemein!$F$11),allgemein!N188,allgemein!$F$11),3,IF(ISBLANK(allgemein!$F$12),allgemein!N188,allgemein!$F$12),4,IF(ISBLANK(allgemein!$F$13),allgemein!N188,allgemein!$F$13),5,IF(ISBLANK(allgemein!$I$10),allgemein!N188,allgemein!$I$10),6,IF(ISBLANK(allgemein!$I$11),allgemein!N188,allgemein!$I$11),7,IF(ISBLANK(allgemein!$I$12),allgemein!N188,allgemein!$I$12),8,IF(ISBLANK(allgemein!$I$13),allgemein!N188,allgemein!$I$13),IF(ISBLANK(allgemein!N188),\"\",allgemein!N188))","v":{"$error":"#NAME?"}},{"$f":"_xlfn.SWITCH(allgemein!O188,1,IF(ISBLANK(allgemein!$F$10),allgemein!O188,allgemein!$F$10),2,IF(ISBLANK(allgemein!$F$11),allgemein!O188,allgemein!$F$11),3,IF(ISBLANK(allgemein!$F$12),allgemein!O188,allgemein!$F$12),4,IF(ISBLANK(allgemein!$F$13),allgemein!O188,allgemein!$F$13),5,IF(ISBLANK(allgemein!$I$10),allgemein!O188,allgemein!$I$10),6,IF(ISBLANK(allgemein!$I$11),allgemein!O188,allgemein!$I$11),7,IF(ISBLANK(allgemein!$I$12),allgemein!O188,allgemein!$I$12),8,IF(ISBLANK(allgemein!$I$13),allgemein!O188,allgemein!$I$13),IF(ISBLANK(allgemein!O188),\"\",allgemein!O188))","v":{"$error":"#NAME?"}},{"$f":"_xlfn.SWITCH(allgemein!P188,1,IF(ISBLANK(allgemein!$F$10),allgemein!P188,allgemein!$F$10),2,IF(ISBLANK(allgemein!$F$11),allgemein!P188,allgemein!$F$11),3,IF(ISBLANK(allgemein!$F$12),allgemein!P188,allgemein!$F$12),4,IF(ISBLANK(allgemein!$F$13),allgemein!P188,allgemein!$F$13),5,IF(ISBLANK(allgemein!$I$10),allgemein!P188,allgemein!$I$10),6,IF(ISBLANK(allgemein!$I$11),allgemein!P188,allgemein!$I$11),7,IF(ISBLANK(allgemein!$I$12),allgemein!P188,allgemein!$I$12),8,IF(ISBLANK(allgemein!$I$13),allgemein!P188,allgemein!$I$13),IF(ISBLANK(allgemein!P188),\"\",allgemein!P188))","v":{"$error":"#NAME?"}},{"$f":"IF(ISBLANK(allgemein!Q188),\"\",allgemein!Q188)","v":""},{"$f":"IF(ISBLANK(allgemein!R188),\"\",allgemein!R188)","v":""},{"$f":"IF(ISBLANK(allgemein!S188),\"\",allgemein!S188)","v":""},{"$f":"IF(ISBLANK(allgemein!U188),\"\",allgemein!U188)","v":""}]
[{"$f":"IF(ISBLANK(allgemein!D189),\"\",allgemein!D189)","v":172},{"$f":"IF(ISBLANK(allgemein!E189),\"\",allgemein!E189)","v":""},{"$f":"IF(ISBLANK(allgemein!C189),\"\",allgemein!C189)","v":" "},{"$f":"IF(ISBLANK(allgemein!H189),\"\",allgemein!H189)","v":""},{"$f":"IF(ISBLANK(allgemein!I189),\"\",allgemein!I189)","v":""},{"$f":"IF(ISBLANK(allgemein!J189),\"\",allgemein!J189)","v":""},{"$f":"IF(ISBLANK(allgemein!K189),\"\",allgemein!K189)","v":""},{"$f":"IF(ISBLANK(allgemein!F189),\"\",IF(ISBLANK(allgemein!L189),1,0))","v":""},{"$f":"_xlfn.SWITCH(allgemein!M189,1,IF(ISBLANK(allgemein!$F$10),allgemein!M189,allgemein!$F$10),2,IF(ISBLANK(allgemein!$F$11),allgemein!M189,allgemein!$F$11),3,IF(ISBLANK(allgemein!$F$12),allgemein!M189,allgemein!$F$12),4,IF(ISBLANK(allgemein!$F$13),allgemein!M189,allgemein!$F$13),5,IF(ISBLANK(allgemein!$I$10),allgemein!M189,allgemein!$I$10),6,IF(ISBLANK(allgemein!$I$11),allgemein!M189,allgemein!$I$11),7,IF(ISBLANK(allgemein!$I$12),allgemein!M189,allgemein!$I$12),8,IF(ISBLANK(allgemein!$I$13),allgemein!M189,allgemein!$I$13),IF(ISBLANK(allgemein!M189),\"\",allgemein!M189))","v":{"$error":"#NAME?"}},{"$f":"_xlfn.SWITCH(allgemein!N189,1,IF(ISBLANK(allgemein!$F$10),allgemein!N189,allgemein!$F$10),2,IF(ISBLANK(allgemein!$F$11),allgemein!N189,allgemein!$F$11),3,IF(ISBLANK(allgemein!$F$12),allgemein!N189,allgemein!$F$12),4,IF(ISBLANK(allgemein!$F$13),allgemein!N189,allgemein!$F$13),5,IF(ISBLANK(allgemein!$I$10),allgemein!N189,allgemein!$I$10),6,IF(ISBLANK(allgemein!$I$11),allgemein!N189,allgemein!$I$11),7,IF(ISBLANK(allgemein!$I$12),allgemein!N189,allgemein!$I$12),8,IF(ISBLANK(allgemein!$I$13),allgemein!N189,allgemein!$I$13),IF(ISBLANK(allgemein!N189),\"\",allgemein!N189))","v":{"$error":"#NAME?"}},{"$f":"_xlfn.SWITCH(allgemein!O189,1,IF(ISBLANK(allgemein!$F$10),allgemein!O189,allgemein!$F$10),2,IF(ISBLANK(allgemein!$F$11),allgemein!O189,allgemein!$F$11),3,IF(ISBLANK(allgemein!$F$12),allgemein!O189,allgemein!$F$12),4,IF(ISBLANK(allgemein!$F$13),allgemein!O189,allgemein!$F$13),5,IF(ISBLANK(allgemein!$I$10),allgemein!O189,allgemein!$I$10),6,IF(ISBLANK(allgemein!$I$11),allgemein!O189,allgemein!$I$11),7,IF(ISBLANK(allgemein!$I$12),allgemein!O189,allgemein!$I$12),8,IF(ISBLANK(allgemein!$I$13),allgemein!O189,allgemein!$I$13),IF(ISBLANK(allgemein!O189),\"\",allgemein!O189))","v":{"$error":"#NAME?"}},{"$f":"_xlfn.SWITCH(allgemein!P189,1,IF(ISBLANK(allgemein!$F$10),allgemein!P189,allgemein!$F$10),2,IF(ISBLANK(allgemein!$F$11),allgemein!P189,allgemein!$F$11),3,IF(ISBLANK(allgemein!$F$12),allgemein!P189,allgemein!$F$12),4,IF(ISBLANK(allgemein!$F$13),allgemein!P189,allgemein!$F$13),5,IF(ISBLANK(allgemein!$I$10),allgemein!P189,allgemein!$I$10),6,IF(ISBLANK(allgemein!$I$11),allgemein!P189,allgemein!$I$11),7,IF(ISBLANK(allgemein!$I$12),allgemein!P189,allgemein!$I$12),8,IF(ISBLANK(allgemein!$I$13),allgemein!P189,allgemein!$I$13),IF(ISBLANK(allgemein!P189),\"\",allgemein!P189))","v":{"$error":"#NAME?"}},{"$f":"IF(ISBLANK(allgemein!Q189),\"\",allgemein!Q189)","v":""},{"$f":"IF(ISBLANK(allgemein!R189),\"\",allgemein!R189)","v":""},{"$f":"IF(ISBLANK(allgemein!S189),\"\",allgemein!S189)","v":""},{"$f":"IF(ISBLANK(allgemein!U189),\"\",allgemein!U189)","v":""}]
[{"$f":"IF(ISBLANK(allgemein!D190),\"\",allgemein!D190)","v":173},{"$f":"IF(ISBLANK(allgemein!E190),\"\",allgemein!E190)","v":""},{"$f":"IF(ISBLANK(allgemein!C190),\"\",allgemein!C190)","v":" "},{"$f":"IF(ISBLANK(allgemein!H190),\"\",allgemein!H190)","v":""},{"$f":"IF(ISBLANK(allgemein!I190),\"\",allgemein!I190)","v":""},{"$f":"IF(ISBLANK(allgemein!J190),\"\",allgemein!J190)","v":""},{"$f":"IF(ISBLANK(allgemein!K190),\"\",allgemein!K190)","v":""},{"$f":"IF(ISBLANK(allgemein!F190),\"\",IF(ISBLANK(allgemein!L190),1,0))","v":""},{"$f":"_xlfn.SWITCH(allgemein!M190,1,IF(ISBLANK(allgemein!$F$10),allgemein!M190,allgemein!$F$10),2,IF(ISBLANK(allgemein!$F$11),allgemein!M190,allgemein!$F$11),3,IF(ISBLANK(allgemein!$F$12),allgemein!M190,allgemein!$F$12),4,IF(ISBLANK(allgemein!$F$13),allgemein!M190,allgemein!$F$13),5,IF(ISBLANK(allgemein!$I$10),allgemein!M190,allgemein!$I$10),6,IF(ISBLANK(allgemein!$I$11),allgemein!M190,allgemein!$I$11),7,IF(ISBLANK(allgemein!$I$12),allgemein!M190,allgemein!$I$12),8,IF(ISBLANK(allgemein!$I$13),allgemein!M190,allgemein!$I$13),IF(ISBLANK(allgemein!M190),\"\",allgemein!M190))","v":{"$error":"#NAME?"}},{"$f":"_xlfn.SWITCH(allgemein!N190,1,IF(ISBLANK(allgemein!$F$10),allgemein!N190,allgemein!$F$10),2,IF(ISBLANK(allgemein!$F$11),allgemein!N190,allgemein!$F$11),3,IF(ISBLANK(allgemein!$F$12),allgemein!N190,allgemein!$F$12),4,IF(ISBLANK(allgemein!$F$13),allgemein!N190,allgemein!$F$13),5,IF(ISBLANK(allgemein!$I$10),allgemein!N190,allgemein!$I$10),6,IF(ISBLANK(allgemein!$I$11),allgemein!N190,allgemein!$I$11),7,IF(ISBLANK(allgemein!$I$12),allgemein!N190,allgemein!$I$12),8,IF(ISBLANK(allgemein!$I$13),allgemein!N190,allgemein!$I$13),IF(ISBLANK(allgemein!N190),\"\",allgemein!N190))","v":{"$error":"#NAME?"}},{"$f":"_xlfn.SWITCH(allgemein!O190,1,IF(ISBLANK(allgemein!$F$10),allgemein!O190,allgemein!$F$10),2,IF(ISBLANK(allgemein!$F$11),allgemein!O190,allgemein!$F$11),3,IF(ISBLANK(allgemein!$F$12),allgemein!O190,allgemein!$F$12),4,IF(ISBLANK(allgemein!$F$13),allgemein!O190,allgemein!$F$13),5,IF(ISBLANK(allgemein!$I$10),allgemein!O190,allgemein!$I$10),6,IF(ISBLANK(allgemein!$I$11),allgemein!O190,allgemein!$I$11),7,IF(ISBLANK(allgemein!$I$12),allgemein!O190,allgemein!$I$12),8,IF(ISBLANK(allgemein!$I$13),allgemein!O190,allgemein!$I$13),IF(ISBLANK(allgemein!O190),\"\",allgemein!O190))","v":{"$error":"#NAME?"}},{"$f":"_xlfn.SWITCH(allgemein!P190,1,IF(ISBLANK(allgemein!$F$10),allgemein!P190,allgemein!$F$10),2,IF(ISBLANK(allgemein!$F$11),allgemein!P190,allgemein!$F$11),3,IF(ISBLANK(allgemein!$F$12),allgemein!P190,allgemein!$F$12),4,IF(ISBLANK(allgemein!$F$13),allgemein!P190,allgemein!$F$13),5,IF(ISBLANK(allgemein!$I$10),allgemein!P190,allgemein!$I$10),6,IF(ISBLANK(allgemein!$I$11),allgemein!P190,allgemein!$I$11),7,IF(ISBLANK(allgemein!$I$12),allgemein!P190,allgemein!$I$12),8,IF(ISBLANK(allgemein!$I$13),allgemein!P190,allgemein!$I$13),IF(ISBLANK(allgemein!P190),\"\",allgemein!P190))","v":{"$error":"#NAME?"}},{"$f":"IF(ISBLANK(allgemein!Q190),\"\",allgemein!Q190)","v":""},{"$f":"IF(ISBLANK(allgemein!R190),\"\",allgemein!R190)","v":""},{"$f":"IF(ISBLANK(allgemein!S190),\"\",allgemein!S190)","v":""},{"$f":"IF(ISBLANK(allgemein!U190),\"\",allgemein!U190)","v":""}]
[{"$f":"IF(ISBLANK(allgemein!D191),\"\",allgemein!D191)","v":174},{"$f":"IF(ISBLANK(allgemein!E191),\"\",allgemein!E191)","v":""},{"$f":"IF(ISBLANK(allgemein!C191),\"\",allgemein!C191)","v":" "},{"$f":"IF(ISBLANK(allgemein!H191),\"\",allgemein!H191)","v":""},{"$f":"IF(ISBLANK(allgemein!I191),\"\",allgemein!I191)","v":""},{"$f":"IF(ISBLANK(allgemein!J191),\"\",allgemein!J191)","v":""},{"$f":"IF(ISBLANK(allgemein!K191),\"\",allgemein!K191)","v":""},{"$f":"IF(ISBLANK(allgemein!F191),\"\",IF(ISBLANK(allgemein!L191),1,0))","v":""},{"$f":"_xlfn.SWITCH(allgemein!M191,1,IF(ISBLANK(allgemein!$F$10),allgemein!M191,allgemein!$F$10),2,IF(ISBLANK(allgemein!$F$11),allgemein!M191,allgemein!$F$11),3,IF(ISBLANK(allgemein!$F$12),allgemein!M191,allgemein!$F$12),4,IF(ISBLANK(allgemein!$F$13),allgemein!M191,allgemein!$F$13),5,IF(ISBLANK(allgemein!$I$10),allgemein!M191,allgemein!$I$10),6,IF(ISBLANK(allgemein!$I$11),allgemein!M191,allgemein!$I$11),7,IF(ISBLANK(allgemein!$I$12),allgemein!M191,allgemein!$I$12),8,IF(ISBLANK(allgemein!$I$13),allgemein!M191,allgemein!$I$13),IF(ISBLANK(allgemein!M191),\"\",allgemein!M191))","v":{"$error":"#NAME?"}},{"$f":"_xlfn.SWITCH(allgemein!N191,1,IF(ISBLANK(allgemein!$F$10),allgemein!N191,allgemein!$F$10),2,IF(ISBLANK(allgemein!$F$11),allgemein!N191,allgemein!$F$11),3,IF(ISBLANK(allgemein!$F$12),allgemein!N191,allgemein!$F$12),4,IF(ISBLANK(allgemein!$F$13),allgemein!N191,allgemein!$F$13),5,IF(ISBLANK(allgemein!$I$10),allgemein!N191,allgemein!$I$10),6,IF(ISBLANK(allgemein!$I$11),allgemein!N191,allgemein!$I$11),7,IF(ISBLANK(allgemein!$I$12),allgemein!N191,allgemein!$I$12),8,IF(ISBLANK(allgemein!$I$13),allgemein!N191,allgemein!$I$13),IF(ISBLANK(allgemein!N191),\"\",allgemein!N191))","v":{"$error":"#NAME?"}},{"$f":"_xlfn.SWITCH(allgemein!O191,1,IF(ISBLANK(allgemein!$F$10),allgemein!O191,allgemein!$F$10),2,IF(ISBLANK(allgemein!$F$11),allgemein!O191,allgemein!$F$11),3,IF(ISBLANK(allgemein!$F$12),allgemein!O191,allgemein!$F$12),4,IF(ISBLANK(allgemein!$F$13),allgemein!O191,allgemein!$F$13),5,IF(ISBLANK(allgemein!$I$10),allgemein!O191,allgemein!$I$10),6,IF(ISBLANK(allgemein!$I$11),allgemein!O191,allgemein!$I$11),7,IF(ISBLANK(allgemein!$I$12),allgemein!O191,allgemein!$I$12),8,IF(ISBLANK(allgemein!$I$13),allgemein!O191,allgemein!$I$13),IF(ISBLANK(allgemein!O191),\"\",allgemein!O191))","v":{"$error":"#NAME?"}},{"$f":"_xlfn.SWITCH(allgemein!P191,1,IF(ISBLANK(allgemein!$F$10),allgemein!P191,allgemein!$F$10),2,IF(ISBLANK(allgemein!$F$11),allgemein!P191,allgemein!$F$11),3,IF(ISBLANK(allgemein!$F$12),allgemein!P191,allgemein!$F$12),4,IF(ISBLANK(allgemein!$F$13),allgemein!P191,allgemein!$F$13),5,IF(ISBLANK(allgemein!$I$10),allgemein!P191,allgemein!$I$10),6,IF(ISBLANK(allgemein!$I$11),allgemein!P191,allgemein!$I$11),7,IF(ISBLANK(allgemein!$I$12),allgemein!P191,allgemein!$I$12),8,IF(ISBLANK(allgemein!$I$13),allgemein!P191,allgemein!$I$13),IF(ISBLANK(allgemein!P191),\"\",allgemein!P191))","v":{"$error":"#NAME?"}},{"$f":"IF(ISBLANK(allgemein!Q191),\"\",allgemein!Q191)","v":""},{"$f":"IF(ISBLANK(allgemein!R191),\"\",allgemein!R191)","v":""},{"$f":"IF(ISBLANK(allgemein!S191),\"\",allgemein!S191)","v":""},{"$f":"IF(ISBLANK(allgemein!U191),\"\",allgemein!U191)","v":""}]
[{"$f":"IF(ISBLANK(allgemein!D192),\"\",allgemein!D192)","v":175},{"$f":"IF(ISBLANK(allgemein!E192),\"\",allgemein!E192)","v":""},{"$f":"IF(ISBLANK(allgemein!C192),\"\",allgemein!C192)","v":" "},{"$f":"IF(ISBLANK(allgemein!H192),\"\",allgemein!H192)","v":""},{"$f":"IF(ISBLANK(allgemein!I192),\"\",allgemein!I192)","v":""},{"$f":"IF(ISBLANK(allgemein!J192),\"\",allgemein!J192)","v":""},{"$f":"IF(ISBLANK(allgemein!K192),\"\",allgemein!K192)","v":""},{"$f":"IF(ISBLANK(allgemein!F192),\"\",IF(ISBLANK(allgemein!L192),1,0))","v":""},{"$f":"_xlfn.SWITCH(allgemein!M192,1,IF(ISBLANK(allgemein!$F$10),allgemein!M192,allgemein!$F$10),2,IF(ISBLANK(allgemein!$F$11),allgemein!M192,allgemein!$F$11),3,IF(ISBLANK(allgemein!$F$12),allgemein!M192,allgemein!$F$12),4,IF(ISBLANK(allgemein!$F$13),allgemein!M192,allgemein!$F$13),5,IF(ISBLANK(allgemein!$I$10),allgemein!M192,allgemein!$I$10),6,IF(ISBLANK(allgemein!$I$11),allgemein!M192,allgemein!$I$11),7,IF(ISBLANK(allgemein!$I$12),allgemein!M192,allgemein!$I$12),8,IF(ISBLANK(allgemein!$I$13),allgemein!M192,allgemein!$I$13),IF(ISBLANK(allgemein!M192),\"\",allgemein!M192))","v":{"$error":"#NAME?"}},{"$f":"_xlfn.SWITCH(allgemein!N192,1,IF(ISBLANK(allgemein!$F$10),allgemein!N192,allgemein!$F$10),2,IF(ISBLANK(allgemein!$F$11),allgemein!N192,allgemein!$F$11),3,IF(ISBLANK(allgemein!$F$12),allgemein!N192,allgemein!$F$12),4,IF(ISBLANK(allgemein!$F$13),allgemein!N192,allgemein!$F$13),5,IF(ISBLANK(allgemein!$I$10),allgemein!N192,allgemein!$I$10),6,IF(ISBLANK(allgemein!$I$11),allgemein!N192,allgemein!$I$11),7,IF(ISBLANK(allgemein!$I$12),allgemein!N192,allgemein!$I$12),8,IF(ISBLANK(allgemein!$I$13),allgemein!N192,allgemein!$I$13),IF(ISBLANK(allgemein!N192),\"\",allgemein!N192))","v":{"$error":"#NAME?"}},{"$f":"_xlfn.SWITCH(allgemein!O192,1,IF(ISBLANK(allgemein!$F$10),allgemein!O192,allgemein!$F$10),2,IF(ISBLANK(allgemein!$F$11),allgemein!O192,allgemein!$F$11),3,IF(ISBLANK(allgemein!$F$12),allgemein!O192,allgemein!$F$12),4,IF(ISBLANK(allgemein!$F$13),allgemein!O192,allgemein!$F$13),5,IF(ISBLANK(allgemein!$I$10),allgemein!O192,allgemein!$I$10),6,IF(ISBLANK(allgemein!$I$11),allgemein!O192,allgemein!$I$11),7,IF(ISBLANK(allgemein!$I$12),allgemein!O192,allgemein!$I$12),8,IF(ISBLANK(allgemein!$I$13),allgemein!O192,allgemein!$I$13),IF(ISBLANK(allgemein!O192),\"\",allgemein!O192))","v":{"$error":"#NAME?"}},{"$f":"_xlfn.SWITCH(allgemein!P192,1,IF(ISBLANK(allgemein!$F$10),allgemein!P192,allgemein!$F$10),2,IF(ISBLANK(allgemein!$F$11),allgemein!P192,allgemein!$F$11),3,IF(ISBLANK(allgemein!$F$12),allgemein!P192,allgemein!$F$12),4,IF(ISBLANK(allgemein!$F$13),allgemein!P192,allgemein!$F$13),5,IF(ISBLANK(allgemein!$I$10),allgemein!P192,allgemein!$I$10),6,IF(ISBLANK(allgemein!$I$11),allgemein!P192,allgemein!$I$11),7,IF(ISBLANK(allgemein!$I$12),allgemein!P192,allgemein!$I$12),8,IF(ISBLANK(allgemein!$I$13),allgemein!P192,allgemein!$I$13),IF(ISBLANK(allgemein!P192),\"\",allgemein!P192))","v":{"$error":"#NAME?"}},{"$f":"IF(ISBLANK(allgemein!Q192),\"\",allgemein!Q192)","v":""},{"$f":"IF(ISBLANK(allgemein!R192),\"\",allgemein!R192)","v":""},{"$f":"IF(ISBLANK(allgemein!S192),\"\",allgemein!S192)","v":""},{"$f":"IF(ISBLANK(allgemein!U192),\"\",allgemein!U192)","v":""}]
[{"$f":"IF(ISBLANK(allgemein!D193),\"\",allgemein!D193)","v":176},{"$f":"IF(ISBLANK(allgemein!E193),\"\",allgemein!E193)","v":""},{"$f":"IF(ISBLANK(allgemein!C193),\"\",allgemein!C193)","v":" "},{"$f":"IF(ISBLANK(allgemein!H193),\"\",allgemein!H193)","v":""},{"$f":"IF(ISBLANK(allgemein!I193),\"\",allgemein!I193)","v":""},{"$f":"IF(ISBLANK(allgemein!J193),\"\",allgemein!J193)","v":""},{"$f":"IF(ISBLANK(allgemein!K193),\"\",allgemein!K193)","v":""},{"$f":"IF(ISBLANK(allgemein!F193),\"\",IF(ISBLANK(allgemein!L193),1,0))","v":""},{"$f":"_xlfn.SWITCH(allgemein!M193,1,IF(ISBLANK(allgemein!$F$10),allgemein!M193,allgemein!$F$10),2,IF(ISBLANK(allgemein!$F$11),allgemein!M193,allgemein!$F$11),3,IF(ISBLANK(allgemein!$F$12),allgemein!M193,allgemein!$F$12),4,IF(ISBLANK(allgemein!$F$13),allgemein!M193,allgemein!$F$13),5,IF(ISBLANK(allgemein!$I$10),allgemein!M193,allgemein!$I$10),6,IF(ISBLANK(allgemein!$I$11),allgemein!M193,allgemein!$I$11),7,IF(ISBLANK(allgemein!$I$12),allgemein!M193,allgemein!$I$12),8,IF(ISBLANK(allgemein!$I$13),allgemein!M193,allgemein!$I$13),IF(ISBLANK(allgemein!M193),\"\",allgemein!M193))","v":{"$error":"#NAME?"}},{"$f":"_xlfn.SWITCH(allgemein!N193,1,IF(ISBLANK(allgemein!$F$10),allgemein!N193,allgemein!$F$10),2,IF(ISBLANK(allgemein!$F$11),allgemein!N193,allgemein!$F$11),3,IF(ISBLANK(allgemein!$F$12),allgemein!N193,allgemein!$F$12),4,IF(ISBLANK(allgemein!$F$13),allgemein!N193,allgemein!$F$13),5,IF(ISBLANK(allgemein!$I$10),allgemein!N193,allgemein!$I$10),6,IF(ISBLANK(allgemein!$I$11),allgemein!N193,allgemein!$I$11),7,IF(ISBLANK(allgemein!$I$12),allgemein!N193,allgemein!$I$12),8,IF(ISBLANK(allgemein!$I$13),allgemein!N193,allgemein!$I$13),IF(ISBLANK(allgemein!N193),\"\",allgemein!N193))","v":{"$error":"#NAME?"}},{"$f":"_xlfn.SWITCH(allgemein!O193,1,IF(ISBLANK(allgemein!$F$10),allgemein!O193,allgemein!$F$10),2,IF(ISBLANK(allgemein!$F$11),allgemein!O193,allgemein!$F$11),3,IF(ISBLANK(allgemein!$F$12),allgemein!O193,allgemein!$F$12),4,IF(ISBLANK(allgemein!$F$13),allgemein!O193,allgemein!$F$13),5,IF(ISBLANK(allgemein!$I$10),allgemein!O193,allgemein!$I$10),6,IF(ISBLANK(allgemein!$I$11),allgemein!O193,allgemein!$I$11),7,IF(ISBLANK(allgemein!$I$12),allgemein!O193,allgemein!$I$12),8,IF(ISBLANK(allgemein!$I$13),allgemein!O193,allgemein!$I$13),IF(ISBLANK(allgemein!O193),\"\",allgemein!O193))","v":{"$error":"#NAME?"}},{"$f":"_xlfn.SWITCH(allgemein!P193,1,IF(ISBLANK(allgemein!$F$10),allgemein!P193,allgemein!$F$10),2,IF(ISBLANK(allgemein!$F$11),allgemein!P193,allgemein!$F$11),3,IF(ISBLANK(allgemein!$F$12),allgemein!P193,allgemein!$F$12),4,IF(ISBLANK(allgemein!$F$13),allgemein!P193,allgemein!$F$13),5,IF(ISBLANK(allgemein!$I$10),allgemein!P193,allgemein!$I$10),6,IF(ISBLANK(allgemein!$I$11),allgemein!P193,allgemein!$I$11),7,IF(ISBLANK(allgemein!$I$12),allgemein!P193,allgemein!$I$12),8,IF(ISBLANK(allgemein!$I$13),allgemein!P193,allgemein!$I$13),IF(ISBLANK(allgemein!P193),\"\",allgemein!P193))","v":{"$error":"#NAME?"}},{"$f":"IF(ISBLANK(allgemein!Q193),\"\",allgemein!Q193)","v":""},{"$f":"IF(ISBLANK(allgemein!R193),\"\",allgemein!R193)","v":""},{"$f":"IF(ISBLANK(allgemein!S193),\"\",allgemein!S193)","v":""},{"$f":"IF(ISBLANK(allgemein!U193),\"\",allgemein!U193)","v":""}]
[{"$f":"IF(ISBLANK(allgemein!D194),\"\",allgemein!D194)","v":177},{"$f":"IF(ISBLANK(allgemein!E194),\"\",allgemein!E194)","v":""},{"$f":"IF(ISBLANK(allgemein!C194),\"\",allgemein!C194)","v":" "},{"$f":"IF(ISBLANK(allgemein!H194),\"\",allgemein!H194)","v":""},{"$f":"IF(ISBLANK(allgemein!I194),\"\",allgemein!I194)","v":""},{"$f":"IF(ISBLANK(allgemein!J194),\"\",allgemein!J194)","v":""},{"$f":"IF(ISBLANK(allgemein!K194),\"\",allgemein!K194)","v":""},{"$f":"IF(ISBLANK(allgemein!F194),\"\",IF(ISBLANK(allgemein!L194),1,0))","v":""},{"$f":"_xlfn.SWITCH(allgemein!M194,1,IF(ISBLANK(allgemein!$F$10),allgemein!M194,allgemein!$F$10),2,IF(ISBLANK(allgemein!$F$11),allgemein!M194,allgemein!$F$11),3,IF(ISBLANK(allgemein!$F$12),allgemein!M194,allgemein!$F$12),4,IF(ISBLANK(allgemein!$F$13),allgemein!M194,allgemein!$F$13),5,IF(ISBLANK(allgemein!$I$10),allgemein!M194,allgemein!$I$10),6,IF(ISBLANK(allgemein!$I$11),allgemein!M194,allgemein!$I$11),7,IF(ISBLANK(allgemein!$I$12),allgemein!M194,allgemein!$I$12),8,IF(ISBLANK(allgemein!$I$13),allgemein!M194,allgemein!$I$13),IF(ISBLANK(allgemein!M194),\"\",allgemein!M194))","v":{"$error":"#NAME?"}},{"$f":"_xlfn.SWITCH(allgemein!N194,1,IF(ISBLANK(allgemein!$F$10),allgemein!N194,allgemein!$F$10),2,IF(ISBLANK(allgemein!$F$11),allgemein!N194,allgemein!$F$11),3,IF(ISBLANK(allgemein!$F$12),allgemein!N194,allgemein!$F$12),4,IF(ISBLANK(allgemein!$F$13),allgemein!N194,allgemein!$F$13),5,IF(ISBLANK(allgemein!$I$10),allgemein!N194,allgemein!$I$10),6,IF(ISBLANK(allgemein!$I$11),allgemein!N194,allgemein!$I$11),7,IF(ISBLANK(allgemein!$I$12),allgemein!N194,allgemein!$I$12),8,IF(ISBLANK(allgemein!$I$13),allgemein!N194,allgemein!$I$13),IF(ISBLANK(allgemein!N194),\"\",allgemein!N194))","v":{"$error":"#NAME?"}},{"$f":"_xlfn.SWITCH(allgemein!O194,1,IF(ISBLANK(allgemein!$F$10),allgemein!O194,allgemein!$F$10),2,IF(ISBLANK(allgemein!$F$11),allgemein!O194,allgemein!$F$11),3,IF(ISBLANK(allgemein!$F$12),allgemein!O194,allgemein!$F$12),4,IF(ISBLANK(allgemein!$F$13),allgemein!O194,allgemein!$F$13),5,IF(ISBLANK(allgemein!$I$10),allgemein!O194,allgemein!$I$10),6,IF(ISBLANK(allgemein!$I$11),allgemein!O194,allgemein!$I$11),7,IF(ISBLANK(allgemein!$I$12),allgemein!O194,allgemein!$I$12),8,IF(ISBLANK(allgemein!$I$13),allgemein!O194,allgemein!$I$13),IF(ISBLANK(allgemein!O194),\"\",allgemein!O194))","v":{"$error":"#NAME?"}},{"$f":"_xlfn.SWITCH(allgemein!P194,1,IF(ISBLANK(allgemein!$F$10),allgemein!P194,allgemein!$F$10),2,IF(ISBLANK(allgemein!$F$11),allgemein!P194,allgemein!$F$11),3,IF(ISBLANK(allgemein!$F$12),allgemein!P194,allgemein!$F$12),4,IF(ISBLANK(allgemein!$F$13),allgemein!P194,allgemein!$F$13),5,IF(ISBLANK(allgemein!$I$10),allgemein!P194,allgemein!$I$10),6,IF(ISBLANK(allgemein!$I$11),allgemein!P194,allgemein!$I$11),7,IF(ISBLANK(allgemein!$I$12),allgemein!P194,allgemein!$I$12),8,IF(ISBLANK(allgemein!$I$13),allgemein!P194,allgemein!$I$13),IF(ISBLANK(allgemein!P194),\"\",allgemein!P194))","v":{"$error":"#NAME?"}},{"$f":"IF(ISBLANK(allgemein!Q194),\"\",allgemein!Q194)","v":""},{"$f":"IF(ISBLANK(allgemein!R194),\"\",allgemein!R194)","v":""},{"$f":"IF(ISBLANK(allgemein!S194),\"\",allgemein!S194)","v":""},{"$f":"IF(ISBLANK(allgemein!U194),\"\",allgemein!U194)","v":""}]
[{"$f":"IF(ISBLANK(allgemein!D195),\"\",allgemein!D195)","v":178},{"$f":"IF(ISBLANK(allgemein!E195),\"\",allgemein!E195)","v":""},{"$f":"IF(ISBLANK(allgemein!C195),\"\",allgemein!C195)","v":" "},{"$f":"IF(ISBLANK(allgemein!H195),\"\",allgemein!H195)","v":""},{"$f":"IF(ISBLANK(allgemein!I195),\"\",allgemein!I195)","v":""},{"$f":"IF(ISBLANK(allgemein!J195),\"\",allgemein!J195)","v":""},{"$f":"IF(ISBLANK(allgemein!K195),\"\",allgemein!K195)","v":""},{"$f":"IF(ISBLANK(allgemein!F195),\"\",IF(ISBLANK(allgemein!L195),1,0))","v":""},{"$f":"_xlfn.SWITCH(allgemein!M195,1,IF(ISBLANK(allgemein!$F$10),allgemein!M195,allgemein!$F$10),2,IF(ISBLANK(allgemein!$F$11),allgemein!M195,allgemein!$F$11),3,IF(ISBLANK(allgemein!$F$12),allgemein!M195,allgemein!$F$12),4,IF(ISBLANK(allgemein!$F$13),allgemein!M195,allgemein!$F$13),5,IF(ISBLANK(allgemein!$I$10),allgemein!M195,allgemein!$I$10),6,IF(ISBLANK(allgemein!$I$11),allgemein!M195,allgemein!$I$11),7,IF(ISBLANK(allgemein!$I$12),allgemein!M195,allgemein!$I$12),8,IF(ISBLANK(allgemein!$I$13),allgemein!M195,allgemein!$I$13),IF(ISBLANK(allgemein!M195),\"\",allgemein!M195))","v":{"$error":"#NAME?"}},{"$f":"_xlfn.SWITCH(allgemein!N195,1,IF(ISBLANK(allgemein!$F$10),allgemein!N195,allgemein!$F$10),2,IF(ISBLANK(allgemein!$F$11),allgemein!N195,allgemein!$F$11),3,IF(ISBLANK(allgemein!$F$12),allgemein!N195,allgemein!$F$12),4,IF(ISBLANK(allgemein!$F$13),allgemein!N195,allgemein!$F$13),5,IF(ISBLANK(allgemein!$I$10),allgemein!N195,allgemein!$I$10),6,IF(ISBLANK(allgemein!$I$11),allgemein!N195,allgemein!$I$11),7,IF(ISBLANK(allgemein!$I$12),allgemein!N195,allgemein!$I$12),8,IF(ISBLANK(allgemein!$I$13),allgemein!N195,allgemein!$I$13),IF(ISBLANK(allgemein!N195),\"\",allgemein!N195))","v":{"$error":"#NAME?"}},{"$f":"_xlfn.SWITCH(allgemein!O195,1,IF(ISBLANK(allgemein!$F$10),allgemein!O195,allgemein!$F$10),2,IF(ISBLANK(allgemein!$F$11),allgemein!O195,allgemein!$F$11),3,IF(ISBLANK(allgemein!$F$12),allgemein!O195,allgemein!$F$12),4,IF(ISBLANK(allgemein!$F$13),allgemein!O195,allgemein!$F$13),5,IF(ISBLANK(allgemein!$I$10),allgemein!O195,allgemein!$I$10),6,IF(ISBLANK(allgemein!$I$11),allgemein!O195,allgemein!$I$11),7,IF(ISBLANK(allgemein!$I$12),allgemein!O195,allgemein!$I$12),8,IF(ISBLANK(allgemein!$I$13),allgemein!O195,allgemein!$I$13),IF(ISBLANK(allgemein!O195),\"\",allgemein!O195))","v":{"$error":"#NAME?"}},{"$f":"_xlfn.SWITCH(allgemein!P195,1,IF(ISBLANK(allgemein!$F$10),allgemein!P195,allgemein!$F$10),2,IF(ISBLANK(allgemein!$F$11),allgemein!P195,allgemein!$F$11),3,IF(ISBLANK(allgemein!$F$12),allgemein!P195,allgemein!$F$12),4,IF(ISBLANK(allgemein!$F$13),allgemein!P195,allgemein!$F$13),5,IF(ISBLANK(allgemein!$I$10),allgemein!P195,allgemein!$I$10),6,IF(ISBLANK(allgemein!$I$11),allgemein!P195,allgemein!$I$11),7,IF(ISBLANK(allgemein!$I$12),allgemein!P195,allgemein!$I$12),8,IF(ISBLANK(allgemein!$I$13),allgemein!P195,allgemein!$I$13),IF(ISBLANK(allgemein!P195),\"\",allgemein!P195))","v":{"$error":"#NAME?"}},{"$f":"IF(ISBLANK(allgemein!Q195),\"\",allgemein!Q195)","v":""},{"$f":"IF(ISBLANK(allgemein!R195),\"\",allgemein!R195)","v":""},{"$f":"IF(ISBLANK(allgemein!S195),\"\",allgemein!S195)","v":""},{"$f":"IF(ISBLANK(allgemein!U195),\"\",allgemein!U195)","v":""}]
[{"$f":"IF(ISBLANK(allgemein!D196),\"\",allgemein!D196)","v":179},{"$f":"IF(ISBLANK(allgemein!E196),\"\",allgemein!E196)","v":""},{"$f":"IF(ISBLANK(allgemein!C196),\"\",allgemein!C196)","v":" "},{"$f":"IF(ISBLANK(allgemein!H196),\"\",allgemein!H196)","v":""},{"$f":"IF(ISBLANK(allgemein!I196),\"\",allgemein!I196)","v":""},{"$f":"IF(ISBLANK(allgemein!J196),\"\",allgemein!J196)","v":""},{"$f":"IF(ISBLANK(allgemein!K196),\"\",allgemein!K196)","v":""},{"$f":"IF(ISBLANK(allgemein!F196),\"\",IF(ISBLANK(allgemein!L196),1,0))","v":""},{"$f":"_xlfn.SWITCH(allgemein!M196,1,IF(ISBLANK(allgemein!$F$10),allgemein!M196,allgemein!$F$10),2,IF(ISBLANK(allgemein!$F$11),allgemein!M196,allgemein!$F$11),3,IF(ISBLANK(allgemein!$F$12),allgemein!M196,allgemein!$F$12),4,IF(ISBLANK(allgemein!$F$13),allgemein!M196,allgemein!$F$13),5,IF(ISBLANK(allgemein!$I$10),allgemein!M196,allgemein!$I$10),6,IF(ISBLANK(allgemein!$I$11),allgemein!M196,allgemein!$I$11),7,IF(ISBLANK(allgemein!$I$12),allgemein!M196,allgemein!$I$12),8,IF(ISBLANK(allgemein!$I$13),allgemein!M196,allgemein!$I$13),IF(ISBLANK(allgemein!M196),\"\",allgemein!M196))","v":{"$error":"#NAME?"}},{"$f":"_xlfn.SWITCH(allgemein!N196,1,IF(ISBLANK(allgemein!$F$10),allgemein!N196,allgemein!$F$10),2,IF(ISBLANK(allgemein!$F$11),allgemein!N196,allgemein!$F$11),3,IF(ISBLANK(allgemein!$F$12),allgemein!N196,allgemein!$F$12),4,IF(ISBLANK(allgemein!$F$13),allgemein!N196,allgemein!$F$13),5,IF(ISBLANK(allgemein!$I$10),allgemein!N196,allgemein!$I$10),6,IF(ISBLANK(allgemein!$I$11),allgemein!N196,allgemein!$I$11),7,IF(ISBLANK(allgemein!$I$12),allgemein!N196,allgemein!$I$12),8,IF(ISBLANK(allgemein!$I$13),allgemein!N196,allgemein!$I$13),IF(ISBLANK(allgemein!N196),\"\",allgemein!N196))","v":{"$error":"#NAME?"}},{"$f":"_xlfn.SWITCH(allgemein!O196,1,IF(ISBLANK(allgemein!$F$10),allgemein!O196,allgemein!$F$10),2,IF(ISBLANK(allgemein!$F$11),allgemein!O196,allgemein!$F$11),3,IF(ISBLANK(allgemein!$F$12),allgemein!O196,allgemein!$F$12),4,IF(ISBLANK(allgemein!$F$13),allgemein!O196,allgemein!$F$13),5,IF(ISBLANK(allgemein!$I$10),allgemein!O196,allgemein!$I$10),6,IF(ISBLANK(allgemein!$I$11),allgemein!O196,allgemein!$I$11),7,IF(ISBLANK(allgemein!$I$12),allgemein!O196,allgemein!$I$12),8,IF(ISBLANK(allgemein!$I$13),allgemein!O196,allgemein!$I$13),IF(ISBLANK(allgemein!O196),\"\",allgemein!O196))","v":{"$error":"#NAME?"}},{"$f":"_xlfn.SWITCH(allgemein!P196,1,IF(ISBLANK(allgemein!$F$10),allgemein!P196,allgemein!$F$10),2,IF(ISBLANK(allgemein!$F$11),allgemein!P196,allgemein!$F$11),3,IF(ISBLANK(allgemein!$F$12),allgemein!P196,allgemein!$F$12),4,IF(ISBLANK(allgemein!$F$13),allgemein!P196,allgemein!$F$13),5,IF(ISBLANK(allgemein!$I$10),allgemein!P196,allgemein!$I$10),6,IF(ISBLANK(allgemein!$I$11),allgemein!P196,allgemein!$I$11),7,IF(ISBLANK(allgemein!$I$12),allgemein!P196,allgemein!$I$12),8,IF(ISBLANK(allgemein!$I$13),allgemein!P196,allgemein!$I$13),IF(ISBLANK(allgemein!P196),\"\",allgemein!P196))","v":{"$error":"#NAME?"}},{"$f":"IF(ISBLANK(allgemein!Q196),\"\",allgemein!Q196)","v":""},{"$f":"IF(ISBLANK(allgemein!R196),\"\",allgemein!R196)","v":""},{"$f":"IF(ISBLANK(allgemein!S196),\"\",allgemein!S196)","v":""},{"$f":"IF(ISBLANK(allgemein!U196),\"\",allgemein!U196)","v":""}]
[{"$f":"IF(ISBLANK(allgemein!D197),\"\",allgemein!D197)","v":180},{"$f":"IF(ISBLANK(allgemein!E197),\"\",allgemein!E197)","v":""},{"$f":"IF(ISBLANK(allgemein!C197),\"\",allgemein!C197)","v":" "},{"$f":"IF(ISBLANK(allgemein!H197),\"\",allgemein!H197)","v":""},{"$f":"IF(ISBLANK(allgemein!I197),\"\",allgemein!I197)","v":""},{"$f":"IF(ISBLANK(allgemein!J197),\"\",allgemein!J197)","v":""},{"$f":"IF(ISBLANK(allgemein!K197),\"\",allgemein!K197)","v":""},{"$f":"IF(ISBLANK(allgemein!F197),\"\",IF(ISBLANK(allgemein!L197),1,0))","v":""},{"$f":"_xlfn.SWITCH(allgemein!M197,1,IF(ISBLANK(allgemein!$F$10),allgemein!M197,allgemein!$F$10),2,IF(ISBLANK(allgemein!$F$11),allgemein!M197,allgemein!$F$11),3,IF(ISBLANK(allgemein!$F$12),allgemein!M197,allgemein!$F$12),4,IF(ISBLANK(allgemein!$F$13),allgemein!M197,allgemein!$F$13),5,IF(ISBLANK(allgemein!$I$10),allgemein!M197,allgemein!$I$10),6,IF(ISBLANK(allgemein!$I$11),allgemein!M197,allgemein!$I$11),7,IF(ISBLANK(allgemein!$I$12),allgemein!M197,allgemein!$I$12),8,IF(ISBLANK(allgemein!$I$13),allgemein!M197,allgemein!$I$13),IF(ISBLANK(allgemein!M197),\"\",allgemein!M197))","v":{"$error":"#NAME?"}},{"$f":"_xlfn.SWITCH(allgemein!N197,1,IF(ISBLANK(allgemein!$F$10),allgemein!N197,allgemein!$F$10),2,IF(ISBLANK(allgemein!$F$11),allgemein!N197,allgemein!$F$11),3,IF(ISBLANK(allgemein!$F$12),allgemein!N197,allgemein!$F$12),4,IF(ISBLANK(allgemein!$F$13),allgemein!N197,allgemein!$F$13),5,IF(ISBLANK(allgemein!$I$10),allgemein!N197,allgemein!$I$10),6,IF(ISBLANK(allgemein!$I$11),allgemein!N197,allgemein!$I$11),7,IF(ISBLANK(allgemein!$I$12),allgemein!N197,allgemein!$I$12),8,IF(ISBLANK(allgemein!$I$13),allgemein!N197,allgemein!$I$13),IF(ISBLANK(allgemein!N197),\"\",allgemein!N197))","v":{"$error":"#NAME?"}},{"$f":"_xlfn.SWITCH(allgemein!O197,1,IF(ISBLANK(allgemein!$F$10),allgemein!O197,allgemein!$F$10),2,IF(ISBLANK(allgemein!$F$11),allgemein!O197,allgemein!$F$11),3,IF(ISBLANK(allgemein!$F$12),allgemein!O197,allgemein!$F$12),4,IF(ISBLANK(allgemein!$F$13),allgemein!O197,allgemein!$F$13),5,IF(ISBLANK(allgemein!$I$10),allgemein!O197,allgemein!$I$10),6,IF(ISBLANK(allgemein!$I$11),allgemein!O197,allgemein!$I$11),7,IF(ISBLANK(allgemein!$I$12),allgemein!O197,allgemein!$I$12),8,IF(ISBLANK(allgemein!$I$13),allgemein!O197,allgemein!$I$13),IF(ISBLANK(allgemein!O197),\"\",allgemein!O197))","v":{"$error":"#NAME?"}},{"$f":"_xlfn.SWITCH(allgemein!P197,1,IF(ISBLANK(allgemein!$F$10),allgemein!P197,allgemein!$F$10),2,IF(ISBLANK(allgemein!$F$11),allgemein!P197,allgemein!$F$11),3,IF(ISBLANK(allgemein!$F$12),allgemein!P197,allgemein!$F$12),4,IF(ISBLANK(allgemein!$F$13),allgemein!P197,allgemein!$F$13),5,IF(ISBLANK(allgemein!$I$10),allgemein!P197,allgemein!$I$10),6,IF(ISBLANK(allgemein!$I$11),allgemein!P197,allgemein!$I$11),7,IF(ISBLANK(allgemein!$I$12),allgemein!P197,allgemein!$I$12),8,IF(ISBLANK(allgemein!$I$13),allgemein!P197,allgemein!$I$13),IF(ISBLANK(allgemein!P197),\"\",allgemein!P197))","v":{"$error":"#NAME?"}},{"$f":"IF(ISBLANK(allgemein!Q197),\"\",allgemein!Q197)","v":""},{"$f":"IF(ISBLANK(allgemein!R197),\"\",allgemein!R197)","v":""},{"$f":"IF(ISBLANK(allgemein!S197),\"\",allgemein!S197)","v":""},{"$f":"IF(ISBLANK(allgemein!U197),\"\",allgemein!U197)","v":""}]
[{"$f":"IF(ISBLANK(allgemein!D198),\"\",allgemein!D198)","v":181},{"$f":"IF(ISBLANK(allgemein!E198),\"\",allgemein!E198)","v":""},{"$f":"IF(ISBLANK(allgemein!C198),\"\",allgemein!C198)","v":" "},{"$f":"IF(ISBLANK(allgemein!H198),\"\",allgemein!H198)","v":""},{"$f":"IF(ISBLANK(allgemein!I198),\"\",allgemein!I198)","v":""},{"$f":"IF(ISBLANK(allgemein!J198),\"\",allgemein!J198)","v":""},{"$f":"IF(ISBLANK(allgemein!K198),\"\",allgemein!K198)","v":""},{"$f":"IF(ISBLANK(allgemein!F198),\"\",IF(ISBLANK(allgemein!L198),1,0))","v":""},{"$f":"_xlfn.SWITCH(allgemein!M198,1,IF(ISBLANK(allgemein!$F$10),allgemein!M198,allgemein!$F$10),2,IF(ISBLANK(allgemein!$F$11),allgemein!M198,allgemein!$F$11),3,IF(ISBLANK(allgemein!$F$12),allgemein!M198,allgemein!$F$12),4,IF(ISBLANK(allgemein!$F$13),allgemein!M198,allgemein!$F$13),5,IF(ISBLANK(allgemein!$I$10),allgemein!M198,allgemein!$I$10),6,IF(ISBLANK(allgemein!$I$11),allgemein!M198,allgemein!$I$11),7,IF(ISBLANK(allgemein!$I$12),allgemein!M198,allgemein!$I$12),8,IF(ISBLANK(allgemein!$I$13),allgemein!M198,allgemein!$I$13),IF(ISBLANK(allgemein!M198),\"\",allgemein!M198))","v":{"$error":"#NAME?"}},{"$f":"_xlfn.SWITCH(allgemein!N198,1,IF(ISBLANK(allgemein!$F$10),allgemein!N198,allgemein!$F$10),2,IF(ISBLANK(allgemein!$F$11),allgemein!N198,allgemein!$F$11),3,IF(ISBLANK(allgemein!$F$12),allgemein!N198,allgemein!$F$12),4,IF(ISBLANK(allgemein!$F$13),allgemein!N198,allgemein!$F$13),5,IF(ISBLANK(allgemein!$I$10),allgemein!N198,allgemein!$I$10),6,IF(ISBLANK(allgemein!$I$11),allgemein!N198,allgemein!$I$11),7,IF(ISBLANK(allgemein!$I$12),allgemein!N198,allgemein!$I$12),8,IF(ISBLANK(allgemein!$I$13),allgemein!N198,allgemein!$I$13),IF(ISBLANK(allgemein!N198),\"\",allgemein!N198))","v":{"$error":"#NAME?"}},{"$f":"_xlfn.SWITCH(allgemein!O198,1,IF(ISBLANK(allgemein!$F$10),allgemein!O198,allgemein!$F$10),2,IF(ISBLANK(allgemein!$F$11),allgemein!O198,allgemein!$F$11),3,IF(ISBLANK(allgemein!$F$12),allgemein!O198,allgemein!$F$12),4,IF(ISBLANK(allgemein!$F$13),allgemein!O198,allgemein!$F$13),5,IF(ISBLANK(allgemein!$I$10),allgemein!O198,allgemein!$I$10),6,IF(ISBLANK(allgemein!$I$11),allgemein!O198,allgemein!$I$11),7,IF(ISBLANK(allgemein!$I$12),allgemein!O198,allgemein!$I$12),8,IF(ISBLANK(allgemein!$I$13),allgemein!O198,allgemein!$I$13),IF(ISBLANK(allgemein!O198),\"\",allgemein!O198))","v":{"$error":"#NAME?"}},{"$f":"_xlfn.SWITCH(allgemein!P198,1,IF(ISBLANK(allgemein!$F$10),allgemein!P198,allgemein!$F$10),2,IF(ISBLANK(allgemein!$F$11),allgemein!P198,allgemein!$F$11),3,IF(ISBLANK(allgemein!$F$12),allgemein!P198,allgemein!$F$12),4,IF(ISBLANK(allgemein!$F$13),allgemein!P198,allgemein!$F$13),5,IF(ISBLANK(allgemein!$I$10),allgemein!P198,allgemein!$I$10),6,IF(ISBLANK(allgemein!$I$11),allgemein!P198,allgemein!$I$11),7,IF(ISBLANK(allgemein!$I$12),allgemein!P198,allgemein!$I$12),8,IF(ISBLANK(allgemein!$I$13),allgemein!P198,allgemein!$I$13),IF(ISBLANK(allgemein!P198),\"\",allgemein!P198))","v":{"$error":"#NAME?"}},{"$f":"IF(ISBLANK(allgemein!Q198),\"\",allgemein!Q198)","v":""},{"$f":"IF(ISBLANK(allgemein!R198),\"\",allgemein!R198)","v":""},{"$f":"IF(ISBLANK(allgemein!S198),\"\",allgemein!S198)","v":""},{"$f":"IF(ISBLANK(allgemein!U198),\"\",allgemein!U198)","v":""}]
[{"$f":"IF(ISBLANK(allgemein!D199),\"\",allgemein!D199)","v":182},{"$f":"IF(ISBLANK(allgemein!E199),\"\",allgemein!E199)","v":""},{"$f":"IF(ISBLANK(allgemein!C199),\"\",allgemein!C199)","v":" "},{"$f":"IF(ISBLANK(allgemein!H199),\"\",allgemein!H199)","v":""},{"$f":"IF(ISBLANK(allgemein!I199),\"\",allgemein!I199)","v":""},{"$f":"IF(ISBLANK(allgemein!J199),\"\",allgemein!J199)","v":""},{"$f":"IF(ISBLANK(allgemein!K199),\"\",allgemein!K199)","v":""},{"$f":"IF(ISBLANK(allgemein!F199),\"\",IF(ISBLANK(allgemein!L199),1,0))","v":""},{"$f":"_xlfn.SWITCH(allgemein!M199,1,IF(ISBLANK(allgemein!$F$10),allgemein!M199,allgemein!$F$10),2,IF(ISBLANK(allgemein!$F$11),allgemein!M199,allgemein!$F$11),3,IF(ISBLANK(allgemein!$F$12),allgemein!M199,allgemein!$F$12),4,IF(ISBLANK(allgemein!$F$13),allgemein!M199,allgemein!$F$13),5,IF(ISBLANK(allgemein!$I$10),allgemein!M199,allgemein!$I$10),6,IF(ISBLANK(allgemein!$I$11),allgemein!M199,allgemein!$I$11),7,IF(ISBLANK(allgemein!$I$12),allgemein!M199,allgemein!$I$12),8,IF(ISBLANK(allgemein!$I$13),allgemein!M199,allgemein!$I$13),IF(ISBLANK(allgemein!M199),\"\",allgemein!M199))","v":{"$error":"#NAME?"}},{"$f":"_xlfn.SWITCH(allgemein!N199,1,IF(ISBLANK(allgemein!$F$10),allgemein!N199,allgemein!$F$10),2,IF(ISBLANK(allgemein!$F$11),allgemein!N199,allgemein!$F$11),3,IF(ISBLANK(allgemein!$F$12),allgemein!N199,allgemein!$F$12),4,IF(ISBLANK(allgemein!$F$13),allgemein!N199,allgemein!$F$13),5,IF(ISBLANK(allgemein!$I$10),allgemein!N199,allgemein!$I$10),6,IF(ISBLANK(allgemein!$I$11),allgemein!N199,allgemein!$I$11),7,IF(ISBLANK(allgemein!$I$12),allgemein!N199,allgemein!$I$12),8,IF(ISBLANK(allgemein!$I$13),allgemein!N199,allgemein!$I$13),IF(ISBLANK(allgemein!N199),\"\",allgemein!N199))","v":{"$error":"#NAME?"}},{"$f":"_xlfn.SWITCH(allgemein!O199,1,IF(ISBLANK(allgemein!$F$10),allgemein!O199,allgemein!$F$10),2,IF(ISBLANK(allgemein!$F$11),allgemein!O199,allgemein!$F$11),3,IF(ISBLANK(allgemein!$F$12),allgemein!O199,allgemein!$F$12),4,IF(ISBLANK(allgemein!$F$13),allgemein!O199,allgemein!$F$13),5,IF(ISBLANK(allgemein!$I$10),allgemein!O199,allgemein!$I$10),6,IF(ISBLANK(allgemein!$I$11),allgemein!O199,allgemein!$I$11),7,IF(ISBLANK(allgemein!$I$12),allgemein!O199,allgemein!$I$12),8,IF(ISBLANK(allgemein!$I$13),allgemein!O199,allgemein!$I$13),IF(ISBLANK(allgemein!O199),\"\",allgemein!O199))","v":{"$error":"#NAME?"}},{"$f":"_xlfn.SWITCH(allgemein!P199,1,IF(ISBLANK(allgemein!$F$10),allgemein!P199,allgemein!$F$10),2,IF(ISBLANK(allgemein!$F$11),allgemein!P199,allgemein!$F$11),3,IF(ISBLANK(allgemein!$F$12),allgemein!P199,allgemein!$F$12),4,IF(ISBLANK(allgemein!$F$13),allgemein!P199,allgemein!$F$13),5,IF(ISBLANK(allgemein!$I$10),allgemein!P199,allgemein!$I$10),6,IF(ISBLANK(allgemein!$I$11),allgemein!P199,allgemein!$I$11),7,IF(ISBLANK(allgemein!$I$12),allgemein!P199,allgemein!$I$12),8,IF(ISBLANK(allgemein!$I$13),allgemein!P199,allgemein!$I$13),IF(ISBLANK(allgemein!P199),\"\",allgemein!P199))","v":{"$error":"#NAME?"}},{"$f":"IF(ISBLANK(allgemein!Q199),\"\",allgemein!Q199)","v":""},{"$f":"IF(ISBLANK(allgemein!R199),\"\",allgemein!R199)","v":""},{"$f":"IF(ISBLANK(allgemein!S199),\"\",allgemein!S199)","v":""},{"$f":"IF(ISBLANK(allgemein!U199),\"\",allgemein!U199)","v":""}]
[{"$f":"IF(ISBLANK(allgemein!D200),\"\",allgemein!D200)","v":183},{"$f":"IF(ISBLANK(allgemein!E200),\"\",allgemein!E200)","v":""},{"$f":"IF(ISBLANK(allgemein!C200),\"\",allgemein!C200)","v":" "},{"$f":"IF(ISBLANK(allgemein!H200),\"\",allgemein!H200)","v":""},{"$f":"IF(ISBLANK(allgemein!I200),\"\",allgemein!I200)","v":""},{"$f":"IF(ISBLANK(allgemein!J200),\"\",allgemein!J200)","v":""},{"$f":"IF(ISBLANK(allgemein!K200),\"\",allgemein!K200)","v":""},{"$f":"IF(ISBLANK(allgemein!F200),\"\",IF(ISBLANK(allgemein!L200),1,0))","v":""},{"$f":"_xlfn.SWITCH(allgemein!M200,1,IF(ISBLANK(allgemein!$F$10),allgemein!M200,allgemein!$F$10),2,IF(ISBLANK(allgemein!$F$11),allgemein!M200,allgemein!$F$11),3,IF(ISBLANK(allgemein!$F$12),allgemein!M200,allgemein!$F$12),4,IF(ISBLANK(allgemein!$F$13),allgemein!M200,allgemein!$F$13),5,IF(ISBLANK(allgemein!$I$10),allgemein!M200,allgemein!$I$10),6,IF(ISBLANK(allgemein!$I$11),allgemein!M200,allgemein!$I$11),7,IF(ISBLANK(allgemein!$I$12),allgemein!M200,allgemein!$I$12),8,IF(ISBLANK(allgemein!$I$13),allgemein!M200,allgemein!$I$13),IF(ISBLANK(allgemein!M200),\"\",allgemein!M200))","v":{"$error":"#NAME?"}},{"$f":"_xlfn.SWITCH(allgemein!N200,1,IF(ISBLANK(allgemein!$F$10),allgemein!N200,allgemein!$F$10),2,IF(ISBLANK(allgemein!$F$11),allgemein!N200,allgemein!$F$11),3,IF(ISBLANK(allgemein!$F$12),allgemein!N200,allgemein!$F$12),4,IF(ISBLANK(allgemein!$F$13),allgemein!N200,allgemein!$F$13),5,IF(ISBLANK(allgemein!$I$10),allgemein!N200,allgemein!$I$10),6,IF(ISBLANK(allgemein!$I$11),allgemein!N200,allgemein!$I$11),7,IF(ISBLANK(allgemein!$I$12),allgemein!N200,allgemein!$I$12),8,IF(ISBLANK(allgemein!$I$13),allgemein!N200,allgemein!$I$13),IF(ISBLANK(allgemein!N200),\"\",allgemein!N200))","v":{"$error":"#NAME?"}},{"$f":"_xlfn.SWITCH(allgemein!O200,1,IF(ISBLANK(allgemein!$F$10),allgemein!O200,allgemein!$F$10),2,IF(ISBLANK(allgemein!$F$11),allgemein!O200,allgemein!$F$11),3,IF(ISBLANK(allgemein!$F$12),allgemein!O200,allgemein!$F$12),4,IF(ISBLANK(allgemein!$F$13),allgemein!O200,allgemein!$F$13),5,IF(ISBLANK(allgemein!$I$10),allgemein!O200,allgemein!$I$10),6,IF(ISBLANK(allgemein!$I$11),allgemein!O200,allgemein!$I$11),7,IF(ISBLANK(allgemein!$I$12),allgemein!O200,allgemein!$I$12),8,IF(ISBLANK(allgemein!$I$13),allgemein!O200,allgemein!$I$13),IF(ISBLANK(allgemein!O200),\"\",allgemein!O200))","v":{"$error":"#NAME?"}},{"$f":"_xlfn.SWITCH(allgemein!P200,1,IF(ISBLANK(allgemein!$F$10),allgemein!P200,allgemein!$F$10),2,IF(ISBLANK(allgemein!$F$11),allgemein!P200,allgemein!$F$11),3,IF(ISBLANK(allgemein!$F$12),allgemein!P200,allgemein!$F$12),4,IF(ISBLANK(allgemein!$F$13),allgemein!P200,allgemein!$F$13),5,IF(ISBLANK(allgemein!$I$10),allgemein!P200,allgemein!$I$10),6,IF(ISBLANK(allgemein!$I$11),allgemein!P200,allgemein!$I$11),7,IF(ISBLANK(allgemein!$I$12),allgemein!P200,allgemein!$I$12),8,IF(ISBLANK(allgemein!$I$13),allgemein!P200,allgemein!$I$13),IF(ISBLANK(allgemein!P200),\"\",allgemein!P200))","v":{"$error":"#NAME?"}},{"$f":"IF(ISBLANK(allgemein!Q200),\"\",allgemein!Q200)","v":""},{"$f":"IF(ISBLANK(allgemein!R200),\"\",allgemein!R200)","v":""},{"$f":"IF(ISBLANK(allgemein!S200),\"\",allgemein!S200)","v":""},{"$f":"IF(ISBLANK(allgemein!U200),\"\",allgemein!U200)","v":""}]
[{"$f":"IF(ISBLANK(allgemein!D201),\"\",allgemein!D201)","v":184},{"$f":"IF(ISBLANK(allgemein!E201),\"\",allgemein!E201)","v":""},{"$f":"IF(ISBLANK(allgemein!C201),\"\",allgemein!C201)","v":" "},{"$f":"IF(ISBLANK(allgemein!H201),\"\",allgemein!H201)","v":""},{"$f":"IF(ISBLANK(allgemein!I201),\"\",allgemein!I201)","v":""},{"$f":"IF(ISBLANK(allgemein!J201),\"\",allgemein!J201)","v":""},{"$f":"IF(ISBLANK(allgemein!K201),\"\",allgemein!K201)","v":""},{"$f":"IF(ISBLANK(allgemein!F201),\"\",IF(ISBLANK(allgemein!L201),1,0))","v":""},{"$f":"_xlfn.SWITCH(allgemein!M201,1,IF(ISBLANK(allgemein!$F$10),allgemein!M201,allgemein!$F$10),2,IF(ISBLANK(allgemein!$F$11),allgemein!M201,allgemein!$F$11),3,IF(ISBLANK(allgemein!$F$12),allgemein!M201,allgemein!$F$12),4,IF(ISBLANK(allgemein!$F$13),allgemein!M201,allgemein!$F$13),5,IF(ISBLANK(allgemein!$I$10),allgemein!M201,allgemein!$I$10),6,IF(ISBLANK(allgemein!$I$11),allgemein!M201,allgemein!$I$11),7,IF(ISBLANK(allgemein!$I$12),allgemein!M201,allgemein!$I$12),8,IF(ISBLANK(allgemein!$I$13),allgemein!M201,allgemein!$I$13),IF(ISBLANK(allgemein!M201),\"\",allgemein!M201))","v":{"$error":"#NAME?"}},{"$f":"_xlfn.SWITCH(allgemein!N201,1,IF(ISBLANK(allgemein!$F$10),allgemein!N201,allgemein!$F$10),2,IF(ISBLANK(allgemein!$F$11),allgemein!N201,allgemein!$F$11),3,IF(ISBLANK(allgemein!$F$12),allgemein!N201,allgemein!$F$12),4,IF(ISBLANK(allgemein!$F$13),allgemein!N201,allgemein!$F$13),5,IF(ISBLANK(allgemein!$I$10),allgemein!N201,allgemein!$I$10),6,IF(ISBLANK(allgemein!$I$11),allgemein!N201,allgemein!$I$11),7,IF(ISBLANK(allgemein!$I$12),allgemein!N201,allgemein!$I$12),8,IF(ISBLANK(allgemein!$I$13),allgemein!N201,allgemein!$I$13),IF(ISBLANK(allgemein!N201),\"\",allgemein!N201))","v":{"$error":"#NAME?"}},{"$f":"_xlfn.SWITCH(allgemein!O201,1,IF(ISBLANK(allgemein!$F$10),allgemein!O201,allgemein!$F$10),2,IF(ISBLANK(allgemein!$F$11),allgemein!O201,allgemein!$F$11),3,IF(ISBLANK(allgemein!$F$12),allgemein!O201,allgemein!$F$12),4,IF(ISBLANK(allgemein!$F$13),allgemein!O201,allgemein!$F$13),5,IF(ISBLANK(allgemein!$I$10),allgemein!O201,allgemein!$I$10),6,IF(ISBLANK(allgemein!$I$11),allgemein!O201,allgemein!$I$11),7,IF(ISBLANK(allgemein!$I$12),allgemein!O201,allgemein!$I$12),8,IF(ISBLANK(allgemein!$I$13),allgemein!O201,allgemein!$I$13),IF(ISBLANK(allgemein!O201),\"\",allgemein!O201))","v":{"$error":"#NAME?"}},{"$f":"_xlfn.SWITCH(allgemein!P201,1,IF(ISBLANK(allgemein!$F$10),allgemein!P201,allgemein!$F$10),2,IF(ISBLANK(allgemein!$F$11),allgemein!P201,allgemein!$F$11),3,IF(ISBLANK(allgemein!$F$12),allgemein!P201,allgemein!$F$12),4,IF(ISBLANK(allgemein!$F$13),allgemein!P201,allgemein!$F$13),5,IF(ISBLANK(allgemein!$I$10),allgemein!P201,allgemein!$I$10),6,IF(ISBLANK(allgemein!$I$11),allgemein!P201,allgemein!$I$11),7,IF(ISBLANK(allgemein!$I$12),allgemein!P201,allgemein!$I$12),8,IF(ISBLANK(allgemein!$I$13),allgemein!P201,allgemein!$I$13),IF(ISBLANK(allgemein!P201),\"\",allgemein!P201))","v":{"$error":"#NAME?"}},{"$f":"IF(ISBLANK(allgemein!Q201),\"\",allgemein!Q201)","v":""},{"$f":"IF(ISBLANK(allgemein!R201),\"\",allgemein!R201)","v":""},{"$f":"IF(ISBLANK(allgemein!S201),\"\",allgemein!S201)","v":""},{"$f":"IF(ISBLANK(allgemein!U201),\"\",allgemein!U201)","v":""}]
[{"$f":"IF(ISBLANK(allgemein!D202),\"\",allgemein!D202)","v":185},{"$f":"IF(ISBLANK(allgemein!E202),\"\",allgemein!E202)","v":""},{"$f":"IF(ISBLANK(allgemein!C202),\"\",allgemein!C202)","v":" "},{"$f":"IF(ISBLANK(allgemein!H202),\"\",allgemein!H202)","v":""},{"$f":"IF(ISBLANK(allgemein!I202),\"\",allgemein!I202)","v":""},{"$f":"IF(ISBLANK(allgemein!J202),\"\",allgemein!J202)","v":""},{"$f":"IF(ISBLANK(allgemein!K202),\"\",allgemein!K202)","v":""},{"$f":"IF(ISBLANK(allgemein!F202),\"\",IF(ISBLANK(allgemein!L202),1,0))","v":""},{"$f":"_xlfn.SWITCH(allgemein!M202,1,IF(ISBLANK(allgemein!$F$10),allgemein!M202,allgemein!$F$10),2,IF(ISBLANK(allgemein!$F$11),allgemein!M202,allgemein!$F$11),3,IF(ISBLANK(allgemein!$F$12),allgemein!M202,allgemein!$F$12),4,IF(ISBLANK(allgemein!$F$13),allgemein!M202,allgemein!$F$13),5,IF(ISBLANK(allgemein!$I$10),allgemein!M202,allgemein!$I$10),6,IF(ISBLANK(allgemein!$I$11),allgemein!M202,allgemein!$I$11),7,IF(ISBLANK(allgemein!$I$12),allgemein!M202,allgemein!$I$12),8,IF(ISBLANK(allgemein!$I$13),allgemein!M202,allgemein!$I$13),IF(ISBLANK(allgemein!M202),\"\",allgemein!M202))","v":{"$error":"#NAME?"}},{"$f":"_xlfn.SWITCH(allgemein!N202,1,IF(ISBLANK(allgemein!$F$10),allgemein!N202,allgemein!$F$10),2,IF(ISBLANK(allgemein!$F$11),allgemein!N202,allgemein!$F$11),3,IF(ISBLANK(allgemein!$F$12),allgemein!N202,allgemein!$F$12),4,IF(ISBLANK(allgemein!$F$13),allgemein!N202,allgemein!$F$13),5,IF(ISBLANK(allgemein!$I$10),allgemein!N202,allgemein!$I$10),6,IF(ISBLANK(allgemein!$I$11),allgemein!N202,allgemein!$I$11),7,IF(ISBLANK(allgemein!$I$12),allgemein!N202,allgemein!$I$12),8,IF(ISBLANK(allgemein!$I$13),allgemein!N202,allgemein!$I$13),IF(ISBLANK(allgemein!N202),\"\",allgemein!N202))","v":{"$error":"#NAME?"}},{"$f":"_xlfn.SWITCH(allgemein!O202,1,IF(ISBLANK(allgemein!$F$10),allgemein!O202,allgemein!$F$10),2,IF(ISBLANK(allgemein!$F$11),allgemein!O202,allgemein!$F$11),3,IF(ISBLANK(allgemein!$F$12),allgemein!O202,allgemein!$F$12),4,IF(ISBLANK(allgemein!$F$13),allgemein!O202,allgemein!$F$13),5,IF(ISBLANK(allgemein!$I$10),allgemein!O202,allgemein!$I$10),6,IF(ISBLANK(allgemein!$I$11),allgemein!O202,allgemein!$I$11),7,IF(ISBLANK(allgemein!$I$12),allgemein!O202,allgemein!$I$12),8,IF(ISBLANK(allgemein!$I$13),allgemein!O202,allgemein!$I$13),IF(ISBLANK(allgemein!O202),\"\",allgemein!O202))","v":{"$error":"#NAME?"}},{"$f":"_xlfn.SWITCH(allgemein!P202,1,IF(ISBLANK(allgemein!$F$10),allgemein!P202,allgemein!$F$10),2,IF(ISBLANK(allgemein!$F$11),allgemein!P202,allgemein!$F$11),3,IF(ISBLANK(allgemein!$F$12),allgemein!P202,allgemein!$F$12),4,IF(ISBLANK(allgemein!$F$13),allgemein!P202,allgemein!$F$13),5,IF(ISBLANK(allgemein!$I$10),allgemein!P202,allgemein!$I$10),6,IF(ISBLANK(allgemein!$I$11),allgemein!P202,allgemein!$I$11),7,IF(ISBLANK(allgemein!$I$12),allgemein!P202,allgemein!$I$12),8,IF(ISBLANK(allgemein!$I$13),allgemein!P202,allgemein!$I$13),IF(ISBLANK(allgemein!P202),\"\",allgemein!P202))","v":{"$error":"#NAME?"}},{"$f":"IF(ISBLANK(allgemein!Q202),\"\",allgemein!Q202)","v":""},{"$f":"IF(ISBLANK(allgemein!R202),\"\",allgemein!R202)","v":""},{"$f":"IF(ISBLANK(allgemein!S202),\"\",allgemein!S202)","v":""},{"$f":"IF(ISBLANK(allgemein!U202),\"\",allgemein!U202)","v":""}]
[{"$f":"IF(ISBLANK(allgemein!D203),\"\",allgemein!D203)","v":186},{"$f":"IF(ISBLANK(allgemein!E203),\"\",allgemein!E203)","v":""},{"$f":"IF(ISBLANK(allgemein!C203),\"\",allgemein!C203)","v":" "},{"$f":"IF(ISBLANK(allgemein!H203),\"\",allgemein!H203)","v":""},{"$f":"IF(ISBLANK(allgemein!I203),\"\",allgemein!I203)","v":""},{"$f":"IF(ISBLANK(allgemein!J203),\"\",allgemein!J203)","v":""},{"$f":"IF(ISBLANK(allgemein!K203),\"\",allgemein!K203)","v":""},{"$f":"IF(ISBLANK(allgemein!F203),\"\",IF(ISBLANK(allgemein!L203),1,0))","v":""},{"$f":"_xlfn.SWITCH(allgemein!M203,1,IF(ISBLANK(allgemein!$F$10),allgemein!M203,allgemein!$F$10),2,IF(ISBLANK(allgemein!$F$11),allgemein!M203,allgemein!$F$11),3,IF(ISBLANK(allgemein!$F$12),allgemein!M203,allgemein!$F$12),4,IF(ISBLANK(allgemein!$F$13),allgemein!M203,allgemein!$F$13),5,IF(ISBLANK(allgemein!$I$10),allgemein!M203,allgemein!$I$10),6,IF(ISBLANK(allgemein!$I$11),allgemein!M203,allgemein!$I$11),7,IF(ISBLANK(allgemein!$I$12),allgemein!M203,allgemein!$I$12),8,IF(ISBLANK(allgemein!$I$13),allgemein!M203,allgemein!$I$13),IF(ISBLANK(allgemein!M203),\"\",allgemein!M203))","v":{"$error":"#NAME?"}},{"$f":"_xlfn.SWITCH(allgemein!N203,1,IF(ISBLANK(allgemein!$F$10),allgemein!N203,allgemein!$F$10),2,IF(ISBLANK(allgemein!$F$11),allgemein!N203,allgemein!$F$11),3,IF(ISBLANK(allgemein!$F$12),allgemein!N203,allgemein!$F$12),4,IF(ISBLANK(allgemein!$F$13),allgemein!N203,allgemein!$F$13),5,IF(ISBLANK(allgemein!$I$10),allgemein!N203,allgemein!$I$10),6,IF(ISBLANK(allgemein!$I$11),allgemein!N203,allgemein!$I$11),7,IF(ISBLANK(allgemein!$I$12),allgemein!N203,allgemein!$I$12),8,IF(ISBLANK(allgemein!$I$13),allgemein!N203,allgemein!$I$13),IF(ISBLANK(allgemein!N203),\"\",allgemein!N203))","v":{"$error":"#NAME?"}},{"$f":"_xlfn.SWITCH(allgemein!O203,1,IF(ISBLANK(allgemein!$F$10),allgemein!O203,allgemein!$F$10),2,IF(ISBLANK(allgemein!$F$11),allgemein!O203,allgemein!$F$11),3,IF(ISBLANK(allgemein!$F$12),allgemein!O203,allgemein!$F$12),4,IF(ISBLANK(allgemein!$F$13),allgemein!O203,allgemein!$F$13),5,IF(ISBLANK(allgemein!$I$10),allgemein!O203,allgemein!$I$10),6,IF(ISBLANK(allgemein!$I$11),allgemein!O203,allgemein!$I$11),7,IF(ISBLANK(allgemein!$I$12),allgemein!O203,allgemein!$I$12),8,IF(ISBLANK(allgemein!$I$13),allgemein!O203,allgemein!$I$13),IF(ISBLANK(allgemein!O203),\"\",allgemein!O203))","v":{"$error":"#NAME?"}},{"$f":"_xlfn.SWITCH(allgemein!P203,1,IF(ISBLANK(allgemein!$F$10),allgemein!P203,allgemein!$F$10),2,IF(ISBLANK(allgemein!$F$11),allgemein!P203,allgemein!$F$11),3,IF(ISBLANK(allgemein!$F$12),allgemein!P203,allgemein!$F$12),4,IF(ISBLANK(allgemein!$F$13),allgemein!P203,allgemein!$F$13),5,IF(ISBLANK(allgemein!$I$10),allgemein!P203,allgemein!$I$10),6,IF(ISBLANK(allgemein!$I$11),allgemein!P203,allgemein!$I$11),7,IF(ISBLANK(allgemein!$I$12),allgemein!P203,allgemein!$I$12),8,IF(ISBLANK(allgemein!$I$13),allgemein!P203,allgemein!$I$13),IF(ISBLANK(allgemein!P203),\"\",allgemein!P203))","v":{"$error":"#NAME?"}},{"$f":"IF(ISBLANK(allgemein!Q203),\"\",allgemein!Q203)","v":""},{"$f":"IF(ISBLANK(allgemein!R203),\"\",allgemein!R203)","v":""},{"$f":"IF(ISBLANK(allgemein!S203),\"\",allgemein!S203)","v":""},{"$f":"IF(ISBLANK(allgemein!U203),\"\",allgemein!U203)","v":""}]
[{"$f":"IF(ISBLANK(allgemein!D204),\"\",allgemein!D204)","v":187},{"$f":"IF(ISBLANK(allgemein!E204),\"\",allgemein!E204)","v":""},{"$f":"IF(ISBLANK(allgemein!C204),\"\",allgemein!C204)","v":" "},{"$f":"IF(ISBLANK(allgemein!H204),\"\",allgemein!H204)","v":""},{"$f":"IF(ISBLANK(allgemein!I204),\"\",allgemein!I204)","v":""},{"$f":"IF(ISBLANK(allgemein!J204),\"\",allgemein!J204)","v":""},{"$f":"IF(ISBLANK(allgemein!K204),\"\",allgemein!K204)","v":""},{"$f":"IF(ISBLANK(allgemein!F204),\"\",IF(ISBLANK(allgemein!L204),1,0))","v":""},{"$f":"_xlfn.SWITCH(allgemein!M204,1,IF(ISBLANK(allgemein!$F$10),allgemein!M204,allgemein!$F$10),2,IF(ISBLANK(allgemein!$F$11),allgemein!M204,allgemein!$F$11),3,IF(ISBLANK(allgemein!$F$12),allgemein!M204,allgemein!$F$12),4,IF(ISBLANK(allgemein!$F$13),allgemein!M204,allgemein!$F$13),5,IF(ISBLANK(allgemein!$I$10),allgemein!M204,allgemein!$I$10),6,IF(ISBLANK(allgemein!$I$11),allgemein!M204,allgemein!$I$11),7,IF(ISBLANK(allgemein!$I$12),allgemein!M204,allgemein!$I$12),8,IF(ISBLANK(allgemein!$I$13),allgemein!M204,allgemein!$I$13),IF(ISBLANK(allgemein!M204),\"\",allgemein!M204))","v":{"$error":"#NAME?"}},{"$f":"_xlfn.SWITCH(allgemein!N204,1,IF(ISBLANK(allgemein!$F$10),allgemein!N204,allgemein!$F$10),2,IF(ISBLANK(allgemein!$F$11),allgemein!N204,allgemein!$F$11),3,IF(ISBLANK(allgemein!$F$12),allgemein!N204,allgemein!$F$12),4,IF(ISBLANK(allgemein!$F$13),allgemein!N204,allgemein!$F$13),5,IF(ISBLANK(allgemein!$I$10),allgemein!N204,allgemein!$I$10),6,IF(ISBLANK(allgemein!$I$11),allgemein!N204,allgemein!$I$11),7,IF(ISBLANK(allgemein!$I$12),allgemein!N204,allgemein!$I$12),8,IF(ISBLANK(allgemein!$I$13),allgemein!N204,allgemein!$I$13),IF(ISBLANK(allgemein!N204),\"\",allgemein!N204))","v":{"$error":"#NAME?"}},{"$f":"_xlfn.SWITCH(allgemein!O204,1,IF(ISBLANK(allgemein!$F$10),allgemein!O204,allgemein!$F$10),2,IF(ISBLANK(allgemein!$F$11),allgemein!O204,allgemein!$F$11),3,IF(ISBLANK(allgemein!$F$12),allgemein!O204,allgemein!$F$12),4,IF(ISBLANK(allgemein!$F$13),allgemein!O204,allgemein!$F$13),5,IF(ISBLANK(allgemein!$I$10),allgemein!O204,allgemein!$I$10),6,IF(ISBLANK(allgemein!$I$11),allgemein!O204,allgemein!$I$11),7,IF(ISBLANK(allgemein!$I$12),allgemein!O204,allgemein!$I$12),8,IF(ISBLANK(allgemein!$I$13),allgemein!O204,allgemein!$I$13),IF(ISBLANK(allgemein!O204),\"\",allgemein!O204))","v":{"$error":"#NAME?"}},{"$f":"_xlfn.SWITCH(allgemein!P204,1,IF(ISBLANK(allgemein!$F$10),allgemein!P204,allgemein!$F$10),2,IF(ISBLANK(allgemein!$F$11),allgemein!P204,allgemein!$F$11),3,IF(ISBLANK(allgemein!$F$12),allgemein!P204,allgemein!$F$12),4,IF(ISBLANK(allgemein!$F$13),allgemein!P204,allgemein!$F$13),5,IF(ISBLANK(allgemein!$I$10),allgemein!P204,allgemein!$I$10),6,IF(ISBLANK(allgemein!$I$11),allgemein!P204,allgemein!$I$11),7,IF(ISBLANK(allgemein!$I$12),allgemein!P204,allgemein!$I$12),8,IF(ISBLANK(allgemein!$I$13),allgemein!P204,allgemein!$I$13),IF(ISBLANK(allgemein!P204),\"\",allgemein!P204))","v":{"$error":"#NAME?"}},{"$f":"IF(ISBLANK(allgemein!Q204),\"\",allgemein!Q204)","v":""},{"$f":"IF(ISBLANK(allgemein!R204),\"\",allgemein!R204)","v":""},{"$f":"IF(ISBLANK(allgemein!S204),\"\",allgemein!S204)","v":""},{"$f":"IF(ISBLANK(allgemein!U204),\"\",allgemein!U204)","v":""}]
[{"$f":"IF(ISBLANK(allgemein!D205),\"\",allgemein!D205)","v":188},{"$f":"IF(ISBLANK(allgemein!E205),\"\",allgemein!E205)","v":""},{"$f":"IF(ISBLANK(allgemein!C205),\"\",allgemein!C205)","v":" "},{"$f":"IF(ISBLANK(allgemein!H205),\"\",allgemein!H205)","v":""},{"$f":"IF(ISBLANK(allgemein!I205),\"\",allgemein!I205)","v":""},{"$f":"IF(ISBLANK(allgemein!J205),\"\",allgemein!J205)","v":""},{"$f":"IF(ISBLANK(allgemein!K205),\"\",allgemein!K205)","v":""},{"$f":"IF(ISBLANK(allgemein!F205),\"\",IF(ISBLANK(allgemein!L205),1,0))","v":""},{"$f":"_xlfn.SWITCH(allgemein!M205,1,IF(ISBLANK(allgemein!$F$10),allgemein!M205,allgemein!$F$10),2,IF(ISBLANK(allgemein!$F$11),allgemein!M205,allgemein!$F$11),3,IF(ISBLANK(allgemein!$F$12),allgemein!M205,allgemein!$F$12),4,IF(ISBLANK(allgemein!$F$13),allgemein!M205,allgemein!$F$13),5,IF(ISBLANK(allgemein!$I$10),allgemein!M205,allgemein!$I$10),6,IF(ISBLANK(allgemein!$I$11),allgemein!M205,allgemein!$I$11),7,IF(ISBLANK(allgemein!$I$12),allgemein!M205,allgemein!$I$12),8,IF(ISBLANK(allgemein!$I$13),allgemein!M205,allgemein!$I$13),IF(ISBLANK(allgemein!M205),\"\",allgemein!M205))","v":{"$error":"#NAME?"}},{"$f":"_xlfn.SWITCH(allgemein!N205,1,IF(ISBLANK(allgemein!$F$10),allgemein!N205,allgemein!$F$10),2,IF(ISBLANK(allgemein!$F$11),allgemein!N205,allgemein!$F$11),3,IF(ISBLANK(allgemein!$F$12),allgemein!N205,allgemein!$F$12),4,IF(ISBLANK(allgemein!$F$13),allgemein!N205,allgemein!$F$13),5,IF(ISBLANK(allgemein!$I$10),allgemein!N205,allgemein!$I$10),6,IF(ISBLANK(allgemein!$I$11),allgemein!N205,allgemein!$I$11),7,IF(ISBLANK(allgemein!$I$12),allgemein!N205,allgemein!$I$12),8,IF(ISBLANK(allgemein!$I$13),allgemein!N205,allgemein!$I$13),IF(ISBLANK(allgemein!N205),\"\",allgemein!N205))","v":{"$error":"#NAME?"}},{"$f":"_xlfn.SWITCH(allgemein!O205,1,IF(ISBLANK(allgemein!$F$10),allgemein!O205,allgemein!$F$10),2,IF(ISBLANK(allgemein!$F$11),allgemein!O205,allgemein!$F$11),3,IF(ISBLANK(allgemein!$F$12),allgemein!O205,allgemein!$F$12),4,IF(ISBLANK(allgemein!$F$13),allgemein!O205,allgemein!$F$13),5,IF(ISBLANK(allgemein!$I$10),allgemein!O205,allgemein!$I$10),6,IF(ISBLANK(allgemein!$I$11),allgemein!O205,allgemein!$I$11),7,IF(ISBLANK(allgemein!$I$12),allgemein!O205,allgemein!$I$12),8,IF(ISBLANK(allgemein!$I$13),allgemein!O205,allgemein!$I$13),IF(ISBLANK(allgemein!O205),\"\",allgemein!O205))","v":{"$error":"#NAME?"}},{"$f":"_xlfn.SWITCH(allgemein!P205,1,IF(ISBLANK(allgemein!$F$10),allgemein!P205,allgemein!$F$10),2,IF(ISBLANK(allgemein!$F$11),allgemein!P205,allgemein!$F$11),3,IF(ISBLANK(allgemein!$F$12),allgemein!P205,allgemein!$F$12),4,IF(ISBLANK(allgemein!$F$13),allgemein!P205,allgemein!$F$13),5,IF(ISBLANK(allgemein!$I$10),allgemein!P205,allgemein!$I$10),6,IF(ISBLANK(allgemein!$I$11),allgemein!P205,allgemein!$I$11),7,IF(ISBLANK(allgemein!$I$12),allgemein!P205,allgemein!$I$12),8,IF(ISBLANK(allgemein!$I$13),allgemein!P205,allgemein!$I$13),IF(ISBLANK(allgemein!P205),\"\",allgemein!P205))","v":{"$error":"#NAME?"}},{"$f":"IF(ISBLANK(allgemein!Q205),\"\",allgemein!Q205)","v":""},{"$f":"IF(ISBLANK(allgemein!R205),\"\",allgemein!R205)","v":""},{"$f":"IF(ISBLANK(allgemein!S205),\"\",allgemein!S205)","v":""},{"$f":"IF(ISBLANK(allgemein!U205),\"\",allgemein!U205)","v":""}]
[{"$f":"IF(ISBLANK(allgemein!D206),\"\",allgemein!D206)","v":189},{"$f":"IF(ISBLANK(allgemein!E206),\"\",allgemein!E206)","v":""},{"$f":"IF(ISBLANK(allgemein!C206),\"\",allgemein!C206)","v":" "},{"$f":"IF(ISBLANK(allgemein!H206),\"\",allgemein!H206)","v":""},{"$f":"IF(ISBLANK(allgemein!I206),\"\",allgemein!I206)","v":""},{"$f":"IF(ISBLANK(allgemein!J206),\"\",allgemein!J206)","v":""},{"$f":"IF(ISBLANK(allgemein!K206),\"\",allgemein!K206)","v":""},{"$f":"IF(ISBLANK(allgemein!F206),\"\",IF(ISBLANK(allgemein!L206),1,0))","v":""},{"$f":"_xlfn.SWITCH(allgemein!M206,1,IF(ISBLANK(allgemein!$F$10),allgemein!M206,allgemein!$F$10),2,IF(ISBLANK(allgemein!$F$11),allgemein!M206,allgemein!$F$11),3,IF(ISBLANK(allgemein!$F$12),allgemein!M206,allgemein!$F$12),4,IF(ISBLANK(allgemein!$F$13),allgemein!M206,allgemein!$F$13),5,IF(ISBLANK(allgemein!$I$10),allgemein!M206,allgemein!$I$10),6,IF(ISBLANK(allgemein!$I$11),allgemein!M206,allgemein!$I$11),7,IF(ISBLANK(allgemein!$I$12),allgemein!M206,allgemein!$I$12),8,IF(ISBLANK(allgemein!$I$13),allgemein!M206,allgemein!$I$13),IF(ISBLANK(allgemein!M206),\"\",allgemein!M206))","v":{"$error":"#NAME?"}},{"$f":"_xlfn.SWITCH(allgemein!N206,1,IF(ISBLANK(allgemein!$F$10),allgemein!N206,allgemein!$F$10),2,IF(ISBLANK(allgemein!$F$11),allgemein!N206,allgemein!$F$11),3,IF(ISBLANK(allgemein!$F$12),allgemein!N206,allgemein!$F$12),4,IF(ISBLANK(allgemein!$F$13),allgemein!N206,allgemein!$F$13),5,IF(ISBLANK(allgemein!$I$10),allgemein!N206,allgemein!$I$10),6,IF(ISBLANK(allgemein!$I$11),allgemein!N206,allgemein!$I$11),7,IF(ISBLANK(allgemein!$I$12),allgemein!N206,allgemein!$I$12),8,IF(ISBLANK(allgemein!$I$13),allgemein!N206,allgemein!$I$13),IF(ISBLANK(allgemein!N206),\"\",allgemein!N206))","v":{"$error":"#NAME?"}},{"$f":"_xlfn.SWITCH(allgemein!O206,1,IF(ISBLANK(allgemein!$F$10),allgemein!O206,allgemein!$F$10),2,IF(ISBLANK(allgemein!$F$11),allgemein!O206,allgemein!$F$11),3,IF(ISBLANK(allgemein!$F$12),allgemein!O206,allgemein!$F$12),4,IF(ISBLANK(allgemein!$F$13),allgemein!O206,allgemein!$F$13),5,IF(ISBLANK(allgemein!$I$10),allgemein!O206,allgemein!$I$10),6,IF(ISBLANK(allgemein!$I$11),allgemein!O206,allgemein!$I$11),7,IF(ISBLANK(allgemein!$I$12),allgemein!O206,allgemein!$I$12),8,IF(ISBLANK(allgemein!$I$13),allgemein!O206,allgemein!$I$13),IF(ISBLANK(allgemein!O206),\"\",allgemein!O206))","v":{"$error":"#NAME?"}},{"$f":"_xlfn.SWITCH(allgemein!P206,1,IF(ISBLANK(allgemein!$F$10),allgemein!P206,allgemein!$F$10),2,IF(ISBLANK(allgemein!$F$11),allgemein!P206,allgemein!$F$11),3,IF(ISBLANK(allgemein!$F$12),allgemein!P206,allgemein!$F$12),4,IF(ISBLANK(allgemein!$F$13),allgemein!P206,allgemein!$F$13),5,IF(ISBLANK(allgemein!$I$10),allgemein!P206,allgemein!$I$10),6,IF(ISBLANK(allgemein!$I$11),allgemein!P206,allgemein!$I$11),7,IF(ISBLANK(allgemein!$I$12),allgemein!P206,allgemein!$I$12),8,IF(ISBLANK(allgemein!$I$13),allgemein!P206,allgemein!$I$13),IF(ISBLANK(allgemein!P206),\"\",allgemein!P206))","v":{"$error":"#NAME?"}},{"$f":"IF(ISBLANK(allgemein!Q206),\"\",allgemein!Q206)","v":""},{"$f":"IF(ISBLANK(allgemein!R206),\"\",allgemein!R206)","v":""},{"$f":"IF(ISBLANK(allgemein!S206),\"\",allgemein!S206)","v":""},{"$f":"IF(ISBLANK(allgemein!U206),\"\",allgemein!U206)","v":""}]
[{"$f":"IF(ISBLANK(allgemein!D207),\"\",allgemein!D207)","v":190},{"$f":"IF(ISBLANK(allgemein!E207),\"\",allgemein!E207)","v":""},{"$f":"IF(ISBLANK(allgemein!C207),\"\",allgemein!C207)","v":" "},{"$f":"IF(ISBLANK(allgemein!H207),\"\",allgemein!H207)","v":""},{"$f":"IF(ISBLANK(allgemein!I207),\"\",allgemein!I207)","v":""},{"$f":"IF(ISBLANK(allgemein!J207),\"\",allgemein!J207)","v":""},{"$f":"IF(ISBLANK(allgemein!K207),\"\",allgemein!K207)","v":""},{"$f":"IF(ISBLANK(allgemein!F207),\"\",IF(ISBLANK(allgemein!L207),1,0))","v":""},{"$f":"_xlfn.SWITCH(allgemein!M207,1,IF(ISBLANK(allgemein!$F$10),allgemein!M207,allgemein!$F$10),2,IF(ISBLANK(allgemein!$F$11),allgemein!M207,allgemein!$F$11),3,IF(ISBLANK(allgemein!$F$12),allgemein!M207,allgemein!$F$12),4,IF(ISBLANK(allgemein!$F$13),allgemein!M207,allgemein!$F$13),5,IF(ISBLANK(allgemein!$I$10),allgemein!M207,allgemein!$I$10),6,IF(ISBLANK(allgemein!$I$11),allgemein!M207,allgemein!$I$11),7,IF(ISBLANK(allgemein!$I$12),allgemein!M207,allgemein!$I$12),8,IF(ISBLANK(allgemein!$I$13),allgemein!M207,allgemein!$I$13),IF(ISBLANK(allgemein!M207),\"\",allgemein!M207))","v":{"$error":"#NAME?"}},{"$f":"_xlfn.SWITCH(allgemein!N207,1,IF(ISBLANK(allgemein!$F$10),allgemein!N207,allgemein!$F$10),2,IF(ISBLANK(allgemein!$F$11),allgemein!N207,allgemein!$F$11),3,IF(ISBLANK(allgemein!$F$12),allgemein!N207,allgemein!$F$12),4,IF(ISBLANK(allgemein!$F$13),allgemein!N207,allgemein!$F$13),5,IF(ISBLANK(allgemein!$I$10),allgemein!N207,allgemein!$I$10),6,IF(ISBLANK(allgemein!$I$11),allgemein!N207,allgemein!$I$11),7,IF(ISBLANK(allgemein!$I$12),allgemein!N207,allgemein!$I$12),8,IF(ISBLANK(allgemein!$I$13),allgemein!N207,allgemein!$I$13),IF(ISBLANK(allgemein!N207),\"\",allgemein!N207))","v":{"$error":"#NAME?"}},{"$f":"_xlfn.SWITCH(allgemein!O207,1,IF(ISBLANK(allgemein!$F$10),allgemein!O207,allgemein!$F$10),2,IF(ISBLANK(allgemein!$F$11),allgemein!O207,allgemein!$F$11),3,IF(ISBLANK(allgemein!$F$12),allgemein!O207,allgemein!$F$12),4,IF(ISBLANK(allgemein!$F$13),allgemein!O207,allgemein!$F$13),5,IF(ISBLANK(allgemein!$I$10),allgemein!O207,allgemein!$I$10),6,IF(ISBLANK(allgemein!$I$11),allgemein!O207,allgemein!$I$11),7,IF(ISBLANK(allgemein!$I$12),allgemein!O207,allgemein!$I$12),8,IF(ISBLANK(allgemein!$I$13),allgemein!O207,allgemein!$I$13),IF(ISBLANK(allgemein!O207),\"\",allgemein!O207))","v":{"$error":"#NAME?"}},{"$f":"_xlfn.SWITCH(allgemein!P207,1,IF(ISBLANK(allgemein!$F$10),allgemein!P207,allgemein!$F$10),2,IF(ISBLANK(allgemein!$F$11),allgemein!P207,allgemein!$F$11),3,IF(ISBLANK(allgemein!$F$12),allgemein!P207,allgemein!$F$12),4,IF(ISBLANK(allgemein!$F$13),allgemein!P207,allgemein!$F$13),5,IF(ISBLANK(allgemein!$I$10),allgemein!P207,allgemein!$I$10),6,IF(ISBLANK(allgemein!$I$11),allgemein!P207,allgemein!$I$11),7,IF(ISBLANK(allgemein!$I$12),allgemein!P207,allgemein!$I$12),8,IF(ISBLANK(allgemein!$I$13),allgemein!P207,allgemein!$I$13),IF(ISBLANK(allgemein!P207),\"\",allgemein!P207))","v":{"$error":"#NAME?"}},{"$f":"IF(ISBLANK(allgemein!Q207),\"\",allgemein!Q207)","v":""},{"$f":"IF(ISBLANK(allgemein!R207),\"\",allgemein!R207)","v":""},{"$f":"IF(ISBLANK(allgemein!S207),\"\",allgemein!S207)","v":""},{"$f":"IF(ISBLANK(allgemein!U207),\"\",allgemein!U207)","v":""}]
[{"$f":"IF(ISBLANK(allgemein!D208),\"\",allgemein!D208)","v":191},{"$f":"IF(ISBLANK(allgemein!E208),\"\",allgemein!E208)","v":""},{"$f":"IF(ISBLANK(allgemein!C208),\"\",allgemein!C208)","v":" "},{"$f":"IF(ISBLANK(allgemein!H208),\"\",allgemein!H208)","v":""},{"$f":"IF(ISBLANK(allgemein!I208),\"\",allgemein!I208)","v":""},{"$f":"IF(ISBLANK(allgemein!J208),\"\",allgemein!J208)","v":""},{"$f":"IF(ISBLANK(allgemein!K208),\"\",allgemein!K208)","v":""},{"$f":"IF(ISBLANK(allgemein!F208),\"\",IF(ISBLANK(allgemein!L208),1,0))","v":""},{"$f":"_xlfn.SWITCH(allgemein!M208,1,IF(ISBLANK(allgemein!$F$10),allgemein!M208,allgemein!$F$10),2,IF(ISBLANK(allgemein!$F$11),allgemein!M208,allgemein!$F$11),3,IF(ISBLANK(allgemein!$F$12),allgemein!M208,allgemein!$F$12),4,IF(ISBLANK(allgemein!$F$13),allgemein!M208,allgemein!$F$13),5,IF(ISBLANK(allgemein!$I$10),allgemein!M208,allgemein!$I$10),6,IF(ISBLANK(allgemein!$I$11),allgemein!M208,allgemein!$I$11),7,IF(ISBLANK(allgemein!$I$12),allgemein!M208,allgemein!$I$12),8,IF(ISBLANK(allgemein!$I$13),allgemein!M208,allgemein!$I$13),IF(ISBLANK(allgemein!M208),\"\",allgemein!M208))","v":{"$error":"#NAME?"}},{"$f":"_xlfn.SWITCH(allgemein!N208,1,IF(ISBLANK(allgemein!$F$10),allgemein!N208,allgemein!$F$10),2,IF(ISBLANK(allgemein!$F$11),allgemein!N208,allgemein!$F$11),3,IF(ISBLANK(allgemein!$F$12),allgemein!N208,allgemein!$F$12),4,IF(ISBLANK(allgemein!$F$13),allgemein!N208,allgemein!$F$13),5,IF(ISBLANK(allgemein!$I$10),allgemein!N208,allgemein!$I$10),6,IF(ISBLANK(allgemein!$I$11),allgemein!N208,allgemein!$I$11),7,IF(ISBLANK(allgemein!$I$12),allgemein!N208,allgemein!$I$12),8,IF(ISBLANK(allgemein!$I$13),allgemein!N208,allgemein!$I$13),IF(ISBLANK(allgemein!N208),\"\",allgemein!N208))","v":{"$error":"#NAME?"}},{"$f":"_xlfn.SWITCH(allgemein!O208,1,IF(ISBLANK(allgemein!$F$10),allgemein!O208,allgemein!$F$10),2,IF(ISBLANK(allgemein!$F$11),allgemein!O208,allgemein!$F$11),3,IF(ISBLANK(allgemein!$F$12),allgemein!O208,allgemein!$F$12),4,IF(ISBLANK(allgemein!$F$13),allgemein!O208,allgemein!$F$13),5,IF(ISBLANK(allgemein!$I$10),allgemein!O208,allgemein!$I$10),6,IF(ISBLANK(allgemein!$I$11),allgemein!O208,allgemein!$I$11),7,IF(ISBLANK(allgemein!$I$12),allgemein!O208,allgemein!$I$12),8,IF(ISBLANK(allgemein!$I$13),allgemein!O208,allgemein!$I$13),IF(ISBLANK(allgemein!O208),\"\",allgemein!O208))","v":{"$error":"#NAME?"}},{"$f":"_xlfn.SWITCH(allgemein!P208,1,IF(ISBLANK(allgemein!$F$10),allgemein!P208,allgemein!$F$10),2,IF(ISBLANK(allgemein!$F$11),allgemein!P208,allgemein!$F$11),3,IF(ISBLANK(allgemein!$F$12),allgemein!P208,allgemein!$F$12),4,IF(ISBLANK(allgemein!$F$13),allgemein!P208,allgemein!$F$13),5,IF(ISBLANK(allgemein!$I$10),allgemein!P208,allgemein!$I$10),6,IF(ISBLANK(allgemein!$I$11),allgemein!P208,allgemein!$I$11),7,IF(ISBLANK(allgemein!$I$12),allgemein!P208,allgemein!$I$12),8,IF(ISBLANK(allgemein!$I$13),allgemein!P208,allgemein!$I$13),IF(ISBLANK(allgemein!P208),\"\",allgemein!P208))","v":{"$error":"#NAME?"}},{"$f":"IF(ISBLANK(allgemein!Q208),\"\",allgemein!Q208)","v":""},{"$f":"IF(ISBLANK(allgemein!R208),\"\",allgemein!R208)","v":""},{"$f":"IF(ISBLANK(allgemein!S208),\"\",allgemein!S208)","v":""},{"$f":"IF(ISBLANK(allgemein!U208),\"\",allgemein!U208)","v":""}]
[{"$f":"IF(ISBLANK(allgemein!D209),\"\",allgemein!D209)","v":192},{"$f":"IF(ISBLANK(allgemein!E209),\"\",allgemein!E209)","v":""},{"$f":"IF(ISBLANK(allgemein!C209),\"\",allgemein!C209)","v":" "},{"$f":"IF(ISBLANK(allgemein!H209),\"\",allgemein!H209)","v":""},{"$f":"IF(ISBLANK(allgemein!I209),\"\",allgemein!I209)","v":""},{"$f":"IF(ISBLANK(allgemein!J209),\"\",allgemein!J209)","v":""},{"$f":"IF(ISBLANK(allgemein!K209),\"\",allgemein!K209)","v":""},{"$f":"IF(ISBLANK(allgemein!F209),\"\",IF(ISBLANK(allgemein!L209),1,0))","v":""},{"$f":"_xlfn.SWITCH(allgemein!M209,1,IF(ISBLANK(allgemein!$F$10),allgemein!M209,allgemein!$F$10),2,IF(ISBLANK(allgemein!$F$11),allgemein!M209,allgemein!$F$11),3,IF(ISBLANK(allgemein!$F$12),allgemein!M209,allgemein!$F$12),4,IF(ISBLANK(allgemein!$F$13),allgemein!M209,allgemein!$F$13),5,IF(ISBLANK(allgemein!$I$10),allgemein!M209,allgemein!$I$10),6,IF(ISBLANK(allgemein!$I$11),allgemein!M209,allgemein!$I$11),7,IF(ISBLANK(allgemein!$I$12),allgemein!M209,allgemein!$I$12),8,IF(ISBLANK(allgemein!$I$13),allgemein!M209,allgemein!$I$13),IF(ISBLANK(allgemein!M209),\"\",allgemein!M209))","v":{"$error":"#NAME?"}},{"$f":"_xlfn.SWITCH(allgemein!N209,1,IF(ISBLANK(allgemein!$F$10),allgemein!N209,allgemein!$F$10),2,IF(ISBLANK(allgemein!$F$11),allgemein!N209,allgemein!$F$11),3,IF(ISBLANK(allgemein!$F$12),allgemein!N209,allgemein!$F$12),4,IF(ISBLANK(allgemein!$F$13),allgemein!N209,allgemein!$F$13),5,IF(ISBLANK(allgemein!$I$10),allgemein!N209,allgemein!$I$10),6,IF(ISBLANK(allgemein!$I$11),allgemein!N209,allgemein!$I$11),7,IF(ISBLANK(allgemein!$I$12),allgemein!N209,allgemein!$I$12),8,IF(ISBLANK(allgemein!$I$13),allgemein!N209,allgemein!$I$13),IF(ISBLANK(allgemein!N209),\"\",allgemein!N209))","v":{"$error":"#NAME?"}},{"$f":"_xlfn.SWITCH(allgemein!O209,1,IF(ISBLANK(allgemein!$F$10),allgemein!O209,allgemein!$F$10),2,IF(ISBLANK(allgemein!$F$11),allgemein!O209,allgemein!$F$11),3,IF(ISBLANK(allgemein!$F$12),allgemein!O209,allgemein!$F$12),4,IF(ISBLANK(allgemein!$F$13),allgemein!O209,allgemein!$F$13),5,IF(ISBLANK(allgemein!$I$10),allgemein!O209,allgemein!$I$10),6,IF(ISBLANK(allgemein!$I$11),allgemein!O209,allgemein!$I$11),7,IF(ISBLANK(allgemein!$I$12),allgemein!O209,allgemein!$I$12),8,IF(ISBLANK(allgemein!$I$13),allgemein!O209,allgemein!$I$13),IF(ISBLANK(allgemein!O209),\"\",allgemein!O209))","v":{"$error":"#NAME?"}},{"$f":"_xlfn.SWITCH(allgemein!P209,1,IF(ISBLANK(allgemein!$F$10),allgemein!P209,allgemein!$F$10),2,IF(ISBLANK(allgemein!$F$11),allgemein!P209,allgemein!$F$11),3,IF(ISBLANK(allgemein!$F$12),allgemein!P209,allgemein!$F$12),4,IF(ISBLANK(allgemein!$F$13),allgemein!P209,allgemein!$F$13),5,IF(ISBLANK(allgemein!$I$10),allgemein!P209,allgemein!$I$10),6,IF(ISBLANK(allgemein!$I$11),allgemein!P209,allgemein!$I$11),7,IF(ISBLANK(allgemein!$I$12),allgemein!P209,allgemein!$I$12),8,IF(ISBLANK(allgemein!$I$13),allgemein!P209,allgemein!$I$13),IF(ISBLANK(allgemein!P209),\"\",allgemein!P209))","v":{"$error":"#NAME?"}},{"$f":"IF(ISBLANK(allgemein!Q209),\"\",allgemein!Q209)","v":""},{"$f":"IF(ISBLANK(allgemein!R209),\"\",allgemein!R209)","v":""},{"$f":"IF(ISBLANK(allgemein!S209),\"\",allgemein!S209)","v":""},{"$f":"IF(ISBLANK(allgemein!U209),\"\",allgemein!U209)","v":""}]
[{"$f":"IF(ISBLANK(allgemein!D210),\"\",allgemein!D210)","v":193},{"$f":"IF(ISBLANK(allgemein!E210),\"\",allgemein!E210)","v":""},{"$f":"IF(ISBLANK(allgemein!C210),\"\",allgemein!C210)","v":" "},{"$f":"IF(ISBLANK(allgemein!H210),\"\",allgemein!H210)","v":""},{"$f":"IF(ISBLANK(allgemein!I210),\"\",allgemein!I210)","v":""},{"$f":"IF(ISBLANK(allgemein!J210),\"\",allgemein!J210)","v":""},{"$f":"IF(ISBLANK(allgemein!K210),\"\",allgemein!K210)","v":""},{"$f":"IF(ISBLANK(allgemein!F210),\"\",IF(ISBLANK(allgemein!L210),1,0))","v":""},{"$f":"_xlfn.SWITCH(allgemein!M210,1,IF(ISBLANK(allgemein!$F$10),allgemein!M210,allgemein!$F$10),2,IF(ISBLANK(allgemein!$F$11),allgemein!M210,allgemein!$F$11),3,IF(ISBLANK(allgemein!$F$12),allgemein!M210,allgemein!$F$12),4,IF(ISBLANK(allgemein!$F$13),allgemein!M210,allgemein!$F$13),5,IF(ISBLANK(allgemein!$I$10),allgemein!M210,allgemein!$I$10),6,IF(ISBLANK(allgemein!$I$11),allgemein!M210,allgemein!$I$11),7,IF(ISBLANK(allgemein!$I$12),allgemein!M210,allgemein!$I$12),8,IF(ISBLANK(allgemein!$I$13),allgemein!M210,allgemein!$I$13),IF(ISBLANK(allgemein!M210),\"\",allgemein!M210))","v":{"$error":"#NAME?"}},{"$f":"_xlfn.SWITCH(allgemein!N210,1,IF(ISBLANK(allgemein!$F$10),allgemein!N210,allgemein!$F$10),2,IF(ISBLANK(allgemein!$F$11),allgemein!N210,allgemein!$F$11),3,IF(ISBLANK(allgemein!$F$12),allgemein!N210,allgemein!$F$12),4,IF(ISBLANK(allgemein!$F$13),allgemein!N210,allgemein!$F$13),5,IF(ISBLANK(allgemein!$I$10),allgemein!N210,allgemein!$I$10),6,IF(ISBLANK(allgemein!$I$11),allgemein!N210,allgemein!$I$11),7,IF(ISBLANK(allgemein!$I$12),allgemein!N210,allgemein!$I$12),8,IF(ISBLANK(allgemein!$I$13),allgemein!N210,allgemein!$I$13),IF(ISBLANK(allgemein!N210),\"\",allgemein!N210))","v":{"$error":"#NAME?"}},{"$f":"_xlfn.SWITCH(allgemein!O210,1,IF(ISBLANK(allgemein!$F$10),allgemein!O210,allgemein!$F$10),2,IF(ISBLANK(allgemein!$F$11),allgemein!O210,allgemein!$F$11),3,IF(ISBLANK(allgemein!$F$12),allgemein!O210,allgemein!$F$12),4,IF(ISBLANK(allgemein!$F$13),allgemein!O210,allgemein!$F$13),5,IF(ISBLANK(allgemein!$I$10),allgemein!O210,allgemein!$I$10),6,IF(ISBLANK(allgemein!$I$11),allgemein!O210,allgemein!$I$11),7,IF(ISBLANK(allgemein!$I$12),allgemein!O210,allgemein!$I$12),8,IF(ISBLANK(allgemein!$I$13),allgemein!O210,allgemein!$I$13),IF(ISBLANK(allgemein!O210),\"\",allgemein!O210))","v":{"$error":"#NAME?"}},{"$f":"_xlfn.SWITCH(allgemein!P210,1,IF(ISBLANK(allgemein!$F$10),allgemein!P210,allgemein!$F$10),2,IF(ISBLANK(allgemein!$F$11),allgemein!P210,allgemein!$F$11),3,IF(ISBLANK(allgemein!$F$12),allgemein!P210,allgemein!$F$12),4,IF(ISBLANK(allgemein!$F$13),allgemein!P210,allgemein!$F$13),5,IF(ISBLANK(allgemein!$I$10),allgemein!P210,allgemein!$I$10),6,IF(ISBLANK(allgemein!$I$11),allgemein!P210,allgemein!$I$11),7,IF(ISBLANK(allgemein!$I$12),allgemein!P210,allgemein!$I$12),8,IF(ISBLANK(allgemein!$I$13),allgemein!P210,allgemein!$I$13),IF(ISBLANK(allgemein!P210),\"\",allgemein!P210))","v":{"$error":"#NAME?"}},{"$f":"IF(ISBLANK(allgemein!Q210),\"\",allgemein!Q210)","v":""},{"$f":"IF(ISBLANK(allgemein!R210),\"\",allgemein!R210)","v":""},{"$f":"IF(ISBLANK(allgemein!S210),\"\",allgemein!S210)","v":""},{"$f":"IF(ISBLANK(allgemein!U210),\"\",allgemein!U210)","v":""}]
[{"$f":"IF(ISBLANK(allgemein!D211),\"\",allgemein!D211)","v":194},{"$f":"IF(ISBLANK(allgemein!E211),\"\",allgemein!E211)","v":""},{"$f":"IF(ISBLANK(allgemein!C211),\"\",allgemein!C211)","v":" "},{"$f":"IF(ISBLANK(allgemein!H211),\"\",allgemein!H211)","v":""},{"$f":"IF(ISBLANK(allgemein!I211),\"\",allgemein!I211)","v":""},{"$f":"IF(ISBLANK(allgemein!J211),\"\",allgemein!J211)","v":""},{"$f":"IF(ISBLANK(allgemein!K211),\"\",allgemein!K211)","v":""},{"$f":"IF(ISBLANK(allgemein!F211),\"\",IF(ISBLANK(allgemein!L211),1,0))","v":""},{"$f":"_xlfn.SWITCH(allgemein!M211,1,IF(ISBLANK(allgemein!$F$10),allgemein!M211,allgemein!$F$10),2,IF(ISBLANK(allgemein!$F$11),allgemein!M211,allgemein!$F$11),3,IF(ISBLANK(allgemein!$F$12),allgemein!M211,allgemein!$F$12),4,IF(ISBLANK(allgemein!$F$13),allgemein!M211,allgemein!$F$13),5,IF(ISBLANK(allgemein!$I$10),allgemein!M211,allgemein!$I$10),6,IF(ISBLANK(allgemein!$I$11),allgemein!M211,allgemein!$I$11),7,IF(ISBLANK(allgemein!$I$12),allgemein!M211,allgemein!$I$12),8,IF(ISBLANK(allgemein!$I$13),allgemein!M211,allgemein!$I$13),IF(ISBLANK(allgemein!M211),\"\",allgemein!M211))","v":{"$error":"#NAME?"}},{"$f":"_xlfn.SWITCH(allgemein!N211,1,IF(ISBLANK(allgemein!$F$10),allgemein!N211,allgemein!$F$10),2,IF(ISBLANK(allgemein!$F$11),allgemein!N211,allgemein!$F$11),3,IF(ISBLANK(allgemein!$F$12),allgemein!N211,allgemein!$F$12),4,IF(ISBLANK(allgemein!$F$13),allgemein!N211,allgemein!$F$13),5,IF(ISBLANK(allgemein!$I$10),allgemein!N211,allgemein!$I$10),6,IF(ISBLANK(allgemein!$I$11),allgemein!N211,allgemein!$I$11),7,IF(ISBLANK(allgemein!$I$12),allgemein!N211,allgemein!$I$12),8,IF(ISBLANK(allgemein!$I$13),allgemein!N211,allgemein!$I$13),IF(ISBLANK(allgemein!N211),\"\",allgemein!N211))","v":{"$error":"#NAME?"}},{"$f":"_xlfn.SWITCH(allgemein!O211,1,IF(ISBLANK(allgemein!$F$10),allgemein!O211,allgemein!$F$10),2,IF(ISBLANK(allgemein!$F$11),allgemein!O211,allgemein!$F$11),3,IF(ISBLANK(allgemein!$F$12),allgemein!O211,allgemein!$F$12),4,IF(ISBLANK(allgemein!$F$13),allgemein!O211,allgemein!$F$13),5,IF(ISBLANK(allgemein!$I$10),allgemein!O211,allgemein!$I$10),6,IF(ISBLANK(allgemein!$I$11),allgemein!O211,allgemein!$I$11),7,IF(ISBLANK(allgemein!$I$12),allgemein!O211,allgemein!$I$12),8,IF(ISBLANK(allgemein!$I$13),allgemein!O211,allgemein!$I$13),IF(ISBLANK(allgemein!O211),\"\",allgemein!O211))","v":{"$error":"#NAME?"}},{"$f":"_xlfn.SWITCH(allgemein!P211,1,IF(ISBLANK(allgemein!$F$10),allgemein!P211,allgemein!$F$10),2,IF(ISBLANK(allgemein!$F$11),allgemein!P211,allgemein!$F$11),3,IF(ISBLANK(allgemein!$F$12),allgemein!P211,allgemein!$F$12),4,IF(ISBLANK(allgemein!$F$13),allgemein!P211,allgemein!$F$13),5,IF(ISBLANK(allgemein!$I$10),allgemein!P211,allgemein!$I$10),6,IF(ISBLANK(allgemein!$I$11),allgemein!P211,allgemein!$I$11),7,IF(ISBLANK(allgemein!$I$12),allgemein!P211,allgemein!$I$12),8,IF(ISBLANK(allgemein!$I$13),allgemein!P211,allgemein!$I$13),IF(ISBLANK(allgemein!P211),\"\",allgemein!P211))","v":{"$error":"#NAME?"}},{"$f":"IF(ISBLANK(allgemein!Q211),\"\",allgemein!Q211)","v":""},{"$f":"IF(ISBLANK(allgemein!R211),\"\",allgemein!R211)","v":""},{"$f":"IF(ISBLANK(allgemein!S211),\"\",allgemein!S211)","v":""},{"$f":"IF(ISBLANK(allgemein!U211),\"\",allgemein!U211)","v":""}]
[{"$f":"IF(ISBLANK(allgemein!D212),\"\",allgemein!D212)","v":195},{"$f":"IF(ISBLANK(allgemein!E212),\"\",allgemein!E212)","v":""},{"$f":"IF(ISBLANK(allgemein!C212),\"\",allgemein!C212)","v":" "},{"$f":"IF(ISBLANK(allgemein!H212),\"\",allgemein!H212)","v":""},{"$f":"IF(ISBLANK(allgemein!I212),\"\",allgemein!I212)","v":""},{"$f":"IF(ISBLANK(allgemein!J212),\"\",allgemein!J212)","v":""},{"$f":"IF(ISBLANK(allgemein!K212),\"\",allgemein!K212)","v":""},{"$f":"IF(ISBLANK(allgemein!F212),\"\",IF(ISBLANK(allgemein!L212),1,0))","v":""},{"$f":"_xlfn.SWITCH(allgemein!M212,1,IF(ISBLANK(allgemein!$F$10),allgemein!M212,allgemein!$F$10),2,IF(ISBLANK(allgemein!$F$11),allgemein!M212,allgemein!$F$11),3,IF(ISBLANK(allgemein!$F$12),allgemein!M212,allgemein!$F$12),4,IF(ISBLANK(allgemein!$F$13),allgemein!M212,allgemein!$F$13),5,IF(ISBLANK(allgemein!$I$10),allgemein!M212,allgemein!$I$10),6,IF(ISBLANK(allgemein!$I$11),allgemein!M212,allgemein!$I$11),7,IF(ISBLANK(allgemein!$I$12),allgemein!M212,allgemein!$I$12),8,IF(ISBLANK(allgemein!$I$13),allgemein!M212,allgemein!$I$13),IF(ISBLANK(allgemein!M212),\"\",allgemein!M212))","v":{"$error":"#NAME?"}},{"$f":"_xlfn.SWITCH(allgemein!N212,1,IF(ISBLANK(allgemein!$F$10),allgemein!N212,allgemein!$F$10),2,IF(ISBLANK(allgemein!$F$11),allgemein!N212,allgemein!$F$11),3,IF(ISBLANK(allgemein!$F$12),allgemein!N212,allgemein!$F$12),4,IF(ISBLANK(allgemein!$F$13),allgemein!N212,allgemein!$F$13),5,IF(ISBLANK(allgemein!$I$10),allgemein!N212,allgemein!$I$10),6,IF(ISBLANK(allgemein!$I$11),allgemein!N212,allgemein!$I$11),7,IF(ISBLANK(allgemein!$I$12),allgemein!N212,allgemein!$I$12),8,IF(ISBLANK(allgemein!$I$13),allgemein!N212,allgemein!$I$13),IF(ISBLANK(allgemein!N212),\"\",allgemein!N212))","v":{"$error":"#NAME?"}},{"$f":"_xlfn.SWITCH(allgemein!O212,1,IF(ISBLANK(allgemein!$F$10),allgemein!O212,allgemein!$F$10),2,IF(ISBLANK(allgemein!$F$11),allgemein!O212,allgemein!$F$11),3,IF(ISBLANK(allgemein!$F$12),allgemein!O212,allgemein!$F$12),4,IF(ISBLANK(allgemein!$F$13),allgemein!O212,allgemein!$F$13),5,IF(ISBLANK(allgemein!$I$10),allgemein!O212,allgemein!$I$10),6,IF(ISBLANK(allgemein!$I$11),allgemein!O212,allgemein!$I$11),7,IF(ISBLANK(allgemein!$I$12),allgemein!O212,allgemein!$I$12),8,IF(ISBLANK(allgemein!$I$13),allgemein!O212,allgemein!$I$13),IF(ISBLANK(allgemein!O212),\"\",allgemein!O212))","v":{"$error":"#NAME?"}},{"$f":"_xlfn.SWITCH(allgemein!P212,1,IF(ISBLANK(allgemein!$F$10),allgemein!P212,allgemein!$F$10),2,IF(ISBLANK(allgemein!$F$11),allgemein!P212,allgemein!$F$11),3,IF(ISBLANK(allgemein!$F$12),allgemein!P212,allgemein!$F$12),4,IF(ISBLANK(allgemein!$F$13),allgemein!P212,allgemein!$F$13),5,IF(ISBLANK(allgemein!$I$10),allgemein!P212,allgemein!$I$10),6,IF(ISBLANK(allgemein!$I$11),allgemein!P212,allgemein!$I$11),7,IF(ISBLANK(allgemein!$I$12),allgemein!P212,allgemein!$I$12),8,IF(ISBLANK(allgemein!$I$13),allgemein!P212,allgemein!$I$13),IF(ISBLANK(allgemein!P212),\"\",allgemein!P212))","v":{"$error":"#NAME?"}},{"$f":"IF(ISBLANK(allgemein!Q212),\"\",allgemein!Q212)","v":""},{"$f":"IF(ISBLANK(allgemein!R212),\"\",allgemein!R212)","v":""},{"$f":"IF(ISBLANK(allgemein!S212),\"\",allgemein!S212)","v":""},{"$f":"IF(ISBLANK(allgemein!U212),\"\",allgemein!U212)","v":""}]
[{"$f":"IF(ISBLANK(allgemein!D213),\"\",allgemein!D213)","v":196},{"$f":"IF(ISBLANK(allgemein!E213),\"\",allgemein!E213)","v":""},{"$f":"IF(ISBLANK(allgemein!C213),\"\",allgemein!C213)","v":" "},{"$f":"IF(ISBLANK(allgemein!H213),\"\",allgemein!H213)","v":""},{"$f":"IF(ISBLANK(allgemein!I213),\"\",allgemein!I213)","v":""},{"$f":"IF(ISBLANK(allgemein!J213),\"\",allgemein!J213)","v":""},{"$f":"IF(ISBLANK(allgemein!K213),\"\",allgemein!K213)","v":""},{"$f":"IF(ISBLANK(allgemein!F213),\"\",IF(ISBLANK(allgemein!L213),1,0))","v":""},{"$f":"_xlfn.SWITCH(allgemein!M213,1,IF(ISBLANK(allgemein!$F$10),allgemein!M213,allgemein!$F$10),2,IF(ISBLANK(allgemein!$F$11),allgemein!M213,allgemein!$F$11),3,IF(ISBLANK(allgemein!$F$12),allgemein!M213,allgemein!$F$12),4,IF(ISBLANK(allgemein!$F$13),allgemein!M213,allgemein!$F$13),5,IF(ISBLANK(allgemein!$I$10),allgemein!M213,allgemein!$I$10),6,IF(ISBLANK(allgemein!$I$11),allgemein!M213,allgemein!$I$11),7,IF(ISBLANK(allgemein!$I$12),allgemein!M213,allgemein!$I$12),8,IF(ISBLANK(allgemein!$I$13),allgemein!M213,allgemein!$I$13),IF(ISBLANK(allgemein!M213),\"\",allgemein!M213))","v":{"$error":"#NAME?"}},{"$f":"_xlfn.SWITCH(allgemein!N213,1,IF(ISBLANK(allgemein!$F$10),allgemein!N213,allgemein!$F$10),2,IF(ISBLANK(allgemein!$F$11),allgemein!N213,allgemein!$F$11),3,IF(ISBLANK(allgemein!$F$12),allgemein!N213,allgemein!$F$12),4,IF(ISBLANK(allgemein!$F$13),allgemein!N213,allgemein!$F$13),5,IF(ISBLANK(allgemein!$I$10),allgemein!N213,allgemein!$I$10),6,IF(ISBLANK(allgemein!$I$11),allgemein!N213,allgemein!$I$11),7,IF(ISBLANK(allgemein!$I$12),allgemein!N213,allgemein!$I$12),8,IF(ISBLANK(allgemein!$I$13),allgemein!N213,allgemein!$I$13),IF(ISBLANK(allgemein!N213),\"\",allgemein!N213))","v":{"$error":"#NAME?"}},{"$f":"_xlfn.SWITCH(allgemein!O213,1,IF(ISBLANK(allgemein!$F$10),allgemein!O213,allgemein!$F$10),2,IF(ISBLANK(allgemein!$F$11),allgemein!O213,allgemein!$F$11),3,IF(ISBLANK(allgemein!$F$12),allgemein!O213,allgemein!$F$12),4,IF(ISBLANK(allgemein!$F$13),allgemein!O213,allgemein!$F$13),5,IF(ISBLANK(allgemein!$I$10),allgemein!O213,allgemein!$I$10),6,IF(ISBLANK(allgemein!$I$11),allgemein!O213,allgemein!$I$11),7,IF(ISBLANK(allgemein!$I$12),allgemein!O213,allgemein!$I$12),8,IF(ISBLANK(allgemein!$I$13),allgemein!O213,allgemein!$I$13),IF(ISBLANK(allgemein!O213),\"\",allgemein!O213))","v":{"$error":"#NAME?"}},{"$f":"_xlfn.SWITCH(allgemein!P213,1,IF(ISBLANK(allgemein!$F$10),allgemein!P213,allgemein!$F$10),2,IF(ISBLANK(allgemein!$F$11),allgemein!P213,allgemein!$F$11),3,IF(ISBLANK(allgemein!$F$12),allgemein!P213,allgemein!$F$12),4,IF(ISBLANK(allgemein!$F$13),allgemein!P213,allgemein!$F$13),5,IF(ISBLANK(allgemein!$I$10),allgemein!P213,allgemein!$I$10),6,IF(ISBLANK(allgemein!$I$11),allgemein!P213,allgemein!$I$11),7,IF(ISBLANK(allgemein!$I$12),allgemein!P213,allgemein!$I$12),8,IF(ISBLANK(allgemein!$I$13),allgemein!P213,allgemein!$I$13),IF(ISBLANK(allgemein!P213),\"\",allgemein!P213))","v":{"$error":"#NAME?"}},{"$f":"IF(ISBLANK(allgemein!Q213),\"\",allgemein!Q213)","v":""},{"$f":"IF(ISBLANK(allgemein!R213),\"\",allgemein!R213)","v":""},{"$f":"IF(ISBLANK(allgemein!S213),\"\",allgemein!S213)","v":""},{"$f":"IF(ISBLANK(allgemein!U213),\"\",allgemein!U213)","v":""}]
[{"$f":"IF(ISBLANK(allgemein!D214),\"\",allgemein!D214)","v":197},{"$f":"IF(ISBLANK(allgemein!E214),\"\",allgemein!E214)","v":""},{"$f":"IF(ISBLANK(allgemein!C214),\"\",allgemein!C214)","v":" "},{"$f":"IF(ISBLANK(allgemein!H214),\"\",allgemein!H214)","v":""},{"$f":"IF(ISBLANK(allgemein!I214),\"\",allgemein!I214)","v":""},{"$f":"IF(ISBLANK(allgemein!J214),\"\",allgemein!J214)","v":""},{"$f":"IF(ISBLANK(allgemein!K214),\"\",allgemein!K214)","v":""},{"$f":"IF(ISBLANK(allgemein!F214),\"\",IF(ISBLANK(allgemein!L214),1,0))","v":""},{"$f":"_xlfn.SWITCH(allgemein!M214,1,IF(ISBLANK(allgemein!$F$10),allgemein!M214,allgemein!$F$10),2,IF(ISBLANK(allgemein!$F$11),allgemein!M214,allgemein!$F$11),3,IF(ISBLANK(allgemein!$F$12),allgemein!M214,allgemein!$F$12),4,IF(ISBLANK(allgemein!$F$13),allgemein!M214,allgemein!$F$13),5,IF(ISBLANK(allgemein!$I$10),allgemein!M214,allgemein!$I$10),6,IF(ISBLANK(allgemein!$I$11),allgemein!M214,allgemein!$I$11),7,IF(ISBLANK(allgemein!$I$12),allgemein!M214,allgemein!$I$12),8,IF(ISBLANK(allgemein!$I$13),allgemein!M214,allgemein!$I$13),IF(ISBLANK(allgemein!M214),\"\",allgemein!M214))","v":{"$error":"#NAME?"}},{"$f":"_xlfn.SWITCH(allgemein!N214,1,IF(ISBLANK(allgemein!$F$10),allgemein!N214,allgemein!$F$10),2,IF(ISBLANK(allgemein!$F$11),allgemein!N214,allgemein!$F$11),3,IF(ISBLANK(allgemein!$F$12),allgemein!N214,allgemein!$F$12),4,IF(ISBLANK(allgemein!$F$13),allgemein!N214,allgemein!$F$13),5,IF(ISBLANK(allgemein!$I$10),allgemein!N214,allgemein!$I$10),6,IF(ISBLANK(allgemein!$I$11),allgemein!N214,allgemein!$I$11),7,IF(ISBLANK(allgemein!$I$12),allgemein!N214,allgemein!$I$12),8,IF(ISBLANK(allgemein!$I$13),allgemein!N214,allgemein!$I$13),IF(ISBLANK(allgemein!N214),\"\",allgemein!N214))","v":{"$error":"#NAME?"}},{"$f":"_xlfn.SWITCH(allgemein!O214,1,IF(ISBLANK(allgemein!$F$10),allgemein!O214,allgemein!$F$10),2,IF(ISBLANK(allgemein!$F$11),allgemein!O214,allgemein!$F$11),3,IF(ISBLANK(allgemein!$F$12),allgemein!O214,allgemein!$F$12),4,IF(ISBLANK(allgemein!$F$13),allgemein!O214,allgemein!$F$13),5,IF(ISBLANK(allgemein!$I$10),allgemein!O214,allgemein!$I$10),6,IF(ISBLANK(allgemein!$I$11),allgemein!O214,allgemein!$I$11),7,IF(ISBLANK(allgemein!$I$12),allgemein!O214,allgemein!$I$12),8,IF(ISBLANK(allgemein!$I$13),allgemein!O214,allgemein!$I$13),IF(ISBLANK(allgemein!O214),\"\",allgemein!O214))","v":{"$error":"#NAME?"}},{"$f":"_xlfn.SWITCH(allgemein!P214,1,IF(ISBLANK(allgemein!$F$10),allgemein!P214,allgemein!$F$10),2,IF(ISBLANK(allgemein!$F$11),allgemein!P214,allgemein!$F$11),3,IF(ISBLANK(allgemein!$F$12),allgemein!P214,allgemein!$F$12),4,IF(ISBLANK(allgemein!$F$13),allgemein!P214,allgemein!$F$13),5,IF(ISBLANK(allgemein!$I$10),allgemein!P214,allgemein!$I$10),6,IF(ISBLANK(allgemein!$I$11),allgemein!P214,allgemein!$I$11),7,IF(ISBLANK(allgemein!$I$12),allgemein!P214,allgemein!$I$12),8,IF(ISBLANK(allgemein!$I$13),allgemein!P214,allgemein!$I$13),IF(ISBLANK(allgemein!P214),\"\",allgemein!P214))","v":{"$error":"#NAME?"}},{"$f":"IF(ISBLANK(allgemein!Q214),\"\",allgemein!Q214)","v":""},{"$f":"IF(ISBLANK(allgemein!R214),\"\",allgemein!R214)","v":""},{"$f":"IF(ISBLANK(allgemein!S214),\"\",allgemein!S214)","v":""},{"$f":"IF(ISBLANK(allgemein!U214),\"\",allgemein!U214)","v":""}]
[{"$f":"IF(ISBLANK(allgemein!D215),\"\",allgemein!D215)","v":198},{"$f":"IF(ISBLANK(allgemein!E215),\"\",allgemein!E215)","v":""},{"$f":"IF(ISBLANK(allgemein!C215),\"\",allgemein!C215)","v":" "},{"$f":"IF(ISBLANK(allgemein!H215),\"\",allgemein!H215)","v":""},{"$f":"IF(ISBLANK(allgemein!I215),\"\",allgemein!I215)","v":""},{"$f":"IF(ISBLANK(allgemein!J215),\"\",allgemein!J215)","v":""},{"$f":"IF(ISBLANK(allgemein!K215),\"\",allgemein!K215)","v":""},{"$f":"IF(ISBLANK(allgemein!F215),\"\",IF(ISBLANK(allgemein!L215),1,0))","v":""},{"$f":"_xlfn.SWITCH(allgemein!M215,1,IF(ISBLANK(allgemein!$F$10),allgemein!M215,allgemein!$F$10),2,IF(ISBLANK(allgemein!$F$11),allgemein!M215,allgemein!$F$11),3,IF(ISBLANK(allgemein!$F$12),allgemein!M215,allgemein!$F$12),4,IF(ISBLANK(allgemein!$F$13),allgemein!M215,allgemein!$F$13),5,IF(ISBLANK(allgemein!$I$10),allgemein!M215,allgemein!$I$10),6,IF(ISBLANK(allgemein!$I$11),allgemein!M215,allgemein!$I$11),7,IF(ISBLANK(allgemein!$I$12),allgemein!M215,allgemein!$I$12),8,IF(ISBLANK(allgemein!$I$13),allgemein!M215,allgemein!$I$13),IF(ISBLANK(allgemein!M215),\"\",allgemein!M215))","v":{"$error":"#NAME?"}},{"$f":"_xlfn.SWITCH(allgemein!N215,1,IF(ISBLANK(allgemein!$F$10),allgemein!N215,allgemein!$F$10),2,IF(ISBLANK(allgemein!$F$11),allgemein!N215,allgemein!$F$11),3,IF(ISBLANK(allgemein!$F$12),allgemein!N215,allgemein!$F$12),4,IF(ISBLANK(allgemein!$F$13),allgemein!N215,allgemein!$F$13),5,IF(ISBLANK(allgemein!$I$10),allgemein!N215,allgemein!$I$10),6,IF(ISBLANK(allgemein!$I$11),allgemein!N215,allgemein!$I$11),7,IF(ISBLANK(allgemein!$I$12),allgemein!N215,allgemein!$I$12),8,IF(ISBLANK(allgemein!$I$13),allgemein!N215,allgemein!$I$13),IF(ISBLANK(allgemein!N215),\"\",allgemein!N215))","v":{"$error":"#NAME?"}},{"$f":"_xlfn.SWITCH(allgemein!O215,1,IF(ISBLANK(allgemein!$F$10),allgemein!O215,allgemein!$F$10),2,IF(ISBLANK(allgemein!$F$11),allgemein!O215,allgemein!$F$11),3,IF(ISBLANK(allgemein!$F$12),allgemein!O215,allgemein!$F$12),4,IF(ISBLANK(allgemein!$F$13),allgemein!O215,allgemein!$F$13),5,IF(ISBLANK(allgemein!$I$10),allgemein!O215,allgemein!$I$10),6,IF(ISBLANK(allgemein!$I$11),allgemein!O215,allgemein!$I$11),7,IF(ISBLANK(allgemein!$I$12),allgemein!O215,allgemein!$I$12),8,IF(ISBLANK(allgemein!$I$13),allgemein!O215,allgemein!$I$13),IF(ISBLANK(allgemein!O215),\"\",allgemein!O215))","v":{"$error":"#NAME?"}},{"$f":"_xlfn.SWITCH(allgemein!P215,1,IF(ISBLANK(allgemein!$F$10),allgemein!P215,allgemein!$F$10),2,IF(ISBLANK(allgemein!$F$11),allgemein!P215,allgemein!$F$11),3,IF(ISBLANK(allgemein!$F$12),allgemein!P215,allgemein!$F$12),4,IF(ISBLANK(allgemein!$F$13),allgemein!P215,allgemein!$F$13),5,IF(ISBLANK(allgemein!$I$10),allgemein!P215,allgemein!$I$10),6,IF(ISBLANK(allgemein!$I$11),allgemein!P215,allgemein!$I$11),7,IF(ISBLANK(allgemein!$I$12),allgemein!P215,allgemein!$I$12),8,IF(ISBLANK(allgemein!$I$13),allgemein!P215,allgemein!$I$13),IF(ISBLANK(allgemein!P215),\"\",allgemein!P215))","v":{"$error":"#NAME?"}},{"$f":"IF(ISBLANK(allgemein!Q215),\"\",allgemein!Q215)","v":""},{"$f":"IF(ISBLANK(allgemein!R215),\"\",allgemein!R215)","v":""},{"$f":"IF(ISBLANK(allgemein!S215),\"\",allgemein!S215)","v":""},{"$f":"IF(ISBLANK(allgemein!U215),\"\",allgemein!U215)","v":""}]
[{"$f":"IF(ISBLANK(allgemein!D216),\"\",allgemein!D216)","v":199},{"$f":"IF(ISBLANK(allgemein!E216),\"\",allgemein!E216)","v":""},{"$f":"IF(ISBLANK(allgemein!C216),\"\",allgemein!C216)","v":" "},{"$f":"IF(ISBLANK(allgemein!H216),\"\",allgemein!H216)","v":""},{"$f":"IF(ISBLANK(allgemein!I216),\"\",allgemein!I216)","v":""},{"$f":"IF(ISBLANK(allgemein!J216),\"\",allgemein!J216)","v":""},{"$f":"IF(ISBLANK(allgemein!K216),\"\",allgemein!K216)","v":""},{"$f":"IF(ISBLANK(allgemein!F216),\"\",IF(ISBLANK(allgemein!L216),1,0))","v":""},{"$f":"_xlfn.SWITCH(allgemein!M216,1,IF(ISBLANK(allgemein!$F$10),allgemein!M216,allgemein!$F$10),2,IF(ISBLANK(allgemein!$F$11),allgemein!M216,allgemein!$F$11),3,IF(ISBLANK(allgemein!$F$12),allgemein!M216,allgemein!$F$12),4,IF(ISBLANK(allgemein!$F$13),allgemein!M216,allgemein!$F$13),5,IF(ISBLANK(allgemein!$I$10),allgemein!M216,allgemein!$I$10),6,IF(ISBLANK(allgemein!$I$11),allgemein!M216,allgemein!$I$11),7,IF(ISBLANK(allgemein!$I$12),allgemein!M216,allgemein!$I$12),8,IF(ISBLANK(allgemein!$I$13),allgemein!M216,allgemein!$I$13),IF(ISBLANK(allgemein!M216),\"\",allgemein!M216))","v":{"$error":"#NAME?"}},{"$f":"_xlfn.SWITCH(allgemein!N216,1,IF(ISBLANK(allgemein!$F$10),allgemein!N216,allgemein!$F$10),2,IF(ISBLANK(allgemein!$F$11),allgemein!N216,allgemein!$F$11),3,IF(ISBLANK(allgemein!$F$12),allgemein!N216,allgemein!$F$12),4,IF(ISBLANK(allgemein!$F$13),allgemein!N216,allgemein!$F$13),5,IF(ISBLANK(allgemein!$I$10),allgemein!N216,allgemein!$I$10),6,IF(ISBLANK(allgemein!$I$11),allgemein!N216,allgemein!$I$11),7,IF(ISBLANK(allgemein!$I$12),allgemein!N216,allgemein!$I$12),8,IF(ISBLANK(allgemein!$I$13),allgemein!N216,allgemein!$I$13),IF(ISBLANK(allgemein!N216),\"\",allgemein!N216))","v":{"$error":"#NAME?"}},{"$f":"_xlfn.SWITCH(allgemein!O216,1,IF(ISBLANK(allgemein!$F$10),allgemein!O216,allgemein!$F$10),2,IF(ISBLANK(allgemein!$F$11),allgemein!O216,allgemein!$F$11),3,IF(ISBLANK(allgemein!$F$12),allgemein!O216,allgemein!$F$12),4,IF(ISBLANK(allgemein!$F$13),allgemein!O216,allgemein!$F$13),5,IF(ISBLANK(allgemein!$I$10),allgemein!O216,allgemein!$I$10),6,IF(ISBLANK(allgemein!$I$11),allgemein!O216,allgemein!$I$11),7,IF(ISBLANK(allgemein!$I$12),allgemein!O216,allgemein!$I$12),8,IF(ISBLANK(allgemein!$I$13),allgemein!O216,allgemein!$I$13),IF(ISBLANK(allgemein!O216),\"\",allgemein!O216))","v":{"$error":"#NAME?"}},{"$f":"_xlfn.SWITCH(allgemein!P216,1,IF(ISBLANK(allgemein!$F$10),allgemein!P216,allgemein!$F$10),2,IF(ISBLANK(allgemein!$F$11),allgemein!P216,allgemein!$F$11),3,IF(ISBLANK(allgemein!$F$12),allgemein!P216,allgemein!$F$12),4,IF(ISBLANK(allgemein!$F$13),allgemein!P216,allgemein!$F$13),5,IF(ISBLANK(allgemein!$I$10),allgemein!P216,allgemein!$I$10),6,IF(ISBLANK(allgemein!$I$11),allgemein!P216,allgemein!$I$11),7,IF(ISBLANK(allgemein!$I$12),allgemein!P216,allgemein!$I$12),8,IF(ISBLANK(allgemein!$I$13),allgemein!P216,allgemein!$I$13),IF(ISBLANK(allgemein!P216),\"\",allgemein!P216))","v":{"$error":"#NAME?"}},{"$f":"IF(ISBLANK(allgemein!Q216),\"\",allgemein!Q216)","v":""},{"$f":"IF(ISBLANK(allgemein!R216),\"\",allgemein!R216)","v":""},{"$f":"IF(ISBLANK(allgemein!S216),\"\",allgemein!S216)","v":""},{"$f":"IF(ISBLANK(allgemein!U216),\"\",allgemein!U216)","v":""}]
[{"$f":"IF(ISBLANK(allgemein!D217),\"\",allgemein!D217)","v":200},{"$f":"IF(ISBLANK(allgemein!E217),\"\",allgemein!E217)","v":""},{"$f":"IF(ISBLANK(allgemein!C217),\"\",allgemein!C217)","v":" "},{"$f":"IF(ISBLANK(allgemein!H217),\"\",allgemein!H217)","v":""},{"$f":"IF(ISBLANK(allgemein!I217),\"\",allgemein!I217)","v":""},{"$f":"IF(ISBLANK(allgemein!J217),\"\",allgemein!J217)","v":""},{"$f":"IF(ISBLANK(allgemein!K217),\"\",allgemein!K217)","v":""},{"$f":"IF(ISBLANK(allgemein!F217),\"\",IF(ISBLANK(allgemein!L217),1,0))","v":""},{"$f":"_xlfn.SWITCH(allgemein!M217,1,IF(ISBLANK(allgemein!$F$10),allgemein!M217,allgemein!$F$10),2,IF(ISBLANK(allgemein!$F$11),allgemein!M217,allgemein!$F$11),3,IF(ISBLANK(allgemein!$F$12),allgemein!M217,allgemein!$F$12),4,IF(ISBLANK(allgemein!$F$13),allgemein!M217,allgemein!$F$13),5,IF(ISBLANK(allgemein!$I$10),allgemein!M217,allgemein!$I$10),6,IF(ISBLANK(allgemein!$I$11),allgemein!M217,allgemein!$I$11),7,IF(ISBLANK(allgemein!$I$12),allgemein!M217,allgemein!$I$12),8,IF(ISBLANK(allgemein!$I$13),allgemein!M217,allgemein!$I$13),IF(ISBLANK(allgemein!M217),\"\",allgemein!M217))","v":{"$error":"#NAME?"}},{"$f":"_xlfn.SWITCH(allgemein!N217,1,IF(ISBLANK(allgemein!$F$10),allgemein!N217,allgemein!$F$10),2,IF(ISBLANK(allgemein!$F$11),allgemein!N217,allgemein!$F$11),3,IF(ISBLANK(allgemein!$F$12),allgemein!N217,allgemein!$F$12),4,IF(ISBLANK(allgemein!$F$13),allgemein!N217,allgemein!$F$13),5,IF(ISBLANK(allgemein!$I$10),allgemein!N217,allgemein!$I$10),6,IF(ISBLANK(allgemein!$I$11),allgemein!N217,allgemein!$I$11),7,IF(ISBLANK(allgemein!$I$12),allgemein!N217,allgemein!$I$12),8,IF(ISBLANK(allgemein!$I$13),allgemein!N217,allgemein!$I$13),IF(ISBLANK(allgemein!N217),\"\",allgemein!N217))","v":{"$error":"#NAME?"}},{"$f":"_xlfn.SWITCH(allgemein!O217,1,IF(ISBLANK(allgemein!$F$10),allgemein!O217,allgemein!$F$10),2,IF(ISBLANK(allgemein!$F$11),allgemein!O217,allgemein!$F$11),3,IF(ISBLANK(allgemein!$F$12),allgemein!O217,allgemein!$F$12),4,IF(ISBLANK(allgemein!$F$13),allgemein!O217,allgemein!$F$13),5,IF(ISBLANK(allgemein!$I$10),allgemein!O217,allgemein!$I$10),6,IF(ISBLANK(allgemein!$I$11),allgemein!O217,allgemein!$I$11),7,IF(ISBLANK(allgemein!$I$12),allgemein!O217,allgemein!$I$12),8,IF(ISBLANK(allgemein!$I$13),allgemein!O217,allgemein!$I$13),IF(ISBLANK(allgemein!O217),\"\",allgemein!O217))","v":{"$error":"#NAME?"}},{"$f":"_xlfn.SWITCH(allgemein!P217,1,IF(ISBLANK(allgemein!$F$10),allgemein!P217,allgemein!$F$10),2,IF(ISBLANK(allgemein!$F$11),allgemein!P217,allgemein!$F$11),3,IF(ISBLANK(allgemein!$F$12),allgemein!P217,allgemein!$F$12),4,IF(ISBLANK(allgemein!$F$13),allgemein!P217,allgemein!$F$13),5,IF(ISBLANK(allgemein!$I$10),allgemein!P217,allgemein!$I$10),6,IF(ISBLANK(allgemein!$I$11),allgemein!P217,allgemein!$I$11),7,IF(ISBLANK(allgemein!$I$12),allgemein!P217,allgemein!$I$12),8,IF(ISBLANK(allgemein!$I$13),allgemein!P217,allgemein!$I$13),IF(ISBLANK(allgemein!P217),\"\",allgemein!P217))","v":{"$error":"#NAME?"}},{"$f":"IF(ISBLANK(allgemein!Q217),\"\",allgemein!Q217)","v":""},{"$f":"IF(ISBLANK(allgemein!R217),\"\",allgemein!R217)","v":""},{"$f":"IF(ISBLANK(allgemein!S217),\"\",allgemein!S217)","v":""},{"$f":"IF(ISBLANK(allgemein!U217),\"\",allgemein!U217)","v":""}]
[{"$f":"IF(ISBLANK(allgemein!D218),\"\",allgemein!D218)","v":201},{"$f":"IF(ISBLANK(allgemein!E218),\"\",allgemein!E218)","v":""},{"$f":"IF(ISBLANK(allgemein!C218),\"\",allgemein!C218)","v":" "},{"$f":"IF(ISBLANK(allgemein!H218),\"\",allgemein!H218)","v":""},{"$f":"IF(ISBLANK(allgemein!I218),\"\",allgemein!I218)","v":""},{"$f":"IF(ISBLANK(allgemein!J218),\"\",allgemein!J218)","v":""},{"$f":"IF(ISBLANK(allgemein!K218),\"\",allgemein!K218)","v":""},{"$f":"IF(ISBLANK(allgemein!F218),\"\",IF(ISBLANK(allgemein!L218),1,0))","v":""},{"$f":"_xlfn.SWITCH(allgemein!M218,1,IF(ISBLANK(allgemein!$F$10),allgemein!M218,allgemein!$F$10),2,IF(ISBLANK(allgemein!$F$11),allgemein!M218,allgemein!$F$11),3,IF(ISBLANK(allgemein!$F$12),allgemein!M218,allgemein!$F$12),4,IF(ISBLANK(allgemein!$F$13),allgemein!M218,allgemein!$F$13),5,IF(ISBLANK(allgemein!$I$10),allgemein!M218,allgemein!$I$10),6,IF(ISBLANK(allgemein!$I$11),allgemein!M218,allgemein!$I$11),7,IF(ISBLANK(allgemein!$I$12),allgemein!M218,allgemein!$I$12),8,IF(ISBLANK(allgemein!$I$13),allgemein!M218,allgemein!$I$13),IF(ISBLANK(allgemein!M218),\"\",allgemein!M218))","v":{"$error":"#NAME?"}},{"$f":"_xlfn.SWITCH(allgemein!N218,1,IF(ISBLANK(allgemein!$F$10),allgemein!N218,allgemein!$F$10),2,IF(ISBLANK(allgemein!$F$11),allgemein!N218,allgemein!$F$11),3,IF(ISBLANK(allgemein!$F$12),allgemein!N218,allgemein!$F$12),4,IF(ISBLANK(allgemein!$F$13),allgemein!N218,allgemein!$F$13),5,IF(ISBLANK(allgemein!$I$10),allgemein!N218,allgemein!$I$10),6,IF(ISBLANK(allgemein!$I$11),allgemein!N218,allgemein!$I$11),7,IF(ISBLANK(allgemein!$I$12),allgemein!N218,allgemein!$I$12),8,IF(ISBLANK(allgemein!$I$13),allgemein!N218,allgemein!$I$13),IF(ISBLANK(allgemein!N218),\"\",allgemein!N218))","v":{"$error":"#NAME?"}},{"$f":"_xlfn.SWITCH(allgemein!O218,1,IF(ISBLANK(allgemein!$F$10),allgemein!O218,allgemein!$F$10),2,IF(ISBLANK(allgemein!$F$11),allgemein!O218,allgemein!$F$11),3,IF(ISBLANK(allgemein!$F$12),allgemein!O218,allgemein!$F$12),4,IF(ISBLANK(allgemein!$F$13),allgemein!O218,allgemein!$F$13),5,IF(ISBLANK(allgemein!$I$10),allgemein!O218,allgemein!$I$10),6,IF(ISBLANK(allgemein!$I$11),allgemein!O218,allgemein!$I$11),7,IF(ISBLANK(allgemein!$I$12),allgemein!O218,allgemein!$I$12),8,IF(ISBLANK(allgemein!$I$13),allgemein!O218,allgemein!$I$13),IF(ISBLANK(allgemein!O218),\"\",allgemein!O218))","v":{"$error":"#NAME?"}},{"$f":"_xlfn.SWITCH(allgemein!P218,1,IF(ISBLANK(allgemein!$F$10),allgemein!P218,allgemein!$F$10),2,IF(ISBLANK(allgemein!$F$11),allgemein!P218,allgemein!$F$11),3,IF(ISBLANK(allgemein!$F$12),allgemein!P218,allgemein!$F$12),4,IF(ISBLANK(allgemein!$F$13),allgemein!P218,allgemein!$F$13),5,IF(ISBLANK(allgemein!$I$10),allgemein!P218,allgemein!$I$10),6,IF(ISBLANK(allgemein!$I$11),allgemein!P218,allgemein!$I$11),7,IF(ISBLANK(allgemein!$I$12),allgemein!P218,allgemein!$I$12),8,IF(ISBLANK(allgemein!$I$13),allgemein!P218,allgemein!$I$13),IF(ISBLANK(allgemein!P218),\"\",allgemein!P218))","v":{"$error":"#NAME?"}},{"$f":"IF(ISBLANK(allgemein!Q218),\"\",allgemein!Q218)","v":""},{"$f":"IF(ISBLANK(allgemein!R218),\"\",allgemein!R218)","v":""},{"$f":"IF(ISBLANK(allgemein!S218),\"\",allgemein!S218)","v":""},{"$f":"IF(ISBLANK(allgemein!U218),\"\",allgemein!U218)","v":""}]
[{"$f":"IF(ISBLANK(allgemein!D219),\"\",allgemein!D219)","v":202},{"$f":"IF(ISBLANK(allgemein!E219),\"\",allgemein!E219)","v":""},{"$f":"IF(ISBLANK(allgemein!C219),\"\",allgemein!C219)","v":" "},{"$f":"IF(ISBLANK(allgemein!H219),\"\",allgemein!H219)","v":""},{"$f":"IF(ISBLANK(allgemein!I219),\"\",allgemein!I219)","v":""},{"$f":"IF(ISBLANK(allgemein!J219),\"\",allgemein!J219)","v":""},{"$f":"IF(ISBLANK(allgemein!K219),\"\",allgemein!K219)","v":""},{"$f":"IF(ISBLANK(allgemein!F219),\"\",IF(ISBLANK(allgemein!L219),1,0))","v":""},{"$f":"_xlfn.SWITCH(allgemein!M219,1,IF(ISBLANK(allgemein!$F$10),allgemein!M219,allgemein!$F$10),2,IF(ISBLANK(allgemein!$F$11),allgemein!M219,allgemein!$F$11),3,IF(ISBLANK(allgemein!$F$12),allgemein!M219,allgemein!$F$12),4,IF(ISBLANK(allgemein!$F$13),allgemein!M219,allgemein!$F$13),5,IF(ISBLANK(allgemein!$I$10),allgemein!M219,allgemein!$I$10),6,IF(ISBLANK(allgemein!$I$11),allgemein!M219,allgemein!$I$11),7,IF(ISBLANK(allgemein!$I$12),allgemein!M219,allgemein!$I$12),8,IF(ISBLANK(allgemein!$I$13),allgemein!M219,allgemein!$I$13),IF(ISBLANK(allgemein!M219),\"\",allgemein!M219))","v":{"$error":"#NAME?"}},{"$f":"_xlfn.SWITCH(allgemein!N219,1,IF(ISBLANK(allgemein!$F$10),allgemein!N219,allgemein!$F$10),2,IF(ISBLANK(allgemein!$F$11),allgemein!N219,allgemein!$F$11),3,IF(ISBLANK(allgemein!$F$12),allgemein!N219,allgemein!$F$12),4,IF(ISBLANK(allgemein!$F$13),allgemein!N219,allgemein!$F$13),5,IF(ISBLANK(allgemein!$I$10),allgemein!N219,allgemein!$I$10),6,IF(ISBLANK(allgemein!$I$11),allgemein!N219,allgemein!$I$11),7,IF(ISBLANK(allgemein!$I$12),allgemein!N219,allgemein!$I$12),8,IF(ISBLANK(allgemein!$I$13),allgemein!N219,allgemein!$I$13),IF(ISBLANK(allgemein!N219),\"\",allgemein!N219))","v":{"$error":"#NAME?"}},{"$f":"_xlfn.SWITCH(allgemein!O219,1,IF(ISBLANK(allgemein!$F$10),allgemein!O219,allgemein!$F$10),2,IF(ISBLANK(allgemein!$F$11),allgemein!O219,allgemein!$F$11),3,IF(ISBLANK(allgemein!$F$12),allgemein!O219,allgemein!$F$12),4,IF(ISBLANK(allgemein!$F$13),allgemein!O219,allgemein!$F$13),5,IF(ISBLANK(allgemein!$I$10),allgemein!O219,allgemein!$I$10),6,IF(ISBLANK(allgemein!$I$11),allgemein!O219,allgemein!$I$11),7,IF(ISBLANK(allgemein!$I$12),allgemein!O219,allgemein!$I$12),8,IF(ISBLANK(allgemein!$I$13),allgemein!O219,allgemein!$I$13),IF(ISBLANK(allgemein!O219),\"\",allgemein!O219))","v":{"$error":"#NAME?"}},{"$f":"_xlfn.SWITCH(allgemein!P219,1,IF(ISBLANK(allgemein!$F$10),allgemein!P219,allgemein!$F$10),2,IF(ISBLANK(allgemein!$F$11),allgemein!P219,allgemein!$F$11),3,IF(ISBLANK(allgemein!$F$12),allgemein!P219,allgemein!$F$12),4,IF(ISBLANK(allgemein!$F$13),allgemein!P219,allgemein!$F$13),5,IF(ISBLANK(allgemein!$I$10),allgemein!P219,allgemein!$I$10),6,IF(ISBLANK(allgemein!$I$11),allgemein!P219,allgemein!$I$11),7,IF(ISBLANK(allgemein!$I$12),allgemein!P219,allgemein!$I$12),8,IF(ISBLANK(allgemein!$I$13),allgemein!P219,allgemein!$I$13),IF(ISBLANK(allgemein!P219),\"\",allgemein!P219))","v":{"$error":"#NAME?"}},{"$f":"IF(ISBLANK(allgemein!Q219),\"\",allgemein!Q219)","v":""},{"$f":"IF(ISBLANK(allgemein!R219),\"\",allgemein!R219)","v":""},{"$f":"IF(ISBLANK(allgemein!S219),\"\",allgemein!S219)","v":""},{"$f":"IF(ISBLANK(allgemein!U219),\"\",allgemein!U219)","v":""}]
[{"$f":"IF(ISBLANK(allgemein!D220),\"\",allgemein!D220)","v":203},{"$f":"IF(ISBLANK(allgemein!E220),\"\",allgemein!E220)","v":""},{"$f":"IF(ISBLANK(allgemein!C220),\"\",allgemein!C220)","v":" "},{"$f":"IF(ISBLANK(allgemein!H220),\"\",allgemein!H220)","v":""},{"$f":"IF(ISBLANK(allgemein!I220),\"\",allgemein!I220)","v":""},{"$f":"IF(ISBLANK(allgemein!J220),\"\",allgemein!J220)","v":""},{"$f":"IF(ISBLANK(allgemein!K220),\"\",allgemein!K220)","v":""},{"$f":"IF(ISBLANK(allgemein!F220),\"\",IF(ISBLANK(allgemein!L220),1,0))","v":""},{"$f":"_xlfn.SWITCH(allgemein!M220,1,IF(ISBLANK(allgemein!$F$10),allgemein!M220,allgemein!$F$10),2,IF(ISBLANK(allgemein!$F$11),allgemein!M220,allgemein!$F$11),3,IF(ISBLANK(allgemein!$F$12),allgemein!M220,allgemein!$F$12),4,IF(ISBLANK(allgemein!$F$13),allgemein!M220,allgemein!$F$13),5,IF(ISBLANK(allgemein!$I$10),allgemein!M220,allgemein!$I$10),6,IF(ISBLANK(allgemein!$I$11),allgemein!M220,allgemein!$I$11),7,IF(ISBLANK(allgemein!$I$12),allgemein!M220,allgemein!$I$12),8,IF(ISBLANK(allgemein!$I$13),allgemein!M220,allgemein!$I$13),IF(ISBLANK(allgemein!M220),\"\",allgemein!M220))","v":{"$error":"#NAME?"}},{"$f":"_xlfn.SWITCH(allgemein!N220,1,IF(ISBLANK(allgemein!$F$10),allgemein!N220,allgemein!$F$10),2,IF(ISBLANK(allgemein!$F$11),allgemein!N220,allgemein!$F$11),3,IF(ISBLANK(allgemein!$F$12),allgemein!N220,allgemein!$F$12),4,IF(ISBLANK(allgemein!$F$13),allgemein!N220,allgemein!$F$13),5,IF(ISBLANK(allgemein!$I$10),allgemein!N220,allgemein!$I$10),6,IF(ISBLANK(allgemein!$I$11),allgemein!N220,allgemein!$I$11),7,IF(ISBLANK(allgemein!$I$12),allgemein!N220,allgemein!$I$12),8,IF(ISBLANK(allgemein!$I$13),allgemein!N220,allgemein!$I$13),IF(ISBLANK(allgemein!N220),\"\",allgemein!N220))","v":{"$error":"#NAME?"}},{"$f":"_xlfn.SWITCH(allgemein!O220,1,IF(ISBLANK(allgemein!$F$10),allgemein!O220,allgemein!$F$10),2,IF(ISBLANK(allgemein!$F$11),allgemein!O220,allgemein!$F$11),3,IF(ISBLANK(allgemein!$F$12),allgemein!O220,allgemein!$F$12),4,IF(ISBLANK(allgemein!$F$13),allgemein!O220,allgemein!$F$13),5,IF(ISBLANK(allgemein!$I$10),allgemein!O220,allgemein!$I$10),6,IF(ISBLANK(allgemein!$I$11),allgemein!O220,allgemein!$I$11),7,IF(ISBLANK(allgemein!$I$12),allgemein!O220,allgemein!$I$12),8,IF(ISBLANK(allgemein!$I$13),allgemein!O220,allgemein!$I$13),IF(ISBLANK(allgemein!O220),\"\",allgemein!O220))","v":{"$error":"#NAME?"}},{"$f":"_xlfn.SWITCH(allgemein!P220,1,IF(ISBLANK(allgemein!$F$10),allgemein!P220,allgemein!$F$10),2,IF(ISBLANK(allgemein!$F$11),allgemein!P220,allgemein!$F$11),3,IF(ISBLANK(allgemein!$F$12),allgemein!P220,allgemein!$F$12),4,IF(ISBLANK(allgemein!$F$13),allgemein!P220,allgemein!$F$13),5,IF(ISBLANK(allgemein!$I$10),allgemein!P220,allgemein!$I$10),6,IF(ISBLANK(allgemein!$I$11),allgemein!P220,allgemein!$I$11),7,IF(ISBLANK(allgemein!$I$12),allgemein!P220,allgemein!$I$12),8,IF(ISBLANK(allgemein!$I$13),allgemein!P220,allgemein!$I$13),IF(ISBLANK(allgemein!P220),\"\",allgemein!P220))","v":{"$error":"#NAME?"}},{"$f":"IF(ISBLANK(allgemein!Q220),\"\",allgemein!Q220)","v":""},{"$f":"IF(ISBLANK(allgemein!R220),\"\",allgemein!R220)","v":""},{"$f":"IF(ISBLANK(allgemein!S220),\"\",allgemein!S220)","v":""},{"$f":"IF(ISBLANK(allgemein!U220),\"\",allgemein!U220)","v":""}]
[{"$f":"IF(ISBLANK(allgemein!D221),\"\",allgemein!D221)","v":204},{"$f":"IF(ISBLANK(allgemein!E221),\"\",allgemein!E221)","v":""},{"$f":"IF(ISBLANK(allgemein!C221),\"\",allgemein!C221)","v":" "},{"$f":"IF(ISBLANK(allgemein!H221),\"\",allgemein!H221)","v":""},{"$f":"IF(ISBLANK(allgemein!I221),\"\",allgemein!I221)","v":""},{"$f":"IF(ISBLANK(allgemein!J221),\"\",allgemein!J221)","v":""},{"$f":"IF(ISBLANK(allgemein!K221),\"\",allgemein!K221)","v":""},{"$f":"IF(ISBLANK(allgemein!F221),\"\",IF(ISBLANK(allgemein!L221),1,0))","v":""},{"$f":"_xlfn.SWITCH(allgemein!M221,1,IF(ISBLANK(allgemein!$F$10),allgemein!M221,allgemein!$F$10),2,IF(ISBLANK(allgemein!$F$11),allgemein!M221,allgemein!$F$11),3,IF(ISBLANK(allgemein!$F$12),allgemein!M221,allgemein!$F$12),4,IF(ISBLANK(allgemein!$F$13),allgemein!M221,allgemein!$F$13),5,IF(ISBLANK(allgemein!$I$10),allgemein!M221,allgemein!$I$10),6,IF(ISBLANK(allgemein!$I$11),allgemein!M221,allgemein!$I$11),7,IF(ISBLANK(allgemein!$I$12),allgemein!M221,allgemein!$I$12),8,IF(ISBLANK(allgemein!$I$13),allgemein!M221,allgemein!$I$13),IF(ISBLANK(allgemein!M221),\"\",allgemein!M221))","v":{"$error":"#NAME?"}},{"$f":"_xlfn.SWITCH(allgemein!N221,1,IF(ISBLANK(allgemein!$F$10),allgemein!N221,allgemein!$F$10),2,IF(ISBLANK(allgemein!$F$11),allgemein!N221,allgemein!$F$11),3,IF(ISBLANK(allgemein!$F$12),allgemein!N221,allgemein!$F$12),4,IF(ISBLANK(allgemein!$F$13),allgemein!N221,allgemein!$F$13),5,IF(ISBLANK(allgemein!$I$10),allgemein!N221,allgemein!$I$10),6,IF(ISBLANK(allgemein!$I$11),allgemein!N221,allgemein!$I$11),7,IF(ISBLANK(allgemein!$I$12),allgemein!N221,allgemein!$I$12),8,IF(ISBLANK(allgemein!$I$13),allgemein!N221,allgemein!$I$13),IF(ISBLANK(allgemein!N221),\"\",allgemein!N221))","v":{"$error":"#NAME?"}},{"$f":"_xlfn.SWITCH(allgemein!O221,1,IF(ISBLANK(allgemein!$F$10),allgemein!O221,allgemein!$F$10),2,IF(ISBLANK(allgemein!$F$11),allgemein!O221,allgemein!$F$11),3,IF(ISBLANK(allgemein!$F$12),allgemein!O221,allgemein!$F$12),4,IF(ISBLANK(allgemein!$F$13),allgemein!O221,allgemein!$F$13),5,IF(ISBLANK(allgemein!$I$10),allgemein!O221,allgemein!$I$10),6,IF(ISBLANK(allgemein!$I$11),allgemein!O221,allgemein!$I$11),7,IF(ISBLANK(allgemein!$I$12),allgemein!O221,allgemein!$I$12),8,IF(ISBLANK(allgemein!$I$13),allgemein!O221,allgemein!$I$13),IF(ISBLANK(allgemein!O221),\"\",allgemein!O221))","v":{"$error":"#NAME?"}},{"$f":"_xlfn.SWITCH(allgemein!P221,1,IF(ISBLANK(allgemein!$F$10),allgemein!P221,allgemein!$F$10),2,IF(ISBLANK(allgemein!$F$11),allgemein!P221,allgemein!$F$11),3,IF(ISBLANK(allgemein!$F$12),allgemein!P221,allgemein!$F$12),4,IF(ISBLANK(allgemein!$F$13),allgemein!P221,allgemein!$F$13),5,IF(ISBLANK(allgemein!$I$10),allgemein!P221,allgemein!$I$10),6,IF(ISBLANK(allgemein!$I$11),allgemein!P221,allgemein!$I$11),7,IF(ISBLANK(allgemein!$I$12),allgemein!P221,allgemein!$I$12),8,IF(ISBLANK(allgemein!$I$13),allgemein!P221,allgemein!$I$13),IF(ISBLANK(allgemein!P221),\"\",allgemein!P221))","v":{"$error":"#NAME?"}},{"$f":"IF(ISBLANK(allgemein!Q221),\"\",allgemein!Q221)","v":""},{"$f":"IF(ISBLANK(allgemein!R221),\"\",allgemein!R221)","v":""},{"$f":"IF(ISBLANK(allgemein!S221),\"\",allgemein!S221)","v":""},{"$f":"IF(ISBLANK(allgemein!U221),\"\",allgemein!U221)","v":""}]
[{"$f":"IF(ISBLANK(allgemein!D222),\"\",allgemein!D222)","v":205},{"$f":"IF(ISBLANK(allgemein!E222),\"\",allgemein!E222)","v":""},{"$f":"IF(ISBLANK(allgemein!C222),\"\",allgemein!C222)","v":" "},{"$f":"IF(ISBLANK(allgemein!H222),\"\",allgemein!H222)","v":""},{"$f":"IF(ISBLANK(allgemein!I222),\"\",allgemein!I222)","v":""},{"$f":"IF(ISBLANK(allgemein!J222),\"\",allgemein!J222)","v":""},{"$f":"IF(ISBLANK(allgemein!K222),\"\",allgemein!K222)","v":""},{"$f":"IF(ISBLANK(allgemein!F222),\"\",IF(ISBLANK(allgemein!L222),1,0))","v":""},{"$f":"_xlfn.SWITCH(allgemein!M222,1,IF(ISBLANK(allgemein!$F$10),allgemein!M222,allgemein!$F$10),2,IF(ISBLANK(allgemein!$F$11),allgemein!M222,allgemein!$F$11),3,IF(ISBLANK(allgemein!$F$12),allgemein!M222,allgemein!$F$12),4,IF(ISBLANK(allgemein!$F$13),allgemein!M222,allgemein!$F$13),5,IF(ISBLANK(allgemein!$I$10),allgemein!M222,allgemein!$I$10),6,IF(ISBLANK(allgemein!$I$11),allgemein!M222,allgemein!$I$11),7,IF(ISBLANK(allgemein!$I$12),allgemein!M222,allgemein!$I$12),8,IF(ISBLANK(allgemein!$I$13),allgemein!M222,allgemein!$I$13),IF(ISBLANK(allgemein!M222),\"\",allgemein!M222))","v":{"$error":"#NAME?"}},{"$f":"_xlfn.SWITCH(allgemein!N222,1,IF(ISBLANK(allgemein!$F$10),allgemein!N222,allgemein!$F$10),2,IF(ISBLANK(allgemein!$F$11),allgemein!N222,allgemein!$F$11),3,IF(ISBLANK(allgemein!$F$12),allgemein!N222,allgemein!$F$12),4,IF(ISBLANK(allgemein!$F$13),allgemein!N222,allgemein!$F$13),5,IF(ISBLANK(allgemein!$I$10),allgemein!N222,allgemein!$I$10),6,IF(ISBLANK(allgemein!$I$11),allgemein!N222,allgemein!$I$11),7,IF(ISBLANK(allgemein!$I$12),allgemein!N222,allgemein!$I$12),8,IF(ISBLANK(allgemein!$I$13),allgemein!N222,allgemein!$I$13),IF(ISBLANK(allgemein!N222),\"\",allgemein!N222))","v":{"$error":"#NAME?"}},{"$f":"_xlfn.SWITCH(allgemein!O222,1,IF(ISBLANK(allgemein!$F$10),allgemein!O222,allgemein!$F$10),2,IF(ISBLANK(allgemein!$F$11),allgemein!O222,allgemein!$F$11),3,IF(ISBLANK(allgemein!$F$12),allgemein!O222,allgemein!$F$12),4,IF(ISBLANK(allgemein!$F$13),allgemein!O222,allgemein!$F$13),5,IF(ISBLANK(allgemein!$I$10),allgemein!O222,allgemein!$I$10),6,IF(ISBLANK(allgemein!$I$11),allgemein!O222,allgemein!$I$11),7,IF(ISBLANK(allgemein!$I$12),allgemein!O222,allgemein!$I$12),8,IF(ISBLANK(allgemein!$I$13),allgemein!O222,allgemein!$I$13),IF(ISBLANK(allgemein!O222),\"\",allgemein!O222))","v":{"$error":"#NAME?"}},{"$f":"_xlfn.SWITCH(allgemein!P222,1,IF(ISBLANK(allgemein!$F$10),allgemein!P222,allgemein!$F$10),2,IF(ISBLANK(allgemein!$F$11),allgemein!P222,allgemein!$F$11),3,IF(ISBLANK(allgemein!$F$12),allgemein!P222,allgemein!$F$12),4,IF(ISBLANK(allgemein!$F$13),allgemein!P222,allgemein!$F$13),5,IF(ISBLANK(allgemein!$I$10),allgemein!P222,allgemein!$I$10),6,IF(ISBLANK(allgemein!$I$11),allgemein!P222,allgemein!$I$11),7,IF(ISBLANK(allgemein!$I$12),allgemein!P222,allgemein!$I$12),8,IF(ISBLANK(allgemein!$I$13),allgemein!P222,allgemein!$I$13),IF(ISBLANK(allgemein!P222),\"\",allgemein!P222))","v":{"$error":"#NAME?"}},{"$f":"IF(ISBLANK(allgemein!Q222),\"\",allgemein!Q222)","v":""},{"$f":"IF(ISBLANK(allgemein!R222),\"\",allgemein!R222)","v":""},{"$f":"IF(ISBLANK(allgemein!S222),\"\",allgemein!S222)","v":""},{"$f":"IF(ISBLANK(allgemein!U222),\"\",allgemein!U222)","v":""}]
[{"$f":"IF(ISBLANK(allgemein!D223),\"\",allgemein!D223)","v":206},{"$f":"IF(ISBLANK(allgemein!E223),\"\",allgemein!E223)","v":""},{"$f":"IF(ISBLANK(allgemein!C223),\"\",allgemein!C223)","v":" "},{"$f":"IF(ISBLANK(allgemein!H223),\"\",allgemein!H223)","v":""},{"$f":"IF(ISBLANK(allgemein!I223),\"\",allgemein!I223)","v":""},{"$f":"IF(ISBLANK(allgemein!J223),\"\",allgemein!J223)","v":""},{"$f":"IF(ISBLANK(allgemein!K223),\"\",allgemein!K223)","v":""},{"$f":"IF(ISBLANK(allgemein!F223),\"\",IF(ISBLANK(allgemein!L223),1,0))","v":""},{"$f":"_xlfn.SWITCH(allgemein!M223,1,IF(ISBLANK(allgemein!$F$10),allgemein!M223,allgemein!$F$10),2,IF(ISBLANK(allgemein!$F$11),allgemein!M223,allgemein!$F$11),3,IF(ISBLANK(allgemein!$F$12),allgemein!M223,allgemein!$F$12),4,IF(ISBLANK(allgemein!$F$13),allgemein!M223,allgemein!$F$13),5,IF(ISBLANK(allgemein!$I$10),allgemein!M223,allgemein!$I$10),6,IF(ISBLANK(allgemein!$I$11),allgemein!M223,allgemein!$I$11),7,IF(ISBLANK(allgemein!$I$12),allgemein!M223,allgemein!$I$12),8,IF(ISBLANK(allgemein!$I$13),allgemein!M223,allgemein!$I$13),IF(ISBLANK(allgemein!M223),\"\",allgemein!M223))","v":{"$error":"#NAME?"}},{"$f":"_xlfn.SWITCH(allgemein!N223,1,IF(ISBLANK(allgemein!$F$10),allgemein!N223,allgemein!$F$10),2,IF(ISBLANK(allgemein!$F$11),allgemein!N223,allgemein!$F$11),3,IF(ISBLANK(allgemein!$F$12),allgemein!N223,allgemein!$F$12),4,IF(ISBLANK(allgemein!$F$13),allgemein!N223,allgemein!$F$13),5,IF(ISBLANK(allgemein!$I$10),allgemein!N223,allgemein!$I$10),6,IF(ISBLANK(allgemein!$I$11),allgemein!N223,allgemein!$I$11),7,IF(ISBLANK(allgemein!$I$12),allgemein!N223,allgemein!$I$12),8,IF(ISBLANK(allgemein!$I$13),allgemein!N223,allgemein!$I$13),IF(ISBLANK(allgemein!N223),\"\",allgemein!N223))","v":{"$error":"#NAME?"}},{"$f":"_xlfn.SWITCH(allgemein!O223,1,IF(ISBLANK(allgemein!$F$10),allgemein!O223,allgemein!$F$10),2,IF(ISBLANK(allgemein!$F$11),allgemein!O223,allgemein!$F$11),3,IF(ISBLANK(allgemein!$F$12),allgemein!O223,allgemein!$F$12),4,IF(ISBLANK(allgemein!$F$13),allgemein!O223,allgemein!$F$13),5,IF(ISBLANK(allgemein!$I$10),allgemein!O223,allgemein!$I$10),6,IF(ISBLANK(allgemein!$I$11),allgemein!O223,allgemein!$I$11),7,IF(ISBLANK(allgemein!$I$12),allgemein!O223,allgemein!$I$12),8,IF(ISBLANK(allgemein!$I$13),allgemein!O223,allgemein!$I$13),IF(ISBLANK(allgemein!O223),\"\",allgemein!O223))","v":{"$error":"#NAME?"}},{"$f":"_xlfn.SWITCH(allgemein!P223,1,IF(ISBLANK(allgemein!$F$10),allgemein!P223,allgemein!$F$10),2,IF(ISBLANK(allgemein!$F$11),allgemein!P223,allgemein!$F$11),3,IF(ISBLANK(allgemein!$F$12),allgemein!P223,allgemein!$F$12),4,IF(ISBLANK(allgemein!$F$13),allgemein!P223,allgemein!$F$13),5,IF(ISBLANK(allgemein!$I$10),allgemein!P223,allgemein!$I$10),6,IF(ISBLANK(allgemein!$I$11),allgemein!P223,allgemein!$I$11),7,IF(ISBLANK(allgemein!$I$12),allgemein!P223,allgemein!$I$12),8,IF(ISBLANK(allgemein!$I$13),allgemein!P223,allgemein!$I$13),IF(ISBLANK(allgemein!P223),\"\",allgemein!P223))","v":{"$error":"#NAME?"}},{"$f":"IF(ISBLANK(allgemein!Q223),\"\",allgemein!Q223)","v":""},{"$f":"IF(ISBLANK(allgemein!R223),\"\",allgemein!R223)","v":""},{"$f":"IF(ISBLANK(allgemein!S223),\"\",allgemein!S223)","v":""},{"$f":"IF(ISBLANK(allgemein!U223),\"\",allgemein!U223)","v":""}]
[{"$f":"IF(ISBLANK(allgemein!D224),\"\",allgemein!D224)","v":207},{"$f":"IF(ISBLANK(allgemein!E224),\"\",allgemein!E224)","v":""},{"$f":"IF(ISBLANK(allgemein!C224),\"\",allgemein!C224)","v":" "},{"$f":"IF(ISBLANK(allgemein!H224),\"\",allgemein!H224)","v":""},{"$f":"IF(ISBLANK(allgemein!I224),\"\",allgemein!I224)","v":""},{"$f":"IF(ISBLANK(allgemein!J224),\"\",allgemein!J224)","v":""},{"$f":"IF(ISBLANK(allgemein!K224),\"\",allgemein!K224)","v":""},{"$f":"IF(ISBLANK(allgemein!F224),\"\",IF(ISBLANK(allgemein!L224),1,0))","v":""},{"$f":"_xlfn.SWITCH(allgemein!M224,1,IF(ISBLANK(allgemein!$F$10),allgemein!M224,allgemein!$F$10),2,IF(ISBLANK(allgemein!$F$11),allgemein!M224,allgemein!$F$11),3,IF(ISBLANK(allgemein!$F$12),allgemein!M224,allgemein!$F$12),4,IF(ISBLANK(allgemein!$F$13),allgemein!M224,allgemein!$F$13),5,IF(ISBLANK(allgemein!$I$10),allgemein!M224,allgemein!$I$10),6,IF(ISBLANK(allgemein!$I$11),allgemein!M224,allgemein!$I$11),7,IF(ISBLANK(allgemein!$I$12),allgemein!M224,allgemein!$I$12),8,IF(ISBLANK(allgemein!$I$13),allgemein!M224,allgemein!$I$13),IF(ISBLANK(allgemein!M224),\"\",allgemein!M224))","v":{"$error":"#NAME?"}},{"$f":"_xlfn.SWITCH(allgemein!N224,1,IF(ISBLANK(allgemein!$F$10),allgemein!N224,allgemein!$F$10),2,IF(ISBLANK(allgemein!$F$11),allgemein!N224,allgemein!$F$11),3,IF(ISBLANK(allgemein!$F$12),allgemein!N224,allgemein!$F$12),4,IF(ISBLANK(allgemein!$F$13),allgemein!N224,allgemein!$F$13),5,IF(ISBLANK(allgemein!$I$10),allgemein!N224,allgemein!$I$10),6,IF(ISBLANK(allgemein!$I$11),allgemein!N224,allgemein!$I$11),7,IF(ISBLANK(allgemein!$I$12),allgemein!N224,allgemein!$I$12),8,IF(ISBLANK(allgemein!$I$13),allgemein!N224,allgemein!$I$13),IF(ISBLANK(allgemein!N224),\"\",allgemein!N224))","v":{"$error":"#NAME?"}},{"$f":"_xlfn.SWITCH(allgemein!O224,1,IF(ISBLANK(allgemein!$F$10),allgemein!O224,allgemein!$F$10),2,IF(ISBLANK(allgemein!$F$11),allgemein!O224,allgemein!$F$11),3,IF(ISBLANK(allgemein!$F$12),allgemein!O224,allgemein!$F$12),4,IF(ISBLANK(allgemein!$F$13),allgemein!O224,allgemein!$F$13),5,IF(ISBLANK(allgemein!$I$10),allgemein!O224,allgemein!$I$10),6,IF(ISBLANK(allgemein!$I$11),allgemein!O224,allgemein!$I$11),7,IF(ISBLANK(allgemein!$I$12),allgemein!O224,allgemein!$I$12),8,IF(ISBLANK(allgemein!$I$13),allgemein!O224,allgemein!$I$13),IF(ISBLANK(allgemein!O224),\"\",allgemein!O224))","v":{"$error":"#NAME?"}},{"$f":"_xlfn.SWITCH(allgemein!P224,1,IF(ISBLANK(allgemein!$F$10),allgemein!P224,allgemein!$F$10),2,IF(ISBLANK(allgemein!$F$11),allgemein!P224,allgemein!$F$11),3,IF(ISBLANK(allgemein!$F$12),allgemein!P224,allgemein!$F$12),4,IF(ISBLANK(allgemein!$F$13),allgemein!P224,allgemein!$F$13),5,IF(ISBLANK(allgemein!$I$10),allgemein!P224,allgemein!$I$10),6,IF(ISBLANK(allgemein!$I$11),allgemein!P224,allgemein!$I$11),7,IF(ISBLANK(allgemein!$I$12),allgemein!P224,allgemein!$I$12),8,IF(ISBLANK(allgemein!$I$13),allgemein!P224,allgemein!$I$13),IF(ISBLANK(allgemein!P224),\"\",allgemein!P224))","v":{"$error":"#NAME?"}},{"$f":"IF(ISBLANK(allgemein!Q224),\"\",allgemein!Q224)","v":""},{"$f":"IF(ISBLANK(allgemein!R224),\"\",allgemein!R224)","v":""},{"$f":"IF(ISBLANK(allgemein!S224),\"\",allgemein!S224)","v":""},{"$f":"IF(ISBLANK(allgemein!U224),\"\",allgemein!U224)","v":""}]
[{"$f":"IF(ISBLANK(allgemein!D225),\"\",allgemein!D225)","v":208},{"$f":"IF(ISBLANK(allgemein!E225),\"\",allgemein!E225)","v":""},{"$f":"IF(ISBLANK(allgemein!C225),\"\",allgemein!C225)","v":" "},{"$f":"IF(ISBLANK(allgemein!H225),\"\",allgemein!H225)","v":""},{"$f":"IF(ISBLANK(allgemein!I225),\"\",allgemein!I225)","v":""},{"$f":"IF(ISBLANK(allgemein!J225),\"\",allgemein!J225)","v":""},{"$f":"IF(ISBLANK(allgemein!K225),\"\",allgemein!K225)","v":""},{"$f":"IF(ISBLANK(allgemein!F225),\"\",IF(ISBLANK(allgemein!L225),1,0))","v":""},{"$f":"_xlfn.SWITCH(allgemein!M225,1,IF(ISBLANK(allgemein!$F$10),allgemein!M225,allgemein!$F$10),2,IF(ISBLANK(allgemein!$F$11),allgemein!M225,allgemein!$F$11),3,IF(ISBLANK(allgemein!$F$12),allgemein!M225,allgemein!$F$12),4,IF(ISBLANK(allgemein!$F$13),allgemein!M225,allgemein!$F$13),5,IF(ISBLANK(allgemein!$I$10),allgemein!M225,allgemein!$I$10),6,IF(ISBLANK(allgemein!$I$11),allgemein!M225,allgemein!$I$11),7,IF(ISBLANK(allgemein!$I$12),allgemein!M225,allgemein!$I$12),8,IF(ISBLANK(allgemein!$I$13),allgemein!M225,allgemein!$I$13),IF(ISBLANK(allgemein!M225),\"\",allgemein!M225))","v":{"$error":"#NAME?"}},{"$f":"_xlfn.SWITCH(allgemein!N225,1,IF(ISBLANK(allgemein!$F$10),allgemein!N225,allgemein!$F$10),2,IF(ISBLANK(allgemein!$F$11),allgemein!N225,allgemein!$F$11),3,IF(ISBLANK(allgemein!$F$12),allgemein!N225,allgemein!$F$12),4,IF(ISBLANK(allgemein!$F$13),allgemein!N225,allgemein!$F$13),5,IF(ISBLANK(allgemein!$I$10),allgemein!N225,allgemein!$I$10),6,IF(ISBLANK(allgemein!$I$11),allgemein!N225,allgemein!$I$11),7,IF(ISBLANK(allgemein!$I$12),allgemein!N225,allgemein!$I$12),8,IF(ISBLANK(allgemein!$I$13),allgemein!N225,allgemein!$I$13),IF(ISBLANK(allgemein!N225),\"\",allgemein!N225))","v":{"$error":"#NAME?"}},{"$f":"_xlfn.SWITCH(allgemein!O225,1,IF(ISBLANK(allgemein!$F$10),allgemein!O225,allgemein!$F$10),2,IF(ISBLANK(allgemein!$F$11),allgemein!O225,allgemein!$F$11),3,IF(ISBLANK(allgemein!$F$12),allgemein!O225,allgemein!$F$12),4,IF(ISBLANK(allgemein!$F$13),allgemein!O225,allgemein!$F$13),5,IF(ISBLANK(allgemein!$I$10),allgemein!O225,allgemein!$I$10),6,IF(ISBLANK(allgemein!$I$11),allgemein!O225,allgemein!$I$11),7,IF(ISBLANK(allgemein!$I$12),allgemein!O225,allgemein!$I$12),8,IF(ISBLANK(allgemein!$I$13),allgemein!O225,allgemein!$I$13),IF(ISBLANK(allgemein!O225),\"\",allgemein!O225))","v":{"$error":"#NAME?"}},{"$f":"_xlfn.SWITCH(allgemein!P225,1,IF(ISBLANK(allgemein!$F$10),allgemein!P225,allgemein!$F$10),2,IF(ISBLANK(allgemein!$F$11),allgemein!P225,allgemein!$F$11),3,IF(ISBLANK(allgemein!$F$12),allgemein!P225,allgemein!$F$12),4,IF(ISBLANK(allgemein!$F$13),allgemein!P225,allgemein!$F$13),5,IF(ISBLANK(allgemein!$I$10),allgemein!P225,allgemein!$I$10),6,IF(ISBLANK(allgemein!$I$11),allgemein!P225,allgemein!$I$11),7,IF(ISBLANK(allgemein!$I$12),allgemein!P225,allgemein!$I$12),8,IF(ISBLANK(allgemein!$I$13),allgemein!P225,allgemein!$I$13),IF(ISBLANK(allgemein!P225),\"\",allgemein!P225))","v":{"$error":"#NAME?"}},{"$f":"IF(ISBLANK(allgemein!Q225),\"\",allgemein!Q225)","v":""},{"$f":"IF(ISBLANK(allgemein!R225),\"\",allgemein!R225)","v":""},{"$f":"IF(ISBLANK(allgemein!S225),\"\",allgemein!S225)","v":""},{"$f":"IF(ISBLANK(allgemein!U225),\"\",allgemein!U225)","v":""}]
[{"$f":"IF(ISBLANK(allgemein!D226),\"\",allgemein!D226)","v":209},{"$f":"IF(ISBLANK(allgemein!E226),\"\",allgemein!E226)","v":""},{"$f":"IF(ISBLANK(allgemein!C226),\"\",allgemein!C226)","v":" "},{"$f":"IF(ISBLANK(allgemein!H226),\"\",allgemein!H226)","v":""},{"$f":"IF(ISBLANK(allgemein!I226),\"\",allgemein!I226)","v":""},{"$f":"IF(ISBLANK(allgemein!J226),\"\",allgemein!J226)","v":""},{"$f":"IF(ISBLANK(allgemein!K226),\"\",allgemein!K226)","v":""},{"$f":"IF(ISBLANK(allgemein!F226),\"\",IF(ISBLANK(allgemein!L226),1,0))","v":""},{"$f":"_xlfn.SWITCH(allgemein!M226,1,IF(ISBLANK(allgemein!$F$10),allgemein!M226,allgemein!$F$10),2,IF(ISBLANK(allgemein!$F$11),allgemein!M226,allgemein!$F$11),3,IF(ISBLANK(allgemein!$F$12),allgemein!M226,allgemein!$F$12),4,IF(ISBLANK(allgemein!$F$13),allgemein!M226,allgemein!$F$13),5,IF(ISBLANK(allgemein!$I$10),allgemein!M226,allgemein!$I$10),6,IF(ISBLANK(allgemein!$I$11),allgemein!M226,allgemein!$I$11),7,IF(ISBLANK(allgemein!$I$12),allgemein!M226,allgemein!$I$12),8,IF(ISBLANK(allgemein!$I$13),allgemein!M226,allgemein!$I$13),IF(ISBLANK(allgemein!M226),\"\",allgemein!M226))","v":{"$error":"#NAME?"}},{"$f":"_xlfn.SWITCH(allgemein!N226,1,IF(ISBLANK(allgemein!$F$10),allgemein!N226,allgemein!$F$10),2,IF(ISBLANK(allgemein!$F$11),allgemein!N226,allgemein!$F$11),3,IF(ISBLANK(allgemein!$F$12),allgemein!N226,allgemein!$F$12),4,IF(ISBLANK(allgemein!$F$13),allgemein!N226,allgemein!$F$13),5,IF(ISBLANK(allgemein!$I$10),allgemein!N226,allgemein!$I$10),6,IF(ISBLANK(allgemein!$I$11),allgemein!N226,allgemein!$I$11),7,IF(ISBLANK(allgemein!$I$12),allgemein!N226,allgemein!$I$12),8,IF(ISBLANK(allgemein!$I$13),allgemein!N226,allgemein!$I$13),IF(ISBLANK(allgemein!N226),\"\",allgemein!N226))","v":{"$error":"#NAME?"}},{"$f":"_xlfn.SWITCH(allgemein!O226,1,IF(ISBLANK(allgemein!$F$10),allgemein!O226,allgemein!$F$10),2,IF(ISBLANK(allgemein!$F$11),allgemein!O226,allgemein!$F$11),3,IF(ISBLANK(allgemein!$F$12),allgemein!O226,allgemein!$F$12),4,IF(ISBLANK(allgemein!$F$13),allgemein!O226,allgemein!$F$13),5,IF(ISBLANK(allgemein!$I$10),allgemein!O226,allgemein!$I$10),6,IF(ISBLANK(allgemein!$I$11),allgemein!O226,allgemein!$I$11),7,IF(ISBLANK(allgemein!$I$12),allgemein!O226,allgemein!$I$12),8,IF(ISBLANK(allgemein!$I$13),allgemein!O226,allgemein!$I$13),IF(ISBLANK(allgemein!O226),\"\",allgemein!O226))","v":{"$error":"#NAME?"}},{"$f":"_xlfn.SWITCH(allgemein!P226,1,IF(ISBLANK(allgemein!$F$10),allgemein!P226,allgemein!$F$10),2,IF(ISBLANK(allgemein!$F$11),allgemein!P226,allgemein!$F$11),3,IF(ISBLANK(allgemein!$F$12),allgemein!P226,allgemein!$F$12),4,IF(ISBLANK(allgemein!$F$13),allgemein!P226,allgemein!$F$13),5,IF(ISBLANK(allgemein!$I$10),allgemein!P226,allgemein!$I$10),6,IF(ISBLANK(allgemein!$I$11),allgemein!P226,allgemein!$I$11),7,IF(ISBLANK(allgemein!$I$12),allgemein!P226,allgemein!$I$12),8,IF(ISBLANK(allgemein!$I$13),allgemein!P226,allgemein!$I$13),IF(ISBLANK(allgemein!P226),\"\",allgemein!P226))","v":{"$error":"#NAME?"}},{"$f":"IF(ISBLANK(allgemein!Q226),\"\",allgemein!Q226)","v":""},{"$f":"IF(ISBLANK(allgemein!R226),\"\",allgemein!R226)","v":""},{"$f":"IF(ISBLANK(allgemein!S226),\"\",allgemein!S226)","v":""},{"$f":"IF(ISBLANK(allgemein!U226),\"\",allgemein!U226)","v":""}]
[{"$f":"IF(ISBLANK(allgemein!D227),\"\",allgemein!D227)","v":210},{"$f":"IF(ISBLANK(allgemein!E227),\"\",allgemein!E227)","v":""},{"$f":"IF(ISBLANK(allgemein!C227),\"\",allgemein!C227)","v":" "},{"$f":"IF(ISBLANK(allgemein!H227),\"\",allgemein!H227)","v":""},{"$f":"IF(ISBLANK(allgemein!I227),\"\",allgemein!I227)","v":""},{"$f":"IF(ISBLANK(allgemein!J227),\"\",allgemein!J227)","v":""},{"$f":"IF(ISBLANK(allgemein!K227),\"\",allgemein!K227)","v":""},{"$f":"IF(ISBLANK(allgemein!F227),\"\",IF(ISBLANK(allgemein!L227),1,0))","v":""},{"$f":"_xlfn.SWITCH(allgemein!M227,1,IF(ISBLANK(allgemein!$F$10),allgemein!M227,allgemein!$F$10),2,IF(ISBLANK(allgemein!$F$11),allgemein!M227,allgemein!$F$11),3,IF(ISBLANK(allgemein!$F$12),allgemein!M227,allgemein!$F$12),4,IF(ISBLANK(allgemein!$F$13),allgemein!M227,allgemein!$F$13),5,IF(ISBLANK(allgemein!$I$10),allgemein!M227,allgemein!$I$10),6,IF(ISBLANK(allgemein!$I$11),allgemein!M227,allgemein!$I$11),7,IF(ISBLANK(allgemein!$I$12),allgemein!M227,allgemein!$I$12),8,IF(ISBLANK(allgemein!$I$13),allgemein!M227,allgemein!$I$13),IF(ISBLANK(allgemein!M227),\"\",allgemein!M227))","v":{"$error":"#NAME?"}},{"$f":"_xlfn.SWITCH(allgemein!N227,1,IF(ISBLANK(allgemein!$F$10),allgemein!N227,allgemein!$F$10),2,IF(ISBLANK(allgemein!$F$11),allgemein!N227,allgemein!$F$11),3,IF(ISBLANK(allgemein!$F$12),allgemein!N227,allgemein!$F$12),4,IF(ISBLANK(allgemein!$F$13),allgemein!N227,allgemein!$F$13),5,IF(ISBLANK(allgemein!$I$10),allgemein!N227,allgemein!$I$10),6,IF(ISBLANK(allgemein!$I$11),allgemein!N227,allgemein!$I$11),7,IF(ISBLANK(allgemein!$I$12),allgemein!N227,allgemein!$I$12),8,IF(ISBLANK(allgemein!$I$13),allgemein!N227,allgemein!$I$13),IF(ISBLANK(allgemein!N227),\"\",allgemein!N227))","v":{"$error":"#NAME?"}},{"$f":"_xlfn.SWITCH(allgemein!O227,1,IF(ISBLANK(allgemein!$F$10),allgemein!O227,allgemein!$F$10),2,IF(ISBLANK(allgemein!$F$11),allgemein!O227,allgemein!$F$11),3,IF(ISBLANK(allgemein!$F$12),allgemein!O227,allgemein!$F$12),4,IF(ISBLANK(allgemein!$F$13),allgemein!O227,allgemein!$F$13),5,IF(ISBLANK(allgemein!$I$10),allgemein!O227,allgemein!$I$10),6,IF(ISBLANK(allgemein!$I$11),allgemein!O227,allgemein!$I$11),7,IF(ISBLANK(allgemein!$I$12),allgemein!O227,allgemein!$I$12),8,IF(ISBLANK(allgemein!$I$13),allgemein!O227,allgemein!$I$13),IF(ISBLANK(allgemein!O227),\"\",allgemein!O227))","v":{"$error":"#NAME?"}},{"$f":"_xlfn.SWITCH(allgemein!P227,1,IF(ISBLANK(allgemein!$F$10),allgemein!P227,allgemein!$F$10),2,IF(ISBLANK(allgemein!$F$11),allgemein!P227,allgemein!$F$11),3,IF(ISBLANK(allgemein!$F$12),allgemein!P227,allgemein!$F$12),4,IF(ISBLANK(allgemein!$F$13),allgemein!P227,allgemein!$F$13),5,IF(ISBLANK(allgemein!$I$10),allgemein!P227,allgemein!$I$10),6,IF(ISBLANK(allgemein!$I$11),allgemein!P227,allgemein!$I$11),7,IF(ISBLANK(allgemein!$I$12),allgemein!P227,allgemein!$I$12),8,IF(ISBLANK(allgemein!$I$13),allgemein!P227,allgemein!$I$13),IF(ISBLANK(allgemein!P227),\"\",allgemein!P227))","v":{"$error":"#NAME?"}},{"$f":"IF(ISBLANK(allgemein!Q227),\"\",allgemein!Q227)","v":""},{"$f":"IF(ISBLANK(allgemein!R227),\"\",allgemein!R227)","v":""},{"$f":"IF(ISBLANK(allgemein!S227),\"\",allgemein!S227)","v":""},{"$f":"IF(ISBLANK(allgemein!U227),\"\",allgemein!U227)","v":""}]
[{"$f":"IF(ISBLANK(allgemein!D228),\"\",allgemein!D228)","v":211},{"$f":"IF(ISBLANK(allgemein!E228),\"\",allgemein!E228)","v":""},{"$f":"IF(ISBLANK(allgemein!C228),\"\",allgemein!C228)","v":" "},{"$f":"IF(ISBLANK(allgemein!H228),\"\",allgemein!H228)","v":""},{"$f":"IF(ISBLANK(allgemein!I228),\"\",allgemein!I228)","v":""},{"$f":"IF(ISBLANK(allgemein!J228),\"\",allgemein!J228)","v":""},{"$f":"IF(ISBLANK(allgemein!K228),\"\",allgemein!K228)","v":""},{"$f":"IF(ISBLANK(allgemein!F228),\"\",IF(ISBLANK(allgemein!L228),1,0))","v":""},{"$f":"_xlfn.SWITCH(allgemein!M228,1,IF(ISBLANK(allgemein!$F$10),allgemein!M228,allgemein!$F$10),2,IF(ISBLANK(allgemein!$F$11),allgemein!M228,allgemein!$F$11),3,IF(ISBLANK(allgemein!$F$12),allgemein!M228,allgemein!$F$12),4,IF(ISBLANK(allgemein!$F$13),allgemein!M228,allgemein!$F$13),5,IF(ISBLANK(allgemein!$I$10),allgemein!M228,allgemein!$I$10),6,IF(ISBLANK(allgemein!$I$11),allgemein!M228,allgemein!$I$11),7,IF(ISBLANK(allgemein!$I$12),allgemein!M228,allgemein!$I$12),8,IF(ISBLANK(allgemein!$I$13),allgemein!M228,allgemein!$I$13),IF(ISBLANK(allgemein!M228),\"\",allgemein!M228))","v":{"$error":"#NAME?"}},{"$f":"_xlfn.SWITCH(allgemein!N228,1,IF(ISBLANK(allgemein!$F$10),allgemein!N228,allgemein!$F$10),2,IF(ISBLANK(allgemein!$F$11),allgemein!N228,allgemein!$F$11),3,IF(ISBLANK(allgemein!$F$12),allgemein!N228,allgemein!$F$12),4,IF(ISBLANK(allgemein!$F$13),allgemein!N228,allgemein!$F$13),5,IF(ISBLANK(allgemein!$I$10),allgemein!N228,allgemein!$I$10),6,IF(ISBLANK(allgemein!$I$11),allgemein!N228,allgemein!$I$11),7,IF(ISBLANK(allgemein!$I$12),allgemein!N228,allgemein!$I$12),8,IF(ISBLANK(allgemein!$I$13),allgemein!N228,allgemein!$I$13),IF(ISBLANK(allgemein!N228),\"\",allgemein!N228))","v":{"$error":"#NAME?"}},{"$f":"_xlfn.SWITCH(allgemein!O228,1,IF(ISBLANK(allgemein!$F$10),allgemein!O228,allgemein!$F$10),2,IF(ISBLANK(allgemein!$F$11),allgemein!O228,allgemein!$F$11),3,IF(ISBLANK(allgemein!$F$12),allgemein!O228,allgemein!$F$12),4,IF(ISBLANK(allgemein!$F$13),allgemein!O228,allgemein!$F$13),5,IF(ISBLANK(allgemein!$I$10),allgemein!O228,allgemein!$I$10),6,IF(ISBLANK(allgemein!$I$11),allgemein!O228,allgemein!$I$11),7,IF(ISBLANK(allgemein!$I$12),allgemein!O228,allgemein!$I$12),8,IF(ISBLANK(allgemein!$I$13),allgemein!O228,allgemein!$I$13),IF(ISBLANK(allgemein!O228),\"\",allgemein!O228))","v":{"$error":"#NAME?"}},{"$f":"_xlfn.SWITCH(allgemein!P228,1,IF(ISBLANK(allgemein!$F$10),allgemein!P228,allgemein!$F$10),2,IF(ISBLANK(allgemein!$F$11),allgemein!P228,allgemein!$F$11),3,IF(ISBLANK(allgemein!$F$12),allgemein!P228,allgemein!$F$12),4,IF(ISBLANK(allgemein!$F$13),allgemein!P228,allgemein!$F$13),5,IF(ISBLANK(allgemein!$I$10),allgemein!P228,allgemein!$I$10),6,IF(ISBLANK(allgemein!$I$11),allgemein!P228,allgemein!$I$11),7,IF(ISBLANK(allgemein!$I$12),allgemein!P228,allgemein!$I$12),8,IF(ISBLANK(allgemein!$I$13),allgemein!P228,allgemein!$I$13),IF(ISBLANK(allgemein!P228),\"\",allgemein!P228))","v":{"$error":"#NAME?"}},{"$f":"IF(ISBLANK(allgemein!Q228),\"\",allgemein!Q228)","v":""},{"$f":"IF(ISBLANK(allgemein!R228),\"\",allgemein!R228)","v":""},{"$f":"IF(ISBLANK(allgemein!S228),\"\",allgemein!S228)","v":""},{"$f":"IF(ISBLANK(allgemein!U228),\"\",allgemein!U228)","v":""}]
[{"$f":"IF(ISBLANK(allgemein!D229),\"\",allgemein!D229)","v":212},{"$f":"IF(ISBLANK(allgemein!E229),\"\",allgemein!E229)","v":""},{"$f":"IF(ISBLANK(allgemein!C229),\"\",allgemein!C229)","v":" "},{"$f":"IF(ISBLANK(allgemein!H229),\"\",allgemein!H229)","v":""},{"$f":"IF(ISBLANK(allgemein!I229),\"\",allgemein!I229)","v":""},{"$f":"IF(ISBLANK(allgemein!J229),\"\",allgemein!J229)","v":""},{"$f":"IF(ISBLANK(allgemein!K229),\"\",allgemein!K229)","v":""},{"$f":"IF(ISBLANK(allgemein!F229),\"\",IF(ISBLANK(allgemein!L229),1,0))","v":""},{"$f":"_xlfn.SWITCH(allgemein!M229,1,IF(ISBLANK(allgemein!$F$10),allgemein!M229,allgemein!$F$10),2,IF(ISBLANK(allgemein!$F$11),allgemein!M229,allgemein!$F$11),3,IF(ISBLANK(allgemein!$F$12),allgemein!M229,allgemein!$F$12),4,IF(ISBLANK(allgemein!$F$13),allgemein!M229,allgemein!$F$13),5,IF(ISBLANK(allgemein!$I$10),allgemein!M229,allgemein!$I$10),6,IF(ISBLANK(allgemein!$I$11),allgemein!M229,allgemein!$I$11),7,IF(ISBLANK(allgemein!$I$12),allgemein!M229,allgemein!$I$12),8,IF(ISBLANK(allgemein!$I$13),allgemein!M229,allgemein!$I$13),IF(ISBLANK(allgemein!M229),\"\",allgemein!M229))","v":{"$error":"#NAME?"}},{"$f":"_xlfn.SWITCH(allgemein!N229,1,IF(ISBLANK(allgemein!$F$10),allgemein!N229,allgemein!$F$10),2,IF(ISBLANK(allgemein!$F$11),allgemein!N229,allgemein!$F$11),3,IF(ISBLANK(allgemein!$F$12),allgemein!N229,allgemein!$F$12),4,IF(ISBLANK(allgemein!$F$13),allgemein!N229,allgemein!$F$13),5,IF(ISBLANK(allgemein!$I$10),allgemein!N229,allgemein!$I$10),6,IF(ISBLANK(allgemein!$I$11),allgemein!N229,allgemein!$I$11),7,IF(ISBLANK(allgemein!$I$12),allgemein!N229,allgemein!$I$12),8,IF(ISBLANK(allgemein!$I$13),allgemein!N229,allgemein!$I$13),IF(ISBLANK(allgemein!N229),\"\",allgemein!N229))","v":{"$error":"#NAME?"}},{"$f":"_xlfn.SWITCH(allgemein!O229,1,IF(ISBLANK(allgemein!$F$10),allgemein!O229,allgemein!$F$10),2,IF(ISBLANK(allgemein!$F$11),allgemein!O229,allgemein!$F$11),3,IF(ISBLANK(allgemein!$F$12),allgemein!O229,allgemein!$F$12),4,IF(ISBLANK(allgemein!$F$13),allgemein!O229,allgemein!$F$13),5,IF(ISBLANK(allgemein!$I$10),allgemein!O229,allgemein!$I$10),6,IF(ISBLANK(allgemein!$I$11),allgemein!O229,allgemein!$I$11),7,IF(ISBLANK(allgemein!$I$12),allgemein!O229,allgemein!$I$12),8,IF(ISBLANK(allgemein!$I$13),allgemein!O229,allgemein!$I$13),IF(ISBLANK(allgemein!O229),\"\",allgemein!O229))","v":{"$error":"#NAME?"}},{"$f":"_xlfn.SWITCH(allgemein!P229,1,IF(ISBLANK(allgemein!$F$10),allgemein!P229,allgemein!$F$10),2,IF(ISBLANK(allgemein!$F$11),allgemein!P229,allgemein!$F$11),3,IF(ISBLANK(allgemein!$F$12),allgemein!P229,allgemein!$F$12),4,IF(ISBLANK(allgemein!$F$13),allgemein!P229,allgemein!$F$13),5,IF(ISBLANK(allgemein!$I$10),allgemein!P229,allgemein!$I$10),6,IF(ISBLANK(allgemein!$I$11),allgemein!P229,allgemein!$I$11),7,IF(ISBLANK(allgemein!$I$12),allgemein!P229,allgemein!$I$12),8,IF(ISBLANK(allgemein!$I$13),allgemein!P229,allgemein!$I$13),IF(ISBLANK(allgemein!P229),\"\",allgemein!P229))","v":{"$error":"#NAME?"}},{"$f":"IF(ISBLANK(allgemein!Q229),\"\",allgemein!Q229)","v":""},{"$f":"IF(ISBLANK(allgemein!R229),\"\",allgemein!R229)","v":""},{"$f":"IF(ISBLANK(allgemein!S229),\"\",allgemein!S229)","v":""},{"$f":"IF(ISBLANK(allgemein!U229),\"\",allgemein!U229)","v":""}]
[{"$f":"IF(ISBLANK(allgemein!D230),\"\",allgemein!D230)","v":213},{"$f":"IF(ISBLANK(allgemein!E230),\"\",allgemein!E230)","v":""},{"$f":"IF(ISBLANK(allgemein!C230),\"\",allgemein!C230)","v":" "},{"$f":"IF(ISBLANK(allgemein!H230),\"\",allgemein!H230)","v":""},{"$f":"IF(ISBLANK(allgemein!I230),\"\",allgemein!I230)","v":""},{"$f":"IF(ISBLANK(allgemein!J230),\"\",allgemein!J230)","v":""},{"$f":"IF(ISBLANK(allgemein!K230),\"\",allgemein!K230)","v":""},{"$f":"IF(ISBLANK(allgemein!F230),\"\",IF(ISBLANK(allgemein!L230),1,0))","v":""},{"$f":"_xlfn.SWITCH(allgemein!M230,1,IF(ISBLANK(allgemein!$F$10),allgemein!M230,allgemein!$F$10),2,IF(ISBLANK(allgemein!$F$11),allgemein!M230,allgemein!$F$11),3,IF(ISBLANK(allgemein!$F$12),allgemein!M230,allgemein!$F$12),4,IF(ISBLANK(allgemein!$F$13),allgemein!M230,allgemein!$F$13),5,IF(ISBLANK(allgemein!$I$10),allgemein!M230,allgemein!$I$10),6,IF(ISBLANK(allgemein!$I$11),allgemein!M230,allgemein!$I$11),7,IF(ISBLANK(allgemein!$I$12),allgemein!M230,allgemein!$I$12),8,IF(ISBLANK(allgemein!$I$13),allgemein!M230,allgemein!$I$13),IF(ISBLANK(allgemein!M230),\"\",allgemein!M230))","v":{"$error":"#NAME?"}},{"$f":"_xlfn.SWITCH(allgemein!N230,1,IF(ISBLANK(allgemein!$F$10),allgemein!N230,allgemein!$F$10),2,IF(ISBLANK(allgemein!$F$11),allgemein!N230,allgemein!$F$11),3,IF(ISBLANK(allgemein!$F$12),allgemein!N230,allgemein!$F$12),4,IF(ISBLANK(allgemein!$F$13),allgemein!N230,allgemein!$F$13),5,IF(ISBLANK(allgemein!$I$10),allgemein!N230,allgemein!$I$10),6,IF(ISBLANK(allgemein!$I$11),allgemein!N230,allgemein!$I$11),7,IF(ISBLANK(allgemein!$I$12),allgemein!N230,allgemein!$I$12),8,IF(ISBLANK(allgemein!$I$13),allgemein!N230,allgemein!$I$13),IF(ISBLANK(allgemein!N230),\"\",allgemein!N230))","v":{"$error":"#NAME?"}},{"$f":"_xlfn.SWITCH(allgemein!O230,1,IF(ISBLANK(allgemein!$F$10),allgemein!O230,allgemein!$F$10),2,IF(ISBLANK(allgemein!$F$11),allgemein!O230,allgemein!$F$11),3,IF(ISBLANK(allgemein!$F$12),allgemein!O230,allgemein!$F$12),4,IF(ISBLANK(allgemein!$F$13),allgemein!O230,allgemein!$F$13),5,IF(ISBLANK(allgemein!$I$10),allgemein!O230,allgemein!$I$10),6,IF(ISBLANK(allgemein!$I$11),allgemein!O230,allgemein!$I$11),7,IF(ISBLANK(allgemein!$I$12),allgemein!O230,allgemein!$I$12),8,IF(ISBLANK(allgemein!$I$13),allgemein!O230,allgemein!$I$13),IF(ISBLANK(allgemein!O230),\"\",allgemein!O230))","v":{"$error":"#NAME?"}},{"$f":"_xlfn.SWITCH(allgemein!P230,1,IF(ISBLANK(allgemein!$F$10),allgemein!P230,allgemein!$F$10),2,IF(ISBLANK(allgemein!$F$11),allgemein!P230,allgemein!$F$11),3,IF(ISBLANK(allgemein!$F$12),allgemein!P230,allgemein!$F$12),4,IF(ISBLANK(allgemein!$F$13),allgemein!P230,allgemein!$F$13),5,IF(ISBLANK(allgemein!$I$10),allgemein!P230,allgemein!$I$10),6,IF(ISBLANK(allgemein!$I$11),allgemein!P230,allgemein!$I$11),7,IF(ISBLANK(allgemein!$I$12),allgemein!P230,allgemein!$I$12),8,IF(ISBLANK(allgemein!$I$13),allgemein!P230,allgemein!$I$13),IF(ISBLANK(allgemein!P230),\"\",allgemein!P230))","v":{"$error":"#NAME?"}},{"$f":"IF(ISBLANK(allgemein!Q230),\"\",allgemein!Q230)","v":""},{"$f":"IF(ISBLANK(allgemein!R230),\"\",allgemein!R230)","v":""},{"$f":"IF(ISBLANK(allgemein!S230),\"\",allgemein!S230)","v":""},{"$f":"IF(ISBLANK(allgemein!U230),\"\",allgemein!U230)","v":""}]
[{"$f":"IF(ISBLANK(allgemein!D231),\"\",allgemein!D231)","v":214},{"$f":"IF(ISBLANK(allgemein!E231),\"\",allgemein!E231)","v":""},{"$f":"IF(ISBLANK(allgemein!C231),\"\",allgemein!C231)","v":" "},{"$f":"IF(ISBLANK(allgemein!H231),\"\",allgemein!H231)","v":""},{"$f":"IF(ISBLANK(allgemein!I231),\"\",allgemein!I231)","v":""},{"$f":"IF(ISBLANK(allgemein!J231),\"\",allgemein!J231)","v":""},{"$f":"IF(ISBLANK(allgemein!K231),\"\",allgemein!K231)","v":""},{"$f":"IF(ISBLANK(allgemein!F231),\"\",IF(ISBLANK(allgemein!L231),1,0))","v":""},{"$f":"_xlfn.SWITCH(allgemein!M231,1,IF(ISBLANK(allgemein!$F$10),allgemein!M231,allgemein!$F$10),2,IF(ISBLANK(allgemein!$F$11),allgemein!M231,allgemein!$F$11),3,IF(ISBLANK(allgemein!$F$12),allgemein!M231,allgemein!$F$12),4,IF(ISBLANK(allgemein!$F$13),allgemein!M231,allgemein!$F$13),5,IF(ISBLANK(allgemein!$I$10),allgemein!M231,allgemein!$I$10),6,IF(ISBLANK(allgemein!$I$11),allgemein!M231,allgemein!$I$11),7,IF(ISBLANK(allgemein!$I$12),allgemein!M231,allgemein!$I$12),8,IF(ISBLANK(allgemein!$I$13),allgemein!M231,allgemein!$I$13),IF(ISBLANK(allgemein!M231),\"\",allgemein!M231))","v":{"$error":"#NAME?"}},{"$f":"_xlfn.SWITCH(allgemein!N231,1,IF(ISBLANK(allgemein!$F$10),allgemein!N231,allgemein!$F$10),2,IF(ISBLANK(allgemein!$F$11),allgemein!N231,allgemein!$F$11),3,IF(ISBLANK(allgemein!$F$12),allgemein!N231,allgemein!$F$12),4,IF(ISBLANK(allgemein!$F$13),allgemein!N231,allgemein!$F$13),5,IF(ISBLANK(allgemein!$I$10),allgemein!N231,allgemein!$I$10),6,IF(ISBLANK(allgemein!$I$11),allgemein!N231,allgemein!$I$11),7,IF(ISBLANK(allgemein!$I$12),allgemein!N231,allgemein!$I$12),8,IF(ISBLANK(allgemein!$I$13),allgemein!N231,allgemein!$I$13),IF(ISBLANK(allgemein!N231),\"\",allgemein!N231))","v":{"$error":"#NAME?"}},{"$f":"_xlfn.SWITCH(allgemein!O231,1,IF(ISBLANK(allgemein!$F$10),allgemein!O231,allgemein!$F$10),2,IF(ISBLANK(allgemein!$F$11),allgemein!O231,allgemein!$F$11),3,IF(ISBLANK(allgemein!$F$12),allgemein!O231,allgemein!$F$12),4,IF(ISBLANK(allgemein!$F$13),allgemein!O231,allgemein!$F$13),5,IF(ISBLANK(allgemein!$I$10),allgemein!O231,allgemein!$I$10),6,IF(ISBLANK(allgemein!$I$11),allgemein!O231,allgemein!$I$11),7,IF(ISBLANK(allgemein!$I$12),allgemein!O231,allgemein!$I$12),8,IF(ISBLANK(allgemein!$I$13),allgemein!O231,allgemein!$I$13),IF(ISBLANK(allgemein!O231),\"\",allgemein!O231))","v":{"$error":"#NAME?"}},{"$f":"_xlfn.SWITCH(allgemein!P231,1,IF(ISBLANK(allgemein!$F$10),allgemein!P231,allgemein!$F$10),2,IF(ISBLANK(allgemein!$F$11),allgemein!P231,allgemein!$F$11),3,IF(ISBLANK(allgemein!$F$12),allgemein!P231,allgemein!$F$12),4,IF(ISBLANK(allgemein!$F$13),allgemein!P231,allgemein!$F$13),5,IF(ISBLANK(allgemein!$I$10),allgemein!P231,allgemein!$I$10),6,IF(ISBLANK(allgemein!$I$11),allgemein!P231,allgemein!$I$11),7,IF(ISBLANK(allgemein!$I$12),allgemein!P231,allgemein!$I$12),8,IF(ISBLANK(allgemein!$I$13),allgemein!P231,allgemein!$I$13),IF(ISBLANK(allgemein!P231),\"\",allgemein!P231))","v":{"$error":"#NAME?"}},{"$f":"IF(ISBLANK(allgemein!Q231),\"\",allgemein!Q231)","v":""},{"$f":"IF(ISBLANK(allgemein!R231),\"\",allgemein!R231)","v":""},{"$f":"IF(ISBLANK(allgemein!S231),\"\",allgemein!S231)","v":""},{"$f":"IF(ISBLANK(allgemein!U231),\"\",allgemein!U231)","v":""}]
[{"$f":"IF(ISBLANK(allgemein!D232),\"\",allgemein!D232)","v":215},{"$f":"IF(ISBLANK(allgemein!E232),\"\",allgemein!E232)","v":""},{"$f":"IF(ISBLANK(allgemein!C232),\"\",allgemein!C232)","v":" "},{"$f":"IF(ISBLANK(allgemein!H232),\"\",allgemein!H232)","v":""},{"$f":"IF(ISBLANK(allgemein!I232),\"\",allgemein!I232)","v":""},{"$f":"IF(ISBLANK(allgemein!J232),\"\",allgemein!J232)","v":""},{"$f":"IF(ISBLANK(allgemein!K232),\"\",allgemein!K232)","v":""},{"$f":"IF(ISBLANK(allgemein!F232),\"\",IF(ISBLANK(allgemein!L232),1,0))","v":""},{"$f":"_xlfn.SWITCH(allgemein!M232,1,IF(ISBLANK(allgemein!$F$10),allgemein!M232,allgemein!$F$10),2,IF(ISBLANK(allgemein!$F$11),allgemein!M232,allgemein!$F$11),3,IF(ISBLANK(allgemein!$F$12),allgemein!M232,allgemein!$F$12),4,IF(ISBLANK(allgemein!$F$13),allgemein!M232,allgemein!$F$13),5,IF(ISBLANK(allgemein!$I$10),allgemein!M232,allgemein!$I$10),6,IF(ISBLANK(allgemein!$I$11),allgemein!M232,allgemein!$I$11),7,IF(ISBLANK(allgemein!$I$12),allgemein!M232,allgemein!$I$12),8,IF(ISBLANK(allgemein!$I$13),allgemein!M232,allgemein!$I$13),IF(ISBLANK(allgemein!M232),\"\",allgemein!M232))","v":{"$error":"#NAME?"}},{"$f":"_xlfn.SWITCH(allgemein!N232,1,IF(ISBLANK(allgemein!$F$10),allgemein!N232,allgemein!$F$10),2,IF(ISBLANK(allgemein!$F$11),allgemein!N232,allgemein!$F$11),3,IF(ISBLANK(allgemein!$F$12),allgemein!N232,allgemein!$F$12),4,IF(ISBLANK(allgemein!$F$13),allgemein!N232,allgemein!$F$13),5,IF(ISBLANK(allgemein!$I$10),allgemein!N232,allgemein!$I$10),6,IF(ISBLANK(allgemein!$I$11),allgemein!N232,allgemein!$I$11),7,IF(ISBLANK(allgemein!$I$12),allgemein!N232,allgemein!$I$12),8,IF(ISBLANK(allgemein!$I$13),allgemein!N232,allgemein!$I$13),IF(ISBLANK(allgemein!N232),\"\",allgemein!N232))","v":{"$error":"#NAME?"}},{"$f":"_xlfn.SWITCH(allgemein!O232,1,IF(ISBLANK(allgemein!$F$10),allgemein!O232,allgemein!$F$10),2,IF(ISBLANK(allgemein!$F$11),allgemein!O232,allgemein!$F$11),3,IF(ISBLANK(allgemein!$F$12),allgemein!O232,allgemein!$F$12),4,IF(ISBLANK(allgemein!$F$13),allgemein!O232,allgemein!$F$13),5,IF(ISBLANK(allgemein!$I$10),allgemein!O232,allgemein!$I$10),6,IF(ISBLANK(allgemein!$I$11),allgemein!O232,allgemein!$I$11),7,IF(ISBLANK(allgemein!$I$12),allgemein!O232,allgemein!$I$12),8,IF(ISBLANK(allgemein!$I$13),allgemein!O232,allgemein!$I$13),IF(ISBLANK(allgemein!O232),\"\",allgemein!O232))","v":{"$error":"#NAME?"}},{"$f":"_xlfn.SWITCH(allgemein!P232,1,IF(ISBLANK(allgemein!$F$10),allgemein!P232,allgemein!$F$10),2,IF(ISBLANK(allgemein!$F$11),allgemein!P232,allgemein!$F$11),3,IF(ISBLANK(allgemein!$F$12),allgemein!P232,allgemein!$F$12),4,IF(ISBLANK(allgemein!$F$13),allgemein!P232,allgemein!$F$13),5,IF(ISBLANK(allgemein!$I$10),allgemein!P232,allgemein!$I$10),6,IF(ISBLANK(allgemein!$I$11),allgemein!P232,allgemein!$I$11),7,IF(ISBLANK(allgemein!$I$12),allgemein!P232,allgemein!$I$12),8,IF(ISBLANK(allgemein!$I$13),allgemein!P232,allgemein!$I$13),IF(ISBLANK(allgemein!P232),\"\",allgemein!P232))","v":{"$error":"#NAME?"}},{"$f":"IF(ISBLANK(allgemein!Q232),\"\",allgemein!Q232)","v":""},{"$f":"IF(ISBLANK(allgemein!R232),\"\",allgemein!R232)","v":""},{"$f":"IF(ISBLANK(allgemein!S232),\"\",allgemein!S232)","v":""},{"$f":"IF(ISBLANK(allgemein!U232),\"\",allgemein!U232)","v":""}]
[{"$f":"IF(ISBLANK(allgemein!D233),\"\",allgemein!D233)","v":216},{"$f":"IF(ISBLANK(allgemein!E233),\"\",allgemein!E233)","v":""},{"$f":"IF(ISBLANK(allgemein!C233),\"\",allgemein!C233)","v":" "},{"$f":"IF(ISBLANK(allgemein!H233),\"\",allgemein!H233)","v":""},{"$f":"IF(ISBLANK(allgemein!I233),\"\",allgemein!I233)","v":""},{"$f":"IF(ISBLANK(allgemein!J233),\"\",allgemein!J233)","v":""},{"$f":"IF(ISBLANK(allgemein!K233),\"\",allgemein!K233)","v":""},{"$f":"IF(ISBLANK(allgemein!F233),\"\",IF(ISBLANK(allgemein!L233),1,0))","v":""},{"$f":"_xlfn.SWITCH(allgemein!M233,1,IF(ISBLANK(allgemein!$F$10),allgemein!M233,allgemein!$F$10),2,IF(ISBLANK(allgemein!$F$11),allgemein!M233,allgemein!$F$11),3,IF(ISBLANK(allgemein!$F$12),allgemein!M233,allgemein!$F$12),4,IF(ISBLANK(allgemein!$F$13),allgemein!M233,allgemein!$F$13),5,IF(ISBLANK(allgemein!$I$10),allgemein!M233,allgemein!$I$10),6,IF(ISBLANK(allgemein!$I$11),allgemein!M233,allgemein!$I$11),7,IF(ISBLANK(allgemein!$I$12),allgemein!M233,allgemein!$I$12),8,IF(ISBLANK(allgemein!$I$13),allgemein!M233,allgemein!$I$13),IF(ISBLANK(allgemein!M233),\"\",allgemein!M233))","v":{"$error":"#NAME?"}},{"$f":"_xlfn.SWITCH(allgemein!N233,1,IF(ISBLANK(allgemein!$F$10),allgemein!N233,allgemein!$F$10),2,IF(ISBLANK(allgemein!$F$11),allgemein!N233,allgemein!$F$11),3,IF(ISBLANK(allgemein!$F$12),allgemein!N233,allgemein!$F$12),4,IF(ISBLANK(allgemein!$F$13),allgemein!N233,allgemein!$F$13),5,IF(ISBLANK(allgemein!$I$10),allgemein!N233,allgemein!$I$10),6,IF(ISBLANK(allgemein!$I$11),allgemein!N233,allgemein!$I$11),7,IF(ISBLANK(allgemein!$I$12),allgemein!N233,allgemein!$I$12),8,IF(ISBLANK(allgemein!$I$13),allgemein!N233,allgemein!$I$13),IF(ISBLANK(allgemein!N233),\"\",allgemein!N233))","v":{"$error":"#NAME?"}},{"$f":"_xlfn.SWITCH(allgemein!O233,1,IF(ISBLANK(allgemein!$F$10),allgemein!O233,allgemein!$F$10),2,IF(ISBLANK(allgemein!$F$11),allgemein!O233,allgemein!$F$11),3,IF(ISBLANK(allgemein!$F$12),allgemein!O233,allgemein!$F$12),4,IF(ISBLANK(allgemein!$F$13),allgemein!O233,allgemein!$F$13),5,IF(ISBLANK(allgemein!$I$10),allgemein!O233,allgemein!$I$10),6,IF(ISBLANK(allgemein!$I$11),allgemein!O233,allgemein!$I$11),7,IF(ISBLANK(allgemein!$I$12),allgemein!O233,allgemein!$I$12),8,IF(ISBLANK(allgemein!$I$13),allgemein!O233,allgemein!$I$13),IF(ISBLANK(allgemein!O233),\"\",allgemein!O233))","v":{"$error":"#NAME?"}},{"$f":"_xlfn.SWITCH(allgemein!P233,1,IF(ISBLANK(allgemein!$F$10),allgemein!P233,allgemein!$F$10),2,IF(ISBLANK(allgemein!$F$11),allgemein!P233,allgemein!$F$11),3,IF(ISBLANK(allgemein!$F$12),allgemein!P233,allgemein!$F$12),4,IF(ISBLANK(allgemein!$F$13),allgemein!P233,allgemein!$F$13),5,IF(ISBLANK(allgemein!$I$10),allgemein!P233,allgemein!$I$10),6,IF(ISBLANK(allgemein!$I$11),allgemein!P233,allgemein!$I$11),7,IF(ISBLANK(allgemein!$I$12),allgemein!P233,allgemein!$I$12),8,IF(ISBLANK(allgemein!$I$13),allgemein!P233,allgemein!$I$13),IF(ISBLANK(allgemein!P233),\"\",allgemein!P233))","v":{"$error":"#NAME?"}},{"$f":"IF(ISBLANK(allgemein!Q233),\"\",allgemein!Q233)","v":""},{"$f":"IF(ISBLANK(allgemein!R233),\"\",allgemein!R233)","v":""},{"$f":"IF(ISBLANK(allgemein!S233),\"\",allgemein!S233)","v":""},{"$f":"IF(ISBLANK(allgemein!U233),\"\",allgemein!U233)","v":""}]
[{"$f":"IF(ISBLANK(allgemein!D234),\"\",allgemein!D234)","v":217},{"$f":"IF(ISBLANK(allgemein!E234),\"\",allgemein!E234)","v":""},{"$f":"IF(ISBLANK(allgemein!C234),\"\",allgemein!C234)","v":" "},{"$f":"IF(ISBLANK(allgemein!H234),\"\",allgemein!H234)","v":""},{"$f":"IF(ISBLANK(allgemein!I234),\"\",allgemein!I234)","v":""},{"$f":"IF(ISBLANK(allgemein!J234),\"\",allgemein!J234)","v":""},{"$f":"IF(ISBLANK(allgemein!K234),\"\",allgemein!K234)","v":""},{"$f":"IF(ISBLANK(allgemein!F234),\"\",IF(ISBLANK(allgemein!L234),1,0))","v":""},{"$f":"_xlfn.SWITCH(allgemein!M234,1,IF(ISBLANK(allgemein!$F$10),allgemein!M234,allgemein!$F$10),2,IF(ISBLANK(allgemein!$F$11),allgemein!M234,allgemein!$F$11),3,IF(ISBLANK(allgemein!$F$12),allgemein!M234,allgemein!$F$12),4,IF(ISBLANK(allgemein!$F$13),allgemein!M234,allgemein!$F$13),5,IF(ISBLANK(allgemein!$I$10),allgemein!M234,allgemein!$I$10),6,IF(ISBLANK(allgemein!$I$11),allgemein!M234,allgemein!$I$11),7,IF(ISBLANK(allgemein!$I$12),allgemein!M234,allgemein!$I$12),8,IF(ISBLANK(allgemein!$I$13),allgemein!M234,allgemein!$I$13),IF(ISBLANK(allgemein!M234),\"\",allgemein!M234))","v":{"$error":"#NAME?"}},{"$f":"_xlfn.SWITCH(allgemein!N234,1,IF(ISBLANK(allgemein!$F$10),allgemein!N234,allgemein!$F$10),2,IF(ISBLANK(allgemein!$F$11),allgemein!N234,allgemein!$F$11),3,IF(ISBLANK(allgemein!$F$12),allgemein!N234,allgemein!$F$12),4,IF(ISBLANK(allgemein!$F$13),allgemein!N234,allgemein!$F$13),5,IF(ISBLANK(allgemein!$I$10),allgemein!N234,allgemein!$I$10),6,IF(ISBLANK(allgemein!$I$11),allgemein!N234,allgemein!$I$11),7,IF(ISBLANK(allgemein!$I$12),allgemein!N234,allgemein!$I$12),8,IF(ISBLANK(allgemein!$I$13),allgemein!N234,allgemein!$I$13),IF(ISBLANK(allgemein!N234),\"\",allgemein!N234))","v":{"$error":"#NAME?"}},{"$f":"_xlfn.SWITCH(allgemein!O234,1,IF(ISBLANK(allgemein!$F$10),allgemein!O234,allgemein!$F$10),2,IF(ISBLANK(allgemein!$F$11),allgemein!O234,allgemein!$F$11),3,IF(ISBLANK(allgemein!$F$12),allgemein!O234,allgemein!$F$12),4,IF(ISBLANK(allgemein!$F$13),allgemein!O234,allgemein!$F$13),5,IF(ISBLANK(allgemein!$I$10),allgemein!O234,allgemein!$I$10),6,IF(ISBLANK(allgemein!$I$11),allgemein!O234,allgemein!$I$11),7,IF(ISBLANK(allgemein!$I$12),allgemein!O234,allgemein!$I$12),8,IF(ISBLANK(allgemein!$I$13),allgemein!O234,allgemein!$I$13),IF(ISBLANK(allgemein!O234),\"\",allgemein!O234))","v":{"$error":"#NAME?"}},{"$f":"_xlfn.SWITCH(allgemein!P234,1,IF(ISBLANK(allgemein!$F$10),allgemein!P234,allgemein!$F$10),2,IF(ISBLANK(allgemein!$F$11),allgemein!P234,allgemein!$F$11),3,IF(ISBLANK(allgemein!$F$12),allgemein!P234,allgemein!$F$12),4,IF(ISBLANK(allgemein!$F$13),allgemein!P234,allgemein!$F$13),5,IF(ISBLANK(allgemein!$I$10),allgemein!P234,allgemein!$I$10),6,IF(ISBLANK(allgemein!$I$11),allgemein!P234,allgemein!$I$11),7,IF(ISBLANK(allgemein!$I$12),allgemein!P234,allgemein!$I$12),8,IF(ISBLANK(allgemein!$I$13),allgemein!P234,allgemein!$I$13),IF(ISBLANK(allgemein!P234),\"\",allgemein!P234))","v":{"$error":"#NAME?"}},{"$f":"IF(ISBLANK(allgemein!Q234),\"\",allgemein!Q234)","v":""},{"$f":"IF(ISBLANK(allgemein!R234),\"\",allgemein!R234)","v":""},{"$f":"IF(ISBLANK(allgemein!S234),\"\",allgemein!S234)","v":""},{"$f":"IF(ISBLANK(allgemein!U234),\"\",allgemein!U234)","v":""}]
[{"$f":"IF(ISBLANK(allgemein!D235),\"\",allgemein!D235)","v":218},{"$f":"IF(ISBLANK(allgemein!E235),\"\",allgemein!E235)","v":""},{"$f":"IF(ISBLANK(allgemein!C235),\"\",allgemein!C235)","v":" "},{"$f":"IF(ISBLANK(allgemein!H235),\"\",allgemein!H235)","v":""},{"$f":"IF(ISBLANK(allgemein!I235),\"\",allgemein!I235)","v":""},{"$f":"IF(ISBLANK(allgemein!J235),\"\",allgemein!J235)","v":""},{"$f":"IF(ISBLANK(allgemein!K235),\"\",allgemein!K235)","v":""},{"$f":"IF(ISBLANK(allgemein!F235),\"\",IF(ISBLANK(allgemein!L235),1,0))","v":""},{"$f":"_xlfn.SWITCH(allgemein!M235,1,IF(ISBLANK(allgemein!$F$10),allgemein!M235,allgemein!$F$10),2,IF(ISBLANK(allgemein!$F$11),allgemein!M235,allgemein!$F$11),3,IF(ISBLANK(allgemein!$F$12),allgemein!M235,allgemein!$F$12),4,IF(ISBLANK(allgemein!$F$13),allgemein!M235,allgemein!$F$13),5,IF(ISBLANK(allgemein!$I$10),allgemein!M235,allgemein!$I$10),6,IF(ISBLANK(allgemein!$I$11),allgemein!M235,allgemein!$I$11),7,IF(ISBLANK(allgemein!$I$12),allgemein!M235,allgemein!$I$12),8,IF(ISBLANK(allgemein!$I$13),allgemein!M235,allgemein!$I$13),IF(ISBLANK(allgemein!M235),\"\",allgemein!M235))","v":{"$error":"#NAME?"}},{"$f":"_xlfn.SWITCH(allgemein!N235,1,IF(ISBLANK(allgemein!$F$10),allgemein!N235,allgemein!$F$10),2,IF(ISBLANK(allgemein!$F$11),allgemein!N235,allgemein!$F$11),3,IF(ISBLANK(allgemein!$F$12),allgemein!N235,allgemein!$F$12),4,IF(ISBLANK(allgemein!$F$13),allgemein!N235,allgemein!$F$13),5,IF(ISBLANK(allgemein!$I$10),allgemein!N235,allgemein!$I$10),6,IF(ISBLANK(allgemein!$I$11),allgemein!N235,allgemein!$I$11),7,IF(ISBLANK(allgemein!$I$12),allgemein!N235,allgemein!$I$12),8,IF(ISBLANK(allgemein!$I$13),allgemein!N235,allgemein!$I$13),IF(ISBLANK(allgemein!N235),\"\",allgemein!N235))","v":{"$error":"#NAME?"}},{"$f":"_xlfn.SWITCH(allgemein!O235,1,IF(ISBLANK(allgemein!$F$10),allgemein!O235,allgemein!$F$10),2,IF(ISBLANK(allgemein!$F$11),allgemein!O235,allgemein!$F$11),3,IF(ISBLANK(allgemein!$F$12),allgemein!O235,allgemein!$F$12),4,IF(ISBLANK(allgemein!$F$13),allgemein!O235,allgemein!$F$13),5,IF(ISBLANK(allgemein!$I$10),allgemein!O235,allgemein!$I$10),6,IF(ISBLANK(allgemein!$I$11),allgemein!O235,allgemein!$I$11),7,IF(ISBLANK(allgemein!$I$12),allgemein!O235,allgemein!$I$12),8,IF(ISBLANK(allgemein!$I$13),allgemein!O235,allgemein!$I$13),IF(ISBLANK(allgemein!O235),\"\",allgemein!O235))","v":{"$error":"#NAME?"}},{"$f":"_xlfn.SWITCH(allgemein!P235,1,IF(ISBLANK(allgemein!$F$10),allgemein!P235,allgemein!$F$10),2,IF(ISBLANK(allgemein!$F$11),allgemein!P235,allgemein!$F$11),3,IF(ISBLANK(allgemein!$F$12),allgemein!P235,allgemein!$F$12),4,IF(ISBLANK(allgemein!$F$13),allgemein!P235,allgemein!$F$13),5,IF(ISBLANK(allgemein!$I$10),allgemein!P235,allgemein!$I$10),6,IF(ISBLANK(allgemein!$I$11),allgemein!P235,allgemein!$I$11),7,IF(ISBLANK(allgemein!$I$12),allgemein!P235,allgemein!$I$12),8,IF(ISBLANK(allgemein!$I$13),allgemein!P235,allgemein!$I$13),IF(ISBLANK(allgemein!P235),\"\",allgemein!P235))","v":{"$error":"#NAME?"}},{"$f":"IF(ISBLANK(allgemein!Q235),\"\",allgemein!Q235)","v":""},{"$f":"IF(ISBLANK(allgemein!R235),\"\",allgemein!R235)","v":""},{"$f":"IF(ISBLANK(allgemein!S235),\"\",allgemein!S235)","v":""},{"$f":"IF(ISBLANK(allgemein!U235),\"\",allgemein!U235)","v":""}]
[{"$f":"IF(ISBLANK(allgemein!D236),\"\",allgemein!D236)","v":219},{"$f":"IF(ISBLANK(allgemein!E236),\"\",allgemein!E236)","v":""},{"$f":"IF(ISBLANK(allgemein!C236),\"\",allgemein!C236)","v":" "},{"$f":"IF(ISBLANK(allgemein!H236),\"\",allgemein!H236)","v":""},{"$f":"IF(ISBLANK(allgemein!I236),\"\",allgemein!I236)","v":""},{"$f":"IF(ISBLANK(allgemein!J236),\"\",allgemein!J236)","v":""},{"$f":"IF(ISBLANK(allgemein!K236),\"\",allgemein!K236)","v":""},{"$f":"IF(ISBLANK(allgemein!F236),\"\",IF(ISBLANK(allgemein!L236),1,0))","v":""},{"$f":"_xlfn.SWITCH(allgemein!M236,1,IF(ISBLANK(allgemein!$F$10),allgemein!M236,allgemein!$F$10),2,IF(ISBLANK(allgemein!$F$11),allgemein!M236,allgemein!$F$11),3,IF(ISBLANK(allgemein!$F$12),allgemein!M236,allgemein!$F$12),4,IF(ISBLANK(allgemein!$F$13),allgemein!M236,allgemein!$F$13),5,IF(ISBLANK(allgemein!$I$10),allgemein!M236,allgemein!$I$10),6,IF(ISBLANK(allgemein!$I$11),allgemein!M236,allgemein!$I$11),7,IF(ISBLANK(allgemein!$I$12),allgemein!M236,allgemein!$I$12),8,IF(ISBLANK(allgemein!$I$13),allgemein!M236,allgemein!$I$13),IF(ISBLANK(allgemein!M236),\"\",allgemein!M236))","v":{"$error":"#NAME?"}},{"$f":"_xlfn.SWITCH(allgemein!N236,1,IF(ISBLANK(allgemein!$F$10),allgemein!N236,allgemein!$F$10),2,IF(ISBLANK(allgemein!$F$11),allgemein!N236,allgemein!$F$11),3,IF(ISBLANK(allgemein!$F$12),allgemein!N236,allgemein!$F$12),4,IF(ISBLANK(allgemein!$F$13),allgemein!N236,allgemein!$F$13),5,IF(ISBLANK(allgemein!$I$10),allgemein!N236,allgemein!$I$10),6,IF(ISBLANK(allgemein!$I$11),allgemein!N236,allgemein!$I$11),7,IF(ISBLANK(allgemein!$I$12),allgemein!N236,allgemein!$I$12),8,IF(ISBLANK(allgemein!$I$13),allgemein!N236,allgemein!$I$13),IF(ISBLANK(allgemein!N236),\"\",allgemein!N236))","v":{"$error":"#NAME?"}},{"$f":"_xlfn.SWITCH(allgemein!O236,1,IF(ISBLANK(allgemein!$F$10),allgemein!O236,allgemein!$F$10),2,IF(ISBLANK(allgemein!$F$11),allgemein!O236,allgemein!$F$11),3,IF(ISBLANK(allgemein!$F$12),allgemein!O236,allgemein!$F$12),4,IF(ISBLANK(allgemein!$F$13),allgemein!O236,allgemein!$F$13),5,IF(ISBLANK(allgemein!$I$10),allgemein!O236,allgemein!$I$10),6,IF(ISBLANK(allgemein!$I$11),allgemein!O236,allgemein!$I$11),7,IF(ISBLANK(allgemein!$I$12),allgemein!O236,allgemein!$I$12),8,IF(ISBLANK(allgemein!$I$13),allgemein!O236,allgemein!$I$13),IF(ISBLANK(allgemein!O236),\"\",allgemein!O236))","v":{"$error":"#NAME?"}},{"$f":"_xlfn.SWITCH(allgemein!P236,1,IF(ISBLANK(allgemein!$F$10),allgemein!P236,allgemein!$F$10),2,IF(ISBLANK(allgemein!$F$11),allgemein!P236,allgemein!$F$11),3,IF(ISBLANK(allgemein!$F$12),allgemein!P236,allgemein!$F$12),4,IF(ISBLANK(allgemein!$F$13),allgemein!P236,allgemein!$F$13),5,IF(ISBLANK(allgemein!$I$10),allgemein!P236,allgemein!$I$10),6,IF(ISBLANK(allgemein!$I$11),allgemein!P236,allgemein!$I$11),7,IF(ISBLANK(allgemein!$I$12),allgemein!P236,allgemein!$I$12),8,IF(ISBLANK(allgemein!$I$13),allgemein!P236,allgemein!$I$13),IF(ISBLANK(allgemein!P236),\"\",allgemein!P236))","v":{"$error":"#NAME?"}},{"$f":"IF(ISBLANK(allgemein!Q236),\"\",allgemein!Q236)","v":""},{"$f":"IF(ISBLANK(allgemein!R236),\"\",allgemein!R236)","v":""},{"$f":"IF(ISBLANK(allgemein!S236),\"\",allgemein!S236)","v":""},{"$f":"IF(ISBLANK(allgemein!U236),\"\",allgemein!U236)","v":""}]
[{"$f":"IF(ISBLANK(allgemein!D237),\"\",allgemein!D237)","v":220},{"$f":"IF(ISBLANK(allgemein!E237),\"\",allgemein!E237)","v":""},{"$f":"IF(ISBLANK(allgemein!C237),\"\",allgemein!C237)","v":" "},{"$f":"IF(ISBLANK(allgemein!H237),\"\",allgemein!H237)","v":""},{"$f":"IF(ISBLANK(allgemein!I237),\"\",allgemein!I237)","v":""},{"$f":"IF(ISBLANK(allgemein!J237),\"\",allgemein!J237)","v":""},{"$f":"IF(ISBLANK(allgemein!K237),\"\",allgemein!K237)","v":""},{"$f":"IF(ISBLANK(allgemein!F237),\"\",IF(ISBLANK(allgemein!L237),1,0))","v":""},{"$f":"_xlfn.SWITCH(allgemein!M237,1,IF(ISBLANK(allgemein!$F$10),allgemein!M237,allgemein!$F$10),2,IF(ISBLANK(allgemein!$F$11),allgemein!M237,allgemein!$F$11),3,IF(ISBLANK(allgemein!$F$12),allgemein!M237,allgemein!$F$12),4,IF(ISBLANK(allgemein!$F$13),allgemein!M237,allgemein!$F$13),5,IF(ISBLANK(allgemein!$I$10),allgemein!M237,allgemein!$I$10),6,IF(ISBLANK(allgemein!$I$11),allgemein!M237,allgemein!$I$11),7,IF(ISBLANK(allgemein!$I$12),allgemein!M237,allgemein!$I$12),8,IF(ISBLANK(allgemein!$I$13),allgemein!M237,allgemein!$I$13),IF(ISBLANK(allgemein!M237),\"\",allgemein!M237))","v":{"$error":"#NAME?"}},{"$f":"_xlfn.SWITCH(allgemein!N237,1,IF(ISBLANK(allgemein!$F$10),allgemein!N237,allgemein!$F$10),2,IF(ISBLANK(allgemein!$F$11),allgemein!N237,allgemein!$F$11),3,IF(ISBLANK(allgemein!$F$12),allgemein!N237,allgemein!$F$12),4,IF(ISBLANK(allgemein!$F$13),allgemein!N237,allgemein!$F$13),5,IF(ISBLANK(allgemein!$I$10),allgemein!N237,allgemein!$I$10),6,IF(ISBLANK(allgemein!$I$11),allgemein!N237,allgemein!$I$11),7,IF(ISBLANK(allgemein!$I$12),allgemein!N237,allgemein!$I$12),8,IF(ISBLANK(allgemein!$I$13),allgemein!N237,allgemein!$I$13),IF(ISBLANK(allgemein!N237),\"\",allgemein!N237))","v":{"$error":"#NAME?"}},{"$f":"_xlfn.SWITCH(allgemein!O237,1,IF(ISBLANK(allgemein!$F$10),allgemein!O237,allgemein!$F$10),2,IF(ISBLANK(allgemein!$F$11),allgemein!O237,allgemein!$F$11),3,IF(ISBLANK(allgemein!$F$12),allgemein!O237,allgemein!$F$12),4,IF(ISBLANK(allgemein!$F$13),allgemein!O237,allgemein!$F$13),5,IF(ISBLANK(allgemein!$I$10),allgemein!O237,allgemein!$I$10),6,IF(ISBLANK(allgemein!$I$11),allgemein!O237,allgemein!$I$11),7,IF(ISBLANK(allgemein!$I$12),allgemein!O237,allgemein!$I$12),8,IF(ISBLANK(allgemein!$I$13),allgemein!O237,allgemein!$I$13),IF(ISBLANK(allgemein!O237),\"\",allgemein!O237))","v":{"$error":"#NAME?"}},{"$f":"_xlfn.SWITCH(allgemein!P237,1,IF(ISBLANK(allgemein!$F$10),allgemein!P237,allgemein!$F$10),2,IF(ISBLANK(allgemein!$F$11),allgemein!P237,allgemein!$F$11),3,IF(ISBLANK(allgemein!$F$12),allgemein!P237,allgemein!$F$12),4,IF(ISBLANK(allgemein!$F$13),allgemein!P237,allgemein!$F$13),5,IF(ISBLANK(allgemein!$I$10),allgemein!P237,allgemein!$I$10),6,IF(ISBLANK(allgemein!$I$11),allgemein!P237,allgemein!$I$11),7,IF(ISBLANK(allgemein!$I$12),allgemein!P237,allgemein!$I$12),8,IF(ISBLANK(allgemein!$I$13),allgemein!P237,allgemein!$I$13),IF(ISBLANK(allgemein!P237),\"\",allgemein!P237))","v":{"$error":"#NAME?"}},{"$f":"IF(ISBLANK(allgemein!Q237),\"\",allgemein!Q237)","v":""},{"$f":"IF(ISBLANK(allgemein!R237),\"\",allgemein!R237)","v":""},{"$f":"IF(ISBLANK(allgemein!S237),\"\",allgemein!S237)","v":""},{"$f":"IF(ISBLANK(allgemein!U237),\"\",allgemein!U237)","v":""}]
[{"$f":"IF(ISBLANK(allgemein!D238),\"\",allgemein!D238)","v":""},{"$f":"IF(ISBLANK(allgemein!E238),\"\",allgemein!E238)","v":""},{"$f":"IF(ISBLANK(allgemein!C238),\"\",allgemein!C238)","v":""},{"$f":"IF(ISBLANK(allgemein!H238),\"\",allgemein!H238)","v":""},{"$f":"IF(ISBLANK(allgemein!I238),\"\",allgemein!I238)","v":""},{"$f":"IF(ISBLANK(allgemein!J238),\"\",allgemein!J238)","v":""},{"$f":"IF(ISBLANK(allgemein!K238),\"\",allgemein!K238)","v":""},{"$f":"IF(ISBLANK(allgemein!F238),\"\",IF(ISBLANK(allgemein!L238),1,0))","v":""},{"$f":"_xlfn.SWITCH(allgemein!M238,1,IF(ISBLANK(allgemein!$F$10),allgemein!M238,allgemein!$F$10),2,IF(ISBLANK(allgemein!$F$11),allgemein!M238,allgemein!$F$11),3,IF(ISBLANK(allgemein!$F$12),allgemein!M238,allgemein!$F$12),4,IF(ISBLANK(allgemein!$F$13),allgemein!M238,allgemein!$F$13),5,IF(ISBLANK(allgemein!$I$10),allgemein!M238,allgemein!$I$10),6,IF(ISBLANK(allgemein!$I$11),allgemein!M238,allgemein!$I$11),7,IF(ISBLANK(allgemein!$I$12),allgemein!M238,allgemein!$I$12),8,IF(ISBLANK(allgemein!$I$13),allgemein!M238,allgemein!$I$13),IF(ISBLANK(allgemein!M238),\"\",allgemein!M238))","v":{"$error":"#NAME?"}},{"$f":"_xlfn.SWITCH(allgemein!N238,1,IF(ISBLANK(allgemein!$F$10),allgemein!N238,allgemein!$F$10),2,IF(ISBLANK(allgemein!$F$11),allgemein!N238,allgemein!$F$11),3,IF(ISBLANK(allgemein!$F$12),allgemein!N238,allgemein!$F$12),4,IF(ISBLANK(allgemein!$F$13),allgemein!N238,allgemein!$F$13),5,IF(ISBLANK(allgemein!$I$10),allgemein!N238,allgemein!$I$10),6,IF(ISBLANK(allgemein!$I$11),allgemein!N238,allgemein!$I$11),7,IF(ISBLANK(allgemein!$I$12),allgemein!N238,allgemein!$I$12),8,IF(ISBLANK(allgemein!$I$13),allgemein!N238,allgemein!$I$13),IF(ISBLANK(allgemein!N238),\"\",allgemein!N238))","v":{"$error":"#NAME?"}},{"$f":"_xlfn.SWITCH(allgemein!O238,1,IF(ISBLANK(allgemein!$F$10),allgemein!O238,allgemein!$F$10),2,IF(ISBLANK(allgemein!$F$11),allgemein!O238,allgemein!$F$11),3,IF(ISBLANK(allgemein!$F$12),allgemein!O238,allgemein!$F$12),4,IF(ISBLANK(allgemein!$F$13),allgemein!O238,allgemein!$F$13),5,IF(ISBLANK(allgemein!$I$10),allgemein!O238,allgemein!$I$10),6,IF(ISBLANK(allgemein!$I$11),allgemein!O238,allgemein!$I$11),7,IF(ISBLANK(allgemein!$I$12),allgemein!O238,allgemein!$I$12),8,IF(ISBLANK(allgemein!$I$13),allgemein!O238,allgemein!$I$13),IF(ISBLANK(allgemein!O238),\"\",allgemein!O238))","v":{"$error":"#NAME?"}},{"$f":"_xlfn.SWITCH(allgemein!P238,1,IF(ISBLANK(allgemein!$F$10),allgemein!P238,allgemein!$F$10),2,IF(ISBLANK(allgemein!$F$11),allgemein!P238,allgemein!$F$11),3,IF(ISBLANK(allgemein!$F$12),allgemein!P238,allgemein!$F$12),4,IF(ISBLANK(allgemein!$F$13),allgemein!P238,allgemein!$F$13),5,IF(ISBLANK(allgemein!$I$10),allgemein!P238,allgemein!$I$10),6,IF(ISBLANK(allgemein!$I$11),allgemein!P238,allgemein!$I$11),7,IF(ISBLANK(allgemein!$I$12),allgemein!P238,allgemein!$I$12),8,IF(ISBLANK(allgemein!$I$13),allgemein!P238,allgemein!$I$13),IF(ISBLANK(allgemein!P238),\"\",allgemein!P238))","v":{"$error":"#NAME?"}},{"$f":"IF(ISBLANK(allgemein!Q238),\"\",allgemein!Q238)","v":""},{"$f":"IF(ISBLANK(allgemein!R238),\"\",allgemein!R238)","v":""},{"$f":"IF(ISBLANK(allgemein!S238),\"\",allgemein!S238)","v":""},{"$f":"IF(ISBLANK(allgemein!U238),\"\",allgemein!U238)","v":""}]
[{"$f":"IF(ISBLANK(allgemein!D239),\"\",allgemein!D239)","v":""},{"$f":"IF(ISBLANK(allgemein!E239),\"\",allgemein!E239)","v":""},{"$f":"IF(ISBLANK(allgemein!C239),\"\",allgemein!C239)","v":""},{"$f":"IF(ISBLANK(allgemein!H239),\"\",allgemein!H239)","v":""},{"$f":"IF(ISBLANK(allgemein!I239),\"\",allgemein!I239)","v":""},{"$f":"IF(ISBLANK(allgemein!J239),\"\",allgemein!J239)","v":""},{"$f":"IF(ISBLANK(allgemein!K239),\"\",allgemein!K239)","v":""},{"$f":"IF(ISBLANK(allgemein!F239),\"\",IF(ISBLANK(allgemein!L239),1,0))","v":""},{"$f":"_xlfn.SWITCH(allgemein!M239,1,IF(ISBLANK(allgemein!$F$10),allgemein!M239,allgemein!$F$10),2,IF(ISBLANK(allgemein!$F$11),allgemein!M239,allgemein!$F$11),3,IF(ISBLANK(allgemein!$F$12),allgemein!M239,allgemein!$F$12),4,IF(ISBLANK(allgemein!$F$13),allgemein!M239,allgemein!$F$13),5,IF(ISBLANK(allgemein!$I$10),allgemein!M239,allgemein!$I$10),6,IF(ISBLANK(allgemein!$I$11),allgemein!M239,allgemein!$I$11),7,IF(ISBLANK(allgemein!$I$12),allgemein!M239,allgemein!$I$12),8,IF(ISBLANK(allgemein!$I$13),allgemein!M239,allgemein!$I$13),IF(ISBLANK(allgemein!M239),\"\",allgemein!M239))","v":{"$error":"#NAME?"}},{"$f":"_xlfn.SWITCH(allgemein!N239,1,IF(ISBLANK(allgemein!$F$10),allgemein!N239,allgemein!$F$10),2,IF(ISBLANK(allgemein!$F$11),allgemein!N239,allgemein!$F$11),3,IF(ISBLANK(allgemein!$F$12),allgemein!N239,allgemein!$F$12),4,IF(ISBLANK(allgemein!$F$13),allgemein!N239,allgemein!$F$13),5,IF(ISBLANK(allgemein!$I$10),allgemein!N239,allgemein!$I$10),6,IF(ISBLANK(allgemein!$I$11),allgemein!N239,allgemein!$I$11),7,IF(ISBLANK(allgemein!$I$12),allgemein!N239,allgemein!$I$12),8,IF(ISBLANK(allgemein!$I$13),allgemein!N239,allgemein!$I$13),IF(ISBLANK(allgemein!N239),\"\",allgemein!N239))","v":{"$error":"#NAME?"}},{"$f":"_xlfn.SWITCH(allgemein!O239,1,IF(ISBLANK(allgemein!$F$10),allgemein!O239,allgemein!$F$10),2,IF(ISBLANK(allgemein!$F$11),allgemein!O239,allgemein!$F$11),3,IF(ISBLANK(allgemein!$F$12),allgemein!O239,allgemein!$F$12),4,IF(ISBLANK(allgemein!$F$13),allgemein!O239,allgemein!$F$13),5,IF(ISBLANK(allgemein!$I$10),allgemein!O239,allgemein!$I$10),6,IF(ISBLANK(allgemein!$I$11),allgemein!O239,allgemein!$I$11),7,IF(ISBLANK(allgemein!$I$12),allgemein!O239,allgemein!$I$12),8,IF(ISBLANK(allgemein!$I$13),allgemein!O239,allgemein!$I$13),IF(ISBLANK(allgemein!O239),\"\",allgemein!O239))","v":{"$error":"#NAME?"}},{"$f":"_xlfn.SWITCH(allgemein!P239,1,IF(ISBLANK(allgemein!$F$10),allgemein!P239,allgemein!$F$10),2,IF(ISBLANK(allgemein!$F$11),allgemein!P239,allgemein!$F$11),3,IF(ISBLANK(allgemein!$F$12),allgemein!P239,allgemein!$F$12),4,IF(ISBLANK(allgemein!$F$13),allgemein!P239,allgemein!$F$13),5,IF(ISBLANK(allgemein!$I$10),allgemein!P239,allgemein!$I$10),6,IF(ISBLANK(allgemein!$I$11),allgemein!P239,allgemein!$I$11),7,IF(ISBLANK(allgemein!$I$12),allgemein!P239,allgemein!$I$12),8,IF(ISBLANK(allgemein!$I$13),allgemein!P239,allgemein!$I$13),IF(ISBLANK(allgemein!P239),\"\",allgemein!P239))","v":{"$error":"#NAME?"}},{"$f":"IF(ISBLANK(allgemein!Q239),\"\",allgemein!Q239)","v":""},{"$f":"IF(ISBLANK(allgemein!R239),\"\",allgemein!R239)","v":""},{"$f":"IF(ISBLANK(allgemein!S239),\"\",allgemein!S239)","v":""},{"$f":"IF(ISBLANK(allgemein!U239),\"\",allgemein!U239)","v":""}]
[{"$f":"IF(ISBLANK(allgemein!D240),\"\",allgemein!D240)","v":""},{"$f":"IF(ISBLANK(allgemein!E240),\"\",allgemein!E240)","v":""},{"$f":"IF(ISBLANK(allgemein!C240),\"\",allgemein!C240)","v":""},{"$f":"IF(ISBLANK(allgemein!H240),\"\",allgemein!H240)","v":""},{"$f":"IF(ISBLANK(allgemein!I240),\"\",allgemein!I240)","v":""},{"$f":"IF(ISBLANK(allgemein!J240),\"\",allgemein!J240)","v":""},{"$f":"IF(ISBLANK(allgemein!K240),\"\",allgemein!K240)","v":""},{"$f":"IF(ISBLANK(allgemein!F240),\"\",IF(ISBLANK(allgemein!L240),1,0))","v":""},{"$f":"_xlfn.SWITCH(allgemein!M240,1,IF(ISBLANK(allgemein!$F$10),allgemein!M240,allgemein!$F$10),2,IF(ISBLANK(allgemein!$F$11),allgemein!M240,allgemein!$F$11),3,IF(ISBLANK(allgemein!$F$12),allgemein!M240,allgemein!$F$12),4,IF(ISBLANK(allgemein!$F$13),allgemein!M240,allgemein!$F$13),5,IF(ISBLANK(allgemein!$I$10),allgemein!M240,allgemein!$I$10),6,IF(ISBLANK(allgemein!$I$11),allgemein!M240,allgemein!$I$11),7,IF(ISBLANK(allgemein!$I$12),allgemein!M240,allgemein!$I$12),8,IF(ISBLANK(allgemein!$I$13),allgemein!M240,allgemein!$I$13),IF(ISBLANK(allgemein!M240),\"\",allgemein!M240))","v":{"$error":"#NAME?"}},{"$f":"_xlfn.SWITCH(allgemein!N240,1,IF(ISBLANK(allgemein!$F$10),allgemein!N240,allgemein!$F$10),2,IF(ISBLANK(allgemein!$F$11),allgemein!N240,allgemein!$F$11),3,IF(ISBLANK(allgemein!$F$12),allgemein!N240,allgemein!$F$12),4,IF(ISBLANK(allgemein!$F$13),allgemein!N240,allgemein!$F$13),5,IF(ISBLANK(allgemein!$I$10),allgemein!N240,allgemein!$I$10),6,IF(ISBLANK(allgemein!$I$11),allgemein!N240,allgemein!$I$11),7,IF(ISBLANK(allgemein!$I$12),allgemein!N240,allgemein!$I$12),8,IF(ISBLANK(allgemein!$I$13),allgemein!N240,allgemein!$I$13),IF(ISBLANK(allgemein!N240),\"\",allgemein!N240))","v":{"$error":"#NAME?"}},{"$f":"_xlfn.SWITCH(allgemein!O240,1,IF(ISBLANK(allgemein!$F$10),allgemein!O240,allgemein!$F$10),2,IF(ISBLANK(allgemein!$F$11),allgemein!O240,allgemein!$F$11),3,IF(ISBLANK(allgemein!$F$12),allgemein!O240,allgemein!$F$12),4,IF(ISBLANK(allgemein!$F$13),allgemein!O240,allgemein!$F$13),5,IF(ISBLANK(allgemein!$I$10),allgemein!O240,allgemein!$I$10),6,IF(ISBLANK(allgemein!$I$11),allgemein!O240,allgemein!$I$11),7,IF(ISBLANK(allgemein!$I$12),allgemein!O240,allgemein!$I$12),8,IF(ISBLANK(allgemein!$I$13),allgemein!O240,allgemein!$I$13),IF(ISBLANK(allgemein!O240),\"\",allgemein!O240))","v":{"$error":"#NAME?"}},{"$f":"_xlfn.SWITCH(allgemein!P240,1,IF(ISBLANK(allgemein!$F$10),allgemein!P240,allgemein!$F$10),2,IF(ISBLANK(allgemein!$F$11),allgemein!P240,allgemein!$F$11),3,IF(ISBLANK(allgemein!$F$12),allgemein!P240,allgemein!$F$12),4,IF(ISBLANK(allgemein!$F$13),allgemein!P240,allgemein!$F$13),5,IF(ISBLANK(allgemein!$I$10),allgemein!P240,allgemein!$I$10),6,IF(ISBLANK(allgemein!$I$11),allgemein!P240,allgemein!$I$11),7,IF(ISBLANK(allgemein!$I$12),allgemein!P240,allgemein!$I$12),8,IF(ISBLANK(allgemein!$I$13),allgemein!P240,allgemein!$I$13),IF(ISBLANK(allgemein!P240),\"\",allgemein!P240))","v":{"$error":"#NAME?"}},{"$f":"IF(ISBLANK(allgemein!Q240),\"\",allgemein!Q240)","v":""},{"$f":"IF(ISBLANK(allgemein!R240),\"\",allgemein!R240)","v":""},{"$f":"IF(ISBLANK(allgemein!S240),\"\",allgemein!S240)","v":""},{"$f":"IF(ISBLANK(allgemein!U240),\"\",allgemein!U240)","v":""}]
[{"$f":"IF(ISBLANK(allgemein!D241),\"\",allgemein!D241)","v":""},{"$f":"IF(ISBLANK(allgemein!E241),\"\",allgemein!E241)","v":""},{"$f":"IF(ISBLANK(allgemein!C241),\"\",allgemein!C241)","v":""},{"$f":"IF(ISBLANK(allgemein!H241),\"\",allgemein!H241)","v":""},{"$f":"IF(ISBLANK(allgemein!I241),\"\",allgemein!I241)","v":""},{"$f":"IF(ISBLANK(allgemein!J241),\"\",allgemein!J241)","v":""},{"$f":"IF(ISBLANK(allgemein!K241),\"\",allgemein!K241)","v":""},{"$f":"IF(ISBLANK(allgemein!F241),\"\",IF(ISBLANK(allgemein!L241),1,0))","v":""},{"$f":"_xlfn.SWITCH(allgemein!M241,1,IF(ISBLANK(allgemein!$F$10),allgemein!M241,allgemein!$F$10),2,IF(ISBLANK(allgemein!$F$11),allgemein!M241,allgemein!$F$11),3,IF(ISBLANK(allgemein!$F$12),allgemein!M241,allgemein!$F$12),4,IF(ISBLANK(allgemein!$F$13),allgemein!M241,allgemein!$F$13),5,IF(ISBLANK(allgemein!$I$10),allgemein!M241,allgemein!$I$10),6,IF(ISBLANK(allgemein!$I$11),allgemein!M241,allgemein!$I$11),7,IF(ISBLANK(allgemein!$I$12),allgemein!M241,allgemein!$I$12),8,IF(ISBLANK(allgemein!$I$13),allgemein!M241,allgemein!$I$13),IF(ISBLANK(allgemein!M241),\"\",allgemein!M241))","v":{"$error":"#NAME?"}},{"$f":"_xlfn.SWITCH(allgemein!N241,1,IF(ISBLANK(allgemein!$F$10),allgemein!N241,allgemein!$F$10),2,IF(ISBLANK(allgemein!$F$11),allgemein!N241,allgemein!$F$11),3,IF(ISBLANK(allgemein!$F$12),allgemein!N241,allgemein!$F$12),4,IF(ISBLANK(allgemein!$F$13),allgemein!N241,allgemein!$F$13),5,IF(ISBLANK(allgemein!$I$10),allgemein!N241,allgemein!$I$10),6,IF(ISBLANK(allgemein!$I$11),allgemein!N241,allgemein!$I$11),7,IF(ISBLANK(allgemein!$I$12),allgemein!N241,allgemein!$I$12),8,IF(ISBLANK(allgemein!$I$13),allgemein!N241,allgemein!$I$13),IF(ISBLANK(allgemein!N241),\"\",allgemein!N241))","v":{"$error":"#NAME?"}},{"$f":"_xlfn.SWITCH(allgemein!O241,1,IF(ISBLANK(allgemein!$F$10),allgemein!O241,allgemein!$F$10),2,IF(ISBLANK(allgemein!$F$11),allgemein!O241,allgemein!$F$11),3,IF(ISBLANK(allgemein!$F$12),allgemein!O241,allgemein!$F$12),4,IF(ISBLANK(allgemein!$F$13),allgemein!O241,allgemein!$F$13),5,IF(ISBLANK(allgemein!$I$10),allgemein!O241,allgemein!$I$10),6,IF(ISBLANK(allgemein!$I$11),allgemein!O241,allgemein!$I$11),7,IF(ISBLANK(allgemein!$I$12),allgemein!O241,allgemein!$I$12),8,IF(ISBLANK(allgemein!$I$13),allgemein!O241,allgemein!$I$13),IF(ISBLANK(allgemein!O241),\"\",allgemein!O241))","v":{"$error":"#NAME?"}},{"$f":"_xlfn.SWITCH(allgemein!P241,1,IF(ISBLANK(allgemein!$F$10),allgemein!P241,allgemein!$F$10),2,IF(ISBLANK(allgemein!$F$11),allgemein!P241,allgemein!$F$11),3,IF(ISBLANK(allgemein!$F$12),allgemein!P241,allgemein!$F$12),4,IF(ISBLANK(allgemein!$F$13),allgemein!P241,allgemein!$F$13),5,IF(ISBLANK(allgemein!$I$10),allgemein!P241,allgemein!$I$10),6,IF(ISBLANK(allgemein!$I$11),allgemein!P241,allgemein!$I$11),7,IF(ISBLANK(allgemein!$I$12),allgemein!P241,allgemein!$I$12),8,IF(ISBLANK(allgemein!$I$13),allgemein!P241,allgemein!$I$13),IF(ISBLANK(allgemein!P241),\"\",allgemein!P241))","v":{"$error":"#NAME?"}},{"$f":"IF(ISBLANK(allgemein!Q241),\"\",allgemein!Q241)","v":""},{"$f":"IF(ISBLANK(allgemein!R241),\"\",allgemein!R241)","v":""},{"$f":"IF(ISBLANK(allgemein!S241),\"\",allgemein!S241)","v":""},{"$f":"IF(ISBLANK(allgemein!U241),\"\",allgemein!U241)","v":""}]
[{"$f":"IF(ISBLANK(allgemein!D242),\"\",allgemein!D242)","v":""},{"$f":"IF(ISBLANK(allgemein!E242),\"\",allgemein!E242)","v":""},{"$f":"IF(ISBLANK(allgemein!C242),\"\",allgemein!C242)","v":""},{"$f":"IF(ISBLANK(allgemein!H242),\"\",allgemein!H242)","v":""},{"$f":"IF(ISBLANK(allgemein!I242),\"\",allgemein!I242)","v":""},{"$f":"IF(ISBLANK(allgemein!J242),\"\",allgemein!J242)","v":""},{"$f":"IF(ISBLANK(allgemein!K242),\"\",allgemein!K242)","v":""},{"$f":"IF(ISBLANK(allgemein!F242),\"\",IF(ISBLANK(allgemein!L242),1,0))","v":""},{"$f":"_xlfn.SWITCH(allgemein!M242,1,IF(ISBLANK(allgemein!$F$10),allgemein!M242,allgemein!$F$10),2,IF(ISBLANK(allgemein!$F$11),allgemein!M242,allgemein!$F$11),3,IF(ISBLANK(allgemein!$F$12),allgemein!M242,allgemein!$F$12),4,IF(ISBLANK(allgemein!$F$13),allgemein!M242,allgemein!$F$13),5,IF(ISBLANK(allgemein!$I$10),allgemein!M242,allgemein!$I$10),6,IF(ISBLANK(allgemein!$I$11),allgemein!M242,allgemein!$I$11),7,IF(ISBLANK(allgemein!$I$12),allgemein!M242,allgemein!$I$12),8,IF(ISBLANK(allgemein!$I$13),allgemein!M242,allgemein!$I$13),IF(ISBLANK(allgemein!M242),\"\",allgemein!M242))","v":{"$error":"#NAME?"}},{"$f":"_xlfn.SWITCH(allgemein!N242,1,IF(ISBLANK(allgemein!$F$10),allgemein!N242,allgemein!$F$10),2,IF(ISBLANK(allgemein!$F$11),allgemein!N242,allgemein!$F$11),3,IF(ISBLANK(allgemein!$F$12),allgemein!N242,allgemein!$F$12),4,IF(ISBLANK(allgemein!$F$13),allgemein!N242,allgemein!$F$13),5,IF(ISBLANK(allgemein!$I$10),allgemein!N242,allgemein!$I$10),6,IF(ISBLANK(allgemein!$I$11),allgemein!N242,allgemein!$I$11),7,IF(ISBLANK(allgemein!$I$12),allgemein!N242,allgemein!$I$12),8,IF(ISBLANK(allgemein!$I$13),allgemein!N242,allgemein!$I$13),IF(ISBLANK(allgemein!N242),\"\",allgemein!N242))","v":{"$error":"#NAME?"}},{"$f":"_xlfn.SWITCH(allgemein!O242,1,IF(ISBLANK(allgemein!$F$10),allgemein!O242,allgemein!$F$10),2,IF(ISBLANK(allgemein!$F$11),allgemein!O242,allgemein!$F$11),3,IF(ISBLANK(allgemein!$F$12),allgemein!O242,allgemein!$F$12),4,IF(ISBLANK(allgemein!$F$13),allgemein!O242,allgemein!$F$13),5,IF(ISBLANK(allgemein!$I$10),allgemein!O242,allgemein!$I$10),6,IF(ISBLANK(allgemein!$I$11),allgemein!O242,allgemein!$I$11),7,IF(ISBLANK(allgemein!$I$12),allgemein!O242,allgemein!$I$12),8,IF(ISBLANK(allgemein!$I$13),allgemein!O242,allgemein!$I$13),IF(ISBLANK(allgemein!O242),\"\",allgemein!O242))","v":{"$error":"#NAME?"}},{"$f":"_xlfn.SWITCH(allgemein!P242,1,IF(ISBLANK(allgemein!$F$10),allgemein!P242,allgemein!$F$10),2,IF(ISBLANK(allgemein!$F$11),allgemein!P242,allgemein!$F$11),3,IF(ISBLANK(allgemein!$F$12),allgemein!P242,allgemein!$F$12),4,IF(ISBLANK(allgemein!$F$13),allgemein!P242,allgemein!$F$13),5,IF(ISBLANK(allgemein!$I$10),allgemein!P242,allgemein!$I$10),6,IF(ISBLANK(allgemein!$I$11),allgemein!P242,allgemein!$I$11),7,IF(ISBLANK(allgemein!$I$12),allgemein!P242,allgemein!$I$12),8,IF(ISBLANK(allgemein!$I$13),allgemein!P242,allgemein!$I$13),IF(ISBLANK(allgemein!P242),\"\",allgemein!P242))","v":{"$error":"#NAME?"}},{"$f":"IF(ISBLANK(allgemein!Q242),\"\",allgemein!Q242)","v":""},{"$f":"IF(ISBLANK(allgemein!R242),\"\",allgemein!R242)","v":""},{"$f":"IF(ISBLANK(allgemein!S242),\"\",allgemein!S242)","v":""},{"$f":"IF(ISBLANK(allgemein!U242),\"\",allgemein!U242)","v":""}]
[{"$f":"IF(ISBLANK(allgemein!D243),\"\",allgemein!D243)","v":""},{"$f":"IF(ISBLANK(allgemein!E243),\"\",allgemein!E243)","v":""},{"$f":"IF(ISBLANK(allgemein!C243),\"\",allgemein!C243)","v":""},{"$f":"IF(ISBLANK(allgemein!H243),\"\",allgemein!H243)","v":""},{"$f":"IF(ISBLANK(allgemein!I243),\"\",allgemein!I243)","v":""},{"$f":"IF(ISBLANK(allgemein!J243),\"\",allgemein!J243)","v":""},{"$f":"IF(ISBLANK(allgemein!K243),\"\",allgemein!K243)","v":""},{"$f":"IF(ISBLANK(allgemein!F243),\"\",IF(ISBLANK(allgemein!L243),1,0))","v":""},{"$f":"_xlfn.SWITCH(allgemein!M243,1,IF(ISBLANK(allgemein!$F$10),allgemein!M243,allgemein!$F$10),2,IF(ISBLANK(allgemein!$F$11),allgemein!M243,allgemein!$F$11),3,IF(ISBLANK(allgemein!$F$12),allgemein!M243,allgemein!$F$12),4,IF(ISBLANK(allgemein!$F$13),allgemein!M243,allgemein!$F$13),5,IF(ISBLANK(allgemein!$I$10),allgemein!M243,allgemein!$I$10),6,IF(ISBLANK(allgemein!$I$11),allgemein!M243,allgemein!$I$11),7,IF(ISBLANK(allgemein!$I$12),allgemein!M243,allgemein!$I$12),8,IF(ISBLANK(allgemein!$I$13),allgemein!M243,allgemein!$I$13),IF(ISBLANK(allgemein!M243),\"\",allgemein!M243))","v":{"$error":"#NAME?"}},{"$f":"_xlfn.SWITCH(allgemein!N243,1,IF(ISBLANK(allgemein!$F$10),allgemein!N243,allgemein!$F$10),2,IF(ISBLANK(allgemein!$F$11),allgemein!N243,allgemein!$F$11),3,IF(ISBLANK(allgemein!$F$12),allgemein!N243,allgemein!$F$12),4,IF(ISBLANK(allgemein!$F$13),allgemein!N243,allgemein!$F$13),5,IF(ISBLANK(allgemein!$I$10),allgemein!N243,allgemein!$I$10),6,IF(ISBLANK(allgemein!$I$11),allgemein!N243,allgemein!$I$11),7,IF(ISBLANK(allgemein!$I$12),allgemein!N243,allgemein!$I$12),8,IF(ISBLANK(allgemein!$I$13),allgemein!N243,allgemein!$I$13),IF(ISBLANK(allgemein!N243),\"\",allgemein!N243))","v":{"$error":"#NAME?"}},{"$f":"_xlfn.SWITCH(allgemein!O243,1,IF(ISBLANK(allgemein!$F$10),allgemein!O243,allgemein!$F$10),2,IF(ISBLANK(allgemein!$F$11),allgemein!O243,allgemein!$F$11),3,IF(ISBLANK(allgemein!$F$12),allgemein!O243,allgemein!$F$12),4,IF(ISBLANK(allgemein!$F$13),allgemein!O243,allgemein!$F$13),5,IF(ISBLANK(allgemein!$I$10),allgemein!O243,allgemein!$I$10),6,IF(ISBLANK(allgemein!$I$11),allgemein!O243,allgemein!$I$11),7,IF(ISBLANK(allgemein!$I$12),allgemein!O243,allgemein!$I$12),8,IF(ISBLANK(allgemein!$I$13),allgemein!O243,allgemein!$I$13),IF(ISBLANK(allgemein!O243),\"\",allgemein!O243))","v":{"$error":"#NAME?"}},{"$f":"_xlfn.SWITCH(allgemein!P243,1,IF(ISBLANK(allgemein!$F$10),allgemein!P243,allgemein!$F$10),2,IF(ISBLANK(allgemein!$F$11),allgemein!P243,allgemein!$F$11),3,IF(ISBLANK(allgemein!$F$12),allgemein!P243,allgemein!$F$12),4,IF(ISBLANK(allgemein!$F$13),allgemein!P243,allgemein!$F$13),5,IF(ISBLANK(allgemein!$I$10),allgemein!P243,allgemein!$I$10),6,IF(ISBLANK(allgemein!$I$11),allgemein!P243,allgemein!$I$11),7,IF(ISBLANK(allgemein!$I$12),allgemein!P243,allgemein!$I$12),8,IF(ISBLANK(allgemein!$I$13),allgemein!P243,allgemein!$I$13),IF(ISBLANK(allgemein!P243),\"\",allgemein!P243))","v":{"$error":"#NAME?"}},{"$f":"IF(ISBLANK(allgemein!Q243),\"\",allgemein!Q243)","v":""},{"$f":"IF(ISBLANK(allgemein!R243),\"\",allgemein!R243)","v":""},{"$f":"IF(ISBLANK(allgemein!S243),\"\",allgemein!S243)","v":""},{"$f":"IF(ISBLANK(allgemein!U243),\"\",allgemein!U243)","v":""}]
[{"$f":"IF(ISBLANK(allgemein!D244),\"\",allgemein!D244)","v":""},{"$f":"IF(ISBLANK(allgemein!E244),\"\",allgemein!E244)","v":""},{"$f":"IF(ISBLANK(allgemein!C244),\"\",allgemein!C244)","v":""},{"$f":"IF(ISBLANK(allgemein!H244),\"\",allgemein!H244)","v":""},{"$f":"IF(ISBLANK(allgemein!I244),\"\",allgemein!I244)","v":""},{"$f":"IF(ISBLANK(allgemein!J244),\"\",allgemein!J244)","v":""},{"$f":"IF(ISBLANK(allgemein!K244),\"\",allgemein!K244)","v":""},{"$f":"IF(ISBLANK(allgemein!F244),\"\",IF(ISBLANK(allgemein!L244),1,0))","v":""},{"$f":"_xlfn.SWITCH(allgemein!M244,1,IF(ISBLANK(allgemein!$F$10),allgemein!M244,allgemein!$F$10),2,IF(ISBLANK(allgemein!$F$11),allgemein!M244,allgemein!$F$11),3,IF(ISBLANK(allgemein!$F$12),allgemein!M244,allgemein!$F$12),4,IF(ISBLANK(allgemein!$F$13),allgemein!M244,allgemein!$F$13),5,IF(ISBLANK(allgemein!$I$10),allgemein!M244,allgemein!$I$10),6,IF(ISBLANK(allgemein!$I$11),allgemein!M244,allgemein!$I$11),7,IF(ISBLANK(allgemein!$I$12),allgemein!M244,allgemein!$I$12),8,IF(ISBLANK(allgemein!$I$13),allgemein!M244,allgemein!$I$13),IF(ISBLANK(allgemein!M244),\"\",allgemein!M244))","v":{"$error":"#NAME?"}},{"$f":"_xlfn.SWITCH(allgemein!N244,1,IF(ISBLANK(allgemein!$F$10),allgemein!N244,allgemein!$F$10),2,IF(ISBLANK(allgemein!$F$11),allgemein!N244,allgemein!$F$11),3,IF(ISBLANK(allgemein!$F$12),allgemein!N244,allgemein!$F$12),4,IF(ISBLANK(allgemein!$F$13),allgemein!N244,allgemein!$F$13),5,IF(ISBLANK(allgemein!$I$10),allgemein!N244,allgemein!$I$10),6,IF(ISBLANK(allgemein!$I$11),allgemein!N244,allgemein!$I$11),7,IF(ISBLANK(allgemein!$I$12),allgemein!N244,allgemein!$I$12),8,IF(ISBLANK(allgemein!$I$13),allgemein!N244,allgemein!$I$13),IF(ISBLANK(allgemein!N244),\"\",allgemein!N244))","v":{"$error":"#NAME?"}},{"$f":"_xlfn.SWITCH(allgemein!O244,1,IF(ISBLANK(allgemein!$F$10),allgemein!O244,allgemein!$F$10),2,IF(ISBLANK(allgemein!$F$11),allgemein!O244,allgemein!$F$11),3,IF(ISBLANK(allgemein!$F$12),allgemein!O244,allgemein!$F$12),4,IF(ISBLANK(allgemein!$F$13),allgemein!O244,allgemein!$F$13),5,IF(ISBLANK(allgemein!$I$10),allgemein!O244,allgemein!$I$10),6,IF(ISBLANK(allgemein!$I$11),allgemein!O244,allgemein!$I$11),7,IF(ISBLANK(allgemein!$I$12),allgemein!O244,allgemein!$I$12),8,IF(ISBLANK(allgemein!$I$13),allgemein!O244,allgemein!$I$13),IF(ISBLANK(allgemein!O244),\"\",allgemein!O244))","v":{"$error":"#NAME?"}},{"$f":"_xlfn.SWITCH(allgemein!P244,1,IF(ISBLANK(allgemein!$F$10),allgemein!P244,allgemein!$F$10),2,IF(ISBLANK(allgemein!$F$11),allgemein!P244,allgemein!$F$11),3,IF(ISBLANK(allgemein!$F$12),allgemein!P244,allgemein!$F$12),4,IF(ISBLANK(allgemein!$F$13),allgemein!P244,allgemein!$F$13),5,IF(ISBLANK(allgemein!$I$10),allgemein!P244,allgemein!$I$10),6,IF(ISBLANK(allgemein!$I$11),allgemein!P244,allgemein!$I$11),7,IF(ISBLANK(allgemein!$I$12),allgemein!P244,allgemein!$I$12),8,IF(ISBLANK(allgemein!$I$13),allgemein!P244,allgemein!$I$13),IF(ISBLANK(allgemein!P244),\"\",allgemein!P244))","v":{"$error":"#NAME?"}},{"$f":"IF(ISBLANK(allgemein!Q244),\"\",allgemein!Q244)","v":""},{"$f":"IF(ISBLANK(allgemein!R244),\"\",allgemein!R244)","v":""},{"$f":"IF(ISBLANK(allgemein!S244),\"\",allgemein!S244)","v":""},{"$f":"IF(ISBLANK(allgemein!U244),\"\",allgemein!U244)","v":""}]
[{"$f":"IF(ISBLANK(allgemein!D245),\"\",allgemein!D245)","v":""},{"$f":"IF(ISBLANK(allgemein!E245),\"\",allgemein!E245)","v":""},{"$f":"IF(ISBLANK(allgemein!C245),\"\",allgemein!C245)","v":""},{"$f":"IF(ISBLANK(allgemein!H245),\"\",allgemein!H245)","v":""},{"$f":"IF(ISBLANK(allgemein!I245),\"\",allgemein!I245)","v":""},{"$f":"IF(ISBLANK(allgemein!J245),\"\",allgemein!J245)","v":""},{"$f":"IF(ISBLANK(allgemein!K245),\"\",allgemein!K245)","v":""},{"$f":"IF(ISBLANK(allgemein!F245),\"\",IF(ISBLANK(allgemein!L245),1,0))","v":""},{"$f":"_xlfn.SWITCH(allgemein!M245,1,IF(ISBLANK(allgemein!$F$10),allgemein!M245,allgemein!$F$10),2,IF(ISBLANK(allgemein!$F$11),allgemein!M245,allgemein!$F$11),3,IF(ISBLANK(allgemein!$F$12),allgemein!M245,allgemein!$F$12),4,IF(ISBLANK(allgemein!$F$13),allgemein!M245,allgemein!$F$13),5,IF(ISBLANK(allgemein!$I$10),allgemein!M245,allgemein!$I$10),6,IF(ISBLANK(allgemein!$I$11),allgemein!M245,allgemein!$I$11),7,IF(ISBLANK(allgemein!$I$12),allgemein!M245,allgemein!$I$12),8,IF(ISBLANK(allgemein!$I$13),allgemein!M245,allgemein!$I$13),IF(ISBLANK(allgemein!M245),\"\",allgemein!M245))","v":{"$error":"#NAME?"}},{"$f":"_xlfn.SWITCH(allgemein!N245,1,IF(ISBLANK(allgemein!$F$10),allgemein!N245,allgemein!$F$10),2,IF(ISBLANK(allgemein!$F$11),allgemein!N245,allgemein!$F$11),3,IF(ISBLANK(allgemein!$F$12),allgemein!N245,allgemein!$F$12),4,IF(ISBLANK(allgemein!$F$13),allgemein!N245,allgemein!$F$13),5,IF(ISBLANK(allgemein!$I$10),allgemein!N245,allgemein!$I$10),6,IF(ISBLANK(allgemein!$I$11),allgemein!N245,allgemein!$I$11),7,IF(ISBLANK(allgemein!$I$12),allgemein!N245,allgemein!$I$12),8,IF(ISBLANK(allgemein!$I$13),allgemein!N245,allgemein!$I$13),IF(ISBLANK(allgemein!N245),\"\",allgemein!N245))","v":{"$error":"#NAME?"}},{"$f":"_xlfn.SWITCH(allgemein!O245,1,IF(ISBLANK(allgemein!$F$10),allgemein!O245,allgemein!$F$10),2,IF(ISBLANK(allgemein!$F$11),allgemein!O245,allgemein!$F$11),3,IF(ISBLANK(allgemein!$F$12),allgemein!O245,allgemein!$F$12),4,IF(ISBLANK(allgemein!$F$13),allgemein!O245,allgemein!$F$13),5,IF(ISBLANK(allgemein!$I$10),allgemein!O245,allgemein!$I$10),6,IF(ISBLANK(allgemein!$I$11),allgemein!O245,allgemein!$I$11),7,IF(ISBLANK(allgemein!$I$12),allgemein!O245,allgemein!$I$12),8,IF(ISBLANK(allgemein!$I$13),allgemein!O245,allgemein!$I$13),IF(ISBLANK(allgemein!O245),\"\",allgemein!O245))","v":{"$error":"#NAME?"}},{"$f":"_xlfn.SWITCH(allgemein!P245,1,IF(ISBLANK(allgemein!$F$10),allgemein!P245,allgemein!$F$10),2,IF(ISBLANK(allgemein!$F$11),allgemein!P245,allgemein!$F$11),3,IF(ISBLANK(allgemein!$F$12),allgemein!P245,allgemein!$F$12),4,IF(ISBLANK(allgemein!$F$13),allgemein!P245,allgemein!$F$13),5,IF(ISBLANK(allgemein!$I$10),allgemein!P245,allgemein!$I$10),6,IF(ISBLANK(allgemein!$I$11),allgemein!P245,allgemein!$I$11),7,IF(ISBLANK(allgemein!$I$12),allgemein!P245,allgemein!$I$12),8,IF(ISBLANK(allgemein!$I$13),allgemein!P245,allgemein!$I$13),IF(ISBLANK(allgemein!P245),\"\",allgemein!P245))","v":{"$error":"#NAME?"}},{"$f":"IF(ISBLANK(allgemein!Q245),\"\",allgemein!Q245)","v":""},{"$f":"IF(ISBLANK(allgemein!R245),\"\",allgemein!R245)","v":""},{"$f":"IF(ISBLANK(allgemein!S245),\"\",allgemein!S245)","v":""},{"$f":"IF(ISBLANK(allgemein!U245),\"\",allgemein!U245)","v":""}]
[{"$f":"IF(ISBLANK(allgemein!D246),\"\",allgemein!D246)","v":""},{"$f":"IF(ISBLANK(allgemein!E246),\"\",allgemein!E246)","v":""},{"$f":"IF(ISBLANK(allgemein!C246),\"\",allgemein!C246)","v":""},{"$f":"IF(ISBLANK(allgemein!H246),\"\",allgemein!H246)","v":""},{"$f":"IF(ISBLANK(allgemein!I246),\"\",allgemein!I246)","v":""},{"$f":"IF(ISBLANK(allgemein!J246),\"\",allgemein!J246)","v":""},{"$f":"IF(ISBLANK(allgemein!K246),\"\",allgemein!K246)","v":""},{"$f":"IF(ISBLANK(allgemein!F246),\"\",IF(ISBLANK(allgemein!L246),1,0))","v":""},{"$f":"_xlfn.SWITCH(allgemein!M246,1,IF(ISBLANK(allgemein!$F$10),allgemein!M246,allgemein!$F$10),2,IF(ISBLANK(allgemein!$F$11),allgemein!M246,allgemein!$F$11),3,IF(ISBLANK(allgemein!$F$12),allgemein!M246,allgemein!$F$12),4,IF(ISBLANK(allgemein!$F$13),allgemein!M246,allgemein!$F$13),5,IF(ISBLANK(allgemein!$I$10),allgemein!M246,allgemein!$I$10),6,IF(ISBLANK(allgemein!$I$11),allgemein!M246,allgemein!$I$11),7,IF(ISBLANK(allgemein!$I$12),allgemein!M246,allgemein!$I$12),8,IF(ISBLANK(allgemein!$I$13),allgemein!M246,allgemein!$I$13),IF(ISBLANK(allgemein!M246),\"\",allgemein!M246))","v":{"$error":"#NAME?"}},{"$f":"_xlfn.SWITCH(allgemein!N246,1,IF(ISBLANK(allgemein!$F$10),allgemein!N246,allgemein!$F$10),2,IF(ISBLANK(allgemein!$F$11),allgemein!N246,allgemein!$F$11),3,IF(ISBLANK(allgemein!$F$12),allgemein!N246,allgemein!$F$12),4,IF(ISBLANK(allgemein!$F$13),allgemein!N246,allgemein!$F$13),5,IF(ISBLANK(allgemein!$I$10),allgemein!N246,allgemein!$I$10),6,IF(ISBLANK(allgemein!$I$11),allgemein!N246,allgemein!$I$11),7,IF(ISBLANK(allgemein!$I$12),allgemein!N246,allgemein!$I$12),8,IF(ISBLANK(allgemein!$I$13),allgemein!N246,allgemein!$I$13),IF(ISBLANK(allgemein!N246),\"\",allgemein!N246))","v":{"$error":"#NAME?"}},{"$f":"_xlfn.SWITCH(allgemein!O246,1,IF(ISBLANK(allgemein!$F$10),allgemein!O246,allgemein!$F$10),2,IF(ISBLANK(allgemein!$F$11),allgemein!O246,allgemein!$F$11),3,IF(ISBLANK(allgemein!$F$12),allgemein!O246,allgemein!$F$12),4,IF(ISBLANK(allgemein!$F$13),allgemein!O246,allgemein!$F$13),5,IF(ISBLANK(allgemein!$I$10),allgemein!O246,allgemein!$I$10),6,IF(ISBLANK(allgemein!$I$11),allgemein!O246,allgemein!$I$11),7,IF(ISBLANK(allgemein!$I$12),allgemein!O246,allgemein!$I$12),8,IF(ISBLANK(allgemein!$I$13),allgemein!O246,allgemein!$I$13),IF(ISBLANK(allgemein!O246),\"\",allgemein!O246))","v":{"$error":"#NAME?"}},{"$f":"_xlfn.SWITCH(allgemein!P246,1,IF(ISBLANK(allgemein!$F$10),allgemein!P246,allgemein!$F$10),2,IF(ISBLANK(allgemein!$F$11),allgemein!P246,allgemein!$F$11),3,IF(ISBLANK(allgemein!$F$12),allgemein!P246,allgemein!$F$12),4,IF(ISBLANK(allgemein!$F$13),allgemein!P246,allgemein!$F$13),5,IF(ISBLANK(allgemein!$I$10),allgemein!P246,allgemein!$I$10),6,IF(ISBLANK(allgemein!$I$11),allgemein!P246,allgemein!$I$11),7,IF(ISBLANK(allgemein!$I$12),allgemein!P246,allgemein!$I$12),8,IF(ISBLANK(allgemein!$I$13),allgemein!P246,allgemein!$I$13),IF(ISBLANK(allgemein!P246),\"\",allgemein!P246))","v":{"$error":"#NAME?"}},{"$f":"IF(ISBLANK(allgemein!Q246),\"\",allgemein!Q246)","v":""},{"$f":"IF(ISBLANK(allgemein!R246),\"\",allgemein!R246)","v":""},{"$f":"IF(ISBLANK(allgemein!S246),\"\",allgemein!S246)","v":""},{"$f":"IF(ISBLANK(allgemein!U246),\"\",allgemein!U246)","v":""}]
[{"$f":"IF(ISBLANK(allgemein!D247),\"\",allgemein!D247)","v":""},{"$f":"IF(ISBLANK(allgemein!E247),\"\",allgemein!E247)","v":""},{"$f":"IF(ISBLANK(allgemein!C247),\"\",allgemein!C247)","v":""},{"$f":"IF(ISBLANK(allgemein!H247),\"\",allgemein!H247)","v":""},{"$f":"IF(ISBLANK(allgemein!I247),\"\",allgemein!I247)","v":""},{"$f":"IF(ISBLANK(allgemein!J247),\"\",allgemein!J247)","v":""},{"$f":"IF(ISBLANK(allgemein!K247),\"\",allgemein!K247)","v":""},{"$f":"IF(ISBLANK(allgemein!F247),\"\",IF(ISBLANK(allgemein!L247),1,0))","v":""},{"$f":"_xlfn.SWITCH(allgemein!M247,1,IF(ISBLANK(allgemein!$F$10),allgemein!M247,allgemein!$F$10),2,IF(ISBLANK(allgemein!$F$11),allgemein!M247,allgemein!$F$11),3,IF(ISBLANK(allgemein!$F$12),allgemein!M247,allgemein!$F$12),4,IF(ISBLANK(allgemein!$F$13),allgemein!M247,allgemein!$F$13),5,IF(ISBLANK(allgemein!$I$10),allgemein!M247,allgemein!$I$10),6,IF(ISBLANK(allgemein!$I$11),allgemein!M247,allgemein!$I$11),7,IF(ISBLANK(allgemein!$I$12),allgemein!M247,allgemein!$I$12),8,IF(ISBLANK(allgemein!$I$13),allgemein!M247,allgemein!$I$13),IF(ISBLANK(allgemein!M247),\"\",allgemein!M247))","v":{"$error":"#NAME?"}},{"$f":"_xlfn.SWITCH(allgemein!N247,1,IF(ISBLANK(allgemein!$F$10),allgemein!N247,allgemein!$F$10),2,IF(ISBLANK(allgemein!$F$11),allgemein!N247,allgemein!$F$11),3,IF(ISBLANK(allgemein!$F$12),allgemein!N247,allgemein!$F$12),4,IF(ISBLANK(allgemein!$F$13),allgemein!N247,allgemein!$F$13),5,IF(ISBLANK(allgemein!$I$10),allgemein!N247,allgemein!$I$10),6,IF(ISBLANK(allgemein!$I$11),allgemein!N247,allgemein!$I$11),7,IF(ISBLANK(allgemein!$I$12),allgemein!N247,allgemein!$I$12),8,IF(ISBLANK(allgemein!$I$13),allgemein!N247,allgemein!$I$13),IF(ISBLANK(allgemein!N247),\"\",allgemein!N247))","v":{"$error":"#NAME?"}},{"$f":"_xlfn.SWITCH(allgemein!O247,1,IF(ISBLANK(allgemein!$F$10),allgemein!O247,allgemein!$F$10),2,IF(ISBLANK(allgemein!$F$11),allgemein!O247,allgemein!$F$11),3,IF(ISBLANK(allgemein!$F$12),allgemein!O247,allgemein!$F$12),4,IF(ISBLANK(allgemein!$F$13),allgemein!O247,allgemein!$F$13),5,IF(ISBLANK(allgemein!$I$10),allgemein!O247,allgemein!$I$10),6,IF(ISBLANK(allgemein!$I$11),allgemein!O247,allgemein!$I$11),7,IF(ISBLANK(allgemein!$I$12),allgemein!O247,allgemein!$I$12),8,IF(ISBLANK(allgemein!$I$13),allgemein!O247,allgemein!$I$13),IF(ISBLANK(allgemein!O247),\"\",allgemein!O247))","v":{"$error":"#NAME?"}},{"$f":"_xlfn.SWITCH(allgemein!P247,1,IF(ISBLANK(allgemein!$F$10),allgemein!P247,allgemein!$F$10),2,IF(ISBLANK(allgemein!$F$11),allgemein!P247,allgemein!$F$11),3,IF(ISBLANK(allgemein!$F$12),allgemein!P247,allgemein!$F$12),4,IF(ISBLANK(allgemein!$F$13),allgemein!P247,allgemein!$F$13),5,IF(ISBLANK(allgemein!$I$10),allgemein!P247,allgemein!$I$10),6,IF(ISBLANK(allgemein!$I$11),allgemein!P247,allgemein!$I$11),7,IF(ISBLANK(allgemein!$I$12),allgemein!P247,allgemein!$I$12),8,IF(ISBLANK(allgemein!$I$13),allgemein!P247,allgemein!$I$13),IF(ISBLANK(allgemein!P247),\"\",allgemein!P247))","v":{"$error":"#NAME?"}},{"$f":"IF(ISBLANK(allgemein!Q247),\"\",allgemein!Q247)","v":""},{"$f":"IF(ISBLANK(allgemein!R247),\"\",allgemein!R247)","v":""},{"$f":"IF(ISBLANK(allgemein!S247),\"\",allgemein!S247)","v":""},{"$f":"IF(ISBLANK(allgemein!U247),\"\",allgemein!U247)","v":""}]
[{"$f":"IF(ISBLANK(allgemein!D248),\"\",allgemein!D248)","v":""},{"$f":"IF(ISBLANK(allgemein!E248),\"\",allgemein!E248)","v":""},{"$f":"IF(ISBLANK(allgemein!C248),\"\",allgemein!C248)","v":""},{"$f":"IF(ISBLANK(allgemein!H248),\"\",allgemein!H248)","v":""},{"$f":"IF(ISBLANK(allgemein!I248),\"\",allgemein!I248)","v":""},{"$f":"IF(ISBLANK(allgemein!J248),\"\",allgemein!J248)","v":""},{"$f":"IF(ISBLANK(allgemein!K248),\"\",allgemein!K248)","v":""},{"$f":"IF(ISBLANK(allgemein!F248),\"\",IF(ISBLANK(allgemein!L248),1,0))","v":""},{"$f":"_xlfn.SWITCH(allgemein!M248,1,IF(ISBLANK(allgemein!$F$10),allgemein!M248,allgemein!$F$10),2,IF(ISBLANK(allgemein!$F$11),allgemein!M248,allgemein!$F$11),3,IF(ISBLANK(allgemein!$F$12),allgemein!M248,allgemein!$F$12),4,IF(ISBLANK(allgemein!$F$13),allgemein!M248,allgemein!$F$13),5,IF(ISBLANK(allgemein!$I$10),allgemein!M248,allgemein!$I$10),6,IF(ISBLANK(allgemein!$I$11),allgemein!M248,allgemein!$I$11),7,IF(ISBLANK(allgemein!$I$12),allgemein!M248,allgemein!$I$12),8,IF(ISBLANK(allgemein!$I$13),allgemein!M248,allgemein!$I$13),IF(ISBLANK(allgemein!M248),\"\",allgemein!M248))","v":{"$error":"#NAME?"}},{"$f":"_xlfn.SWITCH(allgemein!N248,1,IF(ISBLANK(allgemein!$F$10),allgemein!N248,allgemein!$F$10),2,IF(ISBLANK(allgemein!$F$11),allgemein!N248,allgemein!$F$11),3,IF(ISBLANK(allgemein!$F$12),allgemein!N248,allgemein!$F$12),4,IF(ISBLANK(allgemein!$F$13),allgemein!N248,allgemein!$F$13),5,IF(ISBLANK(allgemein!$I$10),allgemein!N248,allgemein!$I$10),6,IF(ISBLANK(allgemein!$I$11),allgemein!N248,allgemein!$I$11),7,IF(ISBLANK(allgemein!$I$12),allgemein!N248,allgemein!$I$12),8,IF(ISBLANK(allgemein!$I$13),allgemein!N248,allgemein!$I$13),IF(ISBLANK(allgemein!N248),\"\",allgemein!N248))","v":{"$error":"#NAME?"}},{"$f":"_xlfn.SWITCH(allgemein!O248,1,IF(ISBLANK(allgemein!$F$10),allgemein!O248,allgemein!$F$10),2,IF(ISBLANK(allgemein!$F$11),allgemein!O248,allgemein!$F$11),3,IF(ISBLANK(allgemein!$F$12),allgemein!O248,allgemein!$F$12),4,IF(ISBLANK(allgemein!$F$13),allgemein!O248,allgemein!$F$13),5,IF(ISBLANK(allgemein!$I$10),allgemein!O248,allgemein!$I$10),6,IF(ISBLANK(allgemein!$I$11),allgemein!O248,allgemein!$I$11),7,IF(ISBLANK(allgemein!$I$12),allgemein!O248,allgemein!$I$12),8,IF(ISBLANK(allgemein!$I$13),allgemein!O248,allgemein!$I$13),IF(ISBLANK(allgemein!O248),\"\",allgemein!O248))","v":{"$error":"#NAME?"}},{"$f":"_xlfn.SWITCH(allgemein!P248,1,IF(ISBLANK(allgemein!$F$10),allgemein!P248,allgemein!$F$10),2,IF(ISBLANK(allgemein!$F$11),allgemein!P248,allgemein!$F$11),3,IF(ISBLANK(allgemein!$F$12),allgemein!P248,allgemein!$F$12),4,IF(ISBLANK(allgemein!$F$13),allgemein!P248,allgemein!$F$13),5,IF(ISBLANK(allgemein!$I$10),allgemein!P248,allgemein!$I$10),6,IF(ISBLANK(allgemein!$I$11),allgemein!P248,allgemein!$I$11),7,IF(ISBLANK(allgemein!$I$12),allgemein!P248,allgemein!$I$12),8,IF(ISBLANK(allgemein!$I$13),allgemein!P248,allgemein!$I$13),IF(ISBLANK(allgemein!P248),\"\",allgemein!P248))","v":{"$error":"#NAME?"}},{"$f":"IF(ISBLANK(allgemein!Q248),\"\",allgemein!Q248)","v":""},{"$f":"IF(ISBLANK(allgemein!R248),\"\",allgemein!R248)","v":""},{"$f":"IF(ISBLANK(allgemein!S248),\"\",allgemein!S248)","v":""},{"$f":"IF(ISBLANK(allgemein!U248),\"\",allgemein!U248)","v":""}]
[{"$f":"IF(ISBLANK(allgemein!D249),\"\",allgemein!D249)","v":""},{"$f":"IF(ISBLANK(allgemein!E249),\"\",allgemein!E249)","v":""},{"$f":"IF(ISBLANK(allgemein!C249),\"\",allgemein!C249)","v":""},{"$f":"IF(ISBLANK(allgemein!H249),\"\",allgemein!H249)","v":""},{"$f":"IF(ISBLANK(allgemein!I249),\"\",allgemein!I249)","v":""},{"$f":"IF(ISBLANK(allgemein!J249),\"\",allgemein!J249)","v":""},{"$f":"IF(ISBLANK(allgemein!K249),\"\",allgemein!K249)","v":""},{"$f":"IF(ISBLANK(allgemein!F249),\"\",IF(ISBLANK(allgemein!L249),1,0))","v":""},{"$f":"_xlfn.SWITCH(allgemein!M249,1,IF(ISBLANK(allgemein!$F$10),allgemein!M249,allgemein!$F$10),2,IF(ISBLANK(allgemein!$F$11),allgemein!M249,allgemein!$F$11),3,IF(ISBLANK(allgemein!$F$12),allgemein!M249,allgemein!$F$12),4,IF(ISBLANK(allgemein!$F$13),allgemein!M249,allgemein!$F$13),5,IF(ISBLANK(allgemein!$I$10),allgemein!M249,allgemein!$I$10),6,IF(ISBLANK(allgemein!$I$11),allgemein!M249,allgemein!$I$11),7,IF(ISBLANK(allgemein!$I$12),allgemein!M249,allgemein!$I$12),8,IF(ISBLANK(allgemein!$I$13),allgemein!M249,allgemein!$I$13),IF(ISBLANK(allgemein!M249),\"\",allgemein!M249))","v":{"$error":"#NAME?"}},{"$f":"_xlfn.SWITCH(allgemein!N249,1,IF(ISBLANK(allgemein!$F$10),allgemein!N249,allgemein!$F$10),2,IF(ISBLANK(allgemein!$F$11),allgemein!N249,allgemein!$F$11),3,IF(ISBLANK(allgemein!$F$12),allgemein!N249,allgemein!$F$12),4,IF(ISBLANK(allgemein!$F$13),allgemein!N249,allgemein!$F$13),5,IF(ISBLANK(allgemein!$I$10),allgemein!N249,allgemein!$I$10),6,IF(ISBLANK(allgemein!$I$11),allgemein!N249,allgemein!$I$11),7,IF(ISBLANK(allgemein!$I$12),allgemein!N249,allgemein!$I$12),8,IF(ISBLANK(allgemein!$I$13),allgemein!N249,allgemein!$I$13),IF(ISBLANK(allgemein!N249),\"\",allgemein!N249))","v":{"$error":"#NAME?"}},{"$f":"_xlfn.SWITCH(allgemein!O249,1,IF(ISBLANK(allgemein!$F$10),allgemein!O249,allgemein!$F$10),2,IF(ISBLANK(allgemein!$F$11),allgemein!O249,allgemein!$F$11),3,IF(ISBLANK(allgemein!$F$12),allgemein!O249,allgemein!$F$12),4,IF(ISBLANK(allgemein!$F$13),allgemein!O249,allgemein!$F$13),5,IF(ISBLANK(allgemein!$I$10),allgemein!O249,allgemein!$I$10),6,IF(ISBLANK(allgemein!$I$11),allgemein!O249,allgemein!$I$11),7,IF(ISBLANK(allgemein!$I$12),allgemein!O249,allgemein!$I$12),8,IF(ISBLANK(allgemein!$I$13),allgemein!O249,allgemein!$I$13),IF(ISBLANK(allgemein!O249),\"\",allgemein!O249))","v":{"$error":"#NAME?"}},{"$f":"_xlfn.SWITCH(allgemein!P249,1,IF(ISBLANK(allgemein!$F$10),allgemein!P249,allgemein!$F$10),2,IF(ISBLANK(allgemein!$F$11),allgemein!P249,allgemein!$F$11),3,IF(ISBLANK(allgemein!$F$12),allgemein!P249,allgemein!$F$12),4,IF(ISBLANK(allgemein!$F$13),allgemein!P249,allgemein!$F$13),5,IF(ISBLANK(allgemein!$I$10),allgemein!P249,allgemein!$I$10),6,IF(ISBLANK(allgemein!$I$11),allgemein!P249,allgemein!$I$11),7,IF(ISBLANK(allgemein!$I$12),allgemein!P249,allgemein!$I$12),8,IF(ISBLANK(allgemein!$I$13),allgemein!P249,allgemein!$I$13),IF(ISBLANK(allgemein!P249),\"\",allgemein!P249))","v":{"$error":"#NAME?"}},{"$f":"IF(ISBLANK(allgemein!Q249),\"\",allgemein!Q249)","v":""},{"$f":"IF(ISBLANK(allgemein!R249),\"\",allgemein!R249)","v":""},{"$f":"IF(ISBLANK(allgemein!S249),\"\",allgemein!S249)","v":""},{"$f":"IF(ISBLANK(allgemein!U249),\"\",allgemein!U249)","v":""}]
[{"$f":"IF(ISBLANK(allgemein!D250),\"\",allgemein!D250)","v":""},{"$f":"IF(ISBLANK(allgemein!E250),\"\",allgemein!E250)","v":""},{"$f":"IF(ISBLANK(allgemein!C250),\"\",allgemein!C250)","v":""},{"$f":"IF(ISBLANK(allgemein!H250),\"\",allgemein!H250)","v":""},{"$f":"IF(ISBLANK(allgemein!I250),\"\",allgemein!I250)","v":""},{"$f":"IF(ISBLANK(allgemein!J250),\"\",allgemein!J250)","v":""},{"$f":"IF(ISBLANK(allgemein!K250),\"\",allgemein!K250)","v":""},{"$f":"IF(ISBLANK(allgemein!F250),\"\",IF(ISBLANK(allgemein!L250),1,0))","v":""},{"$f":"_xlfn.SWITCH(allgemein!M250,1,IF(ISBLANK(allgemein!$F$10),allgemein!M250,allgemein!$F$10),2,IF(ISBLANK(allgemein!$F$11),allgemein!M250,allgemein!$F$11),3,IF(ISBLANK(allgemein!$F$12),allgemein!M250,allgemein!$F$12),4,IF(ISBLANK(allgemein!$F$13),allgemein!M250,allgemein!$F$13),5,IF(ISBLANK(allgemein!$I$10),allgemein!M250,allgemein!$I$10),6,IF(ISBLANK(allgemein!$I$11),allgemein!M250,allgemein!$I$11),7,IF(ISBLANK(allgemein!$I$12),allgemein!M250,allgemein!$I$12),8,IF(ISBLANK(allgemein!$I$13),allgemein!M250,allgemein!$I$13),IF(ISBLANK(allgemein!M250),\"\",allgemein!M250))","v":{"$error":"#NAME?"}},{"$f":"_xlfn.SWITCH(allgemein!N250,1,IF(ISBLANK(allgemein!$F$10),allgemein!N250,allgemein!$F$10),2,IF(ISBLANK(allgemein!$F$11),allgemein!N250,allgemein!$F$11),3,IF(ISBLANK(allgemein!$F$12),allgemein!N250,allgemein!$F$12),4,IF(ISBLANK(allgemein!$F$13),allgemein!N250,allgemein!$F$13),5,IF(ISBLANK(allgemein!$I$10),allgemein!N250,allgemein!$I$10),6,IF(ISBLANK(allgemein!$I$11),allgemein!N250,allgemein!$I$11),7,IF(ISBLANK(allgemein!$I$12),allgemein!N250,allgemein!$I$12),8,IF(ISBLANK(allgemein!$I$13),allgemein!N250,allgemein!$I$13),IF(ISBLANK(allgemein!N250),\"\",allgemein!N250))","v":{"$error":"#NAME?"}},{"$f":"_xlfn.SWITCH(allgemein!O250,1,IF(ISBLANK(allgemein!$F$10),allgemein!O250,allgemein!$F$10),2,IF(ISBLANK(allgemein!$F$11),allgemein!O250,allgemein!$F$11),3,IF(ISBLANK(allgemein!$F$12),allgemein!O250,allgemein!$F$12),4,IF(ISBLANK(allgemein!$F$13),allgemein!O250,allgemein!$F$13),5,IF(ISBLANK(allgemein!$I$10),allgemein!O250,allgemein!$I$10),6,IF(ISBLANK(allgemein!$I$11),allgemein!O250,allgemein!$I$11),7,IF(ISBLANK(allgemein!$I$12),allgemein!O250,allgemein!$I$12),8,IF(ISBLANK(allgemein!$I$13),allgemein!O250,allgemein!$I$13),IF(ISBLANK(allgemein!O250),\"\",allgemein!O250))","v":{"$error":"#NAME?"}},{"$f":"_xlfn.SWITCH(allgemein!P250,1,IF(ISBLANK(allgemein!$F$10),allgemein!P250,allgemein!$F$10),2,IF(ISBLANK(allgemein!$F$11),allgemein!P250,allgemein!$F$11),3,IF(ISBLANK(allgemein!$F$12),allgemein!P250,allgemein!$F$12),4,IF(ISBLANK(allgemein!$F$13),allgemein!P250,allgemein!$F$13),5,IF(ISBLANK(allgemein!$I$10),allgemein!P250,allgemein!$I$10),6,IF(ISBLANK(allgemein!$I$11),allgemein!P250,allgemein!$I$11),7,IF(ISBLANK(allgemein!$I$12),allgemein!P250,allgemein!$I$12),8,IF(ISBLANK(allgemein!$I$13),allgemein!P250,allgemein!$I$13),IF(ISBLANK(allgemein!P250),\"\",allgemein!P250))","v":{"$error":"#NAME?"}},{"$f":"IF(ISBLANK(allgemein!Q250),\"\",allgemein!Q250)","v":""},{"$f":"IF(ISBLANK(allgemein!R250),\"\",allgemein!R250)","v":""},{"$f":"IF(ISBLANK(allgemein!S250),\"\",allgemein!S250)","v":""},{"$f":"IF(ISBLANK(allgemein!U250),\"\",allgemein!U250)","v":""}]
[{"$f":"IF(ISBLANK(allgemein!D251),\"\",allgemein!D251)","v":""},{"$f":"IF(ISBLANK(allgemein!E251),\"\",allgemein!E251)","v":""},{"$f":"IF(ISBLANK(allgemein!C251),\"\",allgemein!C251)","v":""},{"$f":"IF(ISBLANK(allgemein!H251),\"\",allgemein!H251)","v":""},{"$f":"IF(ISBLANK(allgemein!I251),\"\",allgemein!I251)","v":""},{"$f":"IF(ISBLANK(allgemein!J251),\"\",allgemein!J251)","v":""},{"$f":"IF(ISBLANK(allgemein!K251),\"\",allgemein!K251)","v":""},{"$f":"IF(ISBLANK(allgemein!F251),\"\",IF(ISBLANK(allgemein!L251),1,0))","v":""},{"$f":"_xlfn.SWITCH(allgemein!M251,1,IF(ISBLANK(allgemein!$F$10),allgemein!M251,allgemein!$F$10),2,IF(ISBLANK(allgemein!$F$11),allgemein!M251,allgemein!$F$11),3,IF(ISBLANK(allgemein!$F$12),allgemein!M251,allgemein!$F$12),4,IF(ISBLANK(allgemein!$F$13),allgemein!M251,allgemein!$F$13),5,IF(ISBLANK(allgemein!$I$10),allgemein!M251,allgemein!$I$10),6,IF(ISBLANK(allgemein!$I$11),allgemein!M251,allgemein!$I$11),7,IF(ISBLANK(allgemein!$I$12),allgemein!M251,allgemein!$I$12),8,IF(ISBLANK(allgemein!$I$13),allgemein!M251,allgemein!$I$13),IF(ISBLANK(allgemein!M251),\"\",allgemein!M251))","v":{"$error":"#NAME?"}},{"$f":"_xlfn.SWITCH(allgemein!N251,1,IF(ISBLANK(allgemein!$F$10),allgemein!N251,allgemein!$F$10),2,IF(ISBLANK(allgemein!$F$11),allgemein!N251,allgemein!$F$11),3,IF(ISBLANK(allgemein!$F$12),allgemein!N251,allgemein!$F$12),4,IF(ISBLANK(allgemein!$F$13),allgemein!N251,allgemein!$F$13),5,IF(ISBLANK(allgemein!$I$10),allgemein!N251,allgemein!$I$10),6,IF(ISBLANK(allgemein!$I$11),allgemein!N251,allgemein!$I$11),7,IF(ISBLANK(allgemein!$I$12),allgemein!N251,allgemein!$I$12),8,IF(ISBLANK(allgemein!$I$13),allgemein!N251,allgemein!$I$13),IF(ISBLANK(allgemein!N251),\"\",allgemein!N251))","v":{"$error":"#NAME?"}},{"$f":"_xlfn.SWITCH(allgemein!O251,1,IF(ISBLANK(allgemein!$F$10),allgemein!O251,allgemein!$F$10),2,IF(ISBLANK(allgemein!$F$11),allgemein!O251,allgemein!$F$11),3,IF(ISBLANK(allgemein!$F$12),allgemein!O251,allgemein!$F$12),4,IF(ISBLANK(allgemein!$F$13),allgemein!O251,allgemein!$F$13),5,IF(ISBLANK(allgemein!$I$10),allgemein!O251,allgemein!$I$10),6,IF(ISBLANK(allgemein!$I$11),allgemein!O251,allgemein!$I$11),7,IF(ISBLANK(allgemein!$I$12),allgemein!O251,allgemein!$I$12),8,IF(ISBLANK(allgemein!$I$13),allgemein!O251,allgemein!$I$13),IF(ISBLANK(allgemein!O251),\"\",allgemein!O251))","v":{"$error":"#NAME?"}},{"$f":"_xlfn.SWITCH(allgemein!P251,1,IF(ISBLANK(allgemein!$F$10),allgemein!P251,allgemein!$F$10),2,IF(ISBLANK(allgemein!$F$11),allgemein!P251,allgemein!$F$11),3,IF(ISBLANK(allgemein!$F$12),allgemein!P251,allgemein!$F$12),4,IF(ISBLANK(allgemein!$F$13),allgemein!P251,allgemein!$F$13),5,IF(ISBLANK(allgemein!$I$10),allgemein!P251,allgemein!$I$10),6,IF(ISBLANK(allgemein!$I$11),allgemein!P251,allgemein!$I$11),7,IF(ISBLANK(allgemein!$I$12),allgemein!P251,allgemein!$I$12),8,IF(ISBLANK(allgemein!$I$13),allgemein!P251,allgemein!$I$13),IF(ISBLANK(allgemein!P251),\"\",allgemein!P251))","v":{"$error":"#NAME?"}},{"$f":"IF(ISBLANK(allgemein!Q251),\"\",allgemein!Q251)","v":""},{"$f":"IF(ISBLANK(allgemein!R251),\"\",allgemein!R251)","v":""},{"$f":"IF(ISBLANK(allgemein!S251),\"\",allgemein!S251)","v":""},{"$f":"IF(ISBLANK(allgemein!U251),\"\",allgemein!U251)","v":""}]
[{"$f":"IF(ISBLANK(allgemein!D252),\"\",allgemein!D252)","v":""},{"$f":"IF(ISBLANK(allgemein!E252),\"\",allgemein!E252)","v":""},{"$f":"IF(ISBLANK(allgemein!C252),\"\",allgemein!C252)","v":""},{"$f":"IF(ISBLANK(allgemein!H252),\"\",allgemein!H252)","v":""},{"$f":"IF(ISBLANK(allgemein!I252),\"\",allgemein!I252)","v":""},{"$f":"IF(ISBLANK(allgemein!J252),\"\",allgemein!J252)","v":""},{"$f":"IF(ISBLANK(allgemein!K252),\"\",allgemein!K252)","v":""},{"$f":"IF(ISBLANK(allgemein!F252),\"\",IF(ISBLANK(allgemein!L252),1,0))","v":""},{"$f":"_xlfn.SWITCH(allgemein!M252,1,IF(ISBLANK(allgemein!$F$10),allgemein!M252,allgemein!$F$10),2,IF(ISBLANK(allgemein!$F$11),allgemein!M252,allgemein!$F$11),3,IF(ISBLANK(allgemein!$F$12),allgemein!M252,allgemein!$F$12),4,IF(ISBLANK(allgemein!$F$13),allgemein!M252,allgemein!$F$13),5,IF(ISBLANK(allgemein!$I$10),allgemein!M252,allgemein!$I$10),6,IF(ISBLANK(allgemein!$I$11),allgemein!M252,allgemein!$I$11),7,IF(ISBLANK(allgemein!$I$12),allgemein!M252,allgemein!$I$12),8,IF(ISBLANK(allgemein!$I$13),allgemein!M252,allgemein!$I$13),IF(ISBLANK(allgemein!M252),\"\",allgemein!M252))","v":{"$error":"#NAME?"}},{"$f":"_xlfn.SWITCH(allgemein!N252,1,IF(ISBLANK(allgemein!$F$10),allgemein!N252,allgemein!$F$10),2,IF(ISBLANK(allgemein!$F$11),allgemein!N252,allgemein!$F$11),3,IF(ISBLANK(allgemein!$F$12),allgemein!N252,allgemein!$F$12),4,IF(ISBLANK(allgemein!$F$13),allgemein!N252,allgemein!$F$13),5,IF(ISBLANK(allgemein!$I$10),allgemein!N252,allgemein!$I$10),6,IF(ISBLANK(allgemein!$I$11),allgemein!N252,allgemein!$I$11),7,IF(ISBLANK(allgemein!$I$12),allgemein!N252,allgemein!$I$12),8,IF(ISBLANK(allgemein!$I$13),allgemein!N252,allgemein!$I$13),IF(ISBLANK(allgemein!N252),\"\",allgemein!N252))","v":{"$error":"#NAME?"}},{"$f":"_xlfn.SWITCH(allgemein!O252,1,IF(ISBLANK(allgemein!$F$10),allgemein!O252,allgemein!$F$10),2,IF(ISBLANK(allgemein!$F$11),allgemein!O252,allgemein!$F$11),3,IF(ISBLANK(allgemein!$F$12),allgemein!O252,allgemein!$F$12),4,IF(ISBLANK(allgemein!$F$13),allgemein!O252,allgemein!$F$13),5,IF(ISBLANK(allgemein!$I$10),allgemein!O252,allgemein!$I$10),6,IF(ISBLANK(allgemein!$I$11),allgemein!O252,allgemein!$I$11),7,IF(ISBLANK(allgemein!$I$12),allgemein!O252,allgemein!$I$12),8,IF(ISBLANK(allgemein!$I$13),allgemein!O252,allgemein!$I$13),IF(ISBLANK(allgemein!O252),\"\",allgemein!O252))","v":{"$error":"#NAME?"}},{"$f":"_xlfn.SWITCH(allgemein!P252,1,IF(ISBLANK(allgemein!$F$10),allgemein!P252,allgemein!$F$10),2,IF(ISBLANK(allgemein!$F$11),allgemein!P252,allgemein!$F$11),3,IF(ISBLANK(allgemein!$F$12),allgemein!P252,allgemein!$F$12),4,IF(ISBLANK(allgemein!$F$13),allgemein!P252,allgemein!$F$13),5,IF(ISBLANK(allgemein!$I$10),allgemein!P252,allgemein!$I$10),6,IF(ISBLANK(allgemein!$I$11),allgemein!P252,allgemein!$I$11),7,IF(ISBLANK(allgemein!$I$12),allgemein!P252,allgemein!$I$12),8,IF(ISBLANK(allgemein!$I$13),allgemein!P252,allgemein!$I$13),IF(ISBLANK(allgemein!P252),\"\",allgemein!P252))","v":{"$error":"#NAME?"}},{"$f":"IF(ISBLANK(allgemein!Q252),\"\",allgemein!Q252)","v":""},{"$f":"IF(ISBLANK(allgemein!R252),\"\",allgemein!R252)","v":""},{"$f":"IF(ISBLANK(allgemein!S252),\"\",allgemein!S252)","v":""},{"$f":"IF(ISBLANK(allgemein!U252),\"\",allgemein!U252)","v":""}]
[{"$f":"IF(ISBLANK(allgemein!D253),\"\",allgemein!D253)","v":""},{"$f":"IF(ISBLANK(allgemein!E253),\"\",allgemein!E253)","v":""},{"$f":"IF(ISBLANK(allgemein!C253),\"\",allgemein!C253)","v":""},{"$f":"IF(ISBLANK(allgemein!H253),\"\",allgemein!H253)","v":""},{"$f":"IF(ISBLANK(allgemein!I253),\"\",allgemein!I253)","v":""},{"$f":"IF(ISBLANK(allgemein!J253),\"\",allgemein!J253)","v":""},{"$f":"IF(ISBLANK(allgemein!K253),\"\",allgemein!K253)","v":""},{"$f":"IF(ISBLANK(allgemein!F253),\"\",IF(ISBLANK(allgemein!L253),1,0))","v":""},{"$f":"_xlfn.SWITCH(allgemein!M253,1,IF(ISBLANK(allgemein!$F$10),allgemein!M253,allgemein!$F$10),2,IF(ISBLANK(allgemein!$F$11),allgemein!M253,allgemein!$F$11),3,IF(ISBLANK(allgemein!$F$12),allgemein!M253,allgemein!$F$12),4,IF(ISBLANK(allgemein!$F$13),allgemein!M253,allgemein!$F$13),5,IF(ISBLANK(allgemein!$I$10),allgemein!M253,allgemein!$I$10),6,IF(ISBLANK(allgemein!$I$11),allgemein!M253,allgemein!$I$11),7,IF(ISBLANK(allgemein!$I$12),allgemein!M253,allgemein!$I$12),8,IF(ISBLANK(allgemein!$I$13),allgemein!M253,allgemein!$I$13),IF(ISBLANK(allgemein!M253),\"\",allgemein!M253))","v":{"$error":"#NAME?"}},{"$f":"_xlfn.SWITCH(allgemein!N253,1,IF(ISBLANK(allgemein!$F$10),allgemein!N253,allgemein!$F$10),2,IF(ISBLANK(allgemein!$F$11),allgemein!N253,allgemein!$F$11),3,IF(ISBLANK(allgemein!$F$12),allgemein!N253,allgemein!$F$12),4,IF(ISBLANK(allgemein!$F$13),allgemein!N253,allgemein!$F$13),5,IF(ISBLANK(allgemein!$I$10),allgemein!N253,allgemein!$I$10),6,IF(ISBLANK(allgemein!$I$11),allgemein!N253,allgemein!$I$11),7,IF(ISBLANK(allgemein!$I$12),allgemein!N253,allgemein!$I$12),8,IF(ISBLANK(allgemein!$I$13),allgemein!N253,allgemein!$I$13),IF(ISBLANK(allgemein!N253),\"\",allgemein!N253))","v":{"$error":"#NAME?"}},{"$f":"_xlfn.SWITCH(allgemein!O253,1,IF(ISBLANK(allgemein!$F$10),allgemein!O253,allgemein!$F$10),2,IF(ISBLANK(allgemein!$F$11),allgemein!O253,allgemein!$F$11),3,IF(ISBLANK(allgemein!$F$12),allgemein!O253,allgemein!$F$12),4,IF(ISBLANK(allgemein!$F$13),allgemein!O253,allgemein!$F$13),5,IF(ISBLANK(allgemein!$I$10),allgemein!O253,allgemein!$I$10),6,IF(ISBLANK(allgemein!$I$11),allgemein!O253,allgemein!$I$11),7,IF(ISBLANK(allgemein!$I$12),allgemein!O253,allgemein!$I$12),8,IF(ISBLANK(allgemein!$I$13),allgemein!O253,allgemein!$I$13),IF(ISBLANK(allgemein!O253),\"\",allgemein!O253))","v":{"$error":"#NAME?"}},{"$f":"_xlfn.SWITCH(allgemein!P253,1,IF(ISBLANK(allgemein!$F$10),allgemein!P253,allgemein!$F$10),2,IF(ISBLANK(allgemein!$F$11),allgemein!P253,allgemein!$F$11),3,IF(ISBLANK(allgemein!$F$12),allgemein!P253,allgemein!$F$12),4,IF(ISBLANK(allgemein!$F$13),allgemein!P253,allgemein!$F$13),5,IF(ISBLANK(allgemein!$I$10),allgemein!P253,allgemein!$I$10),6,IF(ISBLANK(allgemein!$I$11),allgemein!P253,allgemein!$I$11),7,IF(ISBLANK(allgemein!$I$12),allgemein!P253,allgemein!$I$12),8,IF(ISBLANK(allgemein!$I$13),allgemein!P253,allgemein!$I$13),IF(ISBLANK(allgemein!P253),\"\",allgemein!P253))","v":{"$error":"#NAME?"}},{"$f":"IF(ISBLANK(allgemein!Q253),\"\",allgemein!Q253)","v":""},{"$f":"IF(ISBLANK(allgemein!R253),\"\",allgemein!R253)","v":""},{"$f":"IF(ISBLANK(allgemein!S253),\"\",allgemein!S253)","v":""},{"$f":"IF(ISBLANK(allgemein!U253),\"\",allgemein!U253)","v":""}]
[{"$f":"IF(ISBLANK(allgemein!D254),\"\",allgemein!D254)","v":""},{"$f":"IF(ISBLANK(allgemein!E254),\"\",allgemein!E254)","v":""},{"$f":"IF(ISBLANK(allgemein!C254),\"\",allgemein!C254)","v":""},{"$f":"IF(ISBLANK(allgemein!H254),\"\",allgemein!H254)","v":""},{"$f":"IF(ISBLANK(allgemein!I254),\"\",allgemein!I254)","v":""},{"$f":"IF(ISBLANK(allgemein!J254),\"\",allgemein!J254)","v":""},{"$f":"IF(ISBLANK(allgemein!K254),\"\",allgemein!K254)","v":""},{"$f":"IF(ISBLANK(allgemein!F254),\"\",IF(ISBLANK(allgemein!L254),1,0))","v":""},{"$f":"_xlfn.SWITCH(allgemein!M254,1,IF(ISBLANK(allgemein!$F$10),allgemein!M254,allgemein!$F$10),2,IF(ISBLANK(allgemein!$F$11),allgemein!M254,allgemein!$F$11),3,IF(ISBLANK(allgemein!$F$12),allgemein!M254,allgemein!$F$12),4,IF(ISBLANK(allgemein!$F$13),allgemein!M254,allgemein!$F$13),5,IF(ISBLANK(allgemein!$I$10),allgemein!M254,allgemein!$I$10),6,IF(ISBLANK(allgemein!$I$11),allgemein!M254,allgemein!$I$11),7,IF(ISBLANK(allgemein!$I$12),allgemein!M254,allgemein!$I$12),8,IF(ISBLANK(allgemein!$I$13),allgemein!M254,allgemein!$I$13),IF(ISBLANK(allgemein!M254),\"\",allgemein!M254))","v":{"$error":"#NAME?"}},{"$f":"_xlfn.SWITCH(allgemein!N254,1,IF(ISBLANK(allgemein!$F$10),allgemein!N254,allgemein!$F$10),2,IF(ISBLANK(allgemein!$F$11),allgemein!N254,allgemein!$F$11),3,IF(ISBLANK(allgemein!$F$12),allgemein!N254,allgemein!$F$12),4,IF(ISBLANK(allgemein!$F$13),allgemein!N254,allgemein!$F$13),5,IF(ISBLANK(allgemein!$I$10),allgemein!N254,allgemein!$I$10),6,IF(ISBLANK(allgemein!$I$11),allgemein!N254,allgemein!$I$11),7,IF(ISBLANK(allgemein!$I$12),allgemein!N254,allgemein!$I$12),8,IF(ISBLANK(allgemein!$I$13),allgemein!N254,allgemein!$I$13),IF(ISBLANK(allgemein!N254),\"\",allgemein!N254))","v":{"$error":"#NAME?"}},{"$f":"_xlfn.SWITCH(allgemein!O254,1,IF(ISBLANK(allgemein!$F$10),allgemein!O254,allgemein!$F$10),2,IF(ISBLANK(allgemein!$F$11),allgemein!O254,allgemein!$F$11),3,IF(ISBLANK(allgemein!$F$12),allgemein!O254,allgemein!$F$12),4,IF(ISBLANK(allgemein!$F$13),allgemein!O254,allgemein!$F$13),5,IF(ISBLANK(allgemein!$I$10),allgemein!O254,allgemein!$I$10),6,IF(ISBLANK(allgemein!$I$11),allgemein!O254,allgemein!$I$11),7,IF(ISBLANK(allgemein!$I$12),allgemein!O254,allgemein!$I$12),8,IF(ISBLANK(allgemein!$I$13),allgemein!O254,allgemein!$I$13),IF(ISBLANK(allgemein!O254),\"\",allgemein!O254))","v":{"$error":"#NAME?"}},{"$f":"_xlfn.SWITCH(allgemein!P254,1,IF(ISBLANK(allgemein!$F$10),allgemein!P254,allgemein!$F$10),2,IF(ISBLANK(allgemein!$F$11),allgemein!P254,allgemein!$F$11),3,IF(ISBLANK(allgemein!$F$12),allgemein!P254,allgemein!$F$12),4,IF(ISBLANK(allgemein!$F$13),allgemein!P254,allgemein!$F$13),5,IF(ISBLANK(allgemein!$I$10),allgemein!P254,allgemein!$I$10),6,IF(ISBLANK(allgemein!$I$11),allgemein!P254,allgemein!$I$11),7,IF(ISBLANK(allgemein!$I$12),allgemein!P254,allgemein!$I$12),8,IF(ISBLANK(allgemein!$I$13),allgemein!P254,allgemein!$I$13),IF(ISBLANK(allgemein!P254),\"\",allgemein!P254))","v":{"$error":"#NAME?"}},{"$f":"IF(ISBLANK(allgemein!Q254),\"\",allgemein!Q254)","v":""},{"$f":"IF(ISBLANK(allgemein!R254),\"\",allgemein!R254)","v":""},{"$f":"IF(ISBLANK(allgemein!S254),\"\",allgemein!S254)","v":""},{"$f":"IF(ISBLANK(allgemein!U254),\"\",allgemein!U254)","v":""}]
[{"$f":"IF(ISBLANK(allgemein!D255),\"\",allgemein!D255)","v":""},{"$f":"IF(ISBLANK(allgemein!E255),\"\",allgemein!E255)","v":""},{"$f":"IF(ISBLANK(allgemein!C255),\"\",allgemein!C255)","v":""},{"$f":"IF(ISBLANK(allgemein!H255),\"\",allgemein!H255)","v":""},{"$f":"IF(ISBLANK(allgemein!I255),\"\",allgemein!I255)","v":""},{"$f":"IF(ISBLANK(allgemein!J255),\"\",allgemein!J255)","v":""},{"$f":"IF(ISBLANK(allgemein!K255),\"\",allgemein!K255)","v":""},{"$f":"IF(ISBLANK(allgemein!F255),\"\",IF(ISBLANK(allgemein!L255),1,0))","v":""},{"$f":"_xlfn.SWITCH(allgemein!M255,1,IF(ISBLANK(allgemein!$F$10),allgemein!M255,allgemein!$F$10),2,IF(ISBLANK(allgemein!$F$11),allgemein!M255,allgemein!$F$11),3,IF(ISBLANK(allgemein!$F$12),allgemein!M255,allgemein!$F$12),4,IF(ISBLANK(allgemein!$F$13),allgemein!M255,allgemein!$F$13),5,IF(ISBLANK(allgemein!$I$10),allgemein!M255,allgemein!$I$10),6,IF(ISBLANK(allgemein!$I$11),allgemein!M255,allgemein!$I$11),7,IF(ISBLANK(allgemein!$I$12),allgemein!M255,allgemein!$I$12),8,IF(ISBLANK(allgemein!$I$13),allgemein!M255,allgemein!$I$13),IF(ISBLANK(allgemein!M255),\"\",allgemein!M255))","v":{"$error":"#NAME?"}},{"$f":"_xlfn.SWITCH(allgemein!N255,1,IF(ISBLANK(allgemein!$F$10),allgemein!N255,allgemein!$F$10),2,IF(ISBLANK(allgemein!$F$11),allgemein!N255,allgemein!$F$11),3,IF(ISBLANK(allgemein!$F$12),allgemein!N255,allgemein!$F$12),4,IF(ISBLANK(allgemein!$F$13),allgemein!N255,allgemein!$F$13),5,IF(ISBLANK(allgemein!$I$10),allgemein!N255,allgemein!$I$10),6,IF(ISBLANK(allgemein!$I$11),allgemein!N255,allgemein!$I$11),7,IF(ISBLANK(allgemein!$I$12),allgemein!N255,allgemein!$I$12),8,IF(ISBLANK(allgemein!$I$13),allgemein!N255,allgemein!$I$13),IF(ISBLANK(allgemein!N255),\"\",allgemein!N255))","v":{"$error":"#NAME?"}},{"$f":"_xlfn.SWITCH(allgemein!O255,1,IF(ISBLANK(allgemein!$F$10),allgemein!O255,allgemein!$F$10),2,IF(ISBLANK(allgemein!$F$11),allgemein!O255,allgemein!$F$11),3,IF(ISBLANK(allgemein!$F$12),allgemein!O255,allgemein!$F$12),4,IF(ISBLANK(allgemein!$F$13),allgemein!O255,allgemein!$F$13),5,IF(ISBLANK(allgemein!$I$10),allgemein!O255,allgemein!$I$10),6,IF(ISBLANK(allgemein!$I$11),allgemein!O255,allgemein!$I$11),7,IF(ISBLANK(allgemein!$I$12),allgemein!O255,allgemein!$I$12),8,IF(ISBLANK(allgemein!$I$13),allgemein!O255,allgemein!$I$13),IF(ISBLANK(allgemein!O255),\"\",allgemein!O255))","v":{"$error":"#NAME?"}},{"$f":"_xlfn.SWITCH(allgemein!P255,1,IF(ISBLANK(allgemein!$F$10),allgemein!P255,allgemein!$F$10),2,IF(ISBLANK(allgemein!$F$11),allgemein!P255,allgemein!$F$11),3,IF(ISBLANK(allgemein!$F$12),allgemein!P255,allgemein!$F$12),4,IF(ISBLANK(allgemein!$F$13),allgemein!P255,allgemein!$F$13),5,IF(ISBLANK(allgemein!$I$10),allgemein!P255,allgemein!$I$10),6,IF(ISBLANK(allgemein!$I$11),allgemein!P255,allgemein!$I$11),7,IF(ISBLANK(allgemein!$I$12),allgemein!P255,allgemein!$I$12),8,IF(ISBLANK(allgemein!$I$13),allgemein!P255,allgemein!$I$13),IF(ISBLANK(allgemein!P255),\"\",allgemein!P255))","v":{"$error":"#NAME?"}},{"$f":"IF(ISBLANK(allgemein!Q255),\"\",allgemein!Q255)","v":""},{"$f":"IF(ISBLANK(allgemein!R255),\"\",allgemein!R255)","v":""},{"$f":"IF(ISBLANK(allgemein!S255),\"\",allgemein!S255)","v":""},{"$f":"IF(ISBLANK(allgemein!U255),\"\",allgemein!U255)","v":""}]
[{"$f":"IF(ISBLANK(allgemein!D256),\"\",allgemein!D256)","v":""},{"$f":"IF(ISBLANK(allgemein!E256),\"\",allgemein!E256)","v":""},{"$f":"IF(ISBLANK(allgemein!C256),\"\",allgemein!C256)","v":""},{"$f":"IF(ISBLANK(allgemein!H256),\"\",allgemein!H256)","v":""},{"$f":"IF(ISBLANK(allgemein!I256),\"\",allgemein!I256)","v":""},{"$f":"IF(ISBLANK(allgemein!J256),\"\",allgemein!J256)","v":""},{"$f":"IF(ISBLANK(allgemein!K256),\"\",allgemein!K256)","v":""},{"$f":"IF(ISBLANK(allgemein!F256),\"\",IF(ISBLANK(allgemein!L256),1,0))","v":""},{"$f":"_xlfn.SWITCH(allgemein!M256,1,IF(ISBLANK(allgemein!$F$10),allgemein!M256,allgemein!$F$10),2,IF(ISBLANK(allgemein!$F$11),allgemein!M256,allgemein!$F$11),3,IF(ISBLANK(allgemein!$F$12),allgemein!M256,allgemein!$F$12),4,IF(ISBLANK(allgemein!$F$13),allgemein!M256,allgemein!$F$13),5,IF(ISBLANK(allgemein!$I$10),allgemein!M256,allgemein!$I$10),6,IF(ISBLANK(allgemein!$I$11),allgemein!M256,allgemein!$I$11),7,IF(ISBLANK(allgemein!$I$12),allgemein!M256,allgemein!$I$12),8,IF(ISBLANK(allgemein!$I$13),allgemein!M256,allgemein!$I$13),IF(ISBLANK(allgemein!M256),\"\",allgemein!M256))","v":{"$error":"#NAME?"}},{"$f":"_xlfn.SWITCH(allgemein!N256,1,IF(ISBLANK(allgemein!$F$10),allgemein!N256,allgemein!$F$10),2,IF(ISBLANK(allgemein!$F$11),allgemein!N256,allgemein!$F$11),3,IF(ISBLANK(allgemein!$F$12),allgemein!N256,allgemein!$F$12),4,IF(ISBLANK(allgemein!$F$13),allgemein!N256,allgemein!$F$13),5,IF(ISBLANK(allgemein!$I$10),allgemein!N256,allgemein!$I$10),6,IF(ISBLANK(allgemein!$I$11),allgemein!N256,allgemein!$I$11),7,IF(ISBLANK(allgemein!$I$12),allgemein!N256,allgemein!$I$12),8,IF(ISBLANK(allgemein!$I$13),allgemein!N256,allgemein!$I$13),IF(ISBLANK(allgemein!N256),\"\",allgemein!N256))","v":{"$error":"#NAME?"}},{"$f":"_xlfn.SWITCH(allgemein!O256,1,IF(ISBLANK(allgemein!$F$10),allgemein!O256,allgemein!$F$10),2,IF(ISBLANK(allgemein!$F$11),allgemein!O256,allgemein!$F$11),3,IF(ISBLANK(allgemein!$F$12),allgemein!O256,allgemein!$F$12),4,IF(ISBLANK(allgemein!$F$13),allgemein!O256,allgemein!$F$13),5,IF(ISBLANK(allgemein!$I$10),allgemein!O256,allgemein!$I$10),6,IF(ISBLANK(allgemein!$I$11),allgemein!O256,allgemein!$I$11),7,IF(ISBLANK(allgemein!$I$12),allgemein!O256,allgemein!$I$12),8,IF(ISBLANK(allgemein!$I$13),allgemein!O256,allgemein!$I$13),IF(ISBLANK(allgemein!O256),\"\",allgemein!O256))","v":{"$error":"#NAME?"}},{"$f":"_xlfn.SWITCH(allgemein!P256,1,IF(ISBLANK(allgemein!$F$10),allgemein!P256,allgemein!$F$10),2,IF(ISBLANK(allgemein!$F$11),allgemein!P256,allgemein!$F$11),3,IF(ISBLANK(allgemein!$F$12),allgemein!P256,allgemein!$F$12),4,IF(ISBLANK(allgemein!$F$13),allgemein!P256,allgemein!$F$13),5,IF(ISBLANK(allgemein!$I$10),allgemein!P256,allgemein!$I$10),6,IF(ISBLANK(allgemein!$I$11),allgemein!P256,allgemein!$I$11),7,IF(ISBLANK(allgemein!$I$12),allgemein!P256,allgemein!$I$12),8,IF(ISBLANK(allgemein!$I$13),allgemein!P256,allgemein!$I$13),IF(ISBLANK(allgemein!P256),\"\",allgemein!P256))","v":{"$error":"#NAME?"}},{"$f":"IF(ISBLANK(allgemein!Q256),\"\",allgemein!Q256)","v":""},{"$f":"IF(ISBLANK(allgemein!R256),\"\",allgemein!R256)","v":""},{"$f":"IF(ISBLANK(allgemein!S256),\"\",allgemein!S256)","v":""},{"$f":"IF(ISBLANK(allgemein!U256),\"\",allgemein!U256)","v":""}]
[{"$f":"IF(ISBLANK(allgemein!D257),\"\",allgemein!D257)","v":""},{"$f":"IF(ISBLANK(allgemein!E257),\"\",allgemein!E257)","v":""},{"$f":"IF(ISBLANK(allgemein!C257),\"\",allgemein!C257)","v":""},{"$f":"IF(ISBLANK(allgemein!H257),\"\",allgemein!H257)","v":""},{"$f":"IF(ISBLANK(allgemein!I257),\"\",allgemein!I257)","v":""},{"$f":"IF(ISBLANK(allgemein!J257),\"\",allgemein!J257)","v":""},{"$f":"IF(ISBLANK(allgemein!K257),\"\",allgemein!K257)","v":""},{"$f":"IF(ISBLANK(allgemein!F257),\"\",IF(ISBLANK(allgemein!L257),1,0))","v":""},{"$f":"_xlfn.SWITCH(allgemein!M257,1,IF(ISBLANK(allgemein!$F$10),allgemein!M257,allgemein!$F$10),2,IF(ISBLANK(allgemein!$F$11),allgemein!M257,allgemein!$F$11),3,IF(ISBLANK(allgemein!$F$12),allgemein!M257,allgemein!$F$12),4,IF(ISBLANK(allgemein!$F$13),allgemein!M257,allgemein!$F$13),5,IF(ISBLANK(allgemein!$I$10),allgemein!M257,allgemein!$I$10),6,IF(ISBLANK(allgemein!$I$11),allgemein!M257,allgemein!$I$11),7,IF(ISBLANK(allgemein!$I$12),allgemein!M257,allgemein!$I$12),8,IF(ISBLANK(allgemein!$I$13),allgemein!M257,allgemein!$I$13),IF(ISBLANK(allgemein!M257),\"\",allgemein!M257))","v":{"$error":"#NAME?"}},{"$f":"_xlfn.SWITCH(allgemein!N257,1,IF(ISBLANK(allgemein!$F$10),allgemein!N257,allgemein!$F$10),2,IF(ISBLANK(allgemein!$F$11),allgemein!N257,allgemein!$F$11),3,IF(ISBLANK(allgemein!$F$12),allgemein!N257,allgemein!$F$12),4,IF(ISBLANK(allgemein!$F$13),allgemein!N257,allgemein!$F$13),5,IF(ISBLANK(allgemein!$I$10),allgemein!N257,allgemein!$I$10),6,IF(ISBLANK(allgemein!$I$11),allgemein!N257,allgemein!$I$11),7,IF(ISBLANK(allgemein!$I$12),allgemein!N257,allgemein!$I$12),8,IF(ISBLANK(allgemein!$I$13),allgemein!N257,allgemein!$I$13),IF(ISBLANK(allgemein!N257),\"\",allgemein!N257))","v":{"$error":"#NAME?"}},{"$f":"_xlfn.SWITCH(allgemein!O257,1,IF(ISBLANK(allgemein!$F$10),allgemein!O257,allgemein!$F$10),2,IF(ISBLANK(allgemein!$F$11),allgemein!O257,allgemein!$F$11),3,IF(ISBLANK(allgemein!$F$12),allgemein!O257,allgemein!$F$12),4,IF(ISBLANK(allgemein!$F$13),allgemein!O257,allgemein!$F$13),5,IF(ISBLANK(allgemein!$I$10),allgemein!O257,allgemein!$I$10),6,IF(ISBLANK(allgemein!$I$11),allgemein!O257,allgemein!$I$11),7,IF(ISBLANK(allgemein!$I$12),allgemein!O257,allgemein!$I$12),8,IF(ISBLANK(allgemein!$I$13),allgemein!O257,allgemein!$I$13),IF(ISBLANK(allgemein!O257),\"\",allgemein!O257))","v":{"$error":"#NAME?"}},{"$f":"_xlfn.SWITCH(allgemein!P257,1,IF(ISBLANK(allgemein!$F$10),allgemein!P257,allgemein!$F$10),2,IF(ISBLANK(allgemein!$F$11),allgemein!P257,allgemein!$F$11),3,IF(ISBLANK(allgemein!$F$12),allgemein!P257,allgemein!$F$12),4,IF(ISBLANK(allgemein!$F$13),allgemein!P257,allgemein!$F$13),5,IF(ISBLANK(allgemein!$I$10),allgemein!P257,allgemein!$I$10),6,IF(ISBLANK(allgemein!$I$11),allgemein!P257,allgemein!$I$11),7,IF(ISBLANK(allgemein!$I$12),allgemein!P257,allgemein!$I$12),8,IF(ISBLANK(allgemein!$I$13),allgemein!P257,allgemein!$I$13),IF(ISBLANK(allgemein!P257),\"\",allgemein!P257))","v":{"$error":"#NAME?"}},{"$f":"IF(ISBLANK(allgemein!Q257),\"\",allgemein!Q257)","v":""},{"$f":"IF(ISBLANK(allgemein!R257),\"\",allgemein!R257)","v":""},{"$f":"IF(ISBLANK(allgemein!S257),\"\",allgemein!S257)","v":""},{"$f":"IF(ISBLANK(allgemein!U257),\"\",allgemein!U257)","v":""}]
[{"$f":"IF(ISBLANK(allgemein!D258),\"\",allgemein!D258)","v":""},{"$f":"IF(ISBLANK(allgemein!E258),\"\",allgemein!E258)","v":""},{"$f":"IF(ISBLANK(allgemein!C258),\"\",allgemein!C258)","v":""},{"$f":"IF(ISBLANK(allgemein!H258),\"\",allgemein!H258)","v":""},{"$f":"IF(ISBLANK(allgemein!I258),\"\",allgemein!I258)","v":""},{"$f":"IF(ISBLANK(allgemein!J258),\"\",allgemein!J258)","v":""},{"$f":"IF(ISBLANK(allgemein!K258),\"\",allgemein!K258)","v":""},{"$f":"IF(ISBLANK(allgemein!F258),\"\",IF(ISBLANK(allgemein!L258),1,0))","v":""},{"$f":"_xlfn.SWITCH(allgemein!M258,1,IF(ISBLANK(allgemein!$F$10),allgemein!M258,allgemein!$F$10),2,IF(ISBLANK(allgemein!$F$11),allgemein!M258,allgemein!$F$11),3,IF(ISBLANK(allgemein!$F$12),allgemein!M258,allgemein!$F$12),4,IF(ISBLANK(allgemein!$F$13),allgemein!M258,allgemein!$F$13),5,IF(ISBLANK(allgemein!$I$10),allgemein!M258,allgemein!$I$10),6,IF(ISBLANK(allgemein!$I$11),allgemein!M258,allgemein!$I$11),7,IF(ISBLANK(allgemein!$I$12),allgemein!M258,allgemein!$I$12),8,IF(ISBLANK(allgemein!$I$13),allgemein!M258,allgemein!$I$13),IF(ISBLANK(allgemein!M258),\"\",allgemein!M258))","v":{"$error":"#NAME?"}},{"$f":"_xlfn.SWITCH(allgemein!N258,1,IF(ISBLANK(allgemein!$F$10),allgemein!N258,allgemein!$F$10),2,IF(ISBLANK(allgemein!$F$11),allgemein!N258,allgemein!$F$11),3,IF(ISBLANK(allgemein!$F$12),allgemein!N258,allgemein!$F$12),4,IF(ISBLANK(allgemein!$F$13),allgemein!N258,allgemein!$F$13),5,IF(ISBLANK(allgemein!$I$10),allgemein!N258,allgemein!$I$10),6,IF(ISBLANK(allgemein!$I$11),allgemein!N258,allgemein!$I$11),7,IF(ISBLANK(allgemein!$I$12),allgemein!N258,allgemein!$I$12),8,IF(ISBLANK(allgemein!$I$13),allgemein!N258,allgemein!$I$13),IF(ISBLANK(allgemein!N258),\"\",allgemein!N258))","v":{"$error":"#NAME?"}},{"$f":"_xlfn.SWITCH(allgemein!O258,1,IF(ISBLANK(allgemein!$F$10),allgemein!O258,allgemein!$F$10),2,IF(ISBLANK(allgemein!$F$11),allgemein!O258,allgemein!$F$11),3,IF(ISBLANK(allgemein!$F$12),allgemein!O258,allgemein!$F$12),4,IF(ISBLANK(allgemein!$F$13),allgemein!O258,allgemein!$F$13),5,IF(ISBLANK(allgemein!$I$10),allgemein!O258,allgemein!$I$10),6,IF(ISBLANK(allgemein!$I$11),allgemein!O258,allgemein!$I$11),7,IF(ISBLANK(allgemein!$I$12),allgemein!O258,allgemein!$I$12),8,IF(ISBLANK(allgemein!$I$13),allgemein!O258,allgemein!$I$13),IF(ISBLANK(allgemein!O258),\"\",allgemein!O258))","v":{"$error":"#NAME?"}},{"$f":"_xlfn.SWITCH(allgemein!P258,1,IF(ISBLANK(allgemein!$F$10),allgemein!P258,allgemein!$F$10),2,IF(ISBLANK(allgemein!$F$11),allgemein!P258,allgemein!$F$11),3,IF(ISBLANK(allgemein!$F$12),allgemein!P258,allgemein!$F$12),4,IF(ISBLANK(allgemein!$F$13),allgemein!P258,allgemein!$F$13),5,IF(ISBLANK(allgemein!$I$10),allgemein!P258,allgemein!$I$10),6,IF(ISBLANK(allgemein!$I$11),allgemein!P258,allgemein!$I$11),7,IF(ISBLANK(allgemein!$I$12),allgemein!P258,allgemein!$I$12),8,IF(ISBLANK(allgemein!$I$13),allgemein!P258,allgemein!$I$13),IF(ISBLANK(allgemein!P258),\"\",allgemein!P258))","v":{"$error":"#NAME?"}},{"$f":"IF(ISBLANK(allgemein!Q258),\"\",allgemein!Q258)","v":""},{"$f":"IF(ISBLANK(allgemein!R258),\"\",allgemein!R258)","v":""},{"$f":"IF(ISBLANK(allgemein!S258),\"\",allgemein!S258)","v":""},{"$f":"IF(ISBLANK(allgemein!U258),\"\",allgemein!U258)","v":""}]
[{"$f":"IF(ISBLANK(allgemein!D259),\"\",allgemein!D259)","v":""},{"$f":"IF(ISBLANK(allgemein!E259),\"\",allgemein!E259)","v":""},{"$f":"IF(ISBLANK(allgemein!C259),\"\",allgemein!C259)","v":""},{"$f":"IF(ISBLANK(allgemein!H259),\"\",allgemein!H259)","v":""},{"$f":"IF(ISBLANK(allgemein!I259),\"\",allgemein!I259)","v":""},{"$f":"IF(ISBLANK(allgemein!J259),\"\",allgemein!J259)","v":""},{"$f":"IF(ISBLANK(allgemein!K259),\"\",allgemein!K259)","v":""},{"$f":"IF(ISBLANK(allgemein!F259),\"\",IF(ISBLANK(allgemein!L259),1,0))","v":""},{"$f":"_xlfn.SWITCH(allgemein!M259,1,IF(ISBLANK(allgemein!$F$10),allgemein!M259,allgemein!$F$10),2,IF(ISBLANK(allgemein!$F$11),allgemein!M259,allgemein!$F$11),3,IF(ISBLANK(allgemein!$F$12),allgemein!M259,allgemein!$F$12),4,IF(ISBLANK(allgemein!$F$13),allgemein!M259,allgemein!$F$13),5,IF(ISBLANK(allgemein!$I$10),allgemein!M259,allgemein!$I$10),6,IF(ISBLANK(allgemein!$I$11),allgemein!M259,allgemein!$I$11),7,IF(ISBLANK(allgemein!$I$12),allgemein!M259,allgemein!$I$12),8,IF(ISBLANK(allgemein!$I$13),allgemein!M259,allgemein!$I$13),IF(ISBLANK(allgemein!M259),\"\",allgemein!M259))","v":{"$error":"#NAME?"}},{"$f":"_xlfn.SWITCH(allgemein!N259,1,IF(ISBLANK(allgemein!$F$10),allgemein!N259,allgemein!$F$10),2,IF(ISBLANK(allgemein!$F$11),allgemein!N259,allgemein!$F$11),3,IF(ISBLANK(allgemein!$F$12),allgemein!N259,allgemein!$F$12),4,IF(ISBLANK(allgemein!$F$13),allgemein!N259,allgemein!$F$13),5,IF(ISBLANK(allgemein!$I$10),allgemein!N259,allgemein!$I$10),6,IF(ISBLANK(allgemein!$I$11),allgemein!N259,allgemein!$I$11),7,IF(ISBLANK(allgemein!$I$12),allgemein!N259,allgemein!$I$12),8,IF(ISBLANK(allgemein!$I$13),allgemein!N259,allgemein!$I$13),IF(ISBLANK(allgemein!N259),\"\",allgemein!N259))","v":{"$error":"#NAME?"}},{"$f":"_xlfn.SWITCH(allgemein!O259,1,IF(ISBLANK(allgemein!$F$10),allgemein!O259,allgemein!$F$10),2,IF(ISBLANK(allgemein!$F$11),allgemein!O259,allgemein!$F$11),3,IF(ISBLANK(allgemein!$F$12),allgemein!O259,allgemein!$F$12),4,IF(ISBLANK(allgemein!$F$13),allgemein!O259,allgemein!$F$13),5,IF(ISBLANK(allgemein!$I$10),allgemein!O259,allgemein!$I$10),6,IF(ISBLANK(allgemein!$I$11),allgemein!O259,allgemein!$I$11),7,IF(ISBLANK(allgemein!$I$12),allgemein!O259,allgemein!$I$12),8,IF(ISBLANK(allgemein!$I$13),allgemein!O259,allgemein!$I$13),IF(ISBLANK(allgemein!O259),\"\",allgemein!O259))","v":{"$error":"#NAME?"}},{"$f":"_xlfn.SWITCH(allgemein!P259,1,IF(ISBLANK(allgemein!$F$10),allgemein!P259,allgemein!$F$10),2,IF(ISBLANK(allgemein!$F$11),allgemein!P259,allgemein!$F$11),3,IF(ISBLANK(allgemein!$F$12),allgemein!P259,allgemein!$F$12),4,IF(ISBLANK(allgemein!$F$13),allgemein!P259,allgemein!$F$13),5,IF(ISBLANK(allgemein!$I$10),allgemein!P259,allgemein!$I$10),6,IF(ISBLANK(allgemein!$I$11),allgemein!P259,allgemein!$I$11),7,IF(ISBLANK(allgemein!$I$12),allgemein!P259,allgemein!$I$12),8,IF(ISBLANK(allgemein!$I$13),allgemein!P259,allgemein!$I$13),IF(ISBLANK(allgemein!P259),\"\",allgemein!P259))","v":{"$error":"#NAME?"}},{"$f":"IF(ISBLANK(allgemein!Q259),\"\",allgemein!Q259)","v":""},{"$f":"IF(ISBLANK(allgemein!R259),\"\",allgemein!R259)","v":""},{"$f":"IF(ISBLANK(allgemein!S259),\"\",allgemein!S259)","v":""},{"$f":"IF(ISBLANK(allgemein!U259),\"\",allgemein!U259)","v":""}]
[{"$f":"IF(ISBLANK(allgemein!D260),\"\",allgemein!D260)","v":""},{"$f":"IF(ISBLANK(allgemein!E260),\"\",allgemein!E260)","v":""},{"$f":"IF(ISBLANK(allgemein!C260),\"\",allgemein!C260)","v":""},{"$f":"IF(ISBLANK(allgemein!H260),\"\",allgemein!H260)","v":""},{"$f":"IF(ISBLANK(allgemein!I260),\"\",allgemein!I260)","v":""},{"$f":"IF(ISBLANK(allgemein!J260),\"\",allgemein!J260)","v":""},{"$f":"IF(ISBLANK(allgemein!K260),\"\",allgemein!K260)","v":""},{"$f":"IF(ISBLANK(allgemein!F260),\"\",IF(ISBLANK(allgemein!L260),1,0))","v":""},{"$f":"_xlfn.SWITCH(allgemein!M260,1,IF(ISBLANK(allgemein!$F$10),allgemein!M260,allgemein!$F$10),2,IF(ISBLANK(allgemein!$F$11),allgemein!M260,allgemein!$F$11),3,IF(ISBLANK(allgemein!$F$12),allgemein!M260,allgemein!$F$12),4,IF(ISBLANK(allgemein!$F$13),allgemein!M260,allgemein!$F$13),5,IF(ISBLANK(allgemein!$I$10),allgemein!M260,allgemein!$I$10),6,IF(ISBLANK(allgemein!$I$11),allgemein!M260,allgemein!$I$11),7,IF(ISBLANK(allgemein!$I$12),allgemein!M260,allgemein!$I$12),8,IF(ISBLANK(allgemein!$I$13),allgemein!M260,allgemein!$I$13),IF(ISBLANK(allgemein!M260),\"\",allgemein!M260))","v":{"$error":"#NAME?"}},{"$f":"_xlfn.SWITCH(allgemein!N260,1,IF(ISBLANK(allgemein!$F$10),allgemein!N260,allgemein!$F$10),2,IF(ISBLANK(allgemein!$F$11),allgemein!N260,allgemein!$F$11),3,IF(ISBLANK(allgemein!$F$12),allgemein!N260,allgemein!$F$12),4,IF(ISBLANK(allgemein!$F$13),allgemein!N260,allgemein!$F$13),5,IF(ISBLANK(allgemein!$I$10),allgemein!N260,allgemein!$I$10),6,IF(ISBLANK(allgemein!$I$11),allgemein!N260,allgemein!$I$11),7,IF(ISBLANK(allgemein!$I$12),allgemein!N260,allgemein!$I$12),8,IF(ISBLANK(allgemein!$I$13),allgemein!N260,allgemein!$I$13),IF(ISBLANK(allgemein!N260),\"\",allgemein!N260))","v":{"$error":"#NAME?"}},{"$f":"_xlfn.SWITCH(allgemein!O260,1,IF(ISBLANK(allgemein!$F$10),allgemein!O260,allgemein!$F$10),2,IF(ISBLANK(allgemein!$F$11),allgemein!O260,allgemein!$F$11),3,IF(ISBLANK(allgemein!$F$12),allgemein!O260,allgemein!$F$12),4,IF(ISBLANK(allgemein!$F$13),allgemein!O260,allgemein!$F$13),5,IF(ISBLANK(allgemein!$I$10),allgemein!O260,allgemein!$I$10),6,IF(ISBLANK(allgemein!$I$11),allgemein!O260,allgemein!$I$11),7,IF(ISBLANK(allgemein!$I$12),allgemein!O260,allgemein!$I$12),8,IF(ISBLANK(allgemein!$I$13),allgemein!O260,allgemein!$I$13),IF(ISBLANK(allgemein!O260),\"\",allgemein!O260))","v":{"$error":"#NAME?"}},{"$f":"_xlfn.SWITCH(allgemein!P260,1,IF(ISBLANK(allgemein!$F$10),allgemein!P260,allgemein!$F$10),2,IF(ISBLANK(allgemein!$F$11),allgemein!P260,allgemein!$F$11),3,IF(ISBLANK(allgemein!$F$12),allgemein!P260,allgemein!$F$12),4,IF(ISBLANK(allgemein!$F$13),allgemein!P260,allgemein!$F$13),5,IF(ISBLANK(allgemein!$I$10),allgemein!P260,allgemein!$I$10),6,IF(ISBLANK(allgemein!$I$11),allgemein!P260,allgemein!$I$11),7,IF(ISBLANK(allgemein!$I$12),allgemein!P260,allgemein!$I$12),8,IF(ISBLANK(allgemein!$I$13),allgemein!P260,allgemein!$I$13),IF(ISBLANK(allgemein!P260),\"\",allgemein!P260))","v":{"$error":"#NAME?"}},{"$f":"IF(ISBLANK(allgemein!Q260),\"\",allgemein!Q260)","v":""},{"$f":"IF(ISBLANK(allgemein!R260),\"\",allgemein!R260)","v":""},{"$f":"IF(ISBLANK(allgemein!S260),\"\",allgemein!S260)","v":""},{"$f":"IF(ISBLANK(allgemein!U260),\"\",allgemein!U260)","v":""}]
[{"$f":"IF(ISBLANK(allgemein!D261),\"\",allgemein!D261)","v":""},{"$f":"IF(ISBLANK(allgemein!E261),\"\",allgemein!E261)","v":""},{"$f":"IF(ISBLANK(allgemein!C261),\"\",allgemein!C261)","v":""},{"$f":"IF(ISBLANK(allgemein!H261),\"\",allgemein!H261)","v":""},{"$f":"IF(ISBLANK(allgemein!I261),\"\",allgemein!I261)","v":""},{"$f":"IF(ISBLANK(allgemein!J261),\"\",allgemein!J261)","v":""},{"$f":"IF(ISBLANK(allgemein!K261),\"\",allgemein!K261)","v":""},{"$f":"IF(ISBLANK(allgemein!F261),\"\",IF(ISBLANK(allgemein!L261),1,0))","v":""},{"$f":"_xlfn.SWITCH(allgemein!M261,1,IF(ISBLANK(allgemein!$F$10),allgemein!M261,allgemein!$F$10),2,IF(ISBLANK(allgemein!$F$11),allgemein!M261,allgemein!$F$11),3,IF(ISBLANK(allgemein!$F$12),allgemein!M261,allgemein!$F$12),4,IF(ISBLANK(allgemein!$F$13),allgemein!M261,allgemein!$F$13),5,IF(ISBLANK(allgemein!$I$10),allgemein!M261,allgemein!$I$10),6,IF(ISBLANK(allgemein!$I$11),allgemein!M261,allgemein!$I$11),7,IF(ISBLANK(allgemein!$I$12),allgemein!M261,allgemein!$I$12),8,IF(ISBLANK(allgemein!$I$13),allgemein!M261,allgemein!$I$13),IF(ISBLANK(allgemein!M261),\"\",allgemein!M261))","v":{"$error":"#NAME?"}},{"$f":"_xlfn.SWITCH(allgemein!N261,1,IF(ISBLANK(allgemein!$F$10),allgemein!N261,allgemein!$F$10),2,IF(ISBLANK(allgemein!$F$11),allgemein!N261,allgemein!$F$11),3,IF(ISBLANK(allgemein!$F$12),allgemein!N261,allgemein!$F$12),4,IF(ISBLANK(allgemein!$F$13),allgemein!N261,allgemein!$F$13),5,IF(ISBLANK(allgemein!$I$10),allgemein!N261,allgemein!$I$10),6,IF(ISBLANK(allgemein!$I$11),allgemein!N261,allgemein!$I$11),7,IF(ISBLANK(allgemein!$I$12),allgemein!N261,allgemein!$I$12),8,IF(ISBLANK(allgemein!$I$13),allgemein!N261,allgemein!$I$13),IF(ISBLANK(allgemein!N261),\"\",allgemein!N261))","v":{"$error":"#NAME?"}},{"$f":"_xlfn.SWITCH(allgemein!O261,1,IF(ISBLANK(allgemein!$F$10),allgemein!O261,allgemein!$F$10),2,IF(ISBLANK(allgemein!$F$11),allgemein!O261,allgemein!$F$11),3,IF(ISBLANK(allgemein!$F$12),allgemein!O261,allgemein!$F$12),4,IF(ISBLANK(allgemein!$F$13),allgemein!O261,allgemein!$F$13),5,IF(ISBLANK(allgemein!$I$10),allgemein!O261,allgemein!$I$10),6,IF(ISBLANK(allgemein!$I$11),allgemein!O261,allgemein!$I$11),7,IF(ISBLANK(allgemein!$I$12),allgemein!O261,allgemein!$I$12),8,IF(ISBLANK(allgemein!$I$13),allgemein!O261,allgemein!$I$13),IF(ISBLANK(allgemein!O261),\"\",allgemein!O261))","v":{"$error":"#NAME?"}},{"$f":"_xlfn.SWITCH(allgemein!P261,1,IF(ISBLANK(allgemein!$F$10),allgemein!P261,allgemein!$F$10),2,IF(ISBLANK(allgemein!$F$11),allgemein!P261,allgemein!$F$11),3,IF(ISBLANK(allgemein!$F$12),allgemein!P261,allgemein!$F$12),4,IF(ISBLANK(allgemein!$F$13),allgemein!P261,allgemein!$F$13),5,IF(ISBLANK(allgemein!$I$10),allgemein!P261,allgemein!$I$10),6,IF(ISBLANK(allgemein!$I$11),allgemein!P261,allgemein!$I$11),7,IF(ISBLANK(allgemein!$I$12),allgemein!P261,allgemein!$I$12),8,IF(ISBLANK(allgemein!$I$13),allgemein!P261,allgemein!$I$13),IF(ISBLANK(allgemein!P261),\"\",allgemein!P261))","v":{"$error":"#NAME?"}},{"$f":"IF(ISBLANK(allgemein!Q261),\"\",allgemein!Q261)","v":""},{"$f":"IF(ISBLANK(allgemein!R261),\"\",allgemein!R261)","v":""},{"$f":"IF(ISBLANK(allgemein!S261),\"\",allgemein!S261)","v":""},{"$f":"IF(ISBLANK(allgemein!U261),\"\",allgemein!U261)","v":""}]
[{"$f":"IF(ISBLANK(allgemein!D262),\"\",allgemein!D262)","v":""},{"$f":"IF(ISBLANK(allgemein!E262),\"\",allgemein!E262)","v":""},{"$f":"IF(ISBLANK(allgemein!C262),\"\",allgemein!C262)","v":""},{"$f":"IF(ISBLANK(allgemein!H262),\"\",allgemein!H262)","v":""},{"$f":"IF(ISBLANK(allgemein!I262),\"\",allgemein!I262)","v":""},{"$f":"IF(ISBLANK(allgemein!J262),\"\",allgemein!J262)","v":""},{"$f":"IF(ISBLANK(allgemein!K262),\"\",allgemein!K262)","v":""},{"$f":"IF(ISBLANK(allgemein!F262),\"\",IF(ISBLANK(allgemein!L262),1,0))","v":""},{"$f":"_xlfn.SWITCH(allgemein!M262,1,IF(ISBLANK(allgemein!$F$10),allgemein!M262,allgemein!$F$10),2,IF(ISBLANK(allgemein!$F$11),allgemein!M262,allgemein!$F$11),3,IF(ISBLANK(allgemein!$F$12),allgemein!M262,allgemein!$F$12),4,IF(ISBLANK(allgemein!$F$13),allgemein!M262,allgemein!$F$13),5,IF(ISBLANK(allgemein!$I$10),allgemein!M262,allgemein!$I$10),6,IF(ISBLANK(allgemein!$I$11),allgemein!M262,allgemein!$I$11),7,IF(ISBLANK(allgemein!$I$12),allgemein!M262,allgemein!$I$12),8,IF(ISBLANK(allgemein!$I$13),allgemein!M262,allgemein!$I$13),IF(ISBLANK(allgemein!M262),\"\",allgemein!M262))","v":{"$error":"#NAME?"}},{"$f":"_xlfn.SWITCH(allgemein!N262,1,IF(ISBLANK(allgemein!$F$10),allgemein!N262,allgemein!$F$10),2,IF(ISBLANK(allgemein!$F$11),allgemein!N262,allgemein!$F$11),3,IF(ISBLANK(allgemein!$F$12),allgemein!N262,allgemein!$F$12),4,IF(ISBLANK(allgemein!$F$13),allgemein!N262,allgemein!$F$13),5,IF(ISBLANK(allgemein!$I$10),allgemein!N262,allgemein!$I$10),6,IF(ISBLANK(allgemein!$I$11),allgemein!N262,allgemein!$I$11),7,IF(ISBLANK(allgemein!$I$12),allgemein!N262,allgemein!$I$12),8,IF(ISBLANK(allgemein!$I$13),allgemein!N262,allgemein!$I$13),IF(ISBLANK(allgemein!N262),\"\",allgemein!N262))","v":{"$error":"#NAME?"}},{"$f":"_xlfn.SWITCH(allgemein!O262,1,IF(ISBLANK(allgemein!$F$10),allgemein!O262,allgemein!$F$10),2,IF(ISBLANK(allgemein!$F$11),allgemein!O262,allgemein!$F$11),3,IF(ISBLANK(allgemein!$F$12),allgemein!O262,allgemein!$F$12),4,IF(ISBLANK(allgemein!$F$13),allgemein!O262,allgemein!$F$13),5,IF(ISBLANK(allgemein!$I$10),allgemein!O262,allgemein!$I$10),6,IF(ISBLANK(allgemein!$I$11),allgemein!O262,allgemein!$I$11),7,IF(ISBLANK(allgemein!$I$12),allgemein!O262,allgemein!$I$12),8,IF(ISBLANK(allgemein!$I$13),allgemein!O262,allgemein!$I$13),IF(ISBLANK(allgemein!O262),\"\",allgemein!O262))","v":{"$error":"#NAME?"}},{"$f":"_xlfn.SWITCH(allgemein!P262,1,IF(ISBLANK(allgemein!$F$10),allgemein!P262,allgemein!$F$10),2,IF(ISBLANK(allgemein!$F$11),allgemein!P262,allgemein!$F$11),3,IF(ISBLANK(allgemein!$F$12),allgemein!P262,allgemein!$F$12),4,IF(ISBLANK(allgemein!$F$13),allgemein!P262,allgemein!$F$13),5,IF(ISBLANK(allgemein!$I$10),allgemein!P262,allgemein!$I$10),6,IF(ISBLANK(allgemein!$I$11),allgemein!P262,allgemein!$I$11),7,IF(ISBLANK(allgemein!$I$12),allgemein!P262,allgemein!$I$12),8,IF(ISBLANK(allgemein!$I$13),allgemein!P262,allgemein!$I$13),IF(ISBLANK(allgemein!P262),\"\",allgemein!P262))","v":{"$error":"#NAME?"}},{"$f":"IF(ISBLANK(allgemein!Q262),\"\",allgemein!Q262)","v":""},{"$f":"IF(ISBLANK(allgemein!R262),\"\",allgemein!R262)","v":""},{"$f":"IF(ISBLANK(allgemein!S262),\"\",allgemein!S262)","v":""},{"$f":"IF(ISBLANK(allgemein!U262),\"\",allgemein!U262)","v":""}]
[{"$f":"IF(ISBLANK(allgemein!D263),\"\",allgemein!D263)","v":""},{"$f":"IF(ISBLANK(allgemein!E263),\"\",allgemein!E263)","v":""},{"$f":"IF(ISBLANK(allgemein!C263),\"\",allgemein!C263)","v":""},{"$f":"IF(ISBLANK(allgemein!H263),\"\",allgemein!H263)","v":""},{"$f":"IF(ISBLANK(allgemein!I263),\"\",allgemein!I263)","v":""},{"$f":"IF(ISBLANK(allgemein!J263),\"\",allgemein!J263)","v":""},{"$f":"IF(ISBLANK(allgemein!K263),\"\",allgemein!K263)","v":""},{"$f":"IF(ISBLANK(allgemein!F263),\"\",IF(ISBLANK(allgemein!L263),1,0))","v":""},{"$f":"_xlfn.SWITCH(allgemein!M263,1,IF(ISBLANK(allgemein!$F$10),allgemein!M263,allgemein!$F$10),2,IF(ISBLANK(allgemein!$F$11),allgemein!M263,allgemein!$F$11),3,IF(ISBLANK(allgemein!$F$12),allgemein!M263,allgemein!$F$12),4,IF(ISBLANK(allgemein!$F$13),allgemein!M263,allgemein!$F$13),5,IF(ISBLANK(allgemein!$I$10),allgemein!M263,allgemein!$I$10),6,IF(ISBLANK(allgemein!$I$11),allgemein!M263,allgemein!$I$11),7,IF(ISBLANK(allgemein!$I$12),allgemein!M263,allgemein!$I$12),8,IF(ISBLANK(allgemein!$I$13),allgemein!M263,allgemein!$I$13),IF(ISBLANK(allgemein!M263),\"\",allgemein!M263))","v":{"$error":"#NAME?"}},{"$f":"_xlfn.SWITCH(allgemein!N263,1,IF(ISBLANK(allgemein!$F$10),allgemein!N263,allgemein!$F$10),2,IF(ISBLANK(allgemein!$F$11),allgemein!N263,allgemein!$F$11),3,IF(ISBLANK(allgemein!$F$12),allgemein!N263,allgemein!$F$12),4,IF(ISBLANK(allgemein!$F$13),allgemein!N263,allgemein!$F$13),5,IF(ISBLANK(allgemein!$I$10),allgemein!N263,allgemein!$I$10),6,IF(ISBLANK(allgemein!$I$11),allgemein!N263,allgemein!$I$11),7,IF(ISBLANK(allgemein!$I$12),allgemein!N263,allgemein!$I$12),8,IF(ISBLANK(allgemein!$I$13),allgemein!N263,allgemein!$I$13),IF(ISBLANK(allgemein!N263),\"\",allgemein!N263))","v":{"$error":"#NAME?"}},{"$f":"_xlfn.SWITCH(allgemein!O263,1,IF(ISBLANK(allgemein!$F$10),allgemein!O263,allgemein!$F$10),2,IF(ISBLANK(allgemein!$F$11),allgemein!O263,allgemein!$F$11),3,IF(ISBLANK(allgemein!$F$12),allgemein!O263,allgemein!$F$12),4,IF(ISBLANK(allgemein!$F$13),allgemein!O263,allgemein!$F$13),5,IF(ISBLANK(allgemein!$I$10),allgemein!O263,allgemein!$I$10),6,IF(ISBLANK(allgemein!$I$11),allgemein!O263,allgemein!$I$11),7,IF(ISBLANK(allgemein!$I$12),allgemein!O263,allgemein!$I$12),8,IF(ISBLANK(allgemein!$I$13),allgemein!O263,allgemein!$I$13),IF(ISBLANK(allgemein!O263),\"\",allgemein!O263))","v":{"$error":"#NAME?"}},{"$f":"_xlfn.SWITCH(allgemein!P263,1,IF(ISBLANK(allgemein!$F$10),allgemein!P263,allgemein!$F$10),2,IF(ISBLANK(allgemein!$F$11),allgemein!P263,allgemein!$F$11),3,IF(ISBLANK(allgemein!$F$12),allgemein!P263,allgemein!$F$12),4,IF(ISBLANK(allgemein!$F$13),allgemein!P263,allgemein!$F$13),5,IF(ISBLANK(allgemein!$I$10),allgemein!P263,allgemein!$I$10),6,IF(ISBLANK(allgemein!$I$11),allgemein!P263,allgemein!$I$11),7,IF(ISBLANK(allgemein!$I$12),allgemein!P263,allgemein!$I$12),8,IF(ISBLANK(allgemein!$I$13),allgemein!P263,allgemein!$I$13),IF(ISBLANK(allgemein!P263),\"\",allgemein!P263))","v":{"$error":"#NAME?"}},{"$f":"IF(ISBLANK(allgemein!Q263),\"\",allgemein!Q263)","v":""},{"$f":"IF(ISBLANK(allgemein!R263),\"\",allgemein!R263)","v":""},{"$f":"IF(ISBLANK(allgemein!S263),\"\",allgemein!S263)","v":""},{"$f":"IF(ISBLANK(allgemein!U263),\"\",allgemein!U263)","v":""}]
[{"$f":"IF(ISBLANK(allgemein!D264),\"\",allgemein!D264)","v":""},{"$f":"IF(ISBLANK(allgemein!E264),\"\",allgemein!E264)","v":""},{"$f":"IF(ISBLANK(allgemein!C264),\"\",allgemein!C264)","v":""},{"$f":"IF(ISBLANK(allgemein!H264),\"\",allgemein!H264)","v":""},{"$f":"IF(ISBLANK(allgemein!I264),\"\",allgemein!I264)","v":""},{"$f":"IF(ISBLANK(allgemein!J264),\"\",allgemein!J264)","v":""},{"$f":"IF(ISBLANK(allgemein!K264),\"\",allgemein!K264)","v":""},{"$f":"IF(ISBLANK(allgemein!F264),\"\",IF(ISBLANK(allgemein!L264),1,0))","v":""},{"$f":"_xlfn.SWITCH(allgemein!M264,1,IF(ISBLANK(allgemein!$F$10),allgemein!M264,allgemein!$F$10),2,IF(ISBLANK(allgemein!$F$11),allgemein!M264,allgemein!$F$11),3,IF(ISBLANK(allgemein!$F$12),allgemein!M264,allgemein!$F$12),4,IF(ISBLANK(allgemein!$F$13),allgemein!M264,allgemein!$F$13),5,IF(ISBLANK(allgemein!$I$10),allgemein!M264,allgemein!$I$10),6,IF(ISBLANK(allgemein!$I$11),allgemein!M264,allgemein!$I$11),7,IF(ISBLANK(allgemein!$I$12),allgemein!M264,allgemein!$I$12),8,IF(ISBLANK(allgemein!$I$13),allgemein!M264,allgemein!$I$13),IF(ISBLANK(allgemein!M264),\"\",allgemein!M264))","v":{"$error":"#NAME?"}},{"$f":"_xlfn.SWITCH(allgemein!N264,1,IF(ISBLANK(allgemein!$F$10),allgemein!N264,allgemein!$F$10),2,IF(ISBLANK(allgemein!$F$11),allgemein!N264,allgemein!$F$11),3,IF(ISBLANK(allgemein!$F$12),allgemein!N264,allgemein!$F$12),4,IF(ISBLANK(allgemein!$F$13),allgemein!N264,allgemein!$F$13),5,IF(ISBLANK(allgemein!$I$10),allgemein!N264,allgemein!$I$10),6,IF(ISBLANK(allgemein!$I$11),allgemein!N264,allgemein!$I$11),7,IF(ISBLANK(allgemein!$I$12),allgemein!N264,allgemein!$I$12),8,IF(ISBLANK(allgemein!$I$13),allgemein!N264,allgemein!$I$13),IF(ISBLANK(allgemein!N264),\"\",allgemein!N264))","v":{"$error":"#NAME?"}},{"$f":"_xlfn.SWITCH(allgemein!O264,1,IF(ISBLANK(allgemein!$F$10),allgemein!O264,allgemein!$F$10),2,IF(ISBLANK(allgemein!$F$11),allgemein!O264,allgemein!$F$11),3,IF(ISBLANK(allgemein!$F$12),allgemein!O264,allgemein!$F$12),4,IF(ISBLANK(allgemein!$F$13),allgemein!O264,allgemein!$F$13),5,IF(ISBLANK(allgemein!$I$10),allgemein!O264,allgemein!$I$10),6,IF(ISBLANK(allgemein!$I$11),allgemein!O264,allgemein!$I$11),7,IF(ISBLANK(allgemein!$I$12),allgemein!O264,allgemein!$I$12),8,IF(ISBLANK(allgemein!$I$13),allgemein!O264,allgemein!$I$13),IF(ISBLANK(allgemein!O264),\"\",allgemein!O264))","v":{"$error":"#NAME?"}},{"$f":"_xlfn.SWITCH(allgemein!P264,1,IF(ISBLANK(allgemein!$F$10),allgemein!P264,allgemein!$F$10),2,IF(ISBLANK(allgemein!$F$11),allgemein!P264,allgemein!$F$11),3,IF(ISBLANK(allgemein!$F$12),allgemein!P264,allgemein!$F$12),4,IF(ISBLANK(allgemein!$F$13),allgemein!P264,allgemein!$F$13),5,IF(ISBLANK(allgemein!$I$10),allgemein!P264,allgemein!$I$10),6,IF(ISBLANK(allgemein!$I$11),allgemein!P264,allgemein!$I$11),7,IF(ISBLANK(allgemein!$I$12),allgemein!P264,allgemein!$I$12),8,IF(ISBLANK(allgemein!$I$13),allgemein!P264,allgemein!$I$13),IF(ISBLANK(allgemein!P264),\"\",allgemein!P264))","v":{"$error":"#NAME?"}},{"$f":"IF(ISBLANK(allgemein!Q264),\"\",allgemein!Q264)","v":""},{"$f":"IF(ISBLANK(allgemein!R264),\"\",allgemein!R264)","v":""},{"$f":"IF(ISBLANK(allgemein!S264),\"\",allgemein!S264)","v":""},{"$f":"IF(ISBLANK(allgemein!U264),\"\",allgemein!U264)","v":""}]
[{"$f":"IF(ISBLANK(allgemein!D265),\"\",allgemein!D265)","v":""},{"$f":"IF(ISBLANK(allgemein!E265),\"\",allgemein!E265)","v":""},{"$f":"IF(ISBLANK(allgemein!C265),\"\",allgemein!C265)","v":""},{"$f":"IF(ISBLANK(allgemein!H265),\"\",allgemein!H265)","v":""},{"$f":"IF(ISBLANK(allgemein!I265),\"\",allgemein!I265)","v":""},{"$f":"IF(ISBLANK(allgemein!J265),\"\",allgemein!J265)","v":""},{"$f":"IF(ISBLANK(allgemein!K265),\"\",allgemein!K265)","v":""},{"$f":"IF(ISBLANK(allgemein!F265),\"\",IF(ISBLANK(allgemein!L265),1,0))","v":""},{"$f":"_xlfn.SWITCH(allgemein!M265,1,IF(ISBLANK(allgemein!$F$10),allgemein!M265,allgemein!$F$10),2,IF(ISBLANK(allgemein!$F$11),allgemein!M265,allgemein!$F$11),3,IF(ISBLANK(allgemein!$F$12),allgemein!M265,allgemein!$F$12),4,IF(ISBLANK(allgemein!$F$13),allgemein!M265,allgemein!$F$13),5,IF(ISBLANK(allgemein!$I$10),allgemein!M265,allgemein!$I$10),6,IF(ISBLANK(allgemein!$I$11),allgemein!M265,allgemein!$I$11),7,IF(ISBLANK(allgemein!$I$12),allgemein!M265,allgemein!$I$12),8,IF(ISBLANK(allgemein!$I$13),allgemein!M265,allgemein!$I$13),IF(ISBLANK(allgemein!M265),\"\",allgemein!M265))","v":{"$error":"#NAME?"}},{"$f":"_xlfn.SWITCH(allgemein!N265,1,IF(ISBLANK(allgemein!$F$10),allgemein!N265,allgemein!$F$10),2,IF(ISBLANK(allgemein!$F$11),allgemein!N265,allgemein!$F$11),3,IF(ISBLANK(allgemein!$F$12),allgemein!N265,allgemein!$F$12),4,IF(ISBLANK(allgemein!$F$13),allgemein!N265,allgemein!$F$13),5,IF(ISBLANK(allgemein!$I$10),allgemein!N265,allgemein!$I$10),6,IF(ISBLANK(allgemein!$I$11),allgemein!N265,allgemein!$I$11),7,IF(ISBLANK(allgemein!$I$12),allgemein!N265,allgemein!$I$12),8,IF(ISBLANK(allgemein!$I$13),allgemein!N265,allgemein!$I$13),IF(ISBLANK(allgemein!N265),\"\",allgemein!N265))","v":{"$error":"#NAME?"}},{"$f":"_xlfn.SWITCH(allgemein!O265,1,IF(ISBLANK(allgemein!$F$10),allgemein!O265,allgemein!$F$10),2,IF(ISBLANK(allgemein!$F$11),allgemein!O265,allgemein!$F$11),3,IF(ISBLANK(allgemein!$F$12),allgemein!O265,allgemein!$F$12),4,IF(ISBLANK(allgemein!$F$13),allgemein!O265,allgemein!$F$13),5,IF(ISBLANK(allgemein!$I$10),allgemein!O265,allgemein!$I$10),6,IF(ISBLANK(allgemein!$I$11),allgemein!O265,allgemein!$I$11),7,IF(ISBLANK(allgemein!$I$12),allgemein!O265,allgemein!$I$12),8,IF(ISBLANK(allgemein!$I$13),allgemein!O265,allgemein!$I$13),IF(ISBLANK(allgemein!O265),\"\",allgemein!O265))","v":{"$error":"#NAME?"}},{"$f":"_xlfn.SWITCH(allgemein!P265,1,IF(ISBLANK(allgemein!$F$10),allgemein!P265,allgemein!$F$10),2,IF(ISBLANK(allgemein!$F$11),allgemein!P265,allgemein!$F$11),3,IF(ISBLANK(allgemein!$F$12),allgemein!P265,allgemein!$F$12),4,IF(ISBLANK(allgemein!$F$13),allgemein!P265,allgemein!$F$13),5,IF(ISBLANK(allgemein!$I$10),allgemein!P265,allgemein!$I$10),6,IF(ISBLANK(allgemein!$I$11),allgemein!P265,allgemein!$I$11),7,IF(ISBLANK(allgemein!$I$12),allgemein!P265,allgemein!$I$12),8,IF(ISBLANK(allgemein!$I$13),allgemein!P265,allgemein!$I$13),IF(ISBLANK(allgemein!P265),\"\",allgemein!P265))","v":{"$error":"#NAME?"}},{"$f":"IF(ISBLANK(allgemein!Q265),\"\",allgemein!Q265)","v":""},{"$f":"IF(ISBLANK(allgemein!R265),\"\",allgemein!R265)","v":""},{"$f":"IF(ISBLANK(allgemein!S265),\"\",allgemein!S265)","v":""},{"$f":"IF(ISBLANK(allgemein!U265),\"\",allgemein!U265)","v":""}]
[{"$f":"IF(ISBLANK(allgemein!D266),\"\",allgemein!D266)","v":""},{"$f":"IF(ISBLANK(allgemein!E266),\"\",allgemein!E266)","v":""},{"$f":"IF(ISBLANK(allgemein!C266),\"\",allgemein!C266)","v":""},{"$f":"IF(ISBLANK(allgemein!H266),\"\",allgemein!H266)","v":""},{"$f":"IF(ISBLANK(allgemein!I266),\"\",allgemein!I266)","v":""},{"$f":"IF(ISBLANK(allgemein!J266),\"\",allgemein!J266)","v":""},{"$f":"IF(ISBLANK(allgemein!K266),\"\",allgemein!K266)","v":""},{"$f":"IF(ISBLANK(allgemein!F266),\"\",IF(ISBLANK(allgemein!L266),1,0))","v":""},{"$f":"_xlfn.SWITCH(allgemein!M266,1,IF(ISBLANK(allgemein!$F$10),allgemein!M266,allgemein!$F$10),2,IF(ISBLANK(allgemein!$F$11),allgemein!M266,allgemein!$F$11),3,IF(ISBLANK(allgemein!$F$12),allgemein!M266,allgemein!$F$12),4,IF(ISBLANK(allgemein!$F$13),allgemein!M266,allgemein!$F$13),5,IF(ISBLANK(allgemein!$I$10),allgemein!M266,allgemein!$I$10),6,IF(ISBLANK(allgemein!$I$11),allgemein!M266,allgemein!$I$11),7,IF(ISBLANK(allgemein!$I$12),allgemein!M266,allgemein!$I$12),8,IF(ISBLANK(allgemein!$I$13),allgemein!M266,allgemein!$I$13),IF(ISBLANK(allgemein!M266),\"\",allgemein!M266))","v":{"$error":"#NAME?"}},{"$f":"_xlfn.SWITCH(allgemein!N266,1,IF(ISBLANK(allgemein!$F$10),allgemein!N266,allgemein!$F$10),2,IF(ISBLANK(allgemein!$F$11),allgemein!N266,allgemein!$F$11),3,IF(ISBLANK(allgemein!$F$12),allgemein!N266,allgemein!$F$12),4,IF(ISBLANK(allgemein!$F$13),allgemein!N266,allgemein!$F$13),5,IF(ISBLANK(allgemein!$I$10),allgemein!N266,allgemein!$I$10),6,IF(ISBLANK(allgemein!$I$11),allgemein!N266,allgemein!$I$11),7,IF(ISBLANK(allgemein!$I$12),allgemein!N266,allgemein!$I$12),8,IF(ISBLANK(allgemein!$I$13),allgemein!N266,allgemein!$I$13),IF(ISBLANK(allgemein!N266),\"\",allgemein!N266))","v":{"$error":"#NAME?"}},{"$f":"_xlfn.SWITCH(allgemein!O266,1,IF(ISBLANK(allgemein!$F$10),allgemein!O266,allgemein!$F$10),2,IF(ISBLANK(allgemein!$F$11),allgemein!O266,allgemein!$F$11),3,IF(ISBLANK(allgemein!$F$12),allgemein!O266,allgemein!$F$12),4,IF(ISBLANK(allgemein!$F$13),allgemein!O266,allgemein!$F$13),5,IF(ISBLANK(allgemein!$I$10),allgemein!O266,allgemein!$I$10),6,IF(ISBLANK(allgemein!$I$11),allgemein!O266,allgemein!$I$11),7,IF(ISBLANK(allgemein!$I$12),allgemein!O266,allgemein!$I$12),8,IF(ISBLANK(allgemein!$I$13),allgemein!O266,allgemein!$I$13),IF(ISBLANK(allgemein!O266),\"\",allgemein!O266))","v":{"$error":"#NAME?"}},{"$f":"_xlfn.SWITCH(allgemein!P266,1,IF(ISBLANK(allgemein!$F$10),allgemein!P266,allgemein!$F$10),2,IF(ISBLANK(allgemein!$F$11),allgemein!P266,allgemein!$F$11),3,IF(ISBLANK(allgemein!$F$12),allgemein!P266,allgemein!$F$12),4,IF(ISBLANK(allgemein!$F$13),allgemein!P266,allgemein!$F$13),5,IF(ISBLANK(allgemein!$I$10),allgemein!P266,allgemein!$I$10),6,IF(ISBLANK(allgemein!$I$11),allgemein!P266,allgemein!$I$11),7,IF(ISBLANK(allgemein!$I$12),allgemein!P266,allgemein!$I$12),8,IF(ISBLANK(allgemein!$I$13),allgemein!P266,allgemein!$I$13),IF(ISBLANK(allgemein!P266),\"\",allgemein!P266))","v":{"$error":"#NAME?"}},{"$f":"IF(ISBLANK(allgemein!Q266),\"\",allgemein!Q266)","v":""},{"$f":"IF(ISBLANK(allgemein!R266),\"\",allgemein!R266)","v":""},{"$f":"IF(ISBLANK(allgemein!S266),\"\",allgemein!S266)","v":""},{"$f":"IF(ISBLANK(allgemein!U266),\"\",allgemein!U266)","v":""}]
[{"$f":"IF(ISBLANK(allgemein!D267),\"\",allgemein!D267)","v":""},{"$f":"IF(ISBLANK(allgemein!E267),\"\",allgemein!E267)","v":""},{"$f":"IF(ISBLANK(allgemein!C267),\"\",allgemein!C267)","v":""},{"$f":"IF(ISBLANK(allgemein!H267),\"\",allgemein!H267)","v":""},{"$f":"IF(ISBLANK(allgemein!I267),\"\",allgemein!I267)","v":""},{"$f":"IF(ISBLANK(allgemein!J267),\"\",allgemein!J267)","v":""},{"$f":"IF(ISBLANK(allgemein!K267),\"\",allgemein!K267)","v":""},{"$f":"IF(ISBLANK(allgemein!F267),\"\",IF(ISBLANK(allgemein!L267),1,0))","v":""},{"$f":"_xlfn.SWITCH(allgemein!M267,1,IF(ISBLANK(allgemein!$F$10),allgemein!M267,allgemein!$F$10),2,IF(ISBLANK(allgemein!$F$11),allgemein!M267,allgemein!$F$11),3,IF(ISBLANK(allgemein!$F$12),allgemein!M267,allgemein!$F$12),4,IF(ISBLANK(allgemein!$F$13),allgemein!M267,allgemein!$F$13),5,IF(ISBLANK(allgemein!$I$10),allgemein!M267,allgemein!$I$10),6,IF(ISBLANK(allgemein!$I$11),allgemein!M267,allgemein!$I$11),7,IF(ISBLANK(allgemein!$I$12),allgemein!M267,allgemein!$I$12),8,IF(ISBLANK(allgemein!$I$13),allgemein!M267,allgemein!$I$13),IF(ISBLANK(allgemein!M267),\"\",allgemein!M267))","v":{"$error":"#NAME?"}},{"$f":"_xlfn.SWITCH(allgemein!N267,1,IF(ISBLANK(allgemein!$F$10),allgemein!N267,allgemein!$F$10),2,IF(ISBLANK(allgemein!$F$11),allgemein!N267,allgemein!$F$11),3,IF(ISBLANK(allgemein!$F$12),allgemein!N267,allgemein!$F$12),4,IF(ISBLANK(allgemein!$F$13),allgemein!N267,allgemein!$F$13),5,IF(ISBLANK(allgemein!$I$10),allgemein!N267,allgemein!$I$10),6,IF(ISBLANK(allgemein!$I$11),allgemein!N267,allgemein!$I$11),7,IF(ISBLANK(allgemein!$I$12),allgemein!N267,allgemein!$I$12),8,IF(ISBLANK(allgemein!$I$13),allgemein!N267,allgemein!$I$13),IF(ISBLANK(allgemein!N267),\"\",allgemein!N267))","v":{"$error":"#NAME?"}},{"$f":"_xlfn.SWITCH(allgemein!O267,1,IF(ISBLANK(allgemein!$F$10),allgemein!O267,allgemein!$F$10),2,IF(ISBLANK(allgemein!$F$11),allgemein!O267,allgemein!$F$11),3,IF(ISBLANK(allgemein!$F$12),allgemein!O267,allgemein!$F$12),4,IF(ISBLANK(allgemein!$F$13),allgemein!O267,allgemein!$F$13),5,IF(ISBLANK(allgemein!$I$10),allgemein!O267,allgemein!$I$10),6,IF(ISBLANK(allgemein!$I$11),allgemein!O267,allgemein!$I$11),7,IF(ISBLANK(allgemein!$I$12),allgemein!O267,allgemein!$I$12),8,IF(ISBLANK(allgemein!$I$13),allgemein!O267,allgemein!$I$13),IF(ISBLANK(allgemein!O267),\"\",allgemein!O267))","v":{"$error":"#NAME?"}},{"$f":"_xlfn.SWITCH(allgemein!P267,1,IF(ISBLANK(allgemein!$F$10),allgemein!P267,allgemein!$F$10),2,IF(ISBLANK(allgemein!$F$11),allgemein!P267,allgemein!$F$11),3,IF(ISBLANK(allgemein!$F$12),allgemein!P267,allgemein!$F$12),4,IF(ISBLANK(allgemein!$F$13),allgemein!P267,allgemein!$F$13),5,IF(ISBLANK(allgemein!$I$10),allgemein!P267,allgemein!$I$10),6,IF(ISBLANK(allgemein!$I$11),allgemein!P267,allgemein!$I$11),7,IF(ISBLANK(allgemein!$I$12),allgemein!P267,allgemein!$I$12),8,IF(ISBLANK(allgemein!$I$13),allgemein!P267,allgemein!$I$13),IF(ISBLANK(allgemein!P267),\"\",allgemein!P267))","v":{"$error":"#NAME?"}},{"$f":"IF(ISBLANK(allgemein!Q267),\"\",allgemein!Q267)","v":""},{"$f":"IF(ISBLANK(allgemein!R267),\"\",allgemein!R267)","v":""},{"$f":"IF(ISBLANK(allgemein!S267),\"\",allgemein!S267)","v":""},{"$f":"IF(ISBLANK(allgemein!U267),\"\",allgemein!U267)","v":""}]